{"text_format":"1","workbook":"xlsx","n_sheets":36,"sheets":["MAIN","LOGIN","LEAGUE RULES","COURSE & LEAGUE DETAILS","LEAGUE MEMBERSHIP","PRINT","SCORECARD","SCORECARD (2)","SCHEDULE","ARCHIVED HCPS","MATCH RESULTS","MATCH RESULTS - 2nd Half 2011","MATCH RESULTS - 1st Half 2012","MATCH RESULTS - 2nd Half 2012","MATCH RESULTS - 1st Half 2013","MATCH RESULTS - 2nd Half 2013","POINTS","POINTS - 1st Half 2011","POINTS - 2nd Half 2011","POINTS - 1st Half 2012","POINTS - 2nd Half 2012","POINTS - 1st Half 2013","POINTS - 2nd Half 2013","STANDINGS","STANDINGS - 1st Half 2012","STANDINGS - 2nd Half 2012","STANDINGS - 1st Half 2013","STANDINGS - 2nd Half 2013","INDIVIDUAL SCORES","SCORE ENTRY WORKSHEET","MATCH HISTORY 1","MATCH HISTORY 2","SUB LIST","CONTACT INFO","LOW SCORES TABLE","SCHED FOR PRNTG"],"not_rendered":{"charts":2,"images":10,"macros":1,"external_links":0,"defined_names":30,"comments":0,"pivot_tables":0},"unopened":[],"bounds":{"document_bytes":16777216,"sheet_cells":100000,"rows_first":2000,"rows_last":500,"rows_between":2000,"halvings":0,"cell_chars":16384,"cell_head_chars":4096},"cells_cut":0,"cells_raw":0,"read":"whole","date_system":"1900"}

{"sheet":"MAIN","index":0,"n_rows":114,"n_cols":30,"rows_kept":114,"cut":false,"hidden":false,"merged":[[7,12,7,14],[8,12,8,14],[7,5,7,10],[9,6,9,9],[7,21,7,29],[9,22,9,23],[9,27,9,28],[10,22,10,23],[29,22,29,23],[28,22,28,23],[27,22,27,23],[26,22,26,23],[25,22,25,23],[24,22,24,23],[23,22,23,23],[22,22,22,23],[21,22,21,23],[20,22,20,23],[19,22,19,23],[18,22,18,23],[17,22,17,23],[16,22,16,23],[15,22,15,23],[14,22,14,23],[13,22,13,23],[12,22,12,23],[11,22,11,23],[44,22,44,23],[43,22,43,23],[42,22,42,23],[41,22,41,23],[40,22,40,23],[39,22,39,23],[38,22,38,23],[37,22,37,23],[36,22,36,23],[35,22,35,23],[34,22,34,23],[33,22,33,23],[32,22,32,23],[31,22,31,23],[30,22,30,23],[38,27,38,28],[37,27,37,28],[36,27,36,28],[35,27,35,28],[34,27,34,28],[33,27,33,28],[32,27,32,28],[31,27,31,28],[30,27,30,28],[29,27,29,28],[28,27,28,28],[27,27,27,28],[26,27,26,28],[25,27,25,28],[24,27,24,28],[23,27,23,28],[22,27,22,28],[21,27,21,28],[20,27,20,28],[19,27,19,28],[18,27,18,28],[17,27,17,28],[16,27,16,28],[15,27,15,28],[14,27,14,28],[13,27,13,28],[12,27,12,28],[11,27,11,28],[10,27,10,28],[39,27,39,28],[44,27,44,28],[43,27,43,28],[42,27,42,28],[41,27,41,28],[40,27,40,28]]}
[]
[]
[]
[]
[]
[]
[]
[null,null,null,null,null,{"$f":"IF(MAIN!$A$40=FALSE,'STANDINGS - 1st Half 2013'!E10,'STANDINGS - 2nd Half 2013'!E10)","v":"Final Standings - Second Half"},"Team Standings After Week 1","Team Standings After Week 1","Team Standings After Week 1","Team Standings After Week 1","Team Standings After Week 1",null,"Match Results - Week 9",null,null,null,null,null,null,null,null,"Current Handicaps"]
[null,null,null,null,null,null,null,null,null,null,null,null,""]
[null,null,null,null,null,"Rank","Team",null,null,null,"Points",null,{"$f":"IF(IF($A$40=FALSE,IF(RIGHT($M$8,LEN($M$8)-FIND(\"k \",$M$8)-1)*1<=SCHEDULE!$B$99/2,HLOOKUP(RIGHT($M$8,6),'MATCH RESULTS - 1st Half 2013'!$B$13:$R$25,3,FALSE),HLOOKUP(RIGHT($M$8,LEN($M$8)-FIND(\"W\",$M$8)+1),'MATCH RESULTS - 1st Half 2013'!$B$27:$R$39,3,FALSE)),IF(RIGHT($M$8,LEN($M$8)-FIND(\"k \",$M$8)-1)*1<=SCHEDULE!$B$99/2,HLOOKUP(RIGHT($M$8,6),'MATCH RESULTS - 2nd Half 2013'!$B$13:$R$25,3,FALSE),HLOOKUP(RIGHT($M$8,LEN($M$8)-FIND(\"W\",$M$8)+1),'MATCH RESULTS - 2nd Half 2013'!$B$27:$R$39,3,FALSE)))=\"\",\"\",IF($A$40=FALSE,IF(RIGHT($M$8,LEN($M$8)-FIND(\"k \",$M$8)-1)*1<=SCHEDULE!$B$99/2,HLOOKUP(RIGHT($M$8,6),'MATCH RESULTS - 1st Half 2013'!$B$13:$R$25,3,FALSE),HLOOKUP(RIGHT($M$8,LEN($M$8)-FIND(\"W\",$M$8)+1),'MATCH RESULTS - 1st Half 2013'!$B$27:$R$39,3,FALSE)),IF(RIGHT($M$8,LEN($M$8)-FIND(\"k \",$M$8)-1)*1<=SCHEDULE!$B$99/2,HLOOKUP(RIGHT($M$8,6),'MATCH RESULTS - 2nd Half 2013'!$B$13:$R$25,3,FALSE),HLOOKUP(RIGHT($M$8,LEN($M$8)-FIND(\"W\",$M$8)+1),'MATCH RESULTS - 2nd Half 2013'!$B$27:$R$39,3,FALSE))))","v":"Team 04 def. Team 16, 5.0 - 4.0"},null,null,null,null,null,null,null,null,"1A",{"$f":"IFERROR(VLOOKUP(V10,'LEAGUE MEMBERSHIP'!$E:$F,2,FALSE),\"\")","v":"Lester Lockhart"},null,{"$f":"IFERROR(VLOOKUP(VLOOKUP(V10,'LEAGUE MEMBERSHIP'!$E:$G,3,FALSE),'INDIVIDUAL SCORES'!$A:$P,16,FALSE),\"\")","v":9},null,"1B",{"$f":"IFERROR(VLOOKUP(AA10,'LEAGUE MEMBERSHIP'!$E:$F,2,FALSE),\"\")","v":"Pete Normandin"},null,{"$f":"IFERROR(VLOOKUP(VLOOKUP(AA10,'LEAGUE MEMBERSHIP'!$E:$G,3,FALSE),'INDIVIDUAL SCORES'!$A:$P,16,FALSE),\"\")","v":13}]
[null,null,null,null,null,{"$f":"IF(MAIN!$A$40=FALSE,'STANDINGS - 1st Half 2013'!D11,'STANDINGS - 2nd Half 2013'!D11)","v":1},{"$f":"IF(MAIN!$A$40=FALSE,'STANDINGS - 1st Half 2013'!E11,'STANDINGS - 2nd Half 2013'!E11)","v":"10  Ron Eckstrom / Beth Romano"},null,null,null,{"$f":"IF(MAIN!$A$40=FALSE,'STANDINGS - 1st Half 2013'!I11,'STANDINGS - 2nd Half 2013'!I11)","v":43.5},null,{"$f":"IF(IF($A$40=FALSE,IF(RIGHT($M$8,LEN($M$8)-FIND(\"k \",$M$8)-1)*1<=SCHEDULE!$B$99/2,HLOOKUP(RIGHT($M$8,6),'MATCH RESULTS - 1st Half 2013'!$B$13:$R$25,4,FALSE),HLOOKUP(RIGHT($M$8,LEN($M$8)-FIND(\"W\",$M$8)+1),'MATCH RESULTS - 1st Half 2013'!$B$27:$R$39,4,FALSE)),IF(RIGHT($M$8,LEN($M$8)-FIND(\"k \",$M$8)-1)*1<=SCHEDULE!$B$99/2,HLOOKUP(RIGHT($M$8,6),'MATCH RESULTS - 2nd Half 2013'!$B$13:$R$25,4,FALSE),HLOOKUP(RIGHT($M$8,LEN($M$8)-FIND(\"W\",$M$8)+1),'MATCH RESULTS - 2nd Half 2013'!$B$27:$R$39,4,FALSE)))=\"\",\"\",IF($A$40=FALSE,IF(RIGHT($M$8,LEN($M$8)-FIND(\"k \",$M$8)-1)*1<=SCHEDULE!$B$99/2,HLOOKUP(RIGHT($M$8,6),'MATCH RESULTS - 1st Half 2013'!$B$13:$R$25,4,FALSE),HLOOKUP(RIGHT($M$8,LEN($M$8)-FIND(\"W\",$M$8)+1),'MATCH RESULTS - 1st Half 2013'!$B$27:$R$39,4,FALSE)),IF(RIGHT($M$8,LEN($M$8)-FIND(\"k \",$M$8)-1)*1<=SCHEDULE!$B$99/2,HLOOKUP(RIGHT($M$8,6),'MATCH RESULTS - 2nd Half 2013'!$B$13:$R$25,4,FALSE),HLOOKUP(RIGHT($M$8,LEN($M$8)-FIND(\"W\",$M$8)+1),'MATCH RESULTS - 2nd Half 2013'!$B$27:$R$39,4,FALSE))))","v":"Team 08 def. Team 20, 5.0 - 4.0"},null,null,null,null,null,null,null,null,"2A",{"$f":"IFERROR(VLOOKUP(V11,'LEAGUE MEMBERSHIP'!$E:$F,2,FALSE),\"\")","v":"Dave Cormier"},null,{"$f":"IFERROR(VLOOKUP(VLOOKUP(V11,'LEAGUE MEMBERSHIP'!$E:$G,3,FALSE),'INDIVIDUAL SCORES'!$A:$P,16,FALSE),\"\")","v":6},null,"2B",{"$f":"IFERROR(VLOOKUP(AA11,'LEAGUE MEMBERSHIP'!$E:$F,2,FALSE),\"\")","v":"Adam Williamson"},null,{"$f":"IFERROR(VLOOKUP(VLOOKUP(AA11,'LEAGUE MEMBERSHIP'!$E:$G,3,FALSE),'INDIVIDUAL SCORES'!$A:$P,16,FALSE),\"\")","v":2}]
[null,null,null,null,null,{"$f":"IF(MAIN!$A$40=FALSE,'STANDINGS - 1st Half 2013'!D12,'STANDINGS - 2nd Half 2013'!D12)","v":2},{"$f":"IF(MAIN!$A$40=FALSE,'STANDINGS - 1st Half 2013'!E12,'STANDINGS - 2nd Half 2013'!E12)","v":"05  Dennis Normandin / Mark Normandin"},null,null,null,{"$f":"IF(MAIN!$A$40=FALSE,'STANDINGS - 1st Half 2013'!I12,'STANDINGS - 2nd Half 2013'!I12)","v":42.5},null,{"$f":"IF(IF($A$40=FALSE,IF(RIGHT($M$8,LEN($M$8)-FIND(\"k \",$M$8)-1)*1<=SCHEDULE!$B$99/2,HLOOKUP(RIGHT($M$8,6),'MATCH RESULTS - 1st Half 2013'!$B$13:$R$25,5,FALSE),HLOOKUP(RIGHT($M$8,LEN($M$8)-FIND(\"W\",$M$8)+1),'MATCH RESULTS - 1st Half 2013'!$B$27:$R$39,5,FALSE)),IF(RIGHT($M$8,LEN($M$8)-FIND(\"k \",$M$8)-1)*1<=SCHEDULE!$B$99/2,HLOOKUP(RIGHT($M$8,6),'MATCH RESULTS - 2nd Half 2013'!$B$13:$R$25,5,FALSE),HLOOKUP(RIGHT($M$8,LEN($M$8)-FIND(\"W\",$M$8)+1),'MATCH RESULTS - 2nd Half 2013'!$B$27:$R$39,5,FALSE)))=\"\",\"\",IF($A$40=FALSE,IF(RIGHT($M$8,LEN($M$8)-FIND(\"k \",$M$8)-1)*1<=SCHEDULE!$B$99/2,HLOOKUP(RIGHT($M$8,6),'MATCH RESULTS - 1st Half 2013'!$B$13:$R$25,5,FALSE),HLOOKUP(RIGHT($M$8,LEN($M$8)-FIND(\"W\",$M$8)+1),'MATCH RESULTS - 1st Half 2013'!$B$27:$R$39,5,FALSE)),IF(RIGHT($M$8,LEN($M$8)-FIND(\"k \",$M$8)-1)*1<=SCHEDULE!$B$99/2,HLOOKUP(RIGHT($M$8,6),'MATCH RESULTS - 2nd Half 2013'!$B$13:$R$25,5,FALSE),HLOOKUP(RIGHT($M$8,LEN($M$8)-FIND(\"W\",$M$8)+1),'MATCH RESULTS - 2nd Half 2013'!$B$27:$R$39,5,FALSE))))","v":"Team 12 def. Team 01, 6.0 - 3.0"},null,null,null,null,null,null,null,null,"3A",{"$f":"IFERROR(VLOOKUP(V12,'LEAGUE MEMBERSHIP'!$E:$F,2,FALSE),\"\")","v":"Pete Romano"},null,{"$f":"IFERROR(VLOOKUP(VLOOKUP(V12,'LEAGUE MEMBERSHIP'!$E:$G,3,FALSE),'INDIVIDUAL SCORES'!$A:$P,16,FALSE),\"\")","v":15},null,"3B",{"$f":"IFERROR(VLOOKUP(AA12,'LEAGUE MEMBERSHIP'!$E:$F,2,FALSE),\"\")","v":"Don Frigoletto"},null,{"$f":"IFERROR(VLOOKUP(VLOOKUP(AA12,'LEAGUE MEMBERSHIP'!$E:$G,3,FALSE),'INDIVIDUAL SCORES'!$A:$P,16,FALSE),\"\")","v":10}]
[null,null,null,null,null,{"$f":"IF(MAIN!$A$40=FALSE,'STANDINGS - 1st Half 2013'!D13,'STANDINGS - 2nd Half 2013'!D13)","v":3},{"$f":"IF(MAIN!$A$40=FALSE,'STANDINGS - 1st Half 2013'!E13,'STANDINGS - 2nd Half 2013'!E13)","v":"15  Tim Hurley / John Elie"},null,null,null,{"$f":"IF(MAIN!$A$40=FALSE,'STANDINGS - 1st Half 2013'!I13,'STANDINGS - 2nd Half 2013'!I13)","v":42},null,{"$f":"IF(IF($A$40=FALSE,IF(RIGHT($M$8,LEN($M$8)-FIND(\"k \",$M$8)-1)*1<=SCHEDULE!$B$99/2,HLOOKUP(RIGHT($M$8,6),'MATCH RESULTS - 1st Half 2013'!$B$13:$R$25,6,FALSE),HLOOKUP(RIGHT($M$8,LEN($M$8)-FIND(\"W\",$M$8)+1),'MATCH RESULTS - 1st Half 2013'!$B$27:$R$39,6,FALSE)),IF(RIGHT($M$8,LEN($M$8)-FIND(\"k \",$M$8)-1)*1<=SCHEDULE!$B$99/2,HLOOKUP(RIGHT($M$8,6),'MATCH RESULTS - 2nd Half 2013'!$B$13:$R$25,6,FALSE),HLOOKUP(RIGHT($M$8,LEN($M$8)-FIND(\"W\",$M$8)+1),'MATCH RESULTS - 2nd Half 2013'!$B$27:$R$39,6,FALSE)))=\"\",\"\",IF($A$40=FALSE,IF(RIGHT($M$8,LEN($M$8)-FIND(\"k \",$M$8)-1)*1<=SCHEDULE!$B$99/2,HLOOKUP(RIGHT($M$8,6),'MATCH RESULTS - 1st Half 2013'!$B$13:$R$25,6,FALSE),HLOOKUP(RIGHT($M$8,LEN($M$8)-FIND(\"W\",$M$8)+1),'MATCH RESULTS - 1st Half 2013'!$B$27:$R$39,6,FALSE)),IF(RIGHT($M$8,LEN($M$8)-FIND(\"k \",$M$8)-1)*1<=SCHEDULE!$B$99/2,HLOOKUP(RIGHT($M$8,6),'MATCH RESULTS - 2nd Half 2013'!$B$13:$R$25,6,FALSE),HLOOKUP(RIGHT($M$8,LEN($M$8)-FIND(\"W\",$M$8)+1),'MATCH RESULTS - 2nd Half 2013'!$B$27:$R$39,6,FALSE))))","v":"Team 14 def. Team 02, 5.0 - 4.0"},null,null,null,null,null,null,null,null,"4A",{"$f":"IFERROR(VLOOKUP(V13,'LEAGUE MEMBERSHIP'!$E:$F,2,FALSE),\"\")","v":"Peg Romano"},null,{"$f":"IFERROR(VLOOKUP(VLOOKUP(V13,'LEAGUE MEMBERSHIP'!$E:$G,3,FALSE),'INDIVIDUAL SCORES'!$A:$P,16,FALSE),\"\")","v":14},null,"4B",{"$f":"IFERROR(VLOOKUP(AA13,'LEAGUE MEMBERSHIP'!$E:$F,2,FALSE),\"\")","v":"Lynn Laroche"},null,{"$f":"IFERROR(VLOOKUP(VLOOKUP(AA13,'LEAGUE MEMBERSHIP'!$E:$G,3,FALSE),'INDIVIDUAL SCORES'!$A:$P,16,FALSE),\"\")","v":14}]
[null,null,null,null,null,{"$f":"IF(MAIN!$A$40=FALSE,'STANDINGS - 1st Half 2013'!D14,'STANDINGS - 2nd Half 2013'!D14)","v":4},{"$f":"IF(MAIN!$A$40=FALSE,'STANDINGS - 1st Half 2013'!E14,'STANDINGS - 2nd Half 2013'!E14)","v":"16  Deb DeCarolis / Joey DeCarolis"},null,null,null,{"$f":"IF(MAIN!$A$40=FALSE,'STANDINGS - 1st Half 2013'!I14,'STANDINGS - 2nd Half 2013'!I14)","v":41.5},null,{"$f":"IF(IF($A$40=FALSE,IF(RIGHT($M$8,LEN($M$8)-FIND(\"k \",$M$8)-1)*1<=SCHEDULE!$B$99/2,HLOOKUP(RIGHT($M$8,6),'MATCH RESULTS - 1st Half 2013'!$B$13:$R$25,7,FALSE),HLOOKUP(RIGHT($M$8,LEN($M$8)-FIND(\"W\",$M$8)+1),'MATCH RESULTS - 1st Half 2013'!$B$27:$R$39,7,FALSE)),IF(RIGHT($M$8,LEN($M$8)-FIND(\"k \",$M$8)-1)*1<=SCHEDULE!$B$99/2,HLOOKUP(RIGHT($M$8,6),'MATCH RESULTS - 2nd Half 2013'!$B$13:$R$25,7,FALSE),HLOOKUP(RIGHT($M$8,LEN($M$8)-FIND(\"W\",$M$8)+1),'MATCH RESULTS - 2nd Half 2013'!$B$27:$R$39,7,FALSE)))=\"\",\"\",IF($A$40=FALSE,IF(RIGHT($M$8,LEN($M$8)-FIND(\"k \",$M$8)-1)*1<=SCHEDULE!$B$99/2,HLOOKUP(RIGHT($M$8,6),'MATCH RESULTS - 1st Half 2013'!$B$13:$R$25,7,FALSE),HLOOKUP(RIGHT($M$8,LEN($M$8)-FIND(\"W\",$M$8)+1),'MATCH RESULTS - 1st Half 2013'!$B$27:$R$39,7,FALSE)),IF(RIGHT($M$8,LEN($M$8)-FIND(\"k \",$M$8)-1)*1<=SCHEDULE!$B$99/2,HLOOKUP(RIGHT($M$8,6),'MATCH RESULTS - 2nd Half 2013'!$B$13:$R$25,7,FALSE),HLOOKUP(RIGHT($M$8,LEN($M$8)-FIND(\"W\",$M$8)+1),'MATCH RESULTS - 2nd Half 2013'!$B$27:$R$39,7,FALSE))))","v":"Team 05 def. Team 17, 6.5 - 2.5"},null,null,null,null,null,null,null,null,"5A",{"$f":"IFERROR(VLOOKUP(V14,'LEAGUE MEMBERSHIP'!$E:$F,2,FALSE),\"\")","v":"Dennis Normandin"},null,{"$f":"IFERROR(VLOOKUP(VLOOKUP(V14,'LEAGUE MEMBERSHIP'!$E:$G,3,FALSE),'INDIVIDUAL SCORES'!$A:$P,16,FALSE),\"\")","v":9},null,"5B",{"$f":"IFERROR(VLOOKUP(AA14,'LEAGUE MEMBERSHIP'!$E:$F,2,FALSE),\"\")","v":"Mark Normandin"},null,{"$f":"IFERROR(VLOOKUP(VLOOKUP(AA14,'LEAGUE MEMBERSHIP'!$E:$G,3,FALSE),'INDIVIDUAL SCORES'!$A:$P,16,FALSE),\"\")","v":7}]
[null,null,null,null,null,{"$f":"IF(MAIN!$A$40=FALSE,'STANDINGS - 1st Half 2013'!D15,'STANDINGS - 2nd Half 2013'!D15)","v":5},{"$f":"IF(MAIN!$A$40=FALSE,'STANDINGS - 1st Half 2013'!E15,'STANDINGS - 2nd Half 2013'!E15)","v":"12  Sal Cuifetti / Paul LeBlanc"},null,null,null,{"$f":"IF(MAIN!$A$40=FALSE,'STANDINGS - 1st Half 2013'!I15,'STANDINGS - 2nd Half 2013'!I15)","v":41},null,{"$f":"IF(IF($A$40=FALSE,IF(RIGHT($M$8,LEN($M$8)-FIND(\"k \",$M$8)-1)*1<=SCHEDULE!$B$99/2,HLOOKUP(RIGHT($M$8,6),'MATCH RESULTS - 1st Half 2013'!$B$13:$R$25,8,FALSE),HLOOKUP(RIGHT($M$8,LEN($M$8)-FIND(\"W\",$M$8)+1),'MATCH RESULTS - 1st Half 2013'!$B$27:$R$39,8,FALSE)),IF(RIGHT($M$8,LEN($M$8)-FIND(\"k \",$M$8)-1)*1<=SCHEDULE!$B$99/2,HLOOKUP(RIGHT($M$8,6),'MATCH RESULTS - 2nd Half 2013'!$B$13:$R$25,8,FALSE),HLOOKUP(RIGHT($M$8,LEN($M$8)-FIND(\"W\",$M$8)+1),'MATCH RESULTS - 2nd Half 2013'!$B$27:$R$39,8,FALSE)))=\"\",\"\",IF($A$40=FALSE,IF(RIGHT($M$8,LEN($M$8)-FIND(\"k \",$M$8)-1)*1<=SCHEDULE!$B$99/2,HLOOKUP(RIGHT($M$8,6),'MATCH RESULTS - 1st Half 2013'!$B$13:$R$25,8,FALSE),HLOOKUP(RIGHT($M$8,LEN($M$8)-FIND(\"W\",$M$8)+1),'MATCH RESULTS - 1st Half 2013'!$B$27:$R$39,8,FALSE)),IF(RIGHT($M$8,LEN($M$8)-FIND(\"k \",$M$8)-1)*1<=SCHEDULE!$B$99/2,HLOOKUP(RIGHT($M$8,6),'MATCH RESULTS - 2nd Half 2013'!$B$13:$R$25,8,FALSE),HLOOKUP(RIGHT($M$8,LEN($M$8)-FIND(\"W\",$M$8)+1),'MATCH RESULTS - 2nd Half 2013'!$B$27:$R$39,8,FALSE))))","v":"Team 15 def. Team 03, 5.5 - 3.5"},null,null,null,null,null,null,null,null,"6A",{"$f":"IFERROR(VLOOKUP(V15,'LEAGUE MEMBERSHIP'!$E:$F,2,FALSE),\"\")","v":"Vance Butterfield"},null,{"$f":"IFERROR(VLOOKUP(VLOOKUP(V15,'LEAGUE MEMBERSHIP'!$E:$G,3,FALSE),'INDIVIDUAL SCORES'!$A:$P,16,FALSE),\"\")","v":6},null,"6B",{"$f":"IFERROR(VLOOKUP(AA15,'LEAGUE MEMBERSHIP'!$E:$F,2,FALSE),\"\")","v":"Bob Schleyer"},null,{"$f":"IFERROR(VLOOKUP(VLOOKUP(AA15,'LEAGUE MEMBERSHIP'!$E:$G,3,FALSE),'INDIVIDUAL SCORES'!$A:$P,16,FALSE),\"\")","v":9}]
[null,null,null,null,null,{"$f":"IF(MAIN!$A$40=FALSE,'STANDINGS - 1st Half 2013'!D16,'STANDINGS - 2nd Half 2013'!D16)","v":6},{"$f":"IF(MAIN!$A$40=FALSE,'STANDINGS - 1st Half 2013'!E16,'STANDINGS - 2nd Half 2013'!E16)","v":"19  Gary Leavenworth / Patty Leavenworth"},null,null,null,{"$f":"IF(MAIN!$A$40=FALSE,'STANDINGS - 1st Half 2013'!I16,'STANDINGS - 2nd Half 2013'!I16)","v":40.5},null,{"$f":"IF(IF($A$40=FALSE,IF(RIGHT($M$8,LEN($M$8)-FIND(\"k \",$M$8)-1)*1<=SCHEDULE!$B$99/2,HLOOKUP(RIGHT($M$8,6),'MATCH RESULTS - 1st Half 2013'!$B$13:$R$25,9,FALSE),HLOOKUP(RIGHT($M$8,LEN($M$8)-FIND(\"W\",$M$8)+1),'MATCH RESULTS - 1st Half 2013'!$B$27:$R$39,9,FALSE)),IF(RIGHT($M$8,LEN($M$8)-FIND(\"k \",$M$8)-1)*1<=SCHEDULE!$B$99/2,HLOOKUP(RIGHT($M$8,6),'MATCH RESULTS - 2nd Half 2013'!$B$13:$R$25,9,FALSE),HLOOKUP(RIGHT($M$8,LEN($M$8)-FIND(\"W\",$M$8)+1),'MATCH RESULTS - 2nd Half 2013'!$B$27:$R$39,9,FALSE)))=\"\",\"\",IF($A$40=FALSE,IF(RIGHT($M$8,LEN($M$8)-FIND(\"k \",$M$8)-1)*1<=SCHEDULE!$B$99/2,HLOOKUP(RIGHT($M$8,6),'MATCH RESULTS - 1st Half 2013'!$B$13:$R$25,9,FALSE),HLOOKUP(RIGHT($M$8,LEN($M$8)-FIND(\"W\",$M$8)+1),'MATCH RESULTS - 1st Half 2013'!$B$27:$R$39,9,FALSE)),IF(RIGHT($M$8,LEN($M$8)-FIND(\"k \",$M$8)-1)*1<=SCHEDULE!$B$99/2,HLOOKUP(RIGHT($M$8,6),'MATCH RESULTS - 2nd Half 2013'!$B$13:$R$25,9,FALSE),HLOOKUP(RIGHT($M$8,LEN($M$8)-FIND(\"W\",$M$8)+1),'MATCH RESULTS - 2nd Half 2013'!$B$27:$R$39,9,FALSE))))","v":"Team 10 def. Team 09, 7.0 - 2.0"},null,null,null,null,null,null,null,null,"7A",{"$f":"IFERROR(VLOOKUP(V16,'LEAGUE MEMBERSHIP'!$E:$F,2,FALSE),\"\")","v":"Steve Scapparone"},null,{"$f":"IFERROR(VLOOKUP(VLOOKUP(V16,'LEAGUE MEMBERSHIP'!$E:$G,3,FALSE),'INDIVIDUAL SCORES'!$A:$P,16,FALSE),\"\")","v":10},null,"7B",{"$f":"IFERROR(VLOOKUP(AA16,'LEAGUE MEMBERSHIP'!$E:$F,2,FALSE),\"\")","v":"Dave Hyre"},null,{"$f":"IFERROR(VLOOKUP(VLOOKUP(AA16,'LEAGUE MEMBERSHIP'!$E:$G,3,FALSE),'INDIVIDUAL SCORES'!$A:$P,16,FALSE),\"\")","v":9}]
[null,null,null,null,null,{"$f":"IF(MAIN!$A$40=FALSE,'STANDINGS - 1st Half 2013'!D17,'STANDINGS - 2nd Half 2013'!D17)","v":"7T"},{"$f":"IF(MAIN!$A$40=FALSE,'STANDINGS - 1st Half 2013'!E17,'STANDINGS - 2nd Half 2013'!E17)","v":"01  Lester Lockhart / Pete Normandin"},null,null,null,{"$f":"IF(MAIN!$A$40=FALSE,'STANDINGS - 1st Half 2013'!I17,'STANDINGS - 2nd Half 2013'!I17)","v":39},null,{"$f":"IF(IF($A$40=FALSE,IF(RIGHT($M$8,LEN($M$8)-FIND(\"k \",$M$8)-1)*1<=SCHEDULE!$B$99/2,HLOOKUP(RIGHT($M$8,6),'MATCH RESULTS - 1st Half 2013'!$B$13:$R$25,10,FALSE),HLOOKUP(RIGHT($M$8,LEN($M$8)-FIND(\"W\",$M$8)+1),'MATCH RESULTS - 1st Half 2013'!$B$27:$R$39,10,FALSE)),IF(RIGHT($M$8,LEN($M$8)-FIND(\"k \",$M$8)-1)*1<=SCHEDULE!$B$99/2,HLOOKUP(RIGHT($M$8,6),'MATCH RESULTS - 2nd Half 2013'!$B$13:$R$25,10,FALSE),HLOOKUP(RIGHT($M$8,LEN($M$8)-FIND(\"W\",$M$8)+1),'MATCH RESULTS - 2nd Half 2013'!$B$27:$R$39,10,FALSE)))=\"\",\"\",IF($A$40=FALSE,IF(RIGHT($M$8,LEN($M$8)-FIND(\"k \",$M$8)-1)*1<=SCHEDULE!$B$99/2,HLOOKUP(RIGHT($M$8,6),'MATCH RESULTS - 1st Half 2013'!$B$13:$R$25,10,FALSE),HLOOKUP(RIGHT($M$8,LEN($M$8)-FIND(\"W\",$M$8)+1),'MATCH RESULTS - 1st Half 2013'!$B$27:$R$39,10,FALSE)),IF(RIGHT($M$8,LEN($M$8)-FIND(\"k \",$M$8)-1)*1<=SCHEDULE!$B$99/2,HLOOKUP(RIGHT($M$8,6),'MATCH RESULTS - 2nd Half 2013'!$B$13:$R$25,10,FALSE),HLOOKUP(RIGHT($M$8,LEN($M$8)-FIND(\"W\",$M$8)+1),'MATCH RESULTS - 2nd Half 2013'!$B$27:$R$39,10,FALSE))))","v":"Team 19 def. Team 07, 4.0 - 0.0"},null,null,null,null,null,null,null,null,"8A",{"$f":"IFERROR(VLOOKUP(V17,'LEAGUE MEMBERSHIP'!$E:$F,2,FALSE),\"\")","v":"Mike Sunderland"},null,{"$f":"IFERROR(VLOOKUP(VLOOKUP(V17,'LEAGUE MEMBERSHIP'!$E:$G,3,FALSE),'INDIVIDUAL SCORES'!$A:$P,16,FALSE),\"\")","v":5},null,"8B",{"$f":"IFERROR(VLOOKUP(AA17,'LEAGUE MEMBERSHIP'!$E:$F,2,FALSE),\"\")","v":"Debbie Sunderland"},null,{"$f":"IFERROR(VLOOKUP(VLOOKUP(AA17,'LEAGUE MEMBERSHIP'!$E:$G,3,FALSE),'INDIVIDUAL SCORES'!$A:$P,16,FALSE),\"\")","v":10}]
[null,null,null,null,null,{"$f":"IF(MAIN!$A$40=FALSE,'STANDINGS - 1st Half 2013'!D18,'STANDINGS - 2nd Half 2013'!D18)","v":"7T"},{"$f":"IF(MAIN!$A$40=FALSE,'STANDINGS - 1st Half 2013'!E18,'STANDINGS - 2nd Half 2013'!E18)","v":"02  Dave Cormier / Adam Williamson"},null,null,null,{"$f":"IF(MAIN!$A$40=FALSE,'STANDINGS - 1st Half 2013'!I18,'STANDINGS - 2nd Half 2013'!I18)","v":39},null,{"$f":"IF(IF($A$40=FALSE,IF(RIGHT($M$8,LEN($M$8)-FIND(\"k \",$M$8)-1)*1<=SCHEDULE!$B$99/2,HLOOKUP(RIGHT($M$8,6),'MATCH RESULTS - 1st Half 2013'!$B$13:$R$25,11,FALSE),HLOOKUP(RIGHT($M$8,LEN($M$8)-FIND(\"W\",$M$8)+1),'MATCH RESULTS - 1st Half 2013'!$B$27:$R$39,11,FALSE)),IF(RIGHT($M$8,LEN($M$8)-FIND(\"k \",$M$8)-1)*1<=SCHEDULE!$B$99/2,HLOOKUP(RIGHT($M$8,6),'MATCH RESULTS - 2nd Half 2013'!$B$13:$R$25,11,FALSE),HLOOKUP(RIGHT($M$8,LEN($M$8)-FIND(\"W\",$M$8)+1),'MATCH RESULTS - 2nd Half 2013'!$B$27:$R$39,11,FALSE)))=\"\",\"\",IF($A$40=FALSE,IF(RIGHT($M$8,LEN($M$8)-FIND(\"k \",$M$8)-1)*1<=SCHEDULE!$B$99/2,HLOOKUP(RIGHT($M$8,6),'MATCH RESULTS - 1st Half 2013'!$B$13:$R$25,11,FALSE),HLOOKUP(RIGHT($M$8,LEN($M$8)-FIND(\"W\",$M$8)+1),'MATCH RESULTS - 1st Half 2013'!$B$27:$R$39,11,FALSE)),IF(RIGHT($M$8,LEN($M$8)-FIND(\"k \",$M$8)-1)*1<=SCHEDULE!$B$99/2,HLOOKUP(RIGHT($M$8,6),'MATCH RESULTS - 2nd Half 2013'!$B$13:$R$25,11,FALSE),HLOOKUP(RIGHT($M$8,LEN($M$8)-FIND(\"W\",$M$8)+1),'MATCH RESULTS - 2nd Half 2013'!$B$27:$R$39,11,FALSE))))","v":"Team 11 def. Team 13, 6.5 - 2.5"},null,null,null,null,null,null,null,null,"9A",{"$f":"IFERROR(VLOOKUP(V18,'LEAGUE MEMBERSHIP'!$E:$F,2,FALSE),\"\")","v":"Mike Doane"},null,{"$f":"IFERROR(VLOOKUP(VLOOKUP(V18,'LEAGUE MEMBERSHIP'!$E:$G,3,FALSE),'INDIVIDUAL SCORES'!$A:$P,16,FALSE),\"\")","v":23},null,"9B",{"$f":"IFERROR(VLOOKUP(AA18,'LEAGUE MEMBERSHIP'!$E:$F,2,FALSE),\"\")","v":"John Cassin"},null,{"$f":"IFERROR(VLOOKUP(VLOOKUP(AA18,'LEAGUE MEMBERSHIP'!$E:$G,3,FALSE),'INDIVIDUAL SCORES'!$A:$P,16,FALSE),\"\")","v":7}]
[null,null,null,null,null,{"$f":"IF(MAIN!$A$40=FALSE,'STANDINGS - 1st Half 2013'!D19,'STANDINGS - 2nd Half 2013'!D19)","v":9},{"$f":"IF(MAIN!$A$40=FALSE,'STANDINGS - 1st Half 2013'!E19,'STANDINGS - 2nd Half 2013'!E19)","v":"20  Paul Fontaine / Ralph Romano III"},null,null,null,{"$f":"IF(MAIN!$A$40=FALSE,'STANDINGS - 1st Half 2013'!I19,'STANDINGS - 2nd Half 2013'!I19)","v":38},null,{"$f":"IF(IF($A$40=FALSE,IF(RIGHT($M$8,LEN($M$8)-FIND(\"k \",$M$8)-1)*1<=SCHEDULE!$B$99/2,HLOOKUP(RIGHT($M$8,6),'MATCH RESULTS - 1st Half 2013'!$B$13:$R$25,12,FALSE),HLOOKUP(RIGHT($M$8,LEN($M$8)-FIND(\"W\",$M$8)+1),'MATCH RESULTS - 1st Half 2013'!$B$27:$R$39,12,FALSE)),IF(RIGHT($M$8,LEN($M$8)-FIND(\"k \",$M$8)-1)*1<=SCHEDULE!$B$99/2,HLOOKUP(RIGHT($M$8,6),'MATCH RESULTS - 2nd Half 2013'!$B$13:$R$25,12,FALSE),HLOOKUP(RIGHT($M$8,LEN($M$8)-FIND(\"W\",$M$8)+1),'MATCH RESULTS - 2nd Half 2013'!$B$27:$R$39,12,FALSE)))=\"\",\"\",IF($A$40=FALSE,IF(RIGHT($M$8,LEN($M$8)-FIND(\"k \",$M$8)-1)*1<=SCHEDULE!$B$99/2,HLOOKUP(RIGHT($M$8,6),'MATCH RESULTS - 1st Half 2013'!$B$13:$R$25,12,FALSE),HLOOKUP(RIGHT($M$8,LEN($M$8)-FIND(\"W\",$M$8)+1),'MATCH RESULTS - 1st Half 2013'!$B$27:$R$39,12,FALSE)),IF(RIGHT($M$8,LEN($M$8)-FIND(\"k \",$M$8)-1)*1<=SCHEDULE!$B$99/2,HLOOKUP(RIGHT($M$8,6),'MATCH RESULTS - 2nd Half 2013'!$B$13:$R$25,12,FALSE),HLOOKUP(RIGHT($M$8,LEN($M$8)-FIND(\"W\",$M$8)+1),'MATCH RESULTS - 2nd Half 2013'!$B$27:$R$39,12,FALSE))))","v":"Team 18 def. Team 06, 4.5 - 0.0"},null,null,null,null,null,null,null,null,"10A",{"$f":"IFERROR(VLOOKUP(V19,'LEAGUE MEMBERSHIP'!$E:$F,2,FALSE),\"\")","v":"Ron Eckstrom"},null,{"$f":"IFERROR(VLOOKUP(VLOOKUP(V19,'LEAGUE MEMBERSHIP'!$E:$G,3,FALSE),'INDIVIDUAL SCORES'!$A:$P,16,FALSE),\"\")","v":3},null,"10B",{"$f":"IFERROR(VLOOKUP(AA19,'LEAGUE MEMBERSHIP'!$E:$F,2,FALSE),\"\")","v":"Beth Romano"},null,{"$f":"IFERROR(VLOOKUP(VLOOKUP(AA19,'LEAGUE MEMBERSHIP'!$E:$G,3,FALSE),'INDIVIDUAL SCORES'!$A:$P,16,FALSE),\"\")","v":13}]
[null,null,null,null,null,{"$f":"IF(MAIN!$A$40=FALSE,'STANDINGS - 1st Half 2013'!D20,'STANDINGS - 2nd Half 2013'!D20)","v":10},{"$f":"IF(MAIN!$A$40=FALSE,'STANDINGS - 1st Half 2013'!E20,'STANDINGS - 2nd Half 2013'!E20)","v":"17  Gary Bittner / Mike Dauphinais"},null,null,null,{"$f":"IF(MAIN!$A$40=FALSE,'STANDINGS - 1st Half 2013'!I20,'STANDINGS - 2nd Half 2013'!I20)","v":37},null,{"$f":"IF(IF($A$40=FALSE,IF(RIGHT($M$8,LEN($M$8)-FIND(\"k \",$M$8)-1)*1<=SCHEDULE!$B$99/2,HLOOKUP(RIGHT($M$8,6),'MATCH RESULTS - 1st Half 2013'!$B$13:$R$25,13,FALSE),HLOOKUP(RIGHT($M$8,LEN($M$8)-FIND(\"W\",$M$8)+1),'MATCH RESULTS - 1st Half 2013'!$B$27:$R$39,13,FALSE)),IF(RIGHT($M$8,LEN($M$8)-FIND(\"k \",$M$8)-1)*1<=SCHEDULE!$B$99/2,HLOOKUP(RIGHT($M$8,6),'MATCH RESULTS - 2nd Half 2013'!$B$13:$R$25,13,FALSE),HLOOKUP(RIGHT($M$8,LEN($M$8)-FIND(\"W\",$M$8)+1),'MATCH RESULTS - 2nd Half 2013'!$B$27:$R$39,13,FALSE)))=\"\",\"\",IF($A$40=FALSE,IF(RIGHT($M$8,LEN($M$8)-FIND(\"k \",$M$8)-1)*1<=SCHEDULE!$B$99/2,HLOOKUP(RIGHT($M$8,6),'MATCH RESULTS - 1st Half 2013'!$B$13:$R$25,13,FALSE),HLOOKUP(RIGHT($M$8,LEN($M$8)-FIND(\"W\",$M$8)+1),'MATCH RESULTS - 1st Half 2013'!$B$27:$R$39,13,FALSE)),IF(RIGHT($M$8,LEN($M$8)-FIND(\"k \",$M$8)-1)*1<=SCHEDULE!$B$99/2,HLOOKUP(RIGHT($M$8,6),'MATCH RESULTS - 2nd Half 2013'!$B$13:$R$25,13,FALSE),HLOOKUP(RIGHT($M$8,LEN($M$8)-FIND(\"W\",$M$8)+1),'MATCH RESULTS - 2nd Half 2013'!$B$27:$R$39,13,FALSE))))","v":""},null,null,null,null,null,null,null,null,"11A",{"$f":"IFERROR(VLOOKUP(V20,'LEAGUE MEMBERSHIP'!$E:$F,2,FALSE),\"\")","v":"Ray Henderson"},null,{"$f":"IFERROR(VLOOKUP(VLOOKUP(V20,'LEAGUE MEMBERSHIP'!$E:$G,3,FALSE),'INDIVIDUAL SCORES'!$A:$P,16,FALSE),\"\")","v":4},null,"11B",{"$f":"IFERROR(VLOOKUP(AA20,'LEAGUE MEMBERSHIP'!$E:$F,2,FALSE),\"\")","v":"Zachary Wallace"},null,{"$f":"IFERROR(VLOOKUP(VLOOKUP(AA20,'LEAGUE MEMBERSHIP'!$E:$G,3,FALSE),'INDIVIDUAL SCORES'!$A:$P,16,FALSE),\"\")","v":12}]
[null,null,null,null,null,{"$f":"IF(MAIN!$A$40=FALSE,'STANDINGS - 1st Half 2013'!D21,'STANDINGS - 2nd Half 2013'!D21)","v":11},{"$f":"IF(MAIN!$A$40=FALSE,'STANDINGS - 1st Half 2013'!E21,'STANDINGS - 2nd Half 2013'!E21)","v":"11  Ray Henderson / Zachary Wallace"},null,null,null,{"$f":"IF(MAIN!$A$40=FALSE,'STANDINGS - 1st Half 2013'!I21,'STANDINGS - 2nd Half 2013'!I21)","v":36.5},null,null,null,null,null,null,null,null,null,null,"12A",{"$f":"IFERROR(VLOOKUP(V21,'LEAGUE MEMBERSHIP'!$E:$F,2,FALSE),\"\")","v":"Sal Cuifetti"},null,{"$f":"IFERROR(VLOOKUP(VLOOKUP(V21,'LEAGUE MEMBERSHIP'!$E:$G,3,FALSE),'INDIVIDUAL SCORES'!$A:$P,16,FALSE),\"\")","v":13},null,"12B",{"$f":"IFERROR(VLOOKUP(AA21,'LEAGUE MEMBERSHIP'!$E:$F,2,FALSE),\"\")","v":"Paul LeBlanc"},null,{"$f":"IFERROR(VLOOKUP(VLOOKUP(AA21,'LEAGUE MEMBERSHIP'!$E:$G,3,FALSE),'INDIVIDUAL SCORES'!$A:$P,16,FALSE),\"\")","v":7}]
[null,null,null,null,null,{"$f":"IF(MAIN!$A$40=FALSE,'STANDINGS - 1st Half 2013'!D22,'STANDINGS - 2nd Half 2013'!D22)","v":"12T"},{"$f":"IF(MAIN!$A$40=FALSE,'STANDINGS - 1st Half 2013'!E22,'STANDINGS - 2nd Half 2013'!E22)","v":"03  Pete Romano / Don Frigoletto"},null,null,null,{"$f":"IF(MAIN!$A$40=FALSE,'STANDINGS - 1st Half 2013'!I22,'STANDINGS - 2nd Half 2013'!I22)","v":35},null,null,null,null,null,null,null,null,null,null,"13A",{"$f":"IFERROR(VLOOKUP(V22,'LEAGUE MEMBERSHIP'!$E:$F,2,FALSE),\"\")","v":"Kyle Currier"},null,{"$f":"IFERROR(VLOOKUP(VLOOKUP(V22,'LEAGUE MEMBERSHIP'!$E:$G,3,FALSE),'INDIVIDUAL SCORES'!$A:$P,16,FALSE),\"\")","v":9},null,"13B",{"$f":"IFERROR(VLOOKUP(AA22,'LEAGUE MEMBERSHIP'!$E:$F,2,FALSE),\"\")","v":"Walter Drake"},null,{"$f":"IFERROR(VLOOKUP(VLOOKUP(AA22,'LEAGUE MEMBERSHIP'!$E:$G,3,FALSE),'INDIVIDUAL SCORES'!$A:$P,16,FALSE),\"\")","v":17}]
[null,null,null,null,null,{"$f":"IF(MAIN!$A$40=FALSE,'STANDINGS - 1st Half 2013'!D23,'STANDINGS - 2nd Half 2013'!D23)","v":"12T"},{"$f":"IF(MAIN!$A$40=FALSE,'STANDINGS - 1st Half 2013'!E23,'STANDINGS - 2nd Half 2013'!E23)","v":"04  Peg Romano / Lynn Laroche"},null,null,null,{"$f":"IF(MAIN!$A$40=FALSE,'STANDINGS - 1st Half 2013'!I23,'STANDINGS - 2nd Half 2013'!I23)","v":35},null,null,null,null,null,null,null,null,null,null,"14A",{"$f":"IFERROR(VLOOKUP(V23,'LEAGUE MEMBERSHIP'!$E:$F,2,FALSE),\"\")","v":"Doug Cormier"},null,{"$f":"IFERROR(VLOOKUP(VLOOKUP(V23,'LEAGUE MEMBERSHIP'!$E:$G,3,FALSE),'INDIVIDUAL SCORES'!$A:$P,16,FALSE),\"\")","v":4},null,"14B",{"$f":"IFERROR(VLOOKUP(AA23,'LEAGUE MEMBERSHIP'!$E:$F,2,FALSE),\"\")","v":"Ralph Romano, Jr."},null,{"$f":"IFERROR(VLOOKUP(VLOOKUP(AA23,'LEAGUE MEMBERSHIP'!$E:$G,3,FALSE),'INDIVIDUAL SCORES'!$A:$P,16,FALSE),\"\")","v":19}]
[null,null,null,null,null,{"$f":"IF(MAIN!$A$40=FALSE,'STANDINGS - 1st Half 2013'!D24,'STANDINGS - 2nd Half 2013'!D24)","v":14},{"$f":"IF(MAIN!$A$40=FALSE,'STANDINGS - 1st Half 2013'!E24,'STANDINGS - 2nd Half 2013'!E24)","v":"08  Mike Sunderland / Debbie Sunderland"},null,null,null,{"$f":"IF(MAIN!$A$40=FALSE,'STANDINGS - 1st Half 2013'!I24,'STANDINGS - 2nd Half 2013'!I24)","v":34.5},null,null,null,null,null,null,null,null,null,null,"15A",{"$f":"IFERROR(VLOOKUP(V24,'LEAGUE MEMBERSHIP'!$E:$F,2,FALSE),\"\")","v":"Tim Hurley"},null,{"$f":"IFERROR(VLOOKUP(VLOOKUP(V24,'LEAGUE MEMBERSHIP'!$E:$G,3,FALSE),'INDIVIDUAL SCORES'!$A:$P,16,FALSE),\"\")","v":6},null,"15B",{"$f":"IFERROR(VLOOKUP(AA24,'LEAGUE MEMBERSHIP'!$E:$F,2,FALSE),\"\")","v":"John Elie"},null,{"$f":"IFERROR(VLOOKUP(VLOOKUP(AA24,'LEAGUE MEMBERSHIP'!$E:$G,3,FALSE),'INDIVIDUAL SCORES'!$A:$P,16,FALSE),\"\")","v":15}]
[null,null,null,null,null,{"$f":"IF(MAIN!$A$40=FALSE,'STANDINGS - 1st Half 2013'!D25,'STANDINGS - 2nd Half 2013'!D25)","v":15},{"$f":"IF(MAIN!$A$40=FALSE,'STANDINGS - 1st Half 2013'!E25,'STANDINGS - 2nd Half 2013'!E25)","v":"09  Mike Doane / John Cassin"},null,null,null,{"$f":"IF(MAIN!$A$40=FALSE,'STANDINGS - 1st Half 2013'!I25,'STANDINGS - 2nd Half 2013'!I25)","v":32.5},null,null,null,null,null,null,null,null,null,null,"16A",{"$f":"IFERROR(VLOOKUP(V25,'LEAGUE MEMBERSHIP'!$E:$F,2,FALSE),\"\")","v":"Deb DeCarolis"},null,{"$f":"IFERROR(VLOOKUP(VLOOKUP(V25,'LEAGUE MEMBERSHIP'!$E:$G,3,FALSE),'INDIVIDUAL SCORES'!$A:$P,16,FALSE),\"\")","v":10},null,"16B",{"$f":"IFERROR(VLOOKUP(AA25,'LEAGUE MEMBERSHIP'!$E:$F,2,FALSE),\"\")","v":"Joey DeCarolis"},null,{"$f":"IFERROR(VLOOKUP(VLOOKUP(AA25,'LEAGUE MEMBERSHIP'!$E:$G,3,FALSE),'INDIVIDUAL SCORES'!$A:$P,16,FALSE),\"\")","v":6}]
[null,null,null,null,null,{"$f":"IF(MAIN!$A$40=FALSE,'STANDINGS - 1st Half 2013'!D26,'STANDINGS - 2nd Half 2013'!D26)","v":16},{"$f":"IF(MAIN!$A$40=FALSE,'STANDINGS - 1st Half 2013'!E26,'STANDINGS - 2nd Half 2013'!E26)","v":"06  Vance Butterfield / Bob Schleyer"},null,null,null,{"$f":"IF(MAIN!$A$40=FALSE,'STANDINGS - 1st Half 2013'!I26,'STANDINGS - 2nd Half 2013'!I26)","v":30.5},null,null,null,null,null,null,null,null,null,null,"17A",{"$f":"IFERROR(VLOOKUP(V26,'LEAGUE MEMBERSHIP'!$E:$F,2,FALSE),\"\")","v":"Gary Bittner"},null,{"$f":"IFERROR(VLOOKUP(VLOOKUP(V26,'LEAGUE MEMBERSHIP'!$E:$G,3,FALSE),'INDIVIDUAL SCORES'!$A:$P,16,FALSE),\"\")","v":5},null,"17B",{"$f":"IFERROR(VLOOKUP(AA26,'LEAGUE MEMBERSHIP'!$E:$F,2,FALSE),\"\")","v":"Mike Dauphinais"},null,{"$f":"IFERROR(VLOOKUP(VLOOKUP(AA26,'LEAGUE MEMBERSHIP'!$E:$G,3,FALSE),'INDIVIDUAL SCORES'!$A:$P,16,FALSE),\"\")","v":5}]
[null,null,null,null,null,{"$f":"IF(MAIN!$A$40=FALSE,'STANDINGS - 1st Half 2013'!D27,'STANDINGS - 2nd Half 2013'!D27)","v":17},{"$f":"IF(MAIN!$A$40=FALSE,'STANDINGS - 1st Half 2013'!E27,'STANDINGS - 2nd Half 2013'!E27)","v":"18  Norm Gamache / Michelle Bouvier"},null,null,null,{"$f":"IF(MAIN!$A$40=FALSE,'STANDINGS - 1st Half 2013'!I27,'STANDINGS - 2nd Half 2013'!I27)","v":29},null,null,null,null,null,null,null,null,null,null,"18A",{"$f":"IFERROR(VLOOKUP(V27,'LEAGUE MEMBERSHIP'!$E:$F,2,FALSE),\"\")","v":"Norm Gamache"},null,{"$f":"IFERROR(VLOOKUP(VLOOKUP(V27,'LEAGUE MEMBERSHIP'!$E:$G,3,FALSE),'INDIVIDUAL SCORES'!$A:$P,16,FALSE),\"\")","v":8},null,"18B",{"$f":"IFERROR(VLOOKUP(AA27,'LEAGUE MEMBERSHIP'!$E:$F,2,FALSE),\"\")","v":"Michelle Bouvier"},null,{"$f":"IFERROR(VLOOKUP(VLOOKUP(AA27,'LEAGUE MEMBERSHIP'!$E:$G,3,FALSE),'INDIVIDUAL SCORES'!$A:$P,16,FALSE),\"\")","v":22}]
[null,null,null,null,null,{"$f":"IF(MAIN!$A$40=FALSE,'STANDINGS - 1st Half 2013'!D28,'STANDINGS - 2nd Half 2013'!D28)","v":18},{"$f":"IF(MAIN!$A$40=FALSE,'STANDINGS - 1st Half 2013'!E28,'STANDINGS - 2nd Half 2013'!E28)","v":"14  Doug Cormier / Ralph Romano, Jr."},null,null,null,{"$f":"IF(MAIN!$A$40=FALSE,'STANDINGS - 1st Half 2013'!I28,'STANDINGS - 2nd Half 2013'!I28)","v":27.5},null,null,null,null,null,null,null,null,null,null,"19A",{"$f":"IFERROR(VLOOKUP(V28,'LEAGUE MEMBERSHIP'!$E:$F,2,FALSE),\"\")","v":"Gary Leavenworth"},null,{"$f":"IFERROR(VLOOKUP(VLOOKUP(V28,'LEAGUE MEMBERSHIP'!$E:$G,3,FALSE),'INDIVIDUAL SCORES'!$A:$P,16,FALSE),\"\")","v":7},null,"19B",{"$f":"IFERROR(VLOOKUP(AA28,'LEAGUE MEMBERSHIP'!$E:$F,2,FALSE),\"\")","v":"Patty Leavenworth"},null,{"$f":"IFERROR(VLOOKUP(VLOOKUP(AA28,'LEAGUE MEMBERSHIP'!$E:$G,3,FALSE),'INDIVIDUAL SCORES'!$A:$P,16,FALSE),\"\")","v":12}]
[null,null,null,null,null,{"$f":"IF(MAIN!$A$40=FALSE,'STANDINGS - 1st Half 2013'!D29,'STANDINGS - 2nd Half 2013'!D29)","v":19},{"$f":"IF(MAIN!$A$40=FALSE,'STANDINGS - 1st Half 2013'!E29,'STANDINGS - 2nd Half 2013'!E29)","v":"13  Kyle Currier / Walter Drake"},null,null,null,{"$f":"IF(MAIN!$A$40=FALSE,'STANDINGS - 1st Half 2013'!I29,'STANDINGS - 2nd Half 2013'!I29)","v":19.5},null,null,null,null,null,null,null,null,null,null,"20A",{"$f":"IFERROR(VLOOKUP(V29,'LEAGUE MEMBERSHIP'!$E:$F,2,FALSE),\"\")","v":"Paul Fontaine"},null,{"$f":"IFERROR(VLOOKUP(VLOOKUP(V29,'LEAGUE MEMBERSHIP'!$E:$G,3,FALSE),'INDIVIDUAL SCORES'!$A:$P,16,FALSE),\"\")","v":1},null,"20B",{"$f":"IFERROR(VLOOKUP(AA29,'LEAGUE MEMBERSHIP'!$E:$F,2,FALSE),\"\")","v":"Ralph Romano III"},null,{"$f":"IFERROR(VLOOKUP(VLOOKUP(AA29,'LEAGUE MEMBERSHIP'!$E:$G,3,FALSE),'INDIVIDUAL SCORES'!$A:$P,16,FALSE),\"\")","v":10}]
[null,null,null,null,null,{"$f":"IF(MAIN!$A$40=FALSE,'STANDINGS - 1st Half 2013'!D30,'STANDINGS - 2nd Half 2013'!D30)","v":"20T"},{"$f":"IF(MAIN!$A$40=FALSE,'STANDINGS - 1st Half 2013'!E30,'STANDINGS - 2nd Half 2013'!E30)","v":"07  Steve Scapparone / Dave Hyre"},null,null,null,{"$f":"IF(MAIN!$A$40=FALSE,'STANDINGS - 1st Half 2013'!I30,'STANDINGS - 2nd Half 2013'!I30)","v":0}]
[null,null,null,null,null,{"$f":"IF(MAIN!$A$40=FALSE,'STANDINGS - 1st Half 2013'!D31,'STANDINGS - 2nd Half 2013'!D31)","v":"20T"},{"$f":"IF(MAIN!$A$40=FALSE,'STANDINGS - 1st Half 2013'!E31,'STANDINGS - 2nd Half 2013'!E31)","v":"21   / "},null,null,null,{"$f":"IF(MAIN!$A$40=FALSE,'STANDINGS - 1st Half 2013'!I31,'STANDINGS - 2nd Half 2013'!I31)","v":0},null,null,null,null,null,null,null,null,null,null,"Sub1",{"$f":"IFERROR(VLOOKUP(V31,'LEAGUE MEMBERSHIP'!$E:$F,2,FALSE),\"\")","v":"Becky Bartkus"},null,{"$f":"IFERROR(VLOOKUP(VLOOKUP(V31,'LEAGUE MEMBERSHIP'!$E:$G,3,FALSE),'INDIVIDUAL SCORES'!$A:$P,16,FALSE),\"\")","v":9},null,"Sub16",{"$f":"IFERROR(VLOOKUP(AA31,'LEAGUE MEMBERSHIP'!$E:$F,2,FALSE),\"\")","v":"Paul Stedman"},null,{"$f":"IFERROR(VLOOKUP(VLOOKUP(AA31,'LEAGUE MEMBERSHIP'!$E:$G,3,FALSE),'INDIVIDUAL SCORES'!$A:$P,16,FALSE),\"\")","v":4}]
[null,null,null,null,null,{"$f":"IF(MAIN!$A$40=FALSE,'STANDINGS - 1st Half 2013'!D32,'STANDINGS - 2nd Half 2013'!D32)","v":"20T"},{"$f":"IF(MAIN!$A$40=FALSE,'STANDINGS - 1st Half 2013'!E32,'STANDINGS - 2nd Half 2013'!E32)","v":"22  / "},null,null,null,{"$f":"IF(MAIN!$A$40=FALSE,'STANDINGS - 1st Half 2013'!I32,'STANDINGS - 2nd Half 2013'!I32)","v":0},null,null,null,null,null,null,null,null,null,null,"Sub2",{"$f":"IFERROR(VLOOKUP(V32,'LEAGUE MEMBERSHIP'!$E:$F,2,FALSE),\"\")","v":"P.J. Romano"},null,{"$f":"IFERROR(VLOOKUP(VLOOKUP(V32,'LEAGUE MEMBERSHIP'!$E:$G,3,FALSE),'INDIVIDUAL SCORES'!$A:$P,16,FALSE),\"\")","v":7},null,"Sub17",{"$f":"IFERROR(VLOOKUP(AA32,'LEAGUE MEMBERSHIP'!$E:$F,2,FALSE),\"\")","v":"Deb Passios"},null,{"$f":"IFERROR(VLOOKUP(VLOOKUP(AA32,'LEAGUE MEMBERSHIP'!$E:$G,3,FALSE),'INDIVIDUAL SCORES'!$A:$P,16,FALSE),\"\")","v":15}]
[null,null,null,null,null,null,null,null,null,null,null,null,null,null,null,null,null,null,null,null,null,"Sub3",{"$f":"IFERROR(VLOOKUP(V33,'LEAGUE MEMBERSHIP'!$E:$F,2,FALSE),\"\")","v":"Mike Forbes"},null,{"$f":"IFERROR(VLOOKUP(VLOOKUP(V33,'LEAGUE MEMBERSHIP'!$E:$G,3,FALSE),'INDIVIDUAL SCORES'!$A:$P,16,FALSE),\"\")","v":12},null,"Sub18",{"$f":"IFERROR(VLOOKUP(AA33,'LEAGUE MEMBERSHIP'!$E:$F,2,FALSE),\"\")","v":"Joe Pearson"},null,{"$f":"IFERROR(VLOOKUP(VLOOKUP(AA33,'LEAGUE MEMBERSHIP'!$E:$G,3,FALSE),'INDIVIDUAL SCORES'!$A:$P,16,FALSE),\"\")","v":11}]
[null,null,null,null,null,{"$f":"\"    Five Lowest Rounds - Week of \"&TEXT(A41,\"mmm dd, yyyy\")","v":"    Five Lowest Rounds - Week of Aug 28, 2013"},null,null,null,null,null,null,null,null,null,null,null,null,null,null,null,"Sub4",{"$f":"IFERROR(VLOOKUP(V34,'LEAGUE MEMBERSHIP'!$E:$F,2,FALSE),\"\")","v":"Mike Romano"},null,{"$f":"IFERROR(VLOOKUP(VLOOKUP(V34,'LEAGUE MEMBERSHIP'!$E:$G,3,FALSE),'INDIVIDUAL SCORES'!$A:$P,16,FALSE),\"\")","v":14},null,"Sub19",{"$f":"IFERROR(VLOOKUP(AA34,'LEAGUE MEMBERSHIP'!$E:$F,2,FALSE),\"\")","v":"Audrey Henderson"},null,{"$f":"IFERROR(VLOOKUP(VLOOKUP(AA34,'LEAGUE MEMBERSHIP'!$E:$G,3,FALSE),'INDIVIDUAL SCORES'!$A:$P,16,FALSE),\"\")","v":15}]
[null,null,null,null,null,null,null,"      Men",null,null,null,null,"    Women",null,null,null,null,null,null,null,null,"Sub5",{"$f":"IFERROR(VLOOKUP(V35,'LEAGUE MEMBERSHIP'!$E:$F,2,FALSE),\"\")","v":"Jono Normandin"},null,{"$f":"IFERROR(VLOOKUP(VLOOKUP(V35,'LEAGUE MEMBERSHIP'!$E:$G,3,FALSE),'INDIVIDUAL SCORES'!$A:$P,16,FALSE),\"\")","v":5},null,"Sub20",{"$f":"IFERROR(VLOOKUP(AA35,'LEAGUE MEMBERSHIP'!$E:$F,2,FALSE),\"\")","v":"David St. Jean"},null,{"$f":"IFERROR(VLOOKUP(VLOOKUP(AA35,'LEAGUE MEMBERSHIP'!$E:$G,3,FALSE),'INDIVIDUAL SCORES'!$A:$P,16,FALSE),\"\")","v":10}]
[null,null,null,null,null,"Adam Williamson",null,null,37,null,"Deb DeCarolis",null,null,48,null,null,null,null,null,null,null,"Sub6",{"$f":"IFERROR(VLOOKUP(V36,'LEAGUE MEMBERSHIP'!$E:$F,2,FALSE),\"\")","v":"Scott Leavenworth"},null,{"$f":"IFERROR(VLOOKUP(VLOOKUP(V36,'LEAGUE MEMBERSHIP'!$E:$G,3,FALSE),'INDIVIDUAL SCORES'!$A:$P,16,FALSE),\"\")","v":18},null,"Sub21",{"$f":"IFERROR(VLOOKUP(AA36,'LEAGUE MEMBERSHIP'!$E:$F,2,FALSE),\"\")","v":"Dennis St. Jean"},null,{"$f":"IFERROR(VLOOKUP(VLOOKUP(AA36,'LEAGUE MEMBERSHIP'!$E:$G,3,FALSE),'INDIVIDUAL SCORES'!$A:$P,16,FALSE),\"\")","v":7}]
[null,null,null,null,null,"PJ Fontaine",null,null,38,null,"Debbie Sunderland",null,null,49,null,null,{"$f":"\"Closest to the Pin - Week of \"&TEXT(A41,\"mmm dd, yyyy\")","v":"Closest to the Pin - Week of Aug 28, 2013"},null,null,null,null,"Sub7",{"$f":"IFERROR(VLOOKUP(V37,'LEAGUE MEMBERSHIP'!$E:$F,2,FALSE),\"\")","v":"PJ Fontaine"},null,{"$f":"IFERROR(VLOOKUP(VLOOKUP(V37,'LEAGUE MEMBERSHIP'!$E:$G,3,FALSE),'INDIVIDUAL SCORES'!$A:$P,16,FALSE),\"\")","v":3},null,"Sub22",{"$f":"IFERROR(VLOOKUP(AA37,'LEAGUE MEMBERSHIP'!$E:$F,2,FALSE),\"\")","v":"Joe Fratticelli"},null,{"$f":"IFERROR(VLOOKUP(VLOOKUP(AA37,'LEAGUE MEMBERSHIP'!$E:$G,3,FALSE),'INDIVIDUAL SCORES'!$A:$P,16,FALSE),\"\")","v":15}]
[null,null,null,null,null,"Ron Eckstrom",null,null,39,null,"Beth Romano",null,null,51,null,null,"PJ Fontaine   -   8' 1\"",null,null,null,null,"Sub8",{"$f":"IFERROR(VLOOKUP(V38,'LEAGUE MEMBERSHIP'!$E:$F,2,FALSE),\"\")","v":"Yogi DiPasquale"},null,{"$f":"IFERROR(VLOOKUP(VLOOKUP(V38,'LEAGUE MEMBERSHIP'!$E:$G,3,FALSE),'INDIVIDUAL SCORES'!$A:$P,16,FALSE),\"\")","v":7},null,"Sub23",{"$f":"IFERROR(VLOOKUP(AA38,'LEAGUE MEMBERSHIP'!$E:$F,2,FALSE),\"\")","v":"Pete Collette"},null,{"$f":"IFERROR(VLOOKUP(VLOOKUP(AA38,'LEAGUE MEMBERSHIP'!$E:$G,3,FALSE),'INDIVIDUAL SCORES'!$A:$P,16,FALSE),\"\")","v":6}]
[null,null,null,null,null,"Ray Henderson",null,null,40,null,"Lynn Laroche",null,null,53,null,null,null,null,null,null,null,"Sub9",{"$f":"IFERROR(VLOOKUP(V39,'LEAGUE MEMBERSHIP'!$E:$F,2,FALSE),\"\")","v":"Jon Friberg"},null,{"$f":"IFERROR(VLOOKUP(VLOOKUP(V39,'LEAGUE MEMBERSHIP'!$E:$G,3,FALSE),'INDIVIDUAL SCORES'!$A:$P,16,FALSE),\"\")","v":7},null,"Sub24",{"$f":"IFERROR(VLOOKUP(AA39,'LEAGUE MEMBERSHIP'!$E:$F,2,FALSE),\"\")","v":"Shane McCarthy"},null,{"$f":"IFERROR(VLOOKUP(VLOOKUP(AA39,'LEAGUE MEMBERSHIP'!$E:$G,3,FALSE),'INDIVIDUAL SCORES'!$A:$P,16,FALSE),\"\")","v":4}]
[{"$f":"ISNUMBER(MATCH(\"*\"&\"Team\"&\"*\",'MATCH RESULTS - 2nd Half 2013'!$B$15:$R$15,0))","v":true},null,null,null,null,"Joey DeCarolis",null,null,42,null,"Patty Leavenworth",null,null,54,null,null,null,null,null,null,null,"Sub10",{"$f":"IFERROR(VLOOKUP(V40,'LEAGUE MEMBERSHIP'!$E:$F,2,FALSE),\"\")","v":"Jim Hedlund"},null,{"$f":"IFERROR(VLOOKUP(VLOOKUP(V40,'LEAGUE MEMBERSHIP'!$E:$G,3,FALSE),'INDIVIDUAL SCORES'!$A:$P,16,FALSE),\"\")","v":17},null,"Sub25",{"$f":"IFERROR(VLOOKUP(AA40,'LEAGUE MEMBERSHIP'!$E:$F,2,FALSE),\"\")","v":"Brenda Louney"},null,{"$f":"IFERROR(VLOOKUP(VLOOKUP(AA40,'LEAGUE MEMBERSHIP'!$E:$G,3,FALSE),'INDIVIDUAL SCORES'!$A:$P,16,FALSE),\"\")","v":10}]
["2013-08-28",null,null,null,null,null,null,null,null,null,null,null,null,null,null,null,null,null,null,null,null,"Sub11",{"$f":"IFERROR(VLOOKUP(V41,'LEAGUE MEMBERSHIP'!$E:$F,2,FALSE),\"\")","v":"Don Shank"},null,{"$f":"IFERROR(VLOOKUP(VLOOKUP(V41,'LEAGUE MEMBERSHIP'!$E:$G,3,FALSE),'INDIVIDUAL SCORES'!$A:$P,16,FALSE),\"\")","v":4},null,"Sub26",{"$f":"IFERROR(VLOOKUP(AA41,'LEAGUE MEMBERSHIP'!$E:$F,2,FALSE),\"\")","v":"Mark Louney"},null,{"$f":"IFERROR(VLOOKUP(VLOOKUP(AA41,'LEAGUE MEMBERSHIP'!$E:$G,3,FALSE),'INDIVIDUAL SCORES'!$A:$P,16,FALSE),\"\")","v":2}]
[null,null,null,null,null,null,null,null,null,null,null,null,null,null,null,null,null,null,null,null,null,"Sub12",{"$f":"IFERROR(VLOOKUP(V42,'LEAGUE MEMBERSHIP'!$E:$F,2,FALSE),\"\")","v":"Chris Barry"},null,{"$f":"IFERROR(VLOOKUP(VLOOKUP(V42,'LEAGUE MEMBERSHIP'!$E:$G,3,FALSE),'INDIVIDUAL SCORES'!$A:$P,16,FALSE),\"\")","v":11},null,"Sub27",{"$f":"IFERROR(VLOOKUP(AA42,'LEAGUE MEMBERSHIP'!$E:$F,2,FALSE),\"\")","v":"Victor Szewczyk"},null,{"$f":"IFERROR(VLOOKUP(VLOOKUP(AA42,'LEAGUE MEMBERSHIP'!$E:$G,3,FALSE),'INDIVIDUAL SCORES'!$A:$P,16,FALSE),\"\")","v":8}]
[null,null,null,null,null,null,null,null,null,null,null,null,null,null,null,null,null,null,null,null,null,"Sub13",{"$f":"IFERROR(VLOOKUP(V43,'LEAGUE MEMBERSHIP'!$E:$F,2,FALSE),\"\")","v":"Tom Farias"},null,{"$f":"IFERROR(VLOOKUP(VLOOKUP(V43,'LEAGUE MEMBERSHIP'!$E:$G,3,FALSE),'INDIVIDUAL SCORES'!$A:$P,16,FALSE),\"\")","v":2},null,"Sub28",{"$f":"IFERROR(VLOOKUP(AA43,'LEAGUE MEMBERSHIP'!$E:$F,2,FALSE),\"\")","v":"Matt Lee"},null,{"$f":"IFERROR(VLOOKUP(VLOOKUP(AA43,'LEAGUE MEMBERSHIP'!$E:$G,3,FALSE),'INDIVIDUAL SCORES'!$A:$P,16,FALSE),\"\")","v":1}]
[null,null,null,null,null,null,null,null,null,null,null,null,null,null,null,null,null,null,null,null,null,"Sub14",{"$f":"IFERROR(VLOOKUP(V44,'LEAGUE MEMBERSHIP'!$E:$F,2,FALSE),\"\")","v":"Jeff Erskine"},null,{"$f":"IFERROR(VLOOKUP(VLOOKUP(V44,'LEAGUE MEMBERSHIP'!$E:$G,3,FALSE),'INDIVIDUAL SCORES'!$A:$P,16,FALSE),\"\")","v":8},null,"Sub29",{"$f":"IFERROR(VLOOKUP(AA44,'LEAGUE MEMBERSHIP'!$E:$F,2,FALSE),\"\")","v":"Jay Melansom"},null,{"$f":"IFERROR(VLOOKUP(VLOOKUP(AA44,'LEAGUE MEMBERSHIP'!$E:$G,3,FALSE),'INDIVIDUAL SCORES'!$A:$P,16,FALSE),\"\")","v":1}]
[null,null,null,null,null,null,null,null,null,null,null,null,null,null,null,null,null,null,null,null,null,"Sub15",{"$f":"IFERROR(VLOOKUP(V45,'LEAGUE MEMBERSHIP'!$E:$F,2,FALSE),\"\")","v":"Jeff Richard"},null,{"$f":"IFERROR(VLOOKUP(VLOOKUP(V45,'LEAGUE MEMBERSHIP'!$E:$G,3,FALSE),'INDIVIDUAL SCORES'!$A:$P,16,FALSE),\"\")","v":14},null,"Sub30",{"$f":"IFERROR(VLOOKUP(AA45,'LEAGUE MEMBERSHIP'!$E:$F,2,FALSE),\"\")","v":""},null,{"$f":"IFERROR(VLOOKUP(VLOOKUP(AA45,'LEAGUE MEMBERSHIP'!$E:$G,3,FALSE),'INDIVIDUAL SCORES'!$A:$P,16,FALSE),\"\")","v":""}]
[]
[]
[]
[]
[]
[]
[]
[]
[]
[]
[]
[]
[]
[]
[]
[]
[]
[]
[]
[]
[]
[]
[]
[]
[]
[]
[]
[]
[]
[]
[]
[]
[]
[]
[]
[]
[]
[]
[]
[]
[]
[]
[]
[]
[]
[]
[]
[]
[]
[]
[]
[]
[]
[]
["MATCH RESULTS - 2nd Half 2011"]
["MATCH RESULTS - 1st Half 2012"]
["MATCH RESULTS - 2nd Half 2012"]
["MATCH RESULTS - 1st Half 2013"]
["MATCH RESULTS - 2nd Half 2013"]
["POINTS - 1st Half 2011"]
["POINTS - 2nd Half 2011"]
["POINTS - 1st Half 2012"]
["POINTS - 2nd Half 2012"]
["POINTS - 1st Half 2013"]
["POINTS - 2nd Half 2013"]
["STANDINGS - 1st Half 2012"]
["STANDINGS - 2nd Half 2012"]
["STANDINGS - 1st Half 2013"]
["STANDINGS - 2nd Half 2013"]

{"sheet":"LOGIN","index":1,"n_rows":7,"n_cols":1,"rows_kept":7,"cut":false,"hidden":true,"merged":[]}
["UserName/Password"]
[]
["Pete Romano"]
["Gary Bittner"]
[]
["Pete Romano/PRSquare23"]
["Gary Bittner/CaTitude16"]

{"sheet":"LEAGUE RULES","index":2,"n_rows":30,"n_cols":6,"rows_kept":30,"cut":false,"hidden":false,"merged":[]}
[]
[]
[]
[]
[]
[]
[]
[null,null,null,null,null,{"$f":"'COURSE & LEAGUE DETAILS'!$A$23","v":" 1.  USGA and local rules apply."}]
[null,null,null,null,null,{"$f":"'COURSE & LEAGUE DETAILS'!$A$24","v":" 2.  Teams are responsible for being prompt.  Matches should"}]
[null,null,null,null,null,{"$f":"'COURSE & LEAGUE DETAILS'!$A$25","v":"      begin at their specified time.  If the second match following"}]
[null,null,null,null,null,{"$f":"'COURSE & LEAGUE DETAILS'!$A$26","v":"      yours tees off, the team that is missing shall forfeit unless"}]
[null,null,null,null,null,{"$f":"'COURSE & LEAGUE DETAILS'!$A$27","v":"      prior arrangements have been made. (see rule 3)"}]
[null,null,null,null,null,{"$f":"'COURSE & LEAGUE DETAILS'!$A$28","v":" 3.  If a team cannot make a match, it is their responsibility to"}]
[null,null,null,null,null,{"$f":"'COURSE & LEAGUE DETAILS'!$A$29","v":"      make other arrangements with approval of their opponents"}]
[null,null,null,null,null,{"$f":"'COURSE & LEAGUE DETAILS'!$A$30","v":" 4.  One member of the team must be present for the match. "}]
[null,null,null,null,null,{"$f":"'COURSE & LEAGUE DETAILS'!$A$31","v":"      (one substitution is allowed, not two)"}]
[null,null,null,null,null,{"$f":"'COURSE & LEAGUE DETAILS'!$A$32","v":" 5.  Lost ball/quick play rule - all lost balls are played as lateral"}]
[null,null,null,null,null,{"$f":"'COURSE & LEAGUE DETAILS'!$A$33","v":"      hazards.  2 MIN. TIME LIMIT!  Play \"ready golf\"."}]
[null,null,null,null,null,{"$f":"'COURSE & LEAGUE DETAILS'!$A$34","v":" 6.  Handicaps are based on league performance - 80% of the"}]
[null,null,null,null,null,{"$f":"'COURSE & LEAGUE DETAILS'!$A$35","v":"      prior 5 weeks of play is used.  Maximum of one stroke  "}]
[null,null,null,null,null,{"$f":"'COURSE & LEAGUE DETAILS'!$A$36","v":"      given on par 3's, two strokes for par 4's and 5's.  Maximum"}]
[null,null,null,null,null,{"$f":"'COURSE & LEAGUE DETAILS'!$A$37","v":"      golf score per hole for handicap purposes = 2 times par.   "}]
[null,null,null,null,null,{"$f":"'COURSE & LEAGUE DETAILS'!$A$38","v":"      New league members without handicaps were assigned a "}]
[null,null,null,null,null,{"$f":"'COURSE & LEAGUE DETAILS'!$A$39","v":"      ZERO handicap.  As those individuals post scores, the "}]
[null,null,null,null,null,{"$f":"'COURSE & LEAGUE DETAILS'!$A$40","v":"      assigned handicap will be adjusted."}]
[null,null,null,null,null,{"$f":"'COURSE & LEAGUE DETAILS'!$A$41","v":" 7.  Scoring - Best ball, 1 point per hole, halves are 1/2 point. "}]
[null,null,null,null,null,{"$f":"'COURSE & LEAGUE DETAILS'!$A$42","v":" 8.  No opponent - when playing for points with no opponent,"}]
[null,null,null,null,null,{"$f":"'COURSE & LEAGUE DETAILS'!$A$43","v":"      points are awarded as follows: net birdie = 1 point, net par"}]
[null,null,null,null,null,{"$f":"'COURSE & LEAGUE DETAILS'!$A$44","v":"      = 1/2 point."}]
[null,null,null,null,null,{"$f":"'COURSE & LEAGUE DETAILS'!$A$45","v":" 9.   Preferred lies everywhere but HAZARDS."}]

{"sheet":"COURSE & LEAGUE DETAILS","index":3,"n_rows":54,"n_cols":11,"rows_kept":54,"cut":false,"hidden":false,"merged":[]}
[]
["League Name:","Romano Golf League",null,null,"Year:",2013]
["Course Name:","Woods at Westminster"]
["Course Details:"]
["Hole",1,2,3,4,5,6,7,8,9,"OUT"]
["FRONT - Yardage - White",460,275,525,295,345,175,405,145,320,{"$f":"SUM(B6:J6)","v":2945}]
["FRONT - Par - White",5,4,5,4,4,3,4,3,4,{"$f":"SUM(B7:J7)","v":36}]
["FRONT - Mens' Hcp.",5,7,3,9,11,17,1,15,13]
["FRONT - Yardage - Red",375,250,475,255,325,155,375,130,290,{"$f":"SUM(B9:J9)","v":2630}]
["FRONT - Par - Red",5,4,5,4,4,3,5,3,4,{"$f":"SUM(B10:J10)","v":37}]
["FRONT - Womens' Hcp.",5,7,3,9,11,17,1,15,13]
[]
["Hole",10,11,12,13,14,15,16,17,18,"IN"]
["BACK - Yardage - White",345,220,330,435,145,315,130,300,340,{"$f":"SUM(B14:J14)","v":2560}]
["BACK - Par - White",5,4,4,5,3,4,3,4,4,{"$f":"SUM(B15:J15)","v":36}]
["BACK - Mens' Hcp.",6,10,8,4,16,12,18,14,2]
["BACK - Yardage - Red",290,200,205,350,140,290,125,255,280,{"$f":"SUM(B17:J17)","v":2135}]
["BACK - Par - Red",4,4,4,5,3,4,3,4,4,{"$f":"SUM(B18:J18)","v":35}]
["BACK - Womens' Hcp.",4,2,8,6,16,12,18,14,10]
[]
[]
["League Rules:"]
[" 1.  USGA and local rules apply."]
[" 2.  Teams are responsible for being prompt.  Matches should"]
["      begin at their specified time.  If the second match following"]
["      yours tees off, the team that is missing shall forfeit unless"]
["      prior arrangements have been made. (see rule 3)"]
[" 3.  If a team cannot make a match, it is their responsibility to"]
["      make other arrangements with approval of their opponents"]
[" 4.  One member of the team must be present for the match. "]
["      (one substitution is allowed, not two)"]
[" 5.  Lost ball/quick play rule - all lost balls are played as lateral"]
["      hazards.  2 MIN. TIME LIMIT!  Play \"ready golf\"."]
[" 6.  Handicaps are based on league performance - 80% of the"]
["      prior 5 weeks of play is used.  Maximum of one stroke  "]
["      given on par 3's, two strokes for par 4's and 5's.  Maximum"]
["      golf score per hole for handicap purposes = 2 times par.   "]
["      New league members without handicaps were assigned a "]
["      ZERO handicap.  As those individuals post scores, the "]
["      assigned handicap will be adjusted."]
[" 7.  Scoring - Best ball, 1 point per hole, halves are 1/2 point. "]
[" 8.  No opponent - when playing for points with no opponent,"]
["      points are awarded as follows: net birdie = 1 point, net par"]
["      = 1/2 point."]
[" 9.   Preferred lies everywhere but HAZARDS."]
[]
[]
["Scoresheet Footer:"]
[{"$f":"\"To view scores, handicaps, etc., go to http://www.rromano.com and click on the \" & 'COURSE & LEAGUE DETAILS'!B2 & \" \" & 'COURSE & LEAGUE DETAILS'!F2 & \" Spreadsheet\"","v":"To view scores, handicaps, etc., go to http://www.rromano.com and click on the Romano Golf League 2013 Spreadsheet"}]
[]
[]
["Handicap Formula:"]
[]
["Handicaps are calculated by averaging a player's prior 5 weeks scores and taking 80% of the difference between the average score and par.  \nStrokes are given against the player with the lowest handicap in the match, maximum one stroke on par 3's, two strokes on par 4's and 5's.  \nMaximum golf score for handicap purposes = 2 times par."]

{"sheet":"LEAGUE MEMBERSHIP","index":4,"n_rows":135,"n_cols":33,"rows_kept":135,"cut":false,"hidden":false,"merged":[[5,8,5,12],[5,0,5,4]]}
[null,null,null,null,null,null,null,null,null,null,null,null,null,null,null," ",null,null,null,null,null,null,null,null,{"$f":"ROUND(X1/0.8+36,0)","v":36},null,null,null,null,null,{"$f":"\"(\"&LEFT(AA1, 3)&\") \"&RIGHT(LEFT(AA1,6),3)&\"-\"&RIGHT(AA1,4)","v":"() -"},null,9999999999]
[null,null,null,null,null,null,null,null,null,null,null,null,null,null,null,null,null,null,null,null,null,"Next Sub No.",30,null,null,null,{"$f":"VALUE(AA1)","v":0}]
[]
[]
[]
["League Members",null,null,null,null,null,null,null,"Team Rosters"]
["Player ID","Last Name","First Name","M / F","Player/Team No.",null,null,"teamno","Team","Player No.","Name","Player No.","Name"]
["RGL-002","Barry","Chris","M","Sub12",{"$f":"CONCATENATE(C8&\" \"&B8)","v":"Chris Barry"},{"$f":"A8","v":"RGL-002"},{"$f":"IF(B8=\"\",\"\",IF(LEN(E8)=0,$O$12&F8,IF(LEN(E8)=2,E8&$O$11&F8,IF(LEN(E8)=3,E8&$O$10&F8,IF(LEN(E8)=4,E8&$O$9&F8,IF(LEN(E8)=5,E8&$O$8&F8,\"\"))))))","v":"Sub12    Chris Barry"},"Team 1","1A",{"$f":"IF(ISERROR(VLOOKUP(J8,$E$8:$F$107,2,FALSE)),\"\",VLOOKUP(J8,$E$8:$F$107,2,FALSE))","v":"Lester Lockhart"},"1B",{"$f":"IF(ISERROR(VLOOKUP(L8,$E$8:$F$107,2,FALSE)),\"\",VLOOKUP(L8,$E$8:$F$107,2,FALSE))","v":"Pete Normandin"},null,"    "]
["RGL-001","Bartkus","Becky","F","Sub1","Becky Bartkus","RGL-001","Sub1      Becky Bartkus","Team 2","2A","Dave Cormier","2B","Adam Williamson",null,"      "]
["RGL-003","Bittner","Gary","M","17A","Gary Bittner","RGL-003","17A        Gary Bittner","Team 3","3A","Pete Romano","3B","Don Frigoletto",null,"        "]
["RGL-045","Bouvier","Michelle","F","18B","Michelle Bouvier","RGL-045","18B        Michelle Bouvier","Team 4","4A","Peg Romano","4B","Lynn Laroche",null,"          "]
["RGL-006","Butterfield","Vance","M","6A","Vance Butterfield","RGL-006","6A          Vance Butterfield","Team 5","5A","Dennis Normandin","5B","Mark Normandin",null,"              "]
["RGL-005","Cassin","John","M","9B","John Cassin","RGL-005","9B          John Cassin","Team 6","6A","Vance Butterfield","6B","Bob Schleyer"]
["RGL-052","Collette","Pete","M","Sub23","Pete Collette","RGL-052","Sub23    Pete Collette","Team 7","7A","Steve Scapparone","7B","Dave Hyre"]
["RGL-007","Cormier","Dave","M","2A","Dave Cormier","RGL-007","2A          Dave Cormier","Team 8","8A","Mike Sunderland","8B","Debbie Sunderland"]
["RGL-008","Cormier","Doug","M","14A","Doug Cormier","RGL-008","14A        Doug Cormier","Team 9","9A","Mike Doane","9B","John Cassin"]
["RGL-050","Cuifetti","Sal","M","12A","Sal Cuifetti","RGL-050","12A        Sal Cuifetti","Team 10","10A","Ron Eckstrom","10B","Beth Romano"]
["RGL-047","Currier","Kyle","M","13A","Kyle Currier","RGL-047","13A        Kyle Currier","Team 11","11A","Ray Henderson","11B","Zachary Wallace"]
["RGL-009","Dauphinais","Mike","M","17B","Mike Dauphinais","RGL-009","17B        Mike Dauphinais","Team 12","12A","Sal Cuifetti","12B","Paul LeBlanc"]
["RGL-066","DeCarolis","Deb","F","16A","Deb DeCarolis","RGL-066","16A        Deb DeCarolis","Team 13","13A","Kyle Currier","13B","Walter Drake"]
["RGL-043","DeCarolis","Joey","M","16B","Joey DeCarolis","RGL-043","16B        Joey DeCarolis","Team 14","14A","Doug Cormier","14B","Ralph Romano, Jr."]
["RGL-051","DiPasquale","Yogi","M","Sub8","Yogi DiPasquale","RGL-051","Sub8      Yogi DiPasquale","Team 15","15A","Tim Hurley","15B","John Elie"]
["RGL-015","Doane","Mike","M","9A","Mike Doane","RGL-015","9A          Mike Doane","Team 16","16A","Deb DeCarolis","16B","Joey DeCarolis"]
["RGL-010","Drake","Walter","M","13B","Walter Drake","RGL-010","13B        Walter Drake","Team 17","17A","Gary Bittner","17B","Mike Dauphinais"]
["RGL-046","Eckstrom","Ron","M","10A","Ron Eckstrom","RGL-046","10A        Ron Eckstrom","Team 18","18A","Norm Gamache","18B","Michelle Bouvier"]
["RGL-012","Elie","John","M","15B","John Elie","RGL-012","15B        John Elie","Team 19","19A","Gary Leavenworth","19B","Patty Leavenworth"]
["RGL-025","Erskine","Jeff","M","Sub14","Jeff Erskine","RGL-025","Sub14    Jeff Erskine","Team 20","20A","Paul Fontaine","20B","Ralph Romano III"]
["RGL-011","Farias","Tom","M","Sub13","Tom Farias","RGL-011","Sub13    Tom Farias","Team 21","21A","","21B",""]
["RGL-055","Fontaine","Paul","M","20A","Paul Fontaine","RGL-055","20A        Paul Fontaine","Team 22","22A","","22B",""]
["RGL-056","Fontaine","PJ","M","Sub7","PJ Fontaine","RGL-056","Sub7      PJ Fontaine",null,"Sub1",{"$f":"IF(ISERROR(VLOOKUP(J30,$E$8:$F$107,2,FALSE)),\"\",VLOOKUP(J30,$E$8:$F$107,2,FALSE))","v":"Becky Bartkus"}]
["RGL-057","Forbes","Mike","M","Sub3","Mike Forbes","RGL-057","Sub3      Mike Forbes",null,"Sub2","P.J. Romano"]
["RGL-049","Fratticelli","Joe","M","Sub22","Joe Fratticelli","RGL-049","Sub22    Joe Fratticelli",null,"Sub3","Mike Forbes"]
["RGL-013","Friberg","Jon","M","Sub9","Jon Friberg","RGL-013","Sub9      Jon Friberg",null,"Sub4","Mike Romano"]
["RGL-014","Frigoletto","Don","M","3B","Don Frigoletto","RGL-014","3B          Don Frigoletto",null,"Sub5","Jono Normandin"]
["RGL-016","Gamache","Norm","M","18A","Norm Gamache","RGL-016","18A        Norm Gamache",null,"Sub6","Scott Leavenworth"]
["RGL-065","Hedlund","Jim","M","Sub10","Jim Hedlund","RGL-065","Sub10    Jim Hedlund",null,"Sub7","PJ Fontaine"]
["RGL-017","Henderson","Audrey","F","Sub19","Audrey Henderson","RGL-017","Sub19    Audrey Henderson",null,"Sub8",{"$f":"IF(ISERROR(VLOOKUP(J37,$E$8:$F$107,2,FALSE)),\"\",VLOOKUP(J37,$E$8:$F$107,2,FALSE))","v":"Yogi DiPasquale"}]
["RGL-018","Henderson","Ray","M","11A","Ray Henderson","RGL-018","11A        Ray Henderson",null,"Sub9","Jon Friberg",null,{"$f":"IF(ISERROR(VLOOKUP(L38,$E$8:$F$107,2,FALSE)),\"\",VLOOKUP(L38,$E$8:$F$107,2,FALSE))","v":""}]
["RGL-019","Hurley","Tim","M","15A","Tim Hurley","RGL-019","15A        Tim Hurley",null,"Sub10","Jim Hedlund",null,""]
["RGL-020","Hyre","Dave","M","7B",{"$f":"CONCATENATE(C40&\" \"&B40)","v":"Dave Hyre"},{"$f":"A40","v":"RGL-020"},{"$f":"IF(B40=\"\",\"\",IF(LEN(E40)=0,$O$12&F40,IF(LEN(E40)=2,E40&$O$11&F40,IF(LEN(E40)=3,E40&$O$10&F40,IF(LEN(E40)=4,E40&$O$9&F40,IF(LEN(E40)=5,E40&$O$8&F40,\"\"))))))","v":"7B          Dave Hyre"},null,"Sub11","Don Shank",null,""]
["RGL-021","Laroche","Lynn","F","4B","Lynn Laroche","RGL-021","4B          Lynn Laroche",null,"Sub12","Chris Barry",null,""]
["RGL-022","Leavenworth","Gary","M","19A","Gary Leavenworth","RGL-022","19A        Gary Leavenworth",null,"Sub13","Tom Farias",null,""]
["RGL-023","Leavenworth","Patty","F","19B","Patty Leavenworth","RGL-023","19B        Patty Leavenworth",null,"Sub14","Jeff Erskine",null,""]
["RGL-058","Leavenworth","Scott","M","Sub6","Scott Leavenworth","RGL-058","Sub6      Scott Leavenworth",null,"Sub15","Jeff Richard",null,""]
["RGL-031","LeBlanc","Paul","M","12B","Paul LeBlanc","RGL-031","12B        Paul LeBlanc",null,"Sub16","Paul Stedman",null,""]
["RGL-004","Lee","Matt","M","Sub28","Matt Lee","RGL-004","Sub28    Matt Lee",null,"Sub17","Deb Passios",null,""]
["RGL-024","Lockhart","Lester","M","1A","Lester Lockhart","RGL-024","1A          Lester Lockhart",null,"Sub18","Joe Pearson",null,""]
["RGL-067","Louney","Brenda","F","Sub25","Brenda Louney","RGL-067","Sub25    Brenda Louney",null,"Sub19","Audrey Henderson",null,""]
["RGL-068","Louney","Mark","M","Sub26","Mark Louney","RGL-068","Sub26    Mark Louney",null,"Sub20","David St. Jean",null,""]
["RGL-054","McCarthy","Shane","M","Sub24","Shane McCarthy","RGL-054","Sub24    Shane McCarthy",null,"Sub21","Dennis St. Jean",null,""]
["RGL-053","Melansom","Jay","M","Sub29","Jay Melansom","RGL-053","Sub29    Jay Melansom",null,"Sub22","Joe Fratticelli",null,""]
["RGL-026","Normandin","Dennis","M","5A","Dennis Normandin","RGL-026","5A          Dennis Normandin",null,"Sub23","Pete Collette",null,""]
["RGL-059","Normandin","Jono","M","Sub5","Jono Normandin","RGL-059","Sub5      Jono Normandin",null,"Sub24","Shane McCarthy"]
["RGL-027","Normandin","Mark","M","5B","Mark Normandin","RGL-027","5B          Mark Normandin",null,"Sub25","Brenda Louney"]
["RGL-028","Normandin","Pete","M","1B","Pete Normandin","RGL-028","1B          Pete Normandin",null,"Sub26","Mark Louney"]
["RGL-064","Passios","Deb","F","Sub17","Deb Passios","RGL-064","Sub17    Deb Passios",null,"Sub27","Victor Szewczyk"]
["RGL-030","Pearson","Joe","M","Sub18","Joe Pearson","RGL-030","Sub18    Joe Pearson",null,"Sub28","Matt Lee"]
["RGL-042","Richard","Jeff","M","Sub15","Jeff Richard","RGL-042","Sub15    Jeff Richard",null,"Sub29","Jay Melansom"]
["RGL-060","Romano","Beth","F","10B","Beth Romano","RGL-060","10B        Beth Romano",null,"Sub30",""]
["RGL-061","Romano","Mike","M","Sub4","Mike Romano","RGL-061","Sub4      Mike Romano",null,"Course","Course"]
["RGL-062","Romano","P.J.","M","Sub2","P.J. Romano","RGL-062","Sub2      P.J. Romano",null,"DNP","Partner Did Not Play","Sub"]
["RGL-032","Romano","Peg","F","4A","Peg Romano","RGL-032","4A          Peg Romano",null,"Sub1","Becky Bartkus","1A"]
["RGL-033","Romano","Pete","M","3A","Pete Romano","RGL-033","3A          Pete Romano",null,"Sub2","P.J. Romano","1B"]
["RGL-034","Romano III","Ralph","M","20B","Ralph Romano III","RGL-034","20B        Ralph Romano III",null,"Sub3","Mike Forbes","2A"]
["RGL-035","Romano, Jr.","Ralph","M","14B","Ralph Romano, Jr.","RGL-035","14B        Ralph Romano, Jr.",null,"Sub4","Mike Romano","2B"]
["RGL-036","Scapparone","Steve","M","7A","Steve Scapparone","RGL-036","7A          Steve Scapparone",null,"Sub5","Jono Normandin","3A"]
["RGL-037","Schleyer","Bob","M","6B","Bob Schleyer","RGL-037","6B          Bob Schleyer",null,"Sub6","Scott Leavenworth","3B"]
["RGL-041","Shank","Don","M","Sub11","Don Shank","RGL-041","Sub11    Don Shank",null,"Sub7","PJ Fontaine","4A"]
["RGL-038","St. Jean","David","M","Sub20","David St. Jean","RGL-038","Sub20    David St. Jean",null,"Sub8","Yogi DiPasquale","4B"]
["RGL-039","St. Jean","Dennis","M","Sub21","Dennis St. Jean","RGL-039","Sub21    Dennis St. Jean",null,"Sub9","Jon Friberg","5A"]
["RGL-029","Stedman","Paul","M","Sub16","Paul Stedman","RGL-029","Sub16    Paul Stedman",null,"Sub10","Jim Hedlund","5B"]
["RGL-040","Sunderland","Debbie","F","8B","Debbie Sunderland","RGL-040","8B          Debbie Sunderland",null,"Sub11","Don Shank","6A"]
["RGL-063","Sunderland","Mike","M","8A","Mike Sunderland","RGL-063","8A          Mike Sunderland",null,"Sub12","Chris Barry","6B"]
["RGL-069","Szewczyk","Victor","M","Sub27","Victor Szewczyk","RGL-069","Sub27    Victor Szewczyk",null,"Sub13","Tom Farias","7A"]
["RGL-044","Wallace","Zachary","M","11B","Zachary Wallace","RGL-044","11B        Zachary Wallace",null,"Sub14","Jeff Erskine","7B"]
["RGL-048","Williamson","Adam","M","2B","Adam Williamson","RGL-048","2B          Adam Williamson",null,"Sub15","Jeff Richard","8A"]
["RGL-070",null,null,null,null,{"$f":"CONCATENATE(C77&\" \"&B77)","v":" "},{"$f":"A77","v":"RGL-070"},{"$f":"IF(B77=\"\",\"\",IF(LEN(E77)=0,$O$12&F77,IF(LEN(E77)=2,E77&$O$11&F77,IF(LEN(E77)=3,E77&$O$10&F77,IF(LEN(E77)=4,E77&$O$9&F77,IF(LEN(E77)=5,E77&$O$8&F77,\"\"))))))","v":""},null,"Sub16","Paul Stedman","8B"]
["RGL-071",null,null,null,null," ","RGL-071","",null,"Sub17","Deb Passios","9A"]
["RGL-072",null,null,null,null," ","RGL-072","",null,"Sub18","Joe Pearson","9B"]
["RGL-073",null,null,null,null," ","RGL-073","",null,"Sub19","Audrey Henderson","10A"]
["RGL-074",null,null,null,null," ","RGL-074","",null,"Sub20","David St. Jean","10B"]
["RGL-075",null,null,null,null," ","RGL-075","",null,"Sub21","Dennis St. Jean","11A"]
["RGL-076",null,null,null,null," ","RGL-076","",null,"Sub22","Joe Fratticelli","11B"]
["RGL-077",null,null,null,null," ","RGL-077","",null,"Sub23","Pete Collette","12A"]
["RGL-078",null,null,null,null," ","RGL-078","",null,"Sub24","Shane McCarthy","12B"]
["RGL-079",null,null,null,null," ","RGL-079","",null,"Sub25","Brenda Louney","13A"]
["RGL-080",null,null,null,null," ","RGL-080","",null,"Sub26","Mark Louney","13B"]
["RGL-081",null,null,null,null," ","RGL-081","",null,"Sub27","Victor Szewczyk","14A"]
["RGL-082",null,null,null,null," ","RGL-082","",null,"Sub28","Matt Lee","14B"]
["RGL-083",null,null,null,null," ","RGL-083","",null,"Sub29","Jay Melansom","15A"]
["RGL-084",null,null,null,null," ","RGL-084","",null,"Sub30","","15B"]
["RGL-085",null,null,null,null," ","RGL-085","",null,"1A",null,"16A"]
["RGL-086",null,null,null,null," ","RGL-086","",null,"1B",null,"16B"]
["RGL-087",null,null,null,null," ","RGL-087","",null,"2A",null,"17A"]
["RGL-088",null,null,null,null," ","RGL-088","",null,"2B",null,"17B"]
["RGL-089",null,null,null,null," ","RGL-089","",null,"3A",null,"18A"]
["RGL-090",null,null,null,null," ","RGL-090","",null,"3B",null,"18B"]
["RGL-091",null,null,null,null," ","RGL-091","",null,"4A",null,"19A"]
["RGL-092",null,null,null,null," ","RGL-092","",null,"4B",null,"19B"]
["RGL-093",null,null,null,null," ","RGL-093","",null,"5A",null,"20A"]
["RGL-094",null,null,null,null," ","RGL-094","",null,"5B",null,"20B"]
["RGL-095",null,null,null,null," ","RGL-095","",null,"6A",null,"21A"]
["RGL-096",null,null,null,null," ","RGL-096","",null,"6B",null,"21B"]
["RGL-097",null,null,null,null," ","RGL-097","",null,"7A",null,"22A"]
["RGL-098",null,null,null,null," ","RGL-098","",null,"7B",null,"22B"]
["RGL-099","Course",null,null,"Course",{"$f":"B106","v":"Course"},{"$f":"A106","v":"RGL-099"},null,null,"8A"]
["RGL-100","Partner Did Not Play",null,null,"DNP",{"$f":"B107","v":"Partner Did Not Play"},"RGL-100",null,null,"8B"]
[null,{"$f":"COUNTA(B8:B105)","v":69},null,null,null,null,0,null,null,"9A"]
[null,null,null,null,null,null,null,null,null,"9B"]
[null,null,null,null,null,null,null,null,null,"10A"]
[null,null,null,null,null,null,null,null,null,"10B"]
[null,null,null,null,null,null,null,null,null,"11A"]
[null,null,null,null,null,null,null,null,null,"11B"]
[null,null,null,null,null,null,null,null,null,"12A"]
[null,null,null,null,null,null,null,null,null,"12B"]
[null,null,null,null,null,null,null,null,null,"13A"]
[null,null,null,null,null,null,null,null,null,"13B"]
[null,null,null,null,null,null,null,null,null,"14A"]
[null,null,null,null,null,null,null,null,null,"14B"]
[null,null,null,null,null,null,null,null,null,"15A"]
[null,null,null,null,null,null,null,null,null,"15B"]
[null,null,null,null,null,null,null,null,null,"16A"]
[null,null,null,null,null,null,null,null,null,"16B"]
[null,null,null,null,null,null,null,null,null,"17A"]
[null,null,null,null,null,null,null,null,null,"17B"]
[null,null,null,null,null,null,null,null,null,"18A"]
[null,null,null,null,null,null,null,null,null,"18B"]
[null,null,null,null,null,null,null,null,null,"19A"]
[null,null,null,null,null,null,null,null,null,"19B"]
[null,null,null,null,null,null,null,null,null,"20A"]
[null,null,null,null,null,null,null,null,null,"20B"]
[null,null,null,null,null,null,null,null,null,"21A"]
[null,null,null,null,null,null,null,null,null,"21B"]
[null,null,null,null,null,null,null,null,null,"22A"]
[null,null,null,null,null,null,null,null,null,"22B"]

{"sheet":"PRINT","index":5,"n_rows":47,"n_cols":16,"rows_kept":47,"cut":false,"hidden":false,"merged":[[27,15,27,18],[28,15,28,18],[29,15,29,18],[30,15,30,18],[21,15,21,18],[22,15,22,18],[23,15,23,18],[24,15,24,18],[25,15,25,18],[26,15,26,18],[20,15,20,18],[8,2,8,12],[9,15,9,18],[10,15,10,18],[11,15,11,18],[12,15,12,18],[8,14,8,18],[14,15,14,18],[15,15,15,18],[16,15,16,18],[17,15,17,18],[18,15,18,18],[19,15,19,18]]}
[]
[]
[]
[]
[]
[]
[]
[]
[null,null,{"$f":"SCHEDULE!C10","v":"Schedule - Second Half 2013"},null,null,null,null,null,null,null,null,null,null,null,"Team Members"]
[null,null,{"$f":"SCHEDULE!C11","v":"Week"},{"$f":"SCHEDULE!D11","v":"Week 1"},{"$f":"SCHEDULE!E11","v":"Week 2"},{"$f":"SCHEDULE!F11","v":"Week 3"},{"$f":"SCHEDULE!G11","v":"Week 4"},{"$f":"SCHEDULE!H11","v":"Week 5"},{"$f":"SCHEDULE!I11","v":"Week 6"},{"$f":"SCHEDULE!J11","v":"Week 7"},{"$f":"SCHEDULE!K11","v":"Week 8"},{"$f":"SCHEDULE!L11","v":"Week 9"},{"$f":"SCHEDULE!M11","v":""},null,"Team 1",{"$f":"VLOOKUP(O10,'LEAGUE MEMBERSHIP'!$I:$M,3,FALSE)&\" / \"&VLOOKUP(O10,'LEAGUE MEMBERSHIP'!$I:$M,5,FALSE)","v":"Lester Lockhart / Pete Normandin"}]
[null,null,{"$f":"SCHEDULE!C12","v":"Date"},{"$f":"SCHEDULE!D12","v":"2013-07-03"},{"$f":"SCHEDULE!E12","v":"2013-07-10"},{"$f":"SCHEDULE!F12","v":"2013-07-17"},{"$f":"SCHEDULE!G12","v":"2013-07-24"},{"$f":"SCHEDULE!H12","v":"2013-07-31"},{"$f":"SCHEDULE!I12","v":"2013-08-07"},{"$f":"SCHEDULE!J12","v":"2013-08-14"},{"$f":"SCHEDULE!K12","v":"2013-08-21"},{"$f":"SCHEDULE!L12","v":"2013-08-28"},{"$f":"SCHEDULE!M12","v":""},null,"Team 2",{"$f":"VLOOKUP(O11,'LEAGUE MEMBERSHIP'!$I:$M,3,FALSE)&\" / \"&VLOOKUP(O11,'LEAGUE MEMBERSHIP'!$I:$M,5,FALSE)","v":"Dave Cormier / Adam Williamson"}]
[null,null,{"$f":"SCHEDULE!C13","v":"Side"},{"$f":"SCHEDULE!D13","v":"FRONT"},{"$f":"SCHEDULE!E13","v":"BACK"},{"$f":"SCHEDULE!F13","v":"FRONT"},{"$f":"SCHEDULE!G13","v":"BACK"},{"$f":"SCHEDULE!H13","v":"FRONT"},{"$f":"SCHEDULE!I13","v":"BACK"},{"$f":"SCHEDULE!J13","v":"FRONT"},{"$f":"SCHEDULE!K13","v":"BACK"},{"$f":"SCHEDULE!L13","v":"FRONT"},{"$f":"SCHEDULE!M13","v":""},null,"Team 3",{"$f":"VLOOKUP(O12,'LEAGUE MEMBERSHIP'!$I:$M,3,FALSE)&\" / \"&VLOOKUP(O12,'LEAGUE MEMBERSHIP'!$I:$M,5,FALSE)","v":"Pete Romano / Don Frigoletto"}]
[null,null,{"$f":"SCHEDULE!C14","v":"Tee Time"},null,null,null,null,null,null,null,null,null,null,null,"Team 4",{"$f":"VLOOKUP(O13,'LEAGUE MEMBERSHIP'!$I:$M,3,FALSE)&\" / \"&VLOOKUP(O13,'LEAGUE MEMBERSHIP'!$I:$M,5,FALSE)","v":"Peg Romano / Lynn Laroche"}]
[null,null,{"$f":"SCHEDULE!C15","v":"All"},null,null,null,null,null,null,null,null,null,null,null,"Team 5",{"$f":"VLOOKUP(O14,'LEAGUE MEMBERSHIP'!$I:$M,3,FALSE)&\" / \"&VLOOKUP(O14,'LEAGUE MEMBERSHIP'!$I:$M,5,FALSE)","v":"Dennis Normandin / Mark Normandin"}]
[null,null,{"$f":"SCHEDULE!C16","v":"4:00"},{"$f":"SCHEDULE!D16","v":"11 v 2"},{"$f":"SCHEDULE!E16","v":"12 v 5"},{"$f":"SCHEDULE!F16","v":"1 v 18"},{"$f":"SCHEDULE!G16","v":"14 v 20"},{"$f":"SCHEDULE!H16","v":"15 v 17"},{"$f":"SCHEDULE!I16","v":"14 v 16"},{"$f":"SCHEDULE!J16","v":"5 v 10"},{"$f":"SCHEDULE!K16","v":"7 v 10"},{"$f":"SCHEDULE!L16","v":"4 v 16"},{"$f":"SCHEDULE!M16","v":""},null,"Team 6",{"$f":"VLOOKUP(O15,'LEAGUE MEMBERSHIP'!$I:$M,3,FALSE)&\" / \"&VLOOKUP(O15,'LEAGUE MEMBERSHIP'!$I:$M,5,FALSE)","v":"Vance Butterfield / Bob Schleyer"}]
[null,null,{"$f":"SCHEDULE!C17","v":"4:08"},{"$f":"SCHEDULE!D17","v":"16 v 7"},{"$f":"SCHEDULE!E17","v":"18 v 20"},{"$f":"SCHEDULE!F17","v":"14 v 9"},{"$f":"SCHEDULE!G17","v":"3 v 6"},{"$f":"SCHEDULE!H17","v":"5 v 6"},{"$f":"SCHEDULE!I17","v":"13 v 17"},{"$f":"SCHEDULE!J17","v":"11 v 17"},{"$f":"SCHEDULE!K17","v":"8 v 9"},{"$f":"SCHEDULE!L17","v":"8 v 20"},{"$f":"SCHEDULE!M17","v":""},null,"Team 7",{"$f":"VLOOKUP(O16,'LEAGUE MEMBERSHIP'!$I:$M,3,FALSE)&\" / \"&VLOOKUP(O16,'LEAGUE MEMBERSHIP'!$I:$M,5,FALSE)","v":"Steve Scapparone / Dave Hyre"}]
[null,null,{"$f":"SCHEDULE!C18","v":"4:16"},{"$f":"SCHEDULE!D18","v":"17 v 8"},{"$f":"SCHEDULE!E18","v":"16 v 9"},{"$f":"SCHEDULE!F18","v":"16 v 20"},{"$f":"SCHEDULE!G18","v":"2 v 7"},{"$f":"SCHEDULE!H18","v":"1 v 16"},{"$f":"SCHEDULE!I18","v":"4 v 9"},{"$f":"SCHEDULE!J18","v":"1 v 14"},{"$f":"SCHEDULE!K18","v":"6 v 20"},{"$f":"SCHEDULE!L18","v":"1 v 12"},{"$f":"SCHEDULE!M18","v":""},null,"Team 8",{"$f":"VLOOKUP(O17,'LEAGUE MEMBERSHIP'!$I:$M,3,FALSE)&\" / \"&VLOOKUP(O17,'LEAGUE MEMBERSHIP'!$I:$M,5,FALSE)","v":"Mike Sunderland / Debbie Sunderland"}]
[null,null,{"$f":"SCHEDULE!C19","v":"4:24"},{"$f":"SCHEDULE!D19","v":"12 v 3"},{"$f":"SCHEDULE!E19","v":"11 v 4"},{"$f":"SCHEDULE!F19","v":"11 v 6"},{"$f":"SCHEDULE!G19","v":"11 v 8"},{"$f":"SCHEDULE!H19","v":"11 v 10"},{"$f":"SCHEDULE!I19","v":"2 v 20"},{"$f":"SCHEDULE!J19","v":"7 v 8"},{"$f":"SCHEDULE!K19","v":"11 v 15"},{"$f":"SCHEDULE!L19","v":"2 v 14"},{"$f":"SCHEDULE!M19","v":""},null,"Team 9",{"$f":"VLOOKUP(O18,'LEAGUE MEMBERSHIP'!$I:$M,3,FALSE)&\" / \"&VLOOKUP(O18,'LEAGUE MEMBERSHIP'!$I:$M,5,FALSE)","v":"Mike Doane / John Cassin"}]
[null,null,{"$f":"SCHEDULE!C20","v":"4:32"},{"$f":"SCHEDULE!D20","v":"14 v 5"},{"$f":"SCHEDULE!E20","v":"14 v 7"},{"$f":"SCHEDULE!F20","v":"3 v 4"},{"$f":"SCHEDULE!G20","v":"13 v 10"},{"$f":"SCHEDULE!H20","v":"2 v 9"},{"$f":"SCHEDULE!I20","v":"5 v 8"},{"$f":"SCHEDULE!J20","v":"13 v 15"},{"$f":"SCHEDULE!K20","v":"5 v 19"},{"$f":"SCHEDULE!L20","v":"5 v 17"},{"$f":"SCHEDULE!M20","v":""},null,"Team 10",{"$f":"VLOOKUP(O19,'LEAGUE MEMBERSHIP'!$I:$M,3,FALSE)&\" / \"&VLOOKUP(O19,'LEAGUE MEMBERSHIP'!$I:$M,5,FALSE)","v":"Ron Eckstrom / Beth Romano"}]
[null,null,{"$f":"SCHEDULE!C21","v":"4:40"},{"$f":"SCHEDULE!D21","v":"13 v 4"},{"$f":"SCHEDULE!E21","v":"13 v 6"},{"$f":"SCHEDULE!F21","v":"17 v 19"},{"$f":"SCHEDULE!G21","v":"16 v 18"},{"$f":"SCHEDULE!H21","v":"12 v 20"},{"$f":"SCHEDULE!I21","v":"3 v 10"},{"$f":"SCHEDULE!J21","v":"3 v 19"},{"$f":"SCHEDULE!K21","v":"3 v 17"},{"$f":"SCHEDULE!L21","v":"3 v 15"},{"$f":"SCHEDULE!M21","v":""},null,"Team 11",{"$f":"VLOOKUP(O20,'LEAGUE MEMBERSHIP'!$I:$M,3,FALSE)&\" / \"&VLOOKUP(O20,'LEAGUE MEMBERSHIP'!$I:$M,5,FALSE)","v":"Ray Henderson / Zachary Wallace"}]
[null,null,{"$f":"SCHEDULE!C22","v":"4:48"},{"$f":"SCHEDULE!D22","v":"1 v 20"},{"$f":"SCHEDULE!E22","v":"2 v 3"},{"$f":"SCHEDULE!F22","v":"15 v 10"},{"$f":"SCHEDULE!G22","v":"1 v 17"},{"$f":"SCHEDULE!H22","v":"3 v 8"},{"$f":"SCHEDULE!I22","v":"11 v 19"},{"$f":"SCHEDULE!J22","v":"6 v 9"},{"$f":"SCHEDULE!K22","v":"4 v 18"},{"$f":"SCHEDULE!L22","v":"9 v 10"},{"$f":"SCHEDULE!M22","v":""},null,"Team 12",{"$f":"VLOOKUP(O21,'LEAGUE MEMBERSHIP'!$I:$M,3,FALSE)&\" / \"&VLOOKUP(O21,'LEAGUE MEMBERSHIP'!$I:$M,5,FALSE)","v":"Sal Cuifetti / Paul LeBlanc"}]
[null,null,{"$f":"SCHEDULE!C23","v":"4:56"},{"$f":"SCHEDULE!D23","v":"18 v 9"},{"$f":"SCHEDULE!E23","v":"15 v 8"},{"$f":"SCHEDULE!F23","v":"2 v 5"},{"$f":"SCHEDULE!G23","v":"4 v 5"},{"$f":"SCHEDULE!H23","v":"14 v 18"},{"$f":"SCHEDULE!I23","v":"6 v 7"},{"$f":"SCHEDULE!J23","v":"4 v 20"},{"$f":"SCHEDULE!K23","v":"2 v 16"},{"$f":"SCHEDULE!L23","v":"7 v 19"},{"$f":"SCHEDULE!M23","v":""},null,"Team 13",{"$f":"VLOOKUP(O22,'LEAGUE MEMBERSHIP'!$I:$M,3,FALSE)&\" / \"&VLOOKUP(O22,'LEAGUE MEMBERSHIP'!$I:$M,5,FALSE)","v":"Kyle Currier / Walter Drake"}]
[null,null,{"$f":"SCHEDULE!C24","v":"5:04"},{"$f":"SCHEDULE!D24","v":"19 v 10"},{"$f":"SCHEDULE!E24","v":"1 v 19"},{"$f":"SCHEDULE!F24","v":"13 v 8"},{"$f":"SCHEDULE!G24","v":"15 v 19"},{"$f":"SCHEDULE!H24","v":"4 v 7"},{"$f":"SCHEDULE!I24","v":"12 v 18"},{"$f":"SCHEDULE!J24","v":"2 v 18"},{"$f":"SCHEDULE!K24","v":"1 v 13"},{"$f":"SCHEDULE!L24","v":"11 v 13"},{"$f":"SCHEDULE!M24","v":""},null,"Team 14",{"$f":"VLOOKUP(O23,'LEAGUE MEMBERSHIP'!$I:$M,3,FALSE)&\" / \"&VLOOKUP(O23,'LEAGUE MEMBERSHIP'!$I:$M,5,FALSE)","v":"Doug Cormier / Ralph Romano, Jr."}]
[null,null,{"$f":"SCHEDULE!C25","v":"5:12"},{"$f":"SCHEDULE!D25","v":"15 v 6"},{"$f":"SCHEDULE!E25","v":"17 v 10"},{"$f":"SCHEDULE!F25","v":"12 v 7"},{"$f":"SCHEDULE!G25","v":"12 v 9"},{"$f":"SCHEDULE!H25","v":"13 v 19"},{"$f":"SCHEDULE!I25","v":"1 v 15"},{"$f":"SCHEDULE!J25","v":"12 v 16"},{"$f":"SCHEDULE!K25","v":"12 v 14"},{"$f":"SCHEDULE!L25","v":"6 v 18"},{"$f":"SCHEDULE!M25","v":""},null,"Team 15",{"$f":"VLOOKUP(O24,'LEAGUE MEMBERSHIP'!$I:$M,3,FALSE)&\" / \"&VLOOKUP(O24,'LEAGUE MEMBERSHIP'!$I:$M,5,FALSE)","v":"Tim Hurley / John Elie"}]
[null,null,{"$f":"SCHEDULE!C26","v":""},{"$f":"SCHEDULE!D26","v":""},{"$f":"SCHEDULE!E26","v":""},{"$f":"SCHEDULE!F26","v":""},{"$f":"SCHEDULE!G26","v":""},{"$f":"SCHEDULE!H26","v":""},{"$f":"SCHEDULE!I26","v":""},{"$f":"SCHEDULE!J26","v":""},{"$f":"SCHEDULE!K26","v":""},{"$f":"SCHEDULE!L26","v":""},{"$f":"SCHEDULE!M26","v":""},null,"Team 16",{"$f":"VLOOKUP(O25,'LEAGUE MEMBERSHIP'!$I:$M,3,FALSE)&\" / \"&VLOOKUP(O25,'LEAGUE MEMBERSHIP'!$I:$M,5,FALSE)","v":"Deb DeCarolis / Joey DeCarolis"}]
[null,null,{"$f":"SCHEDULE!C27","v":"Closest to Pin"},{"$f":"SCHEDULE!D27","v":8},{"$f":"SCHEDULE!E27","v":16},{"$f":"SCHEDULE!F27","v":6},{"$f":"SCHEDULE!G27","v":14},{"$f":"SCHEDULE!H27","v":8},{"$f":"SCHEDULE!I27","v":16},{"$f":"SCHEDULE!J27","v":6},{"$f":"SCHEDULE!K27","v":14},{"$f":"SCHEDULE!L27","v":8},{"$f":"SCHEDULE!M27","v":""},null,"Team 17",{"$f":"VLOOKUP(O26,'LEAGUE MEMBERSHIP'!$I:$M,3,FALSE)&\" / \"&VLOOKUP(O26,'LEAGUE MEMBERSHIP'!$I:$M,5,FALSE)","v":"Gary Bittner / Mike Dauphinais"}]
[null,null,null,null,null,null,null,null,null,null,null,null,null,null,"Team 18",{"$f":"VLOOKUP(O27,'LEAGUE MEMBERSHIP'!$I:$M,3,FALSE)&\" / \"&VLOOKUP(O27,'LEAGUE MEMBERSHIP'!$I:$M,5,FALSE)","v":"Norm Gamache / Michelle Bouvier"}]
[null,null,null,null,null,"Week 7",null,null,null,null,null,null,null,null,"Team 19",{"$f":"VLOOKUP(O28,'LEAGUE MEMBERSHIP'!$I:$M,3,FALSE)&\" / \"&VLOOKUP(O28,'LEAGUE MEMBERSHIP'!$I:$M,5,FALSE)","v":"Gary Leavenworth / Patty Leavenworth"}]
[null,null,null,null,null,null,null,null,null,null,null,null,null,null,"Team 20",{"$f":"VLOOKUP(O29,'LEAGUE MEMBERSHIP'!$I:$M,3,FALSE)&\" / \"&VLOOKUP(O29,'LEAGUE MEMBERSHIP'!$I:$M,5,FALSE)","v":"Paul Fontaine / Ralph Romano III"}]
[null,null,null,null,null,null,null,null,null,null,null,null,null,null,"Team 21",{"$f":"VLOOKUP(O30,'LEAGUE MEMBERSHIP'!$I:$M,3,FALSE)&\" / \"&VLOOKUP(O30,'LEAGUE MEMBERSHIP'!$I:$M,5,FALSE)","v":" / "}]
[null,null,null,null,null,"4:00",null,null,null,null,null,null,null,null,"Team 22",{"$f":"VLOOKUP(O31,'LEAGUE MEMBERSHIP'!$I:$M,3,FALSE)&\" / \"&VLOOKUP(O31,'LEAGUE MEMBERSHIP'!$I:$M,5,FALSE)","v":" / "}]
[]
[]
[]
[{"$f":"D10","v":"Week 1"},"4 v 14",{"$f":"IF(FIND(\" v\",B35)=2,LEFT(B35,1),LEFT(B35,2))","v":"4"},{"$f":"RIGHT(B35,LEN(B35)-FIND(\"v \",B35)-1)","v":"14"},{"$f":"\"Team \"&C35","v":"Team 4"},{"$f":"\"Team \"&D35","v":"Team 14"},{"$f":"VLOOKUP(E35,'LEAGUE MEMBERSHIP'!$I:$M,3,FALSE)&\" / \"&VLOOKUP(E35,'LEAGUE MEMBERSHIP'!$I:$M,5,FALSE)","v":"Peg Romano / Lynn Laroche"},null,null,{"$f":"VLOOKUP(F35,'LEAGUE MEMBERSHIP'!$I:$M,3,FALSE)&\" / \"&VLOOKUP(F35,'LEAGUE MEMBERSHIP'!$I:$M,5,FALSE)","v":"Doug Cormier / Ralph Romano, Jr."},null,null,{"$f":"E35&\" (\"&G35&\") v \"&F35&\" (\"&J35&\")\"","v":"Team 4 (Peg Romano / Lynn Laroche) v Team 14 (Doug Cormier / Ralph Romano, Jr.)"}]
[{"$f":"E10","v":"Week 2"},"5 v 15",{"$f":"IF(FIND(\" v\",B36)=2,LEFT(B36,1),LEFT(B36,2))","v":"5"},{"$f":"RIGHT(B36,LEN(B36)-FIND(\"v \",B36)-1)","v":"15"},{"$f":"\"Team \"&C36","v":"Team 5"},"Team 15",{"$f":"VLOOKUP(E36,'LEAGUE MEMBERSHIP'!$I:$M,3,FALSE)&\" / \"&VLOOKUP(E36,'LEAGUE MEMBERSHIP'!$I:$M,5,FALSE)","v":"Dennis Normandin / Mark Normandin"},null,null,{"$f":"VLOOKUP(F36,'LEAGUE MEMBERSHIP'!$I:$M,3,FALSE)&\" / \"&VLOOKUP(F36,'LEAGUE MEMBERSHIP'!$I:$M,5,FALSE)","v":"Tim Hurley / John Elie"},null,null,{"$f":"E36&\" (\"&G36&\") v \"&F36&\" (\"&J36&\")\"","v":"Team 5 (Dennis Normandin / Mark Normandin) v Team 15 (Tim Hurley / John Elie)"}]
[{"$f":"F10","v":"Week 3"},"1 v 11","1","11","Team 1","Team 11",{"$f":"VLOOKUP(E37,'LEAGUE MEMBERSHIP'!$I:$M,3,FALSE)&\" / \"&VLOOKUP(E37,'LEAGUE MEMBERSHIP'!$I:$M,5,FALSE)","v":"Lester Lockhart / Pete Normandin"},null,null,{"$f":"VLOOKUP(F37,'LEAGUE MEMBERSHIP'!$I:$M,3,FALSE)&\" / \"&VLOOKUP(F37,'LEAGUE MEMBERSHIP'!$I:$M,5,FALSE)","v":"Ray Henderson / Zachary Wallace"},null,null,"Team 1 (Lester Lockhart / Pete Normandin) v Team 11 (Ray Henderson / Zachary Wallace)"]
[{"$f":"G10","v":"Week 4"},"3 v 13","3","13","Team 3","Team 13",{"$f":"VLOOKUP(E38,'LEAGUE MEMBERSHIP'!$I:$M,3,FALSE)&\" / \"&VLOOKUP(E38,'LEAGUE MEMBERSHIP'!$I:$M,5,FALSE)","v":"Pete Romano / Don Frigoletto"},null,null,{"$f":"VLOOKUP(F38,'LEAGUE MEMBERSHIP'!$I:$M,3,FALSE)&\" / \"&VLOOKUP(F38,'LEAGUE MEMBERSHIP'!$I:$M,5,FALSE)","v":"Kyle Currier / Walter Drake"},null,null,"Team 3 (Pete Romano / Don Frigoletto) v Team 13 (Kyle Currier / Walter Drake)"]
[{"$f":"H10","v":"Week 5"},"7 v 17","7","17","Team 7","Team 17",{"$f":"VLOOKUP(E39,'LEAGUE MEMBERSHIP'!$I:$M,3,FALSE)&\" / \"&VLOOKUP(E39,'LEAGUE MEMBERSHIP'!$I:$M,5,FALSE)","v":"Steve Scapparone / Dave Hyre"},null,null,{"$f":"VLOOKUP(F39,'LEAGUE MEMBERSHIP'!$I:$M,3,FALSE)&\" / \"&VLOOKUP(F39,'LEAGUE MEMBERSHIP'!$I:$M,5,FALSE)","v":"Gary Bittner / Mike Dauphinais"},null,null,"Team 7 (Steve Scapparone / Dave Hyre) v Team 17 (Gary Bittner / Mike Dauphinais)"]
[{"$f":"I10","v":"Week 6"},"8 v 18","8","18","Team 8","Team 18",{"$f":"VLOOKUP(E40,'LEAGUE MEMBERSHIP'!$I:$M,3,FALSE)&\" / \"&VLOOKUP(E40,'LEAGUE MEMBERSHIP'!$I:$M,5,FALSE)","v":"Mike Sunderland / Debbie Sunderland"},null,null,{"$f":"VLOOKUP(F40,'LEAGUE MEMBERSHIP'!$I:$M,3,FALSE)&\" / \"&VLOOKUP(F40,'LEAGUE MEMBERSHIP'!$I:$M,5,FALSE)","v":"Norm Gamache / Michelle Bouvier"},null,null,"Team 8 (Mike Sunderland / Debbie Sunderland) v Team 18 (Norm Gamache / Michelle Bouvier)"]
[{"$f":"J10","v":"Week 7"},"9 v 19","9","19","Team 9","Team 19",{"$f":"VLOOKUP(E41,'LEAGUE MEMBERSHIP'!$I:$M,3,FALSE)&\" / \"&VLOOKUP(E41,'LEAGUE MEMBERSHIP'!$I:$M,5,FALSE)","v":"Mike Doane / John Cassin"},null,null,{"$f":"VLOOKUP(F41,'LEAGUE MEMBERSHIP'!$I:$M,3,FALSE)&\" / \"&VLOOKUP(F41,'LEAGUE MEMBERSHIP'!$I:$M,5,FALSE)","v":"Gary Leavenworth / Patty Leavenworth"},null,null,"Team 9 (Mike Doane / John Cassin) v Team 19 (Gary Leavenworth / Patty Leavenworth)"]
[{"$f":"K10","v":"Week 8"},"2 v 12",{"$f":"IFERROR(IF(FIND(\" v\",B42)=2,LEFT(B42,1),LEFT(B42,2)),\"\")","v":"2"},{"$f":"IFERROR(RIGHT(B42,LEN(B42)-FIND(\"v \",B42)-1),\"\")","v":"12"},{"$f":"IF(C42<>\"\",\"Team \"&C42,\"\")","v":"Team 2"},{"$f":"IF(D42<>\"\",\"Team \"&D42,\"\")","v":"Team 12"},{"$f":"IFERROR(VLOOKUP(E42,'LEAGUE MEMBERSHIP'!$I:$M,3,FALSE)&\" / \"&VLOOKUP(E42,'LEAGUE MEMBERSHIP'!$I:$M,5,FALSE),\"\")","v":"Dave Cormier / Adam Williamson"},null,null,{"$f":"IFERROR(VLOOKUP(F42,'LEAGUE MEMBERSHIP'!$I:$M,3,FALSE)&\" / \"&VLOOKUP(F42,'LEAGUE MEMBERSHIP'!$I:$M,5,FALSE),\"\")","v":"Sal Cuifetti / Paul LeBlanc"},null,null,{"$f":"IF(B42<>\"\",E42&\" (\"&G42&\") v \"&F42&\" (\"&J42&\")\",\"\")","v":"Team 2 (Dave Cormier / Adam Williamson) v Team 12 (Sal Cuifetti / Paul LeBlanc)"}]
[{"$f":"L10","v":"Week 9"},"6 v 16",{"$f":"IFERROR(IF(FIND(\" v\",B43)=2,LEFT(B43,1),LEFT(B43,2)),\"\")","v":"6"},{"$f":"IFERROR(RIGHT(B43,LEN(B43)-FIND(\"v \",B43)-1),\"\")","v":"16"},{"$f":"IF(C43<>\"\",\"Team \"&C43,\"\")","v":"Team 6"},{"$f":"IF(D43<>\"\",\"Team \"&D43,\"\")","v":"Team 16"},{"$f":"IFERROR(VLOOKUP(E43,'LEAGUE MEMBERSHIP'!$I:$M,3,FALSE)&\" / \"&VLOOKUP(E43,'LEAGUE MEMBERSHIP'!$I:$M,5,FALSE),\"\")","v":"Vance Butterfield / Bob Schleyer"},null,null,{"$f":"IFERROR(VLOOKUP(F43,'LEAGUE MEMBERSHIP'!$I:$M,3,FALSE)&\" / \"&VLOOKUP(F43,'LEAGUE MEMBERSHIP'!$I:$M,5,FALSE),\"\")","v":"Deb DeCarolis / Joey DeCarolis"},null,null,{"$f":"IF(B43<>\"\",E43&\" (\"&G43&\") v \"&F43&\" (\"&J43&\")\",\"\")","v":"Team 6 (Vance Butterfield / Bob Schleyer) v Team 16 (Deb DeCarolis / Joey DeCarolis)"}]
[{"$f":"M10","v":""},"10 v 20",{"$f":"IFERROR(IF(FIND(\" v\",B44)=2,LEFT(B44,1),LEFT(B44,2)),\"\")","v":"10"},"20","Team 10","Team 20",{"$f":"IFERROR(VLOOKUP(E44,'LEAGUE MEMBERSHIP'!$I:$M,3,FALSE)&\" / \"&VLOOKUP(E44,'LEAGUE MEMBERSHIP'!$I:$M,5,FALSE),\"\")","v":"Ron Eckstrom / Beth Romano"},null,null,{"$f":"IFERROR(VLOOKUP(F44,'LEAGUE MEMBERSHIP'!$I:$M,3,FALSE)&\" / \"&VLOOKUP(F44,'LEAGUE MEMBERSHIP'!$I:$M,5,FALSE),\"\")","v":"Paul Fontaine / Ralph Romano III"},null,null,"Team 10 (Ron Eckstrom / Beth Romano) v Team 20 (Paul Fontaine / Ralph Romano III)"]
[null,null,{"$f":"IFERROR(IF(FIND(\" v\",B45)=2,LEFT(B45,1),LEFT(B45,2)),\"\")","v":""},"","","",{"$f":"IFERROR(VLOOKUP(E45,'LEAGUE MEMBERSHIP'!$I:$M,3,FALSE)&\" / \"&VLOOKUP(E45,'LEAGUE MEMBERSHIP'!$I:$M,5,FALSE),\"\")","v":""},null,null,{"$f":"IFERROR(VLOOKUP(F45,'LEAGUE MEMBERSHIP'!$I:$M,3,FALSE)&\" / \"&VLOOKUP(F45,'LEAGUE MEMBERSHIP'!$I:$M,5,FALSE),\"\")","v":""},null,null,""]
["C-Box1 Value",6]
["Week 1"]

{"sheet":"SCORECARD","index":6,"n_rows":57,"n_cols":14,"rows_kept":57,"cut":false,"hidden":false,"merged":[[7,0,7,2],[14,2,15,2],[33,1,33,4],[31,0,31,5],[8,0,8,2],[21,0,21,12],[0,0,0,12],[1,0,1,12],[5,0,5,2],[6,0,6,2],[2,0,2,12],[3,0,3,2],[4,0,4,2]]}
[{"$f":"'COURSE & LEAGUE DETAILS'!$B$3","v":"Woods at Westminster"}]
[{"$f":"'COURSE & LEAGUE DETAILS'!$B$2&\" - \"&N6&\" - \"&N8&\" - \"&TEXT(N7, \"MMM dd, yyyy\")","v":"Romano Golf League - Week 7 - FRONT - Aug 14, 2013"}]
[]
["HOLE",null,null,{"$f":"IF(LEFT($N$8)=\"F\",1,IF(LEFT($N$8)=\"B\",10,\"ERROR\"))","v":1},{"$f":"IF(LEFT($N$8)=\"F\",2,IF(LEFT($N$8)=\"B\",11,\"ERROR\"))","v":2},{"$f":"IF(LEFT($N$8)=\"F\",3,IF(LEFT($N$8)=\"B\",12,\"ERROR\"))","v":3},{"$f":"IF(LEFT($N$8)=\"F\",4,IF(LEFT($N$8)=\"B\",13,\"ERROR\"))","v":4},{"$f":"IF(LEFT($N$8)=\"F\",5,IF(LEFT($N$8)=\"B\",14,\"ERROR\"))","v":5},{"$f":"IF(LEFT($N$8)=\"F\",6,IF(LEFT($N$8)=\"B\",15,\"ERROR\"))","v":6},{"$f":"IF(LEFT($N$8)=\"F\",7,IF(LEFT($N$8)=\"B\",16,\"ERROR\"))","v":7},{"$f":"IF(LEFT($N$8)=\"F\",8,IF(LEFT($N$8)=\"B\",17,\"ERROR\"))","v":8},{"$f":"IF(LEFT($N$8)=\"F\",9,IF(LEFT($N$8)=\"B\",18,\"ERROR\"))","v":9},{"$f":"IF(LEFT($N$8)=\"F\",\"OUT\",IF(LEFT($N$8)=\"B\",\"IN\",\"ERROR\"))","v":"OUT"}]
["WHITE",null,null,{"$f":"IF($D$4=1,'COURSE & LEAGUE DETAILS'!$B$6,IF($D$4=10,'COURSE & LEAGUE DETAILS'!$B$14,\"ERROR\"))","v":460},{"$f":"IF($D$4=1,'COURSE & LEAGUE DETAILS'!$C$6,IF($D$4=10,'COURSE & LEAGUE DETAILS'!$C$14,\"ERROR\"))","v":275},{"$f":"IF($D$4=1,'COURSE & LEAGUE DETAILS'!$D$6,IF($D$4=10,'COURSE & LEAGUE DETAILS'!$D$14,\"ERROR\"))","v":525},{"$f":"IF($D$4=1,'COURSE & LEAGUE DETAILS'!$E$6,IF($D$4=10,'COURSE & LEAGUE DETAILS'!$E$14,\"ERROR\"))","v":295},{"$f":"IF($D$4=1,'COURSE & LEAGUE DETAILS'!$F$6,IF($D$4=10,'COURSE & LEAGUE DETAILS'!$F$14,\"ERROR\"))","v":345},{"$f":"IF($D$4=1,'COURSE & LEAGUE DETAILS'!$G$6,IF($D$4=10,'COURSE & LEAGUE DETAILS'!$G$14,\"ERROR\"))","v":175},{"$f":"IF($D$4=1,'COURSE & LEAGUE DETAILS'!$H$6,IF($D$4=10,'COURSE & LEAGUE DETAILS'!$H$14,\"ERROR\"))","v":405},{"$f":"IF($D$4=1,'COURSE & LEAGUE DETAILS'!$I$6,IF($D$4=10,'COURSE & LEAGUE DETAILS'!$I$14,\"ERROR\"))","v":145},{"$f":"IF($D$4=1,'COURSE & LEAGUE DETAILS'!$J$6,IF($D$4=10,'COURSE & LEAGUE DETAILS'!$J$14,\"ERROR\"))","v":320},{"$f":"IF($D$4=1,'COURSE & LEAGUE DETAILS'!$K$6,IF($D$4=10,'COURSE & LEAGUE DETAILS'!$K$14,\"ERROR\"))","v":2945}]
["MEN'S PAR    ",null,null,{"$f":"IF($D$4=1,'COURSE & LEAGUE DETAILS'!$B$7,IF($D$4=10,'COURSE & LEAGUE DETAILS'!$B$15,\"ERROR\"))","v":5},{"$f":"IF($D$4=1,'COURSE & LEAGUE DETAILS'!$C$7,IF($D$4=10,'COURSE & LEAGUE DETAILS'!$C$15,\"ERROR\"))","v":4},{"$f":"IF($D$4=1,'COURSE & LEAGUE DETAILS'!$D$7,IF($D$4=10,'COURSE & LEAGUE DETAILS'!$D$15,\"ERROR\"))","v":5},{"$f":"IF($D$4=1,'COURSE & LEAGUE DETAILS'!$E$7,IF($D$4=10,'COURSE & LEAGUE DETAILS'!$E$15,\"ERROR\"))","v":4},{"$f":"IF($D$4=1,'COURSE & LEAGUE DETAILS'!$F$7,IF($D$4=10,'COURSE & LEAGUE DETAILS'!$F$15,\"ERROR\"))","v":4},{"$f":"IF($D$4=1,'COURSE & LEAGUE DETAILS'!$G$7,IF($D$4=10,'COURSE & LEAGUE DETAILS'!$G$15,\"ERROR\"))","v":3},{"$f":"IF($D$4=1,'COURSE & LEAGUE DETAILS'!$H$7,IF($D$4=10,'COURSE & LEAGUE DETAILS'!$H$15,\"ERROR\"))","v":4},{"$f":"IF($D$4=1,'COURSE & LEAGUE DETAILS'!$I$7,IF($D$4=10,'COURSE & LEAGUE DETAILS'!$I$15,\"ERROR\"))","v":3},{"$f":"IF($D$4=1,'COURSE & LEAGUE DETAILS'!$J$7,IF($D$4=10,'COURSE & LEAGUE DETAILS'!$J$15,\"ERROR\"))","v":4},{"$f":"IF($D$4=1,'COURSE & LEAGUE DETAILS'!$K$7,IF($D$4=10,'COURSE & LEAGUE DETAILS'!$K$15,\"ERROR\"))","v":36},{"$f":"PRINT!F28","v":"Week 7"}]
["MEN'S HCP    ",null,null,{"$f":"IF($D$4=1,'COURSE & LEAGUE DETAILS'!$B$8,IF($D$4=10,'COURSE & LEAGUE DETAILS'!$B$16,\"ERROR\"))","v":5},{"$f":"IF($D$4=1,'COURSE & LEAGUE DETAILS'!$C$8,IF($D$4=10,'COURSE & LEAGUE DETAILS'!$C$16,\"ERROR\"))","v":7},{"$f":"IF($D$4=1,'COURSE & LEAGUE DETAILS'!$D$8,IF($D$4=10,'COURSE & LEAGUE DETAILS'!$D$16,\"ERROR\"))","v":3},{"$f":"IF($D$4=1,'COURSE & LEAGUE DETAILS'!$E$8,IF($D$4=10,'COURSE & LEAGUE DETAILS'!$E$16,\"ERROR\"))","v":9},{"$f":"IF($D$4=1,'COURSE & LEAGUE DETAILS'!$F$8,IF($D$4=10,'COURSE & LEAGUE DETAILS'!$F$16,\"ERROR\"))","v":11},{"$f":"IF($D$4=1,'COURSE & LEAGUE DETAILS'!$G$8,IF($D$4=10,'COURSE & LEAGUE DETAILS'!$G$16,\"ERROR\"))","v":17},{"$f":"IF($D$4=1,'COURSE & LEAGUE DETAILS'!$H$8,IF($D$4=10,'COURSE & LEAGUE DETAILS'!$H$16,\"ERROR\"))","v":1},{"$f":"IF($D$4=1,'COURSE & LEAGUE DETAILS'!$I$8,IF($D$4=10,'COURSE & LEAGUE DETAILS'!$I$16,\"ERROR\"))","v":15},{"$f":"IF($D$4=1,'COURSE & LEAGUE DETAILS'!$J$8,IF($D$4=10,'COURSE & LEAGUE DETAILS'!$J$16,\"ERROR\"))","v":13},null,{"$f":"HLOOKUP($N$6,SCHEDULE!$C$11:$M$13,2,FALSE)","v":"2013-08-14"}]
["RED",null,null,{"$f":"IF($D$4=1,'COURSE & LEAGUE DETAILS'!$B$9,IF($D$4=10,'COURSE & LEAGUE DETAILS'!$B$17,\"ERROR\"))","v":375},{"$f":"IF($D$4=1,'COURSE & LEAGUE DETAILS'!$C$9,IF($D$4=10,'COURSE & LEAGUE DETAILS'!$C$17,\"ERROR\"))","v":250},{"$f":"IF($D$4=1,'COURSE & LEAGUE DETAILS'!$D$9,IF($D$4=10,'COURSE & LEAGUE DETAILS'!$D$17,\"ERROR\"))","v":475},{"$f":"IF($D$4=1,'COURSE & LEAGUE DETAILS'!$E$9,IF($D$4=10,'COURSE & LEAGUE DETAILS'!$E$17,\"ERROR\"))","v":255},{"$f":"IF($D$4=1,'COURSE & LEAGUE DETAILS'!$F$9,IF($D$4=10,'COURSE & LEAGUE DETAILS'!$F$17,\"ERROR\"))","v":325},{"$f":"IF($D$4=1,'COURSE & LEAGUE DETAILS'!$G$9,IF($D$4=10,'COURSE & LEAGUE DETAILS'!$G$17,\"ERROR\"))","v":155},{"$f":"IF($D$4=1,'COURSE & LEAGUE DETAILS'!$H$9,IF($D$4=10,'COURSE & LEAGUE DETAILS'!$H$17,\"ERROR\"))","v":375},{"$f":"IF($D$4=1,'COURSE & LEAGUE DETAILS'!$I$9,IF($D$4=10,'COURSE & LEAGUE DETAILS'!$I$17,\"ERROR\"))","v":130},{"$f":"IF($D$4=1,'COURSE & LEAGUE DETAILS'!$J$9,IF($D$4=10,'COURSE & LEAGUE DETAILS'!$J$17,\"ERROR\"))","v":290},{"$f":"IF($D$4=1,'COURSE & LEAGUE DETAILS'!$K$9,IF($D$4=10,'COURSE & LEAGUE DETAILS'!$K$17,\"ERROR\"))","v":2630},{"$f":"HLOOKUP($N$6,SCHEDULE!$C$11:$M$13,3,FALSE)","v":"FRONT"}]
["WOMEN'S PAR    ",null,null,{"$f":"IF($D$4=1,'COURSE & LEAGUE DETAILS'!$B$10,IF($D$4=10,'COURSE & LEAGUE DETAILS'!$B$18,\"ERROR\"))","v":5},{"$f":"IF($D$4=1,'COURSE & LEAGUE DETAILS'!$C$10,IF($D$4=10,'COURSE & LEAGUE DETAILS'!$C$18,\"ERROR\"))","v":4},{"$f":"IF($D$4=1,'COURSE & LEAGUE DETAILS'!$D$10,IF($D$4=10,'COURSE & LEAGUE DETAILS'!$D$18,\"ERROR\"))","v":5},{"$f":"IF($D$4=1,'COURSE & LEAGUE DETAILS'!$E$10,IF($D$4=10,'COURSE & LEAGUE DETAILS'!$E$18,\"ERROR\"))","v":4},{"$f":"IF($D$4=1,'COURSE & LEAGUE DETAILS'!$F$10,IF($D$4=10,'COURSE & LEAGUE DETAILS'!$F$18,\"ERROR\"))","v":4},{"$f":"IF($D$4=1,'COURSE & LEAGUE DETAILS'!$G$10,IF($D$4=10,'COURSE & LEAGUE DETAILS'!$G$18,\"ERROR\"))","v":3},{"$f":"IF($D$4=1,'COURSE & LEAGUE DETAILS'!$H$10,IF($D$4=10,'COURSE & LEAGUE DETAILS'!$H$18,\"ERROR\"))","v":5},{"$f":"IF($D$4=1,'COURSE & LEAGUE DETAILS'!$I$10,IF($D$4=10,'COURSE & LEAGUE DETAILS'!$I$18,\"ERROR\"))","v":3},{"$f":"IF($D$4=1,'COURSE & LEAGUE DETAILS'!$J$10,IF($D$4=10,'COURSE & LEAGUE DETAILS'!$J$18,\"ERROR\"))","v":4},{"$f":"IF($D$4=1,'COURSE & LEAGUE DETAILS'!$K$10,IF($D$4=10,'COURSE & LEAGUE DETAILS'!$K$18,\"ERROR\"))","v":37},{"$f":"IF(PRINT!$F$31=\"All\",SCHEDULE!$C$16,PRINT!$F$31)","v":"4:00"}]
["HCP","TEAM","WOMEN'S HCP",{"$f":"IF($D$4=1,'COURSE & LEAGUE DETAILS'!$B$11,IF($D$4=10,'COURSE & LEAGUE DETAILS'!$B$19,\"ERROR\"))","v":5},{"$f":"IF($D$4=1,'COURSE & LEAGUE DETAILS'!$C$11,IF($D$4=10,'COURSE & LEAGUE DETAILS'!$C$19,\"ERROR\"))","v":7},{"$f":"IF($D$4=1,'COURSE & LEAGUE DETAILS'!$D$11,IF($D$4=10,'COURSE & LEAGUE DETAILS'!$D$19,\"ERROR\"))","v":3},{"$f":"IF($D$4=1,'COURSE & LEAGUE DETAILS'!$E$11,IF($D$4=10,'COURSE & LEAGUE DETAILS'!$E$19,\"ERROR\"))","v":9},{"$f":"IF($D$4=1,'COURSE & LEAGUE DETAILS'!$F$11,IF($D$4=10,'COURSE & LEAGUE DETAILS'!$F$19,\"ERROR\"))","v":11},{"$f":"IF($D$4=1,'COURSE & LEAGUE DETAILS'!$G$11,IF($D$4=10,'COURSE & LEAGUE DETAILS'!$G$19,\"ERROR\"))","v":17},{"$f":"IF($D$4=1,'COURSE & LEAGUE DETAILS'!$H$11,IF($D$4=10,'COURSE & LEAGUE DETAILS'!$H$19,\"ERROR\"))","v":1},{"$f":"IF($D$4=1,'COURSE & LEAGUE DETAILS'!$I$11,IF($D$4=10,'COURSE & LEAGUE DETAILS'!$I$19,\"ERROR\"))","v":15},{"$f":"IF($D$4=1,'COURSE & LEAGUE DETAILS'!$J$11,IF($D$4=10,'COURSE & LEAGUE DETAILS'!$J$19,\"ERROR\"))","v":13},null,{"$f":"VLOOKUP($N9,SCHEDULE!$C$16:$M$26,RIGHT($N6,LEN($N6)-FIND(\" \",$N6))+1,FALSE)","v":"5 v 10"}]
[null,null,null,{"$f":"D25","v":1},{"$f":"E25","v":1},1,1,1,0,1,0,0,{"$f":"SUM(D11:L11)","v":6}]
[{"$f":"IF(B12=\"DNP\",IF(B14=\"DNP\",\"ERROR\",A14),IF(B12=\"COURSE\",0,VLOOKUP(VLOOKUP(B12,'LEAGUE MEMBERSHIP'!E:G,3,FALSE),'INDIVIDUAL SCORES'!$A$74:$P$2799,16,FALSE)))","v":9},{"$f":"$N12&\"A\"","v":"5A"},{"$f":"VLOOKUP(B12,'LEAGUE MEMBERSHIP'!$E$8:$F$107,2,FALSE)","v":"Dennis Normandin"},null,null,null,null,null,null,null,null,null,null,{"$f":"LEFT(SUBSTITUTE(N10,\" v \",\",\"),FIND(\",\",SUBSTITUTE(N10,\" v \",\",\"))-1)","v":"5"}]
[null,null,null,{"$f":"D26","v":1},{"$f":"E26","v":1},1,0,0,0,1,0,0,{"$f":"SUM(D13:L13)","v":4}]
[{"$f":"IF(B14=\"DNP\",IF(B12=\"DNP\",\"ERROR\",A12),IF(B14=\"COURSE\",0,VLOOKUP(VLOOKUP(B14,'LEAGUE MEMBERSHIP'!E:G,3,FALSE),'INDIVIDUAL SCORES'!$A$74:$P$2799,16,FALSE)))","v":7},{"$f":"$N12&\"B\"","v":"5B"},{"$f":"VLOOKUP(B14,'LEAGUE MEMBERSHIP'!$E$8:$F$107,2,FALSE)","v":"Mark Normandin"}]
[null,null,"+/-"]
[]
[null,null,null,{"$f":"D28","v":0},{"$f":"E28","v":0},0,0,0,0,0,0,0,{"$f":"SUM(D17:L17)","v":0}]
[{"$f":"IF(B18=\"DNP\",IF(B20=\"DNP\",\"ERROR\",A20),IF(B18=\"COURSE\",0,VLOOKUP(VLOOKUP(B18,'LEAGUE MEMBERSHIP'!E:G,3,FALSE),'INDIVIDUAL SCORES'!$A$74:$P$2799,16,FALSE)))","v":3},{"$f":"IF($N18=\"COURSE\",\"COURSE\",$N18&\"A\")","v":"10A"},{"$f":"VLOOKUP(B18,'LEAGUE MEMBERSHIP'!$E$8:$F$107,2,FALSE)","v":"Ron Eckstrom"},null,null,null,null,null,null,null,null,null,null,{"$f":"RIGHT(SUBSTITUTE(N10,\" v \",\",\"),LEN(SUBSTITUTE(N10,\" v \",\",\"))-FIND(\",\",SUBSTITUTE(N10,\" v \",\",\")))","v":"10"}]
[null,null,null,{"$f":"D29","v":1},{"$f":"E29","v":1},1,1,1,1,2,1,1,{"$f":"SUM(D19:L19)","v":10}]
[{"$f":"IF(B20=\"DNP\",IF(B18=\"DNP\",\"ERROR\",A18),IF(B20=\"COURSE\",0,VLOOKUP(VLOOKUP(B20,'LEAGUE MEMBERSHIP'!E:G,3,FALSE),'INDIVIDUAL SCORES'!$A$74:$P$2799,16,FALSE)))","v":13},{"$f":"IF($N18=\"COURSE\",\"COURSE\",$N18&\"B\")","v":"10B"},{"$f":"VLOOKUP(B20,'LEAGUE MEMBERSHIP'!$E$8:$F$107,2,FALSE)","v":"Beth Romano"}]
[]
[{"$f":"CONCATENATE(\"TEE TIME: \",TEXT(N9,\"h:mm\"),\" PM\")","v":"TEE TIME: 4:00 PM"}]
[null,null,"Men's Hcp. Rank",{"$f":"RANK(D7,$D$7:$L$7,1)","v":3},{"$f":"RANK(E7,$D$7:$L$7,1)","v":4},2,5,6,9,1,8,7]
[null,null,"Women's Hcp. Rank",{"$f":"RANK(D10,$D$10:$L$10,1)","v":3},{"$f":"RANK(E10,$D$10:$L$10,1)","v":4},2,5,6,9,1,8,7]
[{"$f":"MIN(A12:A20)","v":3},{"$f":"A12-A25","v":6},{"$f":"VLOOKUP(VLOOKUP(B12,'LEAGUE MEMBERSHIP'!E:G,3,FALSE),'LEAGUE MEMBERSHIP'!$A$8:$D$107,4,FALSE)","v":"M"},{"$f":"IF($C25=\"M\",IF($B25>=D23,IF(D6=3,1,IF($B25-9>=D23,2,1)),0),IF($C25=\"F\",IF($B25>=D24,IF(D9=3,1,IF($B25-9>=D24,2,1)),0),0))","v":1},{"$f":"IF($C25=\"M\",IF($B25>=E23,IF(E6=3,1,IF($B25-9>=E23,2,1)),0),IF($C25=\"F\",IF($B25>=E24,IF(E9=3,1,IF($B25-9>=E24,2,1)),0),0))","v":1},1,1,1,0,1,0,0]
[null,{"$f":"A14-A25","v":4},{"$f":"VLOOKUP(VLOOKUP(B14,'LEAGUE MEMBERSHIP'!E:G,3,FALSE),'LEAGUE MEMBERSHIP'!$A$8:$D$107,4,FALSE)","v":"M"},{"$f":"IF($C26=\"M\",IF($B26>=D23,IF(D6=3,1,IF($B26-9>=D23,2,1)),0),IF($C26=\"F\",IF($B26>=D24,IF(D9=3,1,IF($B26-9>=D24,2,1)),0),0))","v":1},{"$f":"IF($C26=\"M\",IF($B26>=E23,IF(E6=3,1,IF($B26-9>=E23,2,1)),0),IF($C26=\"F\",IF($B26>=E24,IF(E9=3,1,IF($B26-9>=E24,2,1)),0),0))","v":1},1,0,0,0,1,0,0]
[]
[null,{"$f":"A18-A25","v":0},{"$f":"VLOOKUP(VLOOKUP(B18,'LEAGUE MEMBERSHIP'!E:G,3,FALSE),'LEAGUE MEMBERSHIP'!$A$8:$D$107,4,FALSE)","v":"M"},{"$f":"IF($C28=\"M\",IF($B28>=D23,IF(D6=3,1,IF($B28-9>=D23,2,1)),0),IF($C28=\"F\",IF($B28>=D24,IF(D9=3,1,IF($B28-9>=D24,2,1)),0),0))","v":0},{"$f":"IF($C28=\"M\",IF($B28>=E23,IF(E6=3,1,IF($B28-9>=E23,2,1)),0),IF($C28=\"F\",IF($B28>=E24,IF(E9=3,1,IF($B28-9>=E24,2,1)),0),0))","v":0},0,0,0,0,0,0,0]
[null,{"$f":"A20-A25","v":10},{"$f":"VLOOKUP(VLOOKUP(B20,'LEAGUE MEMBERSHIP'!E:G,3,FALSE),'LEAGUE MEMBERSHIP'!$A$8:$D$107,4,FALSE)","v":"F"},{"$f":"IF($C29=\"M\",IF($B29>=D23,IF(D6=3,1,IF($B29-9>=D23,2,1)),0),IF($C29=\"F\",IF($B29>=D24,IF(D9=3,1,IF($B29-9>=D24,2,1)),0),0))","v":1},{"$f":"IF($C29=\"M\",IF($B29>=E23,IF(E6=3,1,IF($B29-9>=E23,2,1)),0),IF($C29=\"F\",IF($B29>=E24,IF(E9=3,1,IF($B29-9>=E24,2,1)),0),0))","v":1},1,1,1,1,2,1,1]
[]
[]
[{"$f":"MAIN!F8","v":"Final Standings - Second Half"}]
[]
["Rank","Team",null,null,null,"Points"]
[{"$f":"MAIN!F11","v":1},{"$f":"MAIN!G11","v":"10  Ron Eckstrom / Beth Romano"},null,null,null,{"$f":"MAIN!K11","v":43.5}]
[{"$f":"MAIN!F12","v":2},{"$f":"MAIN!G12","v":"05  Dennis Normandin / Mark Normandin"},null,null,null,{"$f":"MAIN!K12","v":42.5}]
[{"$f":"MAIN!F13","v":3},{"$f":"MAIN!G13","v":"15  Tim Hurley / John Elie"},null,null,null,{"$f":"MAIN!K13","v":42}]
[{"$f":"MAIN!F14","v":4},{"$f":"MAIN!G14","v":"16  Deb DeCarolis / Joey DeCarolis"},null,null,null,{"$f":"MAIN!K14","v":41.5}]
[{"$f":"MAIN!F15","v":5},{"$f":"MAIN!G15","v":"12  Sal Cuifetti / Paul LeBlanc"},null,null,null,{"$f":"MAIN!K15","v":41}]
[{"$f":"MAIN!F16","v":6},{"$f":"MAIN!G16","v":"19  Gary Leavenworth / Patty Leavenworth"},null,null,null,{"$f":"MAIN!K16","v":40.5}]
[{"$f":"MAIN!F17","v":"7T"},{"$f":"MAIN!G17","v":"01  Lester Lockhart / Pete Normandin"},null,null,null,{"$f":"MAIN!K17","v":39}]
[{"$f":"MAIN!F18","v":"7T"},{"$f":"MAIN!G18","v":"02  Dave Cormier / Adam Williamson"},null,null,null,{"$f":"MAIN!K18","v":39}]
[{"$f":"MAIN!F19","v":9},{"$f":"MAIN!G19","v":"20  Paul Fontaine / Ralph Romano III"},null,null,null,{"$f":"MAIN!K19","v":38}]
[{"$f":"MAIN!F20","v":10},{"$f":"MAIN!G20","v":"17  Gary Bittner / Mike Dauphinais"},null,null,null,{"$f":"MAIN!K20","v":37},null,{"$f":"\"   \" & MAIN!M10","v":"   Team 04 def. Team 16, 5.0 - 4.0"}]
[{"$f":"MAIN!F21","v":11},{"$f":"MAIN!G21","v":"11  Ray Henderson / Zachary Wallace"},null,null,null,{"$f":"MAIN!K21","v":36.5},null,{"$f":"\"   \" & MAIN!M11","v":"   Team 08 def. Team 20, 5.0 - 4.0"}]
[{"$f":"MAIN!F22","v":"12T"},{"$f":"MAIN!G22","v":"03  Pete Romano / Don Frigoletto"},null,null,null,{"$f":"MAIN!K22","v":35},null,{"$f":"\"   \" & MAIN!M12","v":"   Team 12 def. Team 01, 6.0 - 3.0"}]
[{"$f":"MAIN!F23","v":"12T"},{"$f":"MAIN!G23","v":"04  Peg Romano / Lynn Laroche"},null,null,null,{"$f":"MAIN!K23","v":35},null,{"$f":"\"   \" & MAIN!M13","v":"   Team 14 def. Team 02, 5.0 - 4.0"}]
[{"$f":"MAIN!F24","v":14},{"$f":"MAIN!G24","v":"08  Mike Sunderland / Debbie Sunderland"},null,null,null,{"$f":"MAIN!K24","v":34.5},null,{"$f":"\"   \" & MAIN!M14","v":"   Team 05 def. Team 17, 6.5 - 2.5"}]
[{"$f":"MAIN!F25","v":15},{"$f":"MAIN!G25","v":"09  Mike Doane / John Cassin"},null,null,null,{"$f":"MAIN!K25","v":32.5},null,{"$f":"\"   \" & MAIN!M15","v":"   Team 15 def. Team 03, 5.5 - 3.5"}]
[{"$f":"MAIN!F26","v":16},{"$f":"MAIN!G26","v":"06  Vance Butterfield / Bob Schleyer"},null,null,null,{"$f":"MAIN!K26","v":30.5},null,{"$f":"\"   \" & MAIN!M16","v":"   Team 10 def. Team 09, 7.0 - 2.0"}]
[{"$f":"MAIN!F27","v":17},{"$f":"MAIN!G27","v":"18  Norm Gamache / Michelle Bouvier"},null,null,null,{"$f":"MAIN!K27","v":29},null,{"$f":"\"   \" & MAIN!M17","v":"   Team 19 def. Team 07, 4.0 - 0.0"}]
[{"$f":"MAIN!F28","v":18},{"$f":"MAIN!G28","v":"14  Doug Cormier / Ralph Romano, Jr."},null,null,null,{"$f":"MAIN!K28","v":27.5},null,{"$f":"\"   \" & MAIN!M18","v":"   Team 11 def. Team 13, 6.5 - 2.5"}]
[{"$f":"MAIN!F29","v":19},{"$f":"MAIN!G29","v":"13  Kyle Currier / Walter Drake"},null,null,null,{"$f":"MAIN!K29","v":19.5},null,{"$f":"\"   \" & MAIN!M19","v":"   Team 18 def. Team 06, 4.5 - 0.0"}]
[{"$f":"MAIN!F30","v":"20T"},{"$f":"MAIN!G30","v":"07  Steve Scapparone / Dave Hyre"},null,null,null,{"$f":"MAIN!K30","v":0}]
[{"$f":"MAIN!F31","v":"20T"},{"$f":"MAIN!G31","v":"21   / "},null,null,null,{"$f":"MAIN!K31","v":0}]
[{"$f":"MAIN!F32","v":"20T"},{"$f":"MAIN!G32","v":"22  / "},null,null,null,{"$f":"MAIN!K32","v":0}]
[{"$f":"'COURSE & LEAGUE DETAILS'!A49","v":"To view scores, handicaps, etc., go to http://www.rromano.com and click on the Romano Golf League 2013 Spreadsheet"}]

{"sheet":"SCORECARD (2)","index":7,"n_rows":69,"n_cols":22,"rows_kept":69,"cut":false,"hidden":false,"merged":[[33,1,33,4],[31,0,31,5],[8,0,8,2],[14,2,15,2],[21,0,21,12],[6,0,6,2],[7,0,7,2],[5,0,5,2],[0,0,0,12],[1,0,1,12],[2,0,2,12],[3,0,3,2],[4,0,4,2]]}
[{"$f":"'COURSE & LEAGUE DETAILS'!$B$3","v":"Woods at Westminster"},null,null,null,null,null,null,null,null,null,null,null,null,null,"Sub1",{"$f":"IFERROR(VLOOKUP(O1,'LEAGUE MEMBERSHIP'!$E$8:$F$107,2,FALSE),\"\")","v":"Becky Bartkus"},null,"Sub11",{"$f":"IFERROR(VLOOKUP(R1,'LEAGUE MEMBERSHIP'!$E$8:$F$107,2,FALSE),\"\")","v":"Don Shank"},null,"Sub21",{"$f":"IFERROR(VLOOKUP(U1,'LEAGUE MEMBERSHIP'!$E$8:$F$107,2,FALSE),\"\")","v":"Dennis St. Jean"}]
[{"$f":"'COURSE & LEAGUE DETAILS'!$B$2&\" - \"&N6&\" - \"&N8&\" - \"&TEXT(N7, \"MMM dd, yyyy\")","v":"Romano Golf League - Week 7 - FRONT - Aug 14, 2013"},null,null,null,null,null,null,null,null,null,null,null,null,null,"Sub2",{"$f":"IFERROR(VLOOKUP(O2,'LEAGUE MEMBERSHIP'!$E$8:$F$107,2,FALSE),\"\")","v":"P.J. Romano"},null,"Sub12",{"$f":"IFERROR(VLOOKUP(R2,'LEAGUE MEMBERSHIP'!$E$8:$F$107,2,FALSE),\"\")","v":"Chris Barry"},null,"Sub22",{"$f":"IFERROR(VLOOKUP(U2,'LEAGUE MEMBERSHIP'!$E$8:$F$107,2,FALSE),\"\")","v":"Joe Fratticelli"}]
[null,null,null,null,null,null,null,null,null,null,null,null,null,null,"Sub3",{"$f":"IFERROR(VLOOKUP(O3,'LEAGUE MEMBERSHIP'!$E$8:$F$107,2,FALSE),\"\")","v":"Mike Forbes"},null,"Sub13",{"$f":"IFERROR(VLOOKUP(R3,'LEAGUE MEMBERSHIP'!$E$8:$F$107,2,FALSE),\"\")","v":"Tom Farias"},null,"Sub23",{"$f":"IFERROR(VLOOKUP(U3,'LEAGUE MEMBERSHIP'!$E$8:$F$107,2,FALSE),\"\")","v":"Pete Collette"}]
["HOLE",null,null,{"$f":"IF(LEFT($N$8)=\"F\",1,IF(LEFT($N$8)=\"B\",10,\"ERROR\"))","v":1},{"$f":"IF(LEFT($N$8)=\"F\",2,IF(LEFT($N$8)=\"B\",11,\"ERROR\"))","v":2},{"$f":"IF(LEFT($N$8)=\"F\",3,IF(LEFT($N$8)=\"B\",12,\"ERROR\"))","v":3},{"$f":"IF(LEFT($N$8)=\"F\",4,IF(LEFT($N$8)=\"B\",13,\"ERROR\"))","v":4},{"$f":"IF(LEFT($N$8)=\"F\",5,IF(LEFT($N$8)=\"B\",14,\"ERROR\"))","v":5},{"$f":"IF(LEFT($N$8)=\"F\",6,IF(LEFT($N$8)=\"B\",15,\"ERROR\"))","v":6},{"$f":"IF(LEFT($N$8)=\"F\",7,IF(LEFT($N$8)=\"B\",16,\"ERROR\"))","v":7},{"$f":"IF(LEFT($N$8)=\"F\",8,IF(LEFT($N$8)=\"B\",17,\"ERROR\"))","v":8},{"$f":"IF(LEFT($N$8)=\"F\",9,IF(LEFT($N$8)=\"B\",18,\"ERROR\"))","v":9},{"$f":"IF(LEFT($N$8)=\"F\",\"OUT\",IF(LEFT($N$8)=\"B\",\"IN\",\"ERROR\"))","v":"OUT"},null,"Sub4",{"$f":"IFERROR(VLOOKUP(O4,'LEAGUE MEMBERSHIP'!$E$8:$F$107,2,FALSE),\"\")","v":"Mike Romano"},null,"Sub14",{"$f":"IFERROR(VLOOKUP(R4,'LEAGUE MEMBERSHIP'!$E$8:$F$107,2,FALSE),\"\")","v":"Jeff Erskine"},null,"Sub24",{"$f":"IFERROR(VLOOKUP(U4,'LEAGUE MEMBERSHIP'!$E$8:$F$107,2,FALSE),\"\")","v":"Shane McCarthy"}]
["WHITE",null,null,{"$f":"IF($D$4=1,'COURSE & LEAGUE DETAILS'!$B$6,IF($D$4=10,'COURSE & LEAGUE DETAILS'!$B$14,\"ERROR\"))","v":460},{"$f":"IF($D$4=1,'COURSE & LEAGUE DETAILS'!$C$6,IF($D$4=10,'COURSE & LEAGUE DETAILS'!$C$14,\"ERROR\"))","v":275},{"$f":"IF($D$4=1,'COURSE & LEAGUE DETAILS'!$D$6,IF($D$4=10,'COURSE & LEAGUE DETAILS'!$D$14,\"ERROR\"))","v":525},{"$f":"IF($D$4=1,'COURSE & LEAGUE DETAILS'!$E$6,IF($D$4=10,'COURSE & LEAGUE DETAILS'!$E$14,\"ERROR\"))","v":295},{"$f":"IF($D$4=1,'COURSE & LEAGUE DETAILS'!$F$6,IF($D$4=10,'COURSE & LEAGUE DETAILS'!$F$14,\"ERROR\"))","v":345},{"$f":"IF($D$4=1,'COURSE & LEAGUE DETAILS'!$G$6,IF($D$4=10,'COURSE & LEAGUE DETAILS'!$G$14,\"ERROR\"))","v":175},{"$f":"IF($D$4=1,'COURSE & LEAGUE DETAILS'!$H$6,IF($D$4=10,'COURSE & LEAGUE DETAILS'!$H$14,\"ERROR\"))","v":405},{"$f":"IF($D$4=1,'COURSE & LEAGUE DETAILS'!$I$6,IF($D$4=10,'COURSE & LEAGUE DETAILS'!$I$14,\"ERROR\"))","v":145},{"$f":"IF($D$4=1,'COURSE & LEAGUE DETAILS'!$J$6,IF($D$4=10,'COURSE & LEAGUE DETAILS'!$J$14,\"ERROR\"))","v":320},{"$f":"IF($D$4=1,'COURSE & LEAGUE DETAILS'!$K$6,IF($D$4=10,'COURSE & LEAGUE DETAILS'!$K$14,\"ERROR\"))","v":2945},null,"Sub5",{"$f":"IFERROR(VLOOKUP(O5,'LEAGUE MEMBERSHIP'!$E$8:$F$107,2,FALSE),\"\")","v":"Jono Normandin"},null,"Sub15",{"$f":"IFERROR(VLOOKUP(R5,'LEAGUE MEMBERSHIP'!$E$8:$F$107,2,FALSE),\"\")","v":"Jeff Richard"},null,"Sub25",{"$f":"IFERROR(VLOOKUP(U5,'LEAGUE MEMBERSHIP'!$E$8:$F$107,2,FALSE),\"\")","v":"Brenda Louney"}]
["MEN'S PAR    ",null,null,{"$f":"IF($D$4=1,'COURSE & LEAGUE DETAILS'!$B$7,IF($D$4=10,'COURSE & LEAGUE DETAILS'!$B$15,\"ERROR\"))","v":5},{"$f":"IF($D$4=1,'COURSE & LEAGUE DETAILS'!$C$7,IF($D$4=10,'COURSE & LEAGUE DETAILS'!$C$15,\"ERROR\"))","v":4},{"$f":"IF($D$4=1,'COURSE & LEAGUE DETAILS'!$D$7,IF($D$4=10,'COURSE & LEAGUE DETAILS'!$D$15,\"ERROR\"))","v":5},{"$f":"IF($D$4=1,'COURSE & LEAGUE DETAILS'!$E$7,IF($D$4=10,'COURSE & LEAGUE DETAILS'!$E$15,\"ERROR\"))","v":4},{"$f":"IF($D$4=1,'COURSE & LEAGUE DETAILS'!$F$7,IF($D$4=10,'COURSE & LEAGUE DETAILS'!$F$15,\"ERROR\"))","v":4},{"$f":"IF($D$4=1,'COURSE & LEAGUE DETAILS'!$G$7,IF($D$4=10,'COURSE & LEAGUE DETAILS'!$G$15,\"ERROR\"))","v":3},{"$f":"IF($D$4=1,'COURSE & LEAGUE DETAILS'!$H$7,IF($D$4=10,'COURSE & LEAGUE DETAILS'!$H$15,\"ERROR\"))","v":4},{"$f":"IF($D$4=1,'COURSE & LEAGUE DETAILS'!$I$7,IF($D$4=10,'COURSE & LEAGUE DETAILS'!$I$15,\"ERROR\"))","v":3},{"$f":"IF($D$4=1,'COURSE & LEAGUE DETAILS'!$J$7,IF($D$4=10,'COURSE & LEAGUE DETAILS'!$J$15,\"ERROR\"))","v":4},{"$f":"IF($D$4=1,'COURSE & LEAGUE DETAILS'!$K$7,IF($D$4=10,'COURSE & LEAGUE DETAILS'!$K$15,\"ERROR\"))","v":36},{"$f":"PRINT!F28","v":"Week 7"},"Sub6",{"$f":"IFERROR(VLOOKUP(O6,'LEAGUE MEMBERSHIP'!$E$8:$F$107,2,FALSE),\"\")","v":"Scott Leavenworth"},null,"Sub16",{"$f":"IFERROR(VLOOKUP(R6,'LEAGUE MEMBERSHIP'!$E$8:$F$107,2,FALSE),\"\")","v":"Paul Stedman"},null,"Sub26",{"$f":"IFERROR(VLOOKUP(U6,'LEAGUE MEMBERSHIP'!$E$8:$F$107,2,FALSE),\"\")","v":"Mark Louney"}]
["MEN'S HCP    ",null,null,{"$f":"IF($D$4=1,'COURSE & LEAGUE DETAILS'!$B$8,IF($D$4=10,'COURSE & LEAGUE DETAILS'!$B$16,\"ERROR\"))","v":5},{"$f":"IF($D$4=1,'COURSE & LEAGUE DETAILS'!$C$8,IF($D$4=10,'COURSE & LEAGUE DETAILS'!$C$16,\"ERROR\"))","v":7},{"$f":"IF($D$4=1,'COURSE & LEAGUE DETAILS'!$D$8,IF($D$4=10,'COURSE & LEAGUE DETAILS'!$D$16,\"ERROR\"))","v":3},{"$f":"IF($D$4=1,'COURSE & LEAGUE DETAILS'!$E$8,IF($D$4=10,'COURSE & LEAGUE DETAILS'!$E$16,\"ERROR\"))","v":9},{"$f":"IF($D$4=1,'COURSE & LEAGUE DETAILS'!$F$8,IF($D$4=10,'COURSE & LEAGUE DETAILS'!$F$16,\"ERROR\"))","v":11},{"$f":"IF($D$4=1,'COURSE & LEAGUE DETAILS'!$G$8,IF($D$4=10,'COURSE & LEAGUE DETAILS'!$G$16,\"ERROR\"))","v":17},{"$f":"IF($D$4=1,'COURSE & LEAGUE DETAILS'!$H$8,IF($D$4=10,'COURSE & LEAGUE DETAILS'!$H$16,\"ERROR\"))","v":1},{"$f":"IF($D$4=1,'COURSE & LEAGUE DETAILS'!$I$8,IF($D$4=10,'COURSE & LEAGUE DETAILS'!$I$16,\"ERROR\"))","v":15},{"$f":"IF($D$4=1,'COURSE & LEAGUE DETAILS'!$J$8,IF($D$4=10,'COURSE & LEAGUE DETAILS'!$J$16,\"ERROR\"))","v":13},null,{"$f":"HLOOKUP($N$6,SCHEDULE!$C$11:$M$13,2,FALSE)","v":"2013-08-14"},"Sub7",{"$f":"IFERROR(VLOOKUP(O7,'LEAGUE MEMBERSHIP'!$E$8:$F$107,2,FALSE),\"\")","v":"PJ Fontaine"},null,"Sub17",{"$f":"IFERROR(VLOOKUP(R7,'LEAGUE MEMBERSHIP'!$E$8:$F$107,2,FALSE),\"\")","v":"Deb Passios"},null,"Sub27",{"$f":"IFERROR(VLOOKUP(U7,'LEAGUE MEMBERSHIP'!$E$8:$F$107,2,FALSE),\"\")","v":"Victor Szewczyk"}]
["RED",null,null,{"$f":"IF($D$4=1,'COURSE & LEAGUE DETAILS'!$B$9,IF($D$4=10,'COURSE & LEAGUE DETAILS'!$B$17,\"ERROR\"))","v":375},{"$f":"IF($D$4=1,'COURSE & LEAGUE DETAILS'!$C$9,IF($D$4=10,'COURSE & LEAGUE DETAILS'!$C$17,\"ERROR\"))","v":250},{"$f":"IF($D$4=1,'COURSE & LEAGUE DETAILS'!$D$9,IF($D$4=10,'COURSE & LEAGUE DETAILS'!$D$17,\"ERROR\"))","v":475},{"$f":"IF($D$4=1,'COURSE & LEAGUE DETAILS'!$E$9,IF($D$4=10,'COURSE & LEAGUE DETAILS'!$E$17,\"ERROR\"))","v":255},{"$f":"IF($D$4=1,'COURSE & LEAGUE DETAILS'!$F$9,IF($D$4=10,'COURSE & LEAGUE DETAILS'!$F$17,\"ERROR\"))","v":325},{"$f":"IF($D$4=1,'COURSE & LEAGUE DETAILS'!$G$9,IF($D$4=10,'COURSE & LEAGUE DETAILS'!$G$17,\"ERROR\"))","v":155},{"$f":"IF($D$4=1,'COURSE & LEAGUE DETAILS'!$H$9,IF($D$4=10,'COURSE & LEAGUE DETAILS'!$H$17,\"ERROR\"))","v":375},{"$f":"IF($D$4=1,'COURSE & LEAGUE DETAILS'!$I$9,IF($D$4=10,'COURSE & LEAGUE DETAILS'!$I$17,\"ERROR\"))","v":130},{"$f":"IF($D$4=1,'COURSE & LEAGUE DETAILS'!$J$9,IF($D$4=10,'COURSE & LEAGUE DETAILS'!$J$17,\"ERROR\"))","v":290},{"$f":"IF($D$4=1,'COURSE & LEAGUE DETAILS'!$K$9,IF($D$4=10,'COURSE & LEAGUE DETAILS'!$K$17,\"ERROR\"))","v":2630},{"$f":"HLOOKUP($N$6,SCHEDULE!$C$11:$M$13,3,FALSE)","v":"FRONT"},"Sub8",{"$f":"IFERROR(VLOOKUP(O8,'LEAGUE MEMBERSHIP'!$E$8:$F$107,2,FALSE),\"\")","v":"Yogi DiPasquale"},null,"Sub18",{"$f":"IFERROR(VLOOKUP(R8,'LEAGUE MEMBERSHIP'!$E$8:$F$107,2,FALSE),\"\")","v":"Joe Pearson"},null,"Sub28",{"$f":"IFERROR(VLOOKUP(U8,'LEAGUE MEMBERSHIP'!$E$8:$F$107,2,FALSE),\"\")","v":"Matt Lee"}]
["WOMEN'S PAR    ",null,null,{"$f":"IF($D$4=1,'COURSE & LEAGUE DETAILS'!$B$10,IF($D$4=10,'COURSE & LEAGUE DETAILS'!$B$18,\"ERROR\"))","v":5},{"$f":"IF($D$4=1,'COURSE & LEAGUE DETAILS'!$C$10,IF($D$4=10,'COURSE & LEAGUE DETAILS'!$C$18,\"ERROR\"))","v":4},{"$f":"IF($D$4=1,'COURSE & LEAGUE DETAILS'!$D$10,IF($D$4=10,'COURSE & LEAGUE DETAILS'!$D$18,\"ERROR\"))","v":5},{"$f":"IF($D$4=1,'COURSE & LEAGUE DETAILS'!$E$10,IF($D$4=10,'COURSE & LEAGUE DETAILS'!$E$18,\"ERROR\"))","v":4},{"$f":"IF($D$4=1,'COURSE & LEAGUE DETAILS'!$F$10,IF($D$4=10,'COURSE & LEAGUE DETAILS'!$F$18,\"ERROR\"))","v":4},{"$f":"IF($D$4=1,'COURSE & LEAGUE DETAILS'!$G$10,IF($D$4=10,'COURSE & LEAGUE DETAILS'!$G$18,\"ERROR\"))","v":3},{"$f":"IF($D$4=1,'COURSE & LEAGUE DETAILS'!$H$10,IF($D$4=10,'COURSE & LEAGUE DETAILS'!$H$18,\"ERROR\"))","v":5},{"$f":"IF($D$4=1,'COURSE & LEAGUE DETAILS'!$I$10,IF($D$4=10,'COURSE & LEAGUE DETAILS'!$I$18,\"ERROR\"))","v":3},{"$f":"IF($D$4=1,'COURSE & LEAGUE DETAILS'!$J$10,IF($D$4=10,'COURSE & LEAGUE DETAILS'!$J$18,\"ERROR\"))","v":4},{"$f":"IF($D$4=1,'COURSE & LEAGUE DETAILS'!$K$10,IF($D$4=10,'COURSE & LEAGUE DETAILS'!$K$18,\"ERROR\"))","v":37},{"$f":"IF(PRINT!$F$31=\"All\",SCHEDULE!$C$16,PRINT!$F$31)","v":"4:00"},"Sub9",{"$f":"IFERROR(VLOOKUP(O9,'LEAGUE MEMBERSHIP'!$E$8:$F$107,2,FALSE),\"\")","v":"Jon Friberg"},null,"Sub19",{"$f":"IFERROR(VLOOKUP(R9,'LEAGUE MEMBERSHIP'!$E$8:$F$107,2,FALSE),\"\")","v":"Audrey Henderson"},null,"Sub29",{"$f":"IFERROR(VLOOKUP(U9,'LEAGUE MEMBERSHIP'!$E$8:$F$107,2,FALSE),\"\")","v":"Jay Melansom"}]
["HCP","TEAM","WOMEN'S HCP",{"$f":"IF($D$4=1,'COURSE & LEAGUE DETAILS'!$B$11,IF($D$4=10,'COURSE & LEAGUE DETAILS'!$B$19,\"ERROR\"))","v":5},{"$f":"IF($D$4=1,'COURSE & LEAGUE DETAILS'!$C$11,IF($D$4=10,'COURSE & LEAGUE DETAILS'!$C$19,\"ERROR\"))","v":7},{"$f":"IF($D$4=1,'COURSE & LEAGUE DETAILS'!$D$11,IF($D$4=10,'COURSE & LEAGUE DETAILS'!$D$19,\"ERROR\"))","v":3},{"$f":"IF($D$4=1,'COURSE & LEAGUE DETAILS'!$E$11,IF($D$4=10,'COURSE & LEAGUE DETAILS'!$E$19,\"ERROR\"))","v":9},{"$f":"IF($D$4=1,'COURSE & LEAGUE DETAILS'!$F$11,IF($D$4=10,'COURSE & LEAGUE DETAILS'!$F$19,\"ERROR\"))","v":11},{"$f":"IF($D$4=1,'COURSE & LEAGUE DETAILS'!$G$11,IF($D$4=10,'COURSE & LEAGUE DETAILS'!$G$19,\"ERROR\"))","v":17},{"$f":"IF($D$4=1,'COURSE & LEAGUE DETAILS'!$H$11,IF($D$4=10,'COURSE & LEAGUE DETAILS'!$H$19,\"ERROR\"))","v":1},{"$f":"IF($D$4=1,'COURSE & LEAGUE DETAILS'!$I$11,IF($D$4=10,'COURSE & LEAGUE DETAILS'!$I$19,\"ERROR\"))","v":15},{"$f":"IF($D$4=1,'COURSE & LEAGUE DETAILS'!$J$11,IF($D$4=10,'COURSE & LEAGUE DETAILS'!$J$19,\"ERROR\"))","v":13},null,{"$f":"VLOOKUP($N9,SCHEDULE!$C$16:$M$26,RIGHT($N6,LEN($N6)-FIND(\" \",$N6))+1,FALSE)","v":"5 v 10"},"Sub10",{"$f":"IFERROR(VLOOKUP(O10,'LEAGUE MEMBERSHIP'!$E$8:$F$107,2,FALSE),\"\")","v":"Jim Hedlund"},null,"Sub20",{"$f":"IFERROR(VLOOKUP(R10,'LEAGUE MEMBERSHIP'!$E$8:$F$107,2,FALSE),\"\")","v":"David St. Jean"},null,"Sub30",{"$f":"IFERROR(VLOOKUP(U10,'LEAGUE MEMBERSHIP'!$E$8:$F$107,2,FALSE),\"\")","v":""}]
[null,null,null,{"$f":"D25","v":1},{"$f":"E25","v":1},1,1,1,0,1,0,0,{"$f":"SUM(D11:L11)","v":6}]
[{"$f":"IF(B12=\"DNP\",IF(B14=\"DNP\",\"ERROR\",A14),IF(B12=\"COURSE\",0,VLOOKUP(VLOOKUP(B12,'LEAGUE MEMBERSHIP'!E:G,3,FALSE),'INDIVIDUAL SCORES'!$A$74:$P$2799,16,FALSE)))","v":9},{"$f":"$N$12&\"A\"","v":"5A"},{"$f":"VLOOKUP(B12,'LEAGUE MEMBERSHIP'!$E$8:$F$107,2,FALSE)","v":"Dennis Normandin"},null,null,null,null,null,null,null,null,null,null,{"$f":"LEFT(SUBSTITUTE(N10,\" v \",\",\"),FIND(\",\",SUBSTITUTE(N10,\" v \",\",\"))-1)","v":"5"},null,null,null,null,{"$f":"IFERROR(IF(LEFT(R12,6)=\"Course\",\"Course\",IF(LEFT(R12,3)=\"DNP\",\"DNP\",IF(FIND(\" - \",R12) = 5,LEFT(R12,4),LEFT(R12,5)))),\"\")","v":""},null,{"$f":"IFERROR(IF(LEFT(T12,6)=\"Course\",\"Course\",IF(LEFT(T12,3)=\"DNP\",\"DNP\",IF(FIND(\" - \",T12) = 5,LEFT(T12,4),LEFT(T12,5)))),\"\")","v":""}]
[null,null,null,{"$f":"D26","v":1},{"$f":"E26","v":1},1,0,0,0,1,0,0,{"$f":"SUM(D13:L13)","v":4}]
[{"$f":"IF(B14=\"DNP\",IF(B12=\"DNP\",\"ERROR\",A12),IF(B14=\"COURSE\",0,VLOOKUP(VLOOKUP(B14,'LEAGUE MEMBERSHIP'!E:G,3,FALSE),'INDIVIDUAL SCORES'!$A$74:$P$2799,16,FALSE)))","v":7},{"$f":"$N$12&\"B\"","v":"5B"},{"$f":"VLOOKUP(B14,'LEAGUE MEMBERSHIP'!$E$8:$F$107,2,FALSE)","v":"Mark Normandin"},null,null,null,null,null,null,null,null,null,null,null,null,null,null,null,{"$f":"IFERROR(B12&\" - \"&VLOOKUP(B12,'LEAGUE MEMBERSHIP'!E:F,2,FALSE),\"\")","v":"5A - Dennis Normandin"},null,{"$f":"\" Team \"&N12&\" v Team \"&N18","v":" Team 5 v Team 10"}]
[null,null,"+/-",null,null,null,null,null,null,null,null,null,null,null,null,null,null,null,{"$f":"IFERROR(B14&\" - \"&VLOOKUP(B14,'LEAGUE MEMBERSHIP'!E:F,2,FALSE),\"\")","v":"5B - Mark Normandin"}]
[null,null,null,null,null,null,null,null,null,null,null,null,null,null,null,null,null,null,{"$f":"IFERROR(B18&\" - \"&VLOOKUP(B18,'LEAGUE MEMBERSHIP'!E:F,2,FALSE),\"\")","v":"10A - Ron Eckstrom"}]
[null,null,null,{"$f":"D28","v":0},{"$f":"E28","v":0},0,0,0,0,0,0,0,{"$f":"SUM(D17:L17)","v":0},null,null,null,null,null,{"$f":"IFERROR(B20&\" - \"&VLOOKUP(B20,'LEAGUE MEMBERSHIP'!E:F,2,FALSE),\"\")","v":"10B - Beth Romano"}]
[{"$f":"IF(B18=\"DNP\",IF(B20=\"DNP\",\"ERROR\",A20),IF(B18=\"COURSE\",0,VLOOKUP(VLOOKUP(B18,'LEAGUE MEMBERSHIP'!E:G,3,FALSE),'INDIVIDUAL SCORES'!$A$74:$P$2799,16,FALSE)))","v":3},{"$f":"$N$18&\"A\"","v":"10A"},{"$f":"VLOOKUP(B18,'LEAGUE MEMBERSHIP'!$E$8:$F$107,2,FALSE)","v":"Ron Eckstrom"},null,null,null,null,null,null,null,null,null,null,{"$f":"RIGHT(SUBSTITUTE(N10,\" v \",\",\"),LEN(SUBSTITUTE(N10,\" v \",\",\"))-FIND(\",\",SUBSTITUTE(N10,\" v \",\",\")))","v":"10"}]
[null,null,null,{"$f":"D29","v":1},{"$f":"E29","v":1},1,1,1,1,2,1,1,{"$f":"SUM(D19:L19)","v":10}]
[{"$f":"IF(B20=\"DNP\",IF(B18=\"DNP\",\"ERROR\",A18),IF(B20=\"COURSE\",0,VLOOKUP(VLOOKUP(B20,'LEAGUE MEMBERSHIP'!E:G,3,FALSE),'INDIVIDUAL SCORES'!$A$74:$P$2799,16,FALSE)))","v":13},{"$f":"$N$18&\"B\"","v":"10B"},{"$f":"VLOOKUP(B20,'LEAGUE MEMBERSHIP'!$E$8:$F$107,2,FALSE)","v":"Beth Romano"}]
[null,null,null,null,null,null,null,null,null,null,null,null,null,null,null,null,null,{"$f":"'LEAGUE MEMBERSHIP'!J62&\" - \"&'LEAGUE MEMBERSHIP'!K62","v":"Sub1 - Becky Bartkus"}]
[{"$f":"CONCATENATE(\"TEE TIME: \",TEXT(N9,\"h:mm\"),\" PM\")","v":"TEE TIME: 4:00 PM"},null,null,null,null,null,null,null,null,null,null,null,null,null,null,null,null,{"$f":"'LEAGUE MEMBERSHIP'!J63&\" - \"&'LEAGUE MEMBERSHIP'!K63","v":"Sub2 - P.J. Romano"}]
[null,null,"Men's Hcp. Rank",{"$f":"RANK(D7,$D$7:$L$7,1)","v":3},{"$f":"RANK(E7,$D$7:$L$7,1)","v":4},2,5,6,9,1,8,7,null,null,null,null,null,{"$f":"'LEAGUE MEMBERSHIP'!J64&\" - \"&'LEAGUE MEMBERSHIP'!K64","v":"Sub3 - Mike Forbes"}]
[null,null,"Women's Hcp. Rank",{"$f":"RANK(D10,$D$10:$L$10,1)","v":3},{"$f":"RANK(E10,$D$10:$L$10,1)","v":4},2,5,6,9,1,8,7,null,null,null,null,null,{"$f":"'LEAGUE MEMBERSHIP'!J65&\" - \"&'LEAGUE MEMBERSHIP'!K65","v":"Sub4 - Mike Romano"}]
[{"$f":"MIN(A12:A20)","v":3},{"$f":"A12-A25","v":6},{"$f":"VLOOKUP(VLOOKUP(B12,'LEAGUE MEMBERSHIP'!E:G,3,FALSE),'LEAGUE MEMBERSHIP'!$A$8:$D$107,4,FALSE)","v":"M"},{"$f":"IF($C25=\"M\",IF($B25>=D23,IF(D6=3,1,IF($B25-9>=D23,2,1)),0),IF($C25=\"F\",IF($B25>=D24,IF(D9=3,1,IF($B25-9>=D24,2,1)),0),0))","v":1},{"$f":"IF($C25=\"M\",IF($B25>=E23,IF(E6=3,1,IF($B25-9>=E23,2,1)),0),IF($C25=\"F\",IF($B25>=E24,IF(E9=3,1,IF($B25-9>=E24,2,1)),0),0))","v":1},1,1,1,0,1,0,0,null,null,null,null,null,{"$f":"'LEAGUE MEMBERSHIP'!J66&\" - \"&'LEAGUE MEMBERSHIP'!K66","v":"Sub5 - Jono Normandin"}]
[null,{"$f":"A14-A25","v":4},{"$f":"VLOOKUP(VLOOKUP(B14,'LEAGUE MEMBERSHIP'!E:G,3,FALSE),'LEAGUE MEMBERSHIP'!$A$8:$D$107,4,FALSE)","v":"M"},{"$f":"IF($C26=\"M\",IF($B26>=D23,IF(D6=3,1,IF($B26-9>=D23,2,1)),0),IF($C26=\"F\",IF($B26>=D24,IF(D9=3,1,IF($B26-9>=D24,2,1)),0),0))","v":1},{"$f":"IF($C26=\"M\",IF($B26>=E23,IF(E6=3,1,IF($B26-9>=E23,2,1)),0),IF($C26=\"F\",IF($B26>=E24,IF(E9=3,1,IF($B26-9>=E24,2,1)),0),0))","v":1},1,0,0,0,1,0,0,null,null,null,null,null,{"$f":"'LEAGUE MEMBERSHIP'!J67&\" - \"&'LEAGUE MEMBERSHIP'!K67","v":"Sub6 - Scott Leavenworth"}]
[null,null,null,null,null,null,null,null,null,null,null,null,null,null,null,null,null,{"$f":"'LEAGUE MEMBERSHIP'!J68&\" - \"&'LEAGUE MEMBERSHIP'!K68","v":"Sub7 - PJ Fontaine"}]
[null,{"$f":"A18-A25","v":0},{"$f":"VLOOKUP(VLOOKUP(B18,'LEAGUE MEMBERSHIP'!E:G,3,FALSE),'LEAGUE MEMBERSHIP'!$A$8:$D$107,4,FALSE)","v":"M"},{"$f":"IF($C28=\"M\",IF($B28>=D23,IF(D6=3,1,IF($B28-9>=D23,2,1)),0),IF($C28=\"F\",IF($B28>=D24,IF(D9=3,1,IF($B28-9>=D24,2,1)),0),0))","v":0},{"$f":"IF($C28=\"M\",IF($B28>=E23,IF(E6=3,1,IF($B28-9>=E23,2,1)),0),IF($C28=\"F\",IF($B28>=E24,IF(E9=3,1,IF($B28-9>=E24,2,1)),0),0))","v":0},0,0,0,0,0,0,0,null,null,null,null,null,{"$f":"'LEAGUE MEMBERSHIP'!J69&\" - \"&'LEAGUE MEMBERSHIP'!K69","v":"Sub8 - Yogi DiPasquale"}]
[null,{"$f":"A20-A25","v":10},{"$f":"VLOOKUP(VLOOKUP(B20,'LEAGUE MEMBERSHIP'!E:G,3,FALSE),'LEAGUE MEMBERSHIP'!$A$8:$D$107,4,FALSE)","v":"F"},{"$f":"IF($C29=\"M\",IF($B29>=D23,IF(D6=3,1,IF($B29-9>=D23,2,1)),0),IF($C29=\"F\",IF($B29>=D24,IF(D9=3,1,IF($B29-9>=D24,2,1)),0),0))","v":1},{"$f":"IF($C29=\"M\",IF($B29>=E23,IF(E6=3,1,IF($B29-9>=E23,2,1)),0),IF($C29=\"F\",IF($B29>=E24,IF(E9=3,1,IF($B29-9>=E24,2,1)),0),0))","v":1},1,1,1,1,2,1,1,null,null,null,null,null,{"$f":"'LEAGUE MEMBERSHIP'!J70&\" - \"&'LEAGUE MEMBERSHIP'!K70","v":"Sub9 - Jon Friberg"}]
[null,null,null,null,null,null,null,null,null,null,null,null,null,null,null,null,null,{"$f":"'LEAGUE MEMBERSHIP'!J71&\" - \"&'LEAGUE MEMBERSHIP'!K71","v":"Sub10 - Jim Hedlund"}]
[null,null,null,null,null,null,null,null,null,null,null,null,null,null,null,null,null,{"$f":"'LEAGUE MEMBERSHIP'!J72&\" - \"&'LEAGUE MEMBERSHIP'!K72","v":"Sub11 - Don Shank"}]
[{"$f":"MAIN!F8","v":"Final Standings - Second Half"},null,null,null,null,null,null,null,null,null,null,null,null,null,null,null,null,{"$f":"'LEAGUE MEMBERSHIP'!J73&\" - \"&'LEAGUE MEMBERSHIP'!K73","v":"Sub12 - Chris Barry"}]
[null,null,null,null,null,null,null,null,null,null,null,null,null,null,null,null,null,{"$f":"'LEAGUE MEMBERSHIP'!J74&\" - \"&'LEAGUE MEMBERSHIP'!K74","v":"Sub13 - Tom Farias"}]
["Rank","Team",null,null,null,"Points",null,null,null,null,null,null,null,null,null,null,null,{"$f":"'LEAGUE MEMBERSHIP'!J75&\" - \"&'LEAGUE MEMBERSHIP'!K75","v":"Sub14 - Jeff Erskine"}]
[{"$f":"MAIN!F11","v":1},{"$f":"MAIN!G11","v":"10  Ron Eckstrom / Beth Romano"},null,null,null,{"$f":"MAIN!K11","v":43.5},null,null,null,null,null,null,null,null,null,null,null,{"$f":"'LEAGUE MEMBERSHIP'!J76&\" - \"&'LEAGUE MEMBERSHIP'!K76","v":"Sub15 - Jeff Richard"}]
[{"$f":"MAIN!F12","v":2},{"$f":"MAIN!G12","v":"05  Dennis Normandin / Mark Normandin"},null,null,null,{"$f":"MAIN!K12","v":42.5},null,null,null,null,null,null,null,null,null,null,null,{"$f":"'LEAGUE MEMBERSHIP'!J77&\" - \"&'LEAGUE MEMBERSHIP'!K77","v":"Sub16 - Paul Stedman"}]
[{"$f":"MAIN!F13","v":3},{"$f":"MAIN!G13","v":"15  Tim Hurley / John Elie"},null,null,null,{"$f":"MAIN!K13","v":42},null,null,null,null,null,null,null,null,null,null,null,{"$f":"'LEAGUE MEMBERSHIP'!J78&\" - \"&'LEAGUE MEMBERSHIP'!K78","v":"Sub17 - Deb Passios"}]
[{"$f":"MAIN!F14","v":4},{"$f":"MAIN!G14","v":"16  Deb DeCarolis / Joey DeCarolis"},null,null,null,{"$f":"MAIN!K14","v":41.5},null,null,null,null,null,null,null,null,null,null,null,{"$f":"'LEAGUE MEMBERSHIP'!J79&\" - \"&'LEAGUE MEMBERSHIP'!K79","v":"Sub18 - Joe Pearson"}]
[{"$f":"MAIN!F15","v":5},{"$f":"MAIN!G15","v":"12  Sal Cuifetti / Paul LeBlanc"},null,null,null,{"$f":"MAIN!K15","v":41},null,null,null,null,null,null,null,null,null,null,null,{"$f":"'LEAGUE MEMBERSHIP'!J80&\" - \"&'LEAGUE MEMBERSHIP'!K80","v":"Sub19 - Audrey Henderson"}]
[{"$f":"MAIN!F16","v":6},{"$f":"MAIN!G16","v":"19  Gary Leavenworth / Patty Leavenworth"},null,null,null,{"$f":"MAIN!K16","v":40.5},null,null,null,null,null,null,null,null,null,null,null,{"$f":"'LEAGUE MEMBERSHIP'!J81&\" - \"&'LEAGUE MEMBERSHIP'!K81","v":"Sub20 - David St. Jean"}]
[{"$f":"MAIN!F17","v":"7T"},{"$f":"MAIN!G17","v":"01  Lester Lockhart / Pete Normandin"},null,null,null,{"$f":"MAIN!K17","v":39},null,null,null,null,null,null,null,null,null,null,null,{"$f":"'LEAGUE MEMBERSHIP'!J82&\" - \"&'LEAGUE MEMBERSHIP'!K82","v":"Sub21 - Dennis St. Jean"}]
[{"$f":"MAIN!F18","v":"7T"},{"$f":"MAIN!G18","v":"02  Dave Cormier / Adam Williamson"},null,null,null,{"$f":"MAIN!K18","v":39},null,null,null,null,null,null,null,null,null,null,null,{"$f":"'LEAGUE MEMBERSHIP'!J83&\" - \"&'LEAGUE MEMBERSHIP'!K83","v":"Sub22 - Joe Fratticelli"}]
[{"$f":"MAIN!F19","v":9},{"$f":"MAIN!G19","v":"20  Paul Fontaine / Ralph Romano III"},null,null,null,{"$f":"MAIN!K19","v":38},null,null,null,null,null,null,null,null,null,null,null,{"$f":"'LEAGUE MEMBERSHIP'!J84&\" - \"&'LEAGUE MEMBERSHIP'!K84","v":"Sub23 - Pete Collette"}]
[{"$f":"MAIN!F20","v":10},{"$f":"MAIN!G20","v":"17  Gary Bittner / Mike Dauphinais"},null,null,null,{"$f":"MAIN!K20","v":37},null,null,null,null,null,null,null,null,null,null,null,{"$f":"'LEAGUE MEMBERSHIP'!J85&\" - \"&'LEAGUE MEMBERSHIP'!K85","v":"Sub24 - Shane McCarthy"}]
[{"$f":"MAIN!F21","v":11},{"$f":"MAIN!G21","v":"11  Ray Henderson / Zachary Wallace"},null,null,null,{"$f":"MAIN!K21","v":36.5},null,null,null,null,null,null,null,null,null,null,null,{"$f":"'LEAGUE MEMBERSHIP'!J86&\" - \"&'LEAGUE MEMBERSHIP'!K86","v":"Sub25 - Brenda Louney"}]
[{"$f":"MAIN!F22","v":"12T"},{"$f":"MAIN!G22","v":"03  Pete Romano / Don Frigoletto"},null,null,null,{"$f":"MAIN!K22","v":35},null,null,null,null,null,null,null,null,null,null,null,{"$f":"'LEAGUE MEMBERSHIP'!J87&\" - \"&'LEAGUE MEMBERSHIP'!K87","v":"Sub26 - Mark Louney"}]
[{"$f":"MAIN!F23","v":"12T"},{"$f":"MAIN!G23","v":"04  Peg Romano / Lynn Laroche"},null,null,null,{"$f":"MAIN!K23","v":35},null,null,null,null,null,null,null,null,null,null,null,{"$f":"'LEAGUE MEMBERSHIP'!J88&\" - \"&'LEAGUE MEMBERSHIP'!K88","v":"Sub27 - Victor Szewczyk"}]
[{"$f":"MAIN!F24","v":14},{"$f":"MAIN!G24","v":"08  Mike Sunderland / Debbie Sunderland"},null,null,null,{"$f":"MAIN!K24","v":34.5},null,null,null,null,null,null,null,null,null,null,null,{"$f":"'LEAGUE MEMBERSHIP'!J89&\" - \"&'LEAGUE MEMBERSHIP'!K89","v":"Sub28 - Matt Lee"}]
[{"$f":"MAIN!F25","v":15},{"$f":"MAIN!G25","v":"09  Mike Doane / John Cassin"},null,null,null,{"$f":"MAIN!K25","v":32.5},null,null,null,null,null,null,null,null,null,null,null,{"$f":"'LEAGUE MEMBERSHIP'!J90&\" - \"&'LEAGUE MEMBERSHIP'!K90","v":"Sub29 - Jay Melansom"}]
[{"$f":"MAIN!F26","v":16},{"$f":"MAIN!G26","v":"06  Vance Butterfield / Bob Schleyer"},null,null,null,{"$f":"MAIN!K26","v":30.5},null,null,null,null,null,null,null,null,null,null,null,{"$f":"'LEAGUE MEMBERSHIP'!J91&\" - \"&'LEAGUE MEMBERSHIP'!K91","v":"Sub30 - "}]
[{"$f":"MAIN!F27","v":17},{"$f":"MAIN!G27","v":"18  Norm Gamache / Michelle Bouvier"},null,null,null,{"$f":"MAIN!K27","v":29}]
[{"$f":"MAIN!F28","v":18},{"$f":"MAIN!G28","v":"14  Doug Cormier / Ralph Romano, Jr."},null,null,null,{"$f":"MAIN!K28","v":27.5}]
[{"$f":"MAIN!F29","v":19},{"$f":"MAIN!G29","v":"13  Kyle Currier / Walter Drake"},null,null,null,{"$f":"MAIN!K29","v":19.5}]
[{"$f":"MAIN!F30","v":"20T"},{"$f":"MAIN!G30","v":"07  Steve Scapparone / Dave Hyre"},null,null,null,{"$f":"MAIN!K30","v":0}]
[{"$f":"MAIN!F31","v":"20T"},{"$f":"MAIN!G31","v":"21   / "},null,null,null,{"$f":"MAIN!K31","v":0}]
[{"$f":"MAIN!F32","v":"20T"},{"$f":"MAIN!G32","v":"22  / "},null,null,null,{"$f":"MAIN!K32","v":0}]
[{"$f":"'COURSE & LEAGUE DETAILS'!A49","v":"To view scores, handicaps, etc., go to http://www.rromano.com and click on the Romano Golf League 2013 Spreadsheet"}]
[]
[]
[]
[null,{"$f":"$N$12&\"A\"","v":"5A"}]
[]
[null,{"$f":"$N$12&\"B\"","v":"5B"}]
[]
[]
[]
[null,{"$f":"$N$18&\"A\"","v":"10A"}]
[]
[null,{"$f":"$N$18&\"B\"","v":"10B"}]

{"sheet":"SCHEDULE","index":8,"n_rows":203,"n_cols":14,"rows_kept":203,"cut":false,"hidden":false,"merged":[[9,2,9,12],[39,2,40,2],[50,2,50,12],[70,2,70,12]]}
[null,null,null,null,null,null,null,null,null,null,null,"1st Half"]
[null,null,null,null,null,null,null,null,null,null,null,"2nd Half"]
[]
[]
[]
[]
[]
[]
[]
[null,null,{"$f":"IF(J31=$L$1,C51,IF(J31=$L$2,C71,\"ERROR\"))","v":"Schedule - Second Half 2013"}]
[null,null,"Week",{"$f":"IF($J$31=\"1st Half\",IF(D52<>\"\",D52,\"\"),IF($J$31=\"2nd Half\",IF(D72<>\"\",D72,\"\")))","v":"Week 1"},{"$f":"IF($J$31=\"1st Half\",IF(E52<>\"\",E52,\"\"),IF($J$31=\"2nd Half\",IF(E72<>\"\",E72,\"\")))","v":"Week 2"},"Week 3","Week 4","Week 5","Week 6","Week 7","Week 8","Week 9",""]
[null,null,"Date",{"$f":"IF($J$31=\"1st Half\",IF(D53<>\"\",D53,\"\"),IF($J$31=\"2nd Half\",IF(D73<>\"\",D73,\"\")))","v":"2013-07-03"},"2013-07-10","2013-07-17","2013-07-24","2013-07-31","2013-08-07","2013-08-14","2013-08-21","2013-08-28",""]
[null,null,"Side","FRONT","BACK","FRONT","BACK","FRONT","BACK","FRONT","BACK","FRONT",""]
[null,null,"Tee Time"]
[null,null,"All"]
[null,null,{"$f":"IF($J$31=\"1st Half\",IF(C56<>\"\",C56,\"\"),IF($J$31=\"2nd Half\",IF(C76<>\"\",C76,\"\")))","v":"4:00"},"11 v 2","12 v 5","1 v 18","14 v 20","15 v 17","14 v 16","5 v 10","7 v 10","4 v 16","",16]
[null,null,"4:08","16 v 7","18 v 20","14 v 9","3 v 6","5 v 6","13 v 17","11 v 17","8 v 9","8 v 20","",17]
[null,null,"4:16","17 v 8","16 v 9","16 v 20","2 v 7","1 v 16","4 v 9","1 v 14","6 v 20","1 v 12","",18]
[null,null,"4:24","12 v 3","11 v 4","11 v 6","11 v 8","11 v 10","2 v 20","7 v 8","11 v 15","2 v 14","",19]
[null,null,"4:32","14 v 5","14 v 7","3 v 4","13 v 10","2 v 9","5 v 8","13 v 15","5 v 19","5 v 17","",20]
[null,null,"4:40","13 v 4","13 v 6","17 v 19","16 v 18","12 v 20","3 v 10","3 v 19","3 v 17","3 v 15","",21]
[null,null,"4:48","1 v 20","2 v 3","15 v 10","1 v 17","3 v 8","11 v 19","6 v 9","4 v 18","9 v 10","",22]
[null,null,"4:56",{"$f":"IF($J$31=\"1st Half\",IF(D63<>\"\",D63,\"\"),IF($J$31=\"2nd Half\",IF(D83<>\"\",D83,\"\")))","v":"18 v 9"},"15 v 8","2 v 5","4 v 5","14 v 18","6 v 7","4 v 20","2 v 16","7 v 19","",23]
[null,null,"5:04",{"$f":"IF($J$31=\"1st Half\",IF(D64<>\"\",D64,\"\"),IF($J$31=\"2nd Half\",IF(D84<>\"\",D84,\"\")))","v":"19 v 10"},"1 v 19","13 v 8","15 v 19","4 v 7","12 v 18","2 v 18","1 v 13","11 v 13","",24]
[null,null,"5:12",{"$f":"IF($J$31=\"1st Half\",IF(D65<>\"\",D65,\"\"),IF($J$31=\"2nd Half\",IF(D85<>\"\",D85,\"\")))","v":"15 v 6"},"17 v 10","12 v 7","12 v 9","13 v 19","1 v 15","12 v 16","12 v 14","6 v 18","",25]
[null,null,{"$f":"IF(J31=$L$1,IF(C66<>\"\",C66,\"\"),IF(J31=$L$2,IF(C86<>\"\",C86,\"\"),\"ERROR\"))","v":""},{"$f":"IF($J$31=\"1st Half\",IF(D66<>\"\",D66,\"\"),IF($J$31=\"2nd Half\",IF(D86<>\"\",D86,\"\")))","v":""},"","","","","","","","","",26]
[null,null,"Closest to Pin",{"$f":"IF(J31=$L$1,D67,IF(J31=$L$2,D87,\"ERROR\"))","v":8},{"$f":"IF(J31=$L$1,E67,IF(J31=$L$2,E87,\"ERROR\"))","v":16},{"$f":"IF(J31=$L$1,F67,IF(J31=$L$2,F87,\"ERROR\"))","v":6},{"$f":"IF(J31=$L$1,G67,IF(J31=$L$2,G87,\"ERROR\"))","v":14},{"$f":"IF(J31=$L$1,H67,IF(J31=$L$2,H87,\"ERROR\"))","v":8},{"$f":"IF(J31=$L$1,I67,IF(J31=$L$2,I87,\"ERROR\"))","v":16},{"$f":"IF(J31=$L$1,J67,IF(J31=$L$2,J87,\"ERROR\"))","v":6},{"$f":"IF(J31=$L$1,K67,IF(J31=$L$2,K87,\"ERROR\"))","v":14},{"$f":"IF(J31=$L$1,L67,IF(J31=$L$2,L87,\"ERROR\"))","v":8},{"$f":"IF(J31=$L$1,M67,IF(J31=$L$2,M87,\"ERROR\"))","v":""}]
[]
[]
[]
[null,null,null,null,null,null,null,null,null,"2nd Half"]
[]
[]
[]
[]
[]
[]
[]
[]
[]
[]
[]
[]
[]
[]
[]
[]
[]
[]
[]
[null,null,{"$f":"\"Schedule - First Half \" & 'COURSE & LEAGUE DETAILS'!F2","v":"Schedule - First Half 2013"}]
[null,"x","Week","Week 1","Week 2","Week 3","Week 4","Week 5","Week 6","Week 7","Week 8","Week 9","Week 10"]
[null,null,"Date","2013-04-24","2013-05-01","2013-05-08","2013-05-15","2013-05-22","2013-05-29","2013-06-05","2013-06-12","2013-06-19","2013-06-26"]
[null,null,"Side","FRONT","BACK","FRONT","BACK","FRONT","BACK","FRONT","BACK","FRONT","BACK"]
[null,null,"Tee Time"]
[null,"04:00:00",{"$f":"TEXT(B56,\"h:mm\")","v":"4:00"},"4 v 14","8 v 16","9 v 15","8 v 12","20 v 13","9 v 3","16 v 13","1 v 8","18 v 5","16 v 5"]
[null,"04:08:00","4:08","5 v 15","3 v 11","5 v 11","1 v 4","6 v 4","20 v 11","20 v 3","15 v 12","15 v 2","15 v 4"]
[null,"04:16:00","4:16","1 v 11","1 v 2","1 v 3","9 v 13","1 v 5","1 v 6","8 v 6","16 v 11","20 v 7","12 v 11"]
[null,"04:24:00","4:24","3 v 13","9 v 17","6 v 12","20 v 15","18 v 15","19 v 12","9 v 5","18 v 3","16 v 3","20 v 9"]
[null,"04:32:00","4:32","7 v 17","6 v 14","20 v 17","6 v 2","9 v 11","16 v 15","17 v 12","10 v 6","13 v 12","13 v 2"]
[null,"04:40:00","4:40","8 v 18","4 v 12","4 v 2","18 v 17","10 v 12","17 v 14","18 v 11","20 v 5","14 v 11","1 v 10"]
[null,"04:48:00","4:48","9 v 19","10 v 18","10 v 16","10 v 14","19 v 14","18 v 13","1 v 7","17 v 2","17 v 4","18 v 7"]
[null,{"$f":"IF(B$99>7,\"4:56:00 AM\",\"\")","v":"4:56:00 AM"},"4:56","2 v 12","7 v 15","19 v 18","7 v 11","7 v 3","10 v 2","19 v 2","14 v 13","19 v 6","17 v 6"]
[null,{"$f":"IF(B$99>8,\"5:04:00 AM\",\"\")","v":"5:04:00 AM"},"5:04","6 v 16","20 v 19","8 v 14","19 v 16","17 v 16","8 v 4","15 v 14","19 v 4","1 v 9","19 v 8"]
[null,{"$f":"IF(B$99>9,\"5:12:00 AM\",\"\")","v":"5:12:00 AM"},{"$f":"TEXT(B65,\"h:mm\")","v":"5:12"},"10 v 20","5 v 13","7 v 13","5 v 3","8 v 2","7 v 5","10 v 4","9 v 7","10 v 8","14 v 3"]
[null,{"$f":"IF(B$99>10,\"5:20:00 AM\",\"\")","v":""},{"$f":"TEXT(B66,\"h:mm\")","v":""}]
[null,null,"Closest to Pin",{"$f":"IF(D54=\"FRONT\",6,14)","v":6},{"$f":"IF(E54=\"FRONT\",6,14)","v":14},{"$f":"IF(F54=\"FRONT\",8,16)","v":8},{"$f":"IF(G54=\"FRONT\",8,16)","v":16},{"$f":"IF(H54=\"FRONT\",6,14)","v":6},{"$f":"IF(I54=\"FRONT\",6,14)","v":14},{"$f":"IF(J54=\"FRONT\",8,16)","v":8},{"$f":"IF(K54=\"FRONT\",8,IF(K54=\"\",\"\",16))","v":16},{"$f":"IF(L54=\"FRONT\",6,IF(L54=\"\",\"\",14))","v":6},{"$f":"IF(M54=\"FRONT\",6,IF(M54=\"\",\"\",14))","v":14}]
[]
[]
[]
[null,null,{"$f":"\"Schedule - Second Half \" & 'COURSE & LEAGUE DETAILS'!F2","v":"Schedule - Second Half 2013"}]
[null,"x","Week","Week 1","Week 2","Week 3","Week 4","Week 5","Week 6","Week 7","Week 8","Week 9"]
[null,null,"Date","2013-07-03","2013-07-10","2013-07-17","2013-07-24","2013-07-31","2013-08-07","2013-08-14","2013-08-21","2013-08-28"]
[null,null,"Side","FRONT","BACK","FRONT","BACK","FRONT","BACK","FRONT","BACK","FRONT"]
[null,null,"Tee Time"]
[null,"04:00:00",{"$f":"TEXT(B76,\"h:mm\")","v":"4:00"},"11 v 2","12 v 5","1 v 18","14 v 20","15 v 17","14 v 16","5 v 10","7 v 10","4 v 16"]
[null,"04:08:00","4:08","16 v 7","18 v 20","14 v 9","3 v 6","5 v 6","13 v 17","11 v 17","8 v 9","8 v 20"]
[null,"04:16:00","4:16","17 v 8","16 v 9","16 v 20","2 v 7","1 v 16","4 v 9","1 v 14","6 v 20","1 v 12"]
[null,"04:24:00","4:24","12 v 3","11 v 4","11 v 6","11 v 8","11 v 10","2 v 20","7 v 8","11 v 15","2 v 14"]
[null,"04:32:00","4:32","14 v 5","14 v 7","3 v 4","13 v 10","2 v 9","5 v 8","13 v 15","5 v 19","5 v 17"]
[null,"04:40:00","4:40","13 v 4","13 v 6","17 v 19","16 v 18","12 v 20","3 v 10","3 v 19","3 v 17","3 v 15"]
[null,"04:48:00","4:48","1 v 20","2 v 3","15 v 10","1 v 17","3 v 8","11 v 19","6 v 9","4 v 18","9 v 10"]
[null,{"$f":"IF(B$99>7,\"4:56:00 AM\",\"\")","v":"4:56:00 AM"},"4:56","18 v 9","15 v 8","2 v 5","4 v 5","14 v 18","6 v 7","4 v 20","2 v 16","7 v 19"]
[null,{"$f":"IF(B$99>8,\"5:04:00 AM\",\"\")","v":"5:04:00 AM"},"5:04","19 v 10","1 v 19","13 v 8","15 v 19","4 v 7","12 v 18","2 v 18","1 v 13","11 v 13"]
[null,{"$f":"IF(B$99>9,\"5:12:00 AM\",\"\")","v":"5:12:00 AM"},"5:12","15 v 6","17 v 10","12 v 7","12 v 9","13 v 19","1 v 15","12 v 16","12 v 14","6 v 18"]
[null,{"$f":"IF(B$99>10,\"5:20:00 AM\",\"\")","v":""},""]
[null,null,"Closest to Pin",{"$f":"IF(D74=\"FRONT\",8,16)","v":8},{"$f":"IF(E74=\"FRONT\",8,16)","v":16},{"$f":"IF(F74=\"FRONT\",6,14)","v":6},{"$f":"IF(G74=\"FRONT\",6,14)","v":14},{"$f":"IF(H74=\"FRONT\",8,16)","v":8},{"$f":"IF(I74=\"FRONT\",8,16)","v":16},{"$f":"IF(J74=\"FRONT\",6,14)","v":6},{"$f":"IF(K74=\"FRONT\",6,IF(K74=\"\",\"\",14))","v":14},{"$f":"IF(L74=\"FRONT\",8,IF(L74=\"\",\"\",16))","v":8},{"$f":"IF(M74=\"FRONT\",8,IF(M74=\"\",\"\",16))","v":""}]
[]
[]
[]
[]
[]
[]
[]
[]
["No. Weeks"]
[]
[]
[null,10]
["Team1","Team2",null,null,"x"]
[null,null,null,null,"x"]
[null,null,null,{"$f":"A102&\" v \"&B102","v":" v "}]
[null,null,null,{"$f":"A103&\" v \"&B103","v":" v "}]
[null,null,null," v "]
[null,null,null," v "]
[null,null,null," v "]
[null,null,null," v "]
[null,null,null," v "]
[null,null,null," v "]
[null,null,null," v "]
[null,null,null," v "]
[]
[]
[]
["No. Teams"]
[14]
[16]
[18]
[20]
[22]
[]
["Start Date"]
["2012-04-25"]
["2013-04-24"]
["2013-05-01"]
["2014-04-23"]
["2014-04-30"]
["2015-04-22"]
["2015-04-29"]
["2016-04-27"]
[]
["Side"]
["FRONT"]
["BACK"]
[]
["No. Weeks"]
[13]
[14]
[15]
[16]
[17]
[18]
[19]
[20]
[21]
[22]
[23]
[24]
[]
["Half","Week"]
["1st Half","Week 10"]
["Switch1","Switch2"]
[]
["Matches"]
[{"$f":"IF(HLOOKUP($B$151,$D$52:$M$66,5,FALSE)<>0,IF($A$151=$L$1,HLOOKUP($B$151,$D$52:$M$66,5,FALSE),HLOOKUP($B$151,$D$72:$M$86,5,FALSE)),\"\")","v":"16 v 5"}]
[{"$f":"IF(HLOOKUP($B$151,$D$52:$M$66,6,FALSE)<>0,IF($A$151=$L$1,HLOOKUP($B$151,$D$52:$M$66,6,FALSE),HLOOKUP($B$151,$D$72:$M$86,6,FALSE)),\"\")","v":"15 v 4"}]
[{"$f":"IF(HLOOKUP($B$151,$D$52:$M$66,7,FALSE)<>0,IF($A$151=$L$1,HLOOKUP($B$151,$D$52:$M$66,7,FALSE),HLOOKUP($B$151,$D$72:$M$86,7,FALSE)),\"\")","v":"12 v 11"}]
[{"$f":"IF(HLOOKUP($B$151,$D$52:$M$66,8,FALSE)<>0,IF($A$151=$L$1,HLOOKUP($B$151,$D$52:$M$66,8,FALSE),HLOOKUP($B$151,$D$72:$M$86,8,FALSE)),\"\")","v":"20 v 9"}]
[{"$f":"IF(HLOOKUP($B$151,$D$52:$M$66,9,FALSE)<>0,IF($A$151=$L$1,HLOOKUP($B$151,$D$52:$M$66,9,FALSE),HLOOKUP($B$151,$D$72:$M$86,9,FALSE)),\"\")","v":"13 v 2"}]
[{"$f":"IF(HLOOKUP($B$151,$D$52:$M$66,10,FALSE)<>0,IF($A$151=$L$1,HLOOKUP($B$151,$D$52:$M$66,10,FALSE),HLOOKUP($B$151,$D$72:$M$86,10,FALSE)),\"\")","v":"1 v 10"}]
[{"$f":"IF(HLOOKUP($B$151,$D$52:$M$66,11,FALSE)<>0,IF($A$151=$L$1,HLOOKUP($B$151,$D$52:$M$66,11,FALSE),HLOOKUP($B$151,$D$72:$M$86,11,FALSE)),\"\")","v":"18 v 7"}]
[{"$f":"IF(HLOOKUP($B$151,$D$52:$M$66,12,FALSE)=\"\",\"\",IF($A$151=$L$1,HLOOKUP($B$151,$D$52:$M$66,12,FALSE),IF(HLOOKUP($B$151,$D$72:$M$86,12,FALSE)=\"\",\"\",HLOOKUP($B$151,$D$72:$M$86,12,FALSE))))","v":"17 v 6"}]
[{"$f":"IF(HLOOKUP($B$151,$D$52:$M$66,13,FALSE)=\"\",\"\",IF($A$151=$L$1,HLOOKUP($B$151,$D$52:$M$66,13,FALSE),IF(HLOOKUP($B$151,$D$72:$M$86,13,FALSE)=\"\",\"\",HLOOKUP($B$151,$D$72:$M$86,13,FALSE))))","v":"19 v 8"}]
[{"$f":"IF(HLOOKUP($B$151,$D$52:$M$66,14,FALSE)=\"\",\"\",IF($A$151=$L$1,HLOOKUP($B$151,$D$52:$M$66,14,FALSE),IF(HLOOKUP($B$151,$D$72:$M$86,14,FALSE)=\"\",\"\",HLOOKUP($B$151,$D$72:$M$86,14,FALSE))))","v":"14 v 3"}]
[{"$f":"IF(HLOOKUP($B$151,$D$52:$M$66,15,FALSE)=\"\",\"\",IF($A$151=$L$1,HLOOKUP($B$151,$D$52:$M$66,15,FALSE),IF(HLOOKUP($B$151,$D$72:$M$86,15,FALSE)=\"\",\"\",HLOOKUP($B$151,$D$72:$M$86,15,FALSE))))","v":""}]
[]
["Week 1"]
["Week 2"]
["Week 3"]
["Week 4"]
["Week 5"]
["Week 6"]
["Week 7"]
[{"$f":"IF(K52=\"\",\"\",\"Week 8\")","v":"Week 8"}]
[{"$f":"IF(L52=\"\",\"\",\"Week 9\")","v":"Week 9"}]
[{"$f":"IF(M52=\"\",\"\",\"Week 10\")","v":"Week 10"}]
[{"$f":"IF(N52=\"\",\"\",\"Week 11\")","v":""}]
[]
[]
[]
[]
[]
[]
[]
[]
[]
[]
[]
[]
[]
[]
[]
[]
[]
[]
[]
[]
[]
[]
["1st Half Ends"]
["Week 10"]
["2d Half Ends"]
["Week 9"]

{"sheet":"ARCHIVED HCPS","index":9,"n_rows":461,"n_cols":19,"rows_kept":461,"cut":false,"hidden":false,"merged":[[6,5,6,9]]}
[null,null,null,null,null,null,null,null,null,"Inactive Members"]
[null,null,null,null,null,null,null,null,null,{"$f":"'COURSE & LEAGUE DETAILS'!B2&\" - \"&'COURSE & LEAGUE DETAILS'!F2","v":"Romano Golf League - 2013"}]
[]
[]
[]
[]
["Last Name","First Name","M / F","TelNo","Hcp.","Prior Scores"]
["Behringer","Rob","M",null,9,"2009-09-09","2009-09-02","2009-08-26","2009-08-19","2009-08-12",{"$f":"B8&\" \"&A8","v":"Rob Behringer"}]
[null,null,null,null,null,51,44,40,57,42,{"$f":"B9&\" \"&A9","v":" "}]
["Dyment","Mark","M",null,10,"2009-09-02","2009-08-26","2009-08-05","2009-07-29","2009-07-15","Mark Dyment"]
[null,null,null,null,null,56,43,47,50,49," "]
["Money","David","M",null,15,"2009-08-26","2009-08-19","2009-08-12","2009-08-05","2009-07-29","David Money"]
[null,null,null,null,null,58,57,51,55,55," "]
["Normandin, Jr.","Pete","M",null,11,"2009-07-29","2009-07-22","2009-07-15","2009-07-08","2009-06-24","Pete Normandin, Jr."]
[null,null,null,null,null,47,48,47,54,52," "]
["Robinson","Doug","M",null,10,"2009-09-09","2009-09-02","2009-08-26","2009-08-19","2009-08-12","Doug Robinson"]
[null,null,null,null,null,50,47,48,50,48," "]
["Baker","Bruce","M",null,14,"'08 Score","'08 Score","'08 Score","'08 Score","'08 Score","Bruce Baker"]
[null,null,null,null,null,58,54,53,50,54," "]
["Fisher","Frank","M",null,7,"2011-08-24","2011-08-17","2011-08-10","2011-08-03","2011-07-27","Frank Fisher"]
[null,null,null,null,null,41,40,55,41,45," "]
["Buhts","Chris","M",null,8,"2011-08-24","2011-08-17","2011-08-10","2011-08-03","2011-07-20","Chris Buhts"]
[null,null,null,null,null,51,47,46,45,43," "]
["Vitone","Dan","M",null,12,"2011-08-17","2011-08-03","2011-06-29","2011-06-15","2011-06-08","Dan Vitone"]
[null,null,null,null,null,55,48,53,54,48," "]
["Bowes","Jack","M",null,18,"2009-05-20","2009-05-13","2009-05-06","2009-04-29","Calc.","Jack Bowes"]
[null,null,null,null,null,60,60,53,63,56," "]
["Baker","Cindy","F",null,16,"2010-07-28","2010-06-23","2010-05-05","'08 Score","'08 Score","Cindy Baker"]
[null,null,null,null,null,52,60,57,51,58," "]
["Bobusia","Mike","M",null,6,"2010-08-25","2010-08-18","2010-08-11","2010-08-04","2010-07-28","Mike Bobusia"]
[null,null,null,null,null,42,42,49,44,40," "]
["Butterfield","Vance","M",null,18,"Calc.","Calc.","Calc.","Calc.","Calc.","Vance Butterfield"]
[null,null,null,null,null,59,59,59,59,59," "]
["Gamache","Mike","M",null,12,"2011-08-24","2011-08-17","2011-08-10","2011-07-27","2011-07-20","Mike Gamache"]
[null,null,null,null,null,52,55,45,52,50," "]
["Stedman","Paul","M",null,4,"Calc.","Calc.","Calc.","Calc.","Calc.","Paul Stedman"]
[null,null,null,null,null,41,41,41,41,41," "]
["Stedmab","Paul","M",null,0,"Calc.","Calc.","Calc.","Calc.","Calc.","Paul Stedmab"]
[null,null,null,null,null,36,36,36,36,36," "]
["Henderson","Zack","M",null,8,"2012-08-29","2012-08-01","2012-06-20","Calc.","Calc.","Calc."]
[null,null,null,null,null,55,53,51,36,36,36]
["Currier","Kyle","M",null,6,"Calc.","Calc.","Calc.","Calc.","Calc.",{"$f":"B42&\" \"&A42","v":"Kyle Currier"}]
[null,null,null,null,null,44,44,44,44,44," "]
["Boisvert","Norman","M",null,20,"2011-07-06","2010-08-18","2010-08-11","2010-08-04","2010-07-21","Norman Boisvert","Calc.","Calc."]
[null,null,null,null,null,65,60,60,60,61," ",36,36]
["Candelet","Gary","M",null,9,"2012-08-22","2012-08-15","2012-08-08","2012-08-01","2012-07-18",41073,41052,41045,41038,40779,40772,40765,40758,40744]
[null,null,null,null,null,47,49,51,41,48,46,49,50,52,47,54,59,54,48]
["Egan","Rick","M",null,14,"2009-06-17","'08 Score","'08 Score","'08 Score","'08 Score","Rick Egan"]
[null,null,null,null,null,53,50,58,50,55," "]
[null,null,null,null,null,null,null,null,null,null," "]
[null,null,null,null,null,null,null,null,null,null," "]
[null,null,null,null,null,null,null,null,null,null," "]
[null,null,null,null,null,null,null,null,null,null," "]
[null,null,null,null,null,null,null,null,null,null," "]
[null,null,null,null,null,null,null,null,null,null," "]
[null,null,null,null,null,null,null,null,null,null," "]
[null,null,null,null,null,null,null,null,null,null," "]
[null,null,null,null,null,null,null,null,null,null," "]
[null,null,null,null,null,null,null,null,null,null," "]
[null,null,null,null,null,null,null,null,null,null," "]
[null,null,null,null,null,null,null,null,null,null," "]
[null,null,null,null,null,null,null,null,null,null," "]
[null,null,null,null,null,null,null,null,null,null," "]
[null,null,null,null,null,null,null,null,null,null," "]
[null,null,null,null,null,null,null,null,null,null," "]
[null,null,null,null,null,null,null,null,null,null," "]
[null,null,null,null,null,null,null,null,null,null," "]
[null,null,null,null,null,null,null,null,null,null," "]
[null,null,null,null,null,null,null,null,null,null," "]
[null,null,null,null,null,null,null,null,null,null," "]
[null,null,null,null,null,null,null,null,null,null," "]
[null,null,null,null,null,null,null,null,null,null," "]
[null,null,null,null,null,null,null,null,null,null," "]
[null,null,null,null,null,null,null,null,null,null," "]
[null,null,null,null,null,null,null,null,null,null," "]
[null,null,null,null,null,null,null,null,null,null," "]
[null,null,null,null,null,null,null,null,null,null," "]
[null,null,null,null,null,null,null,null,null,null," "]
[null,null,null,null,null,null,null,null,null,null," "]
[null,null,null,null,null,null,null,null,null,null," "]
[null,null,null,null,null,null,null,null,null,null," "]
[null,null,null,null,null,null,null,null,null,null," "]
[null,null,null,null,null,null,null,null,null,null," "]
[null,null,null,null,null,null,null,null,null,null," "]
[null,null,null,null,null,null,null,null,null,null," "]
[null,null,null,null,null,null,null,null,null,null," "]
[null,null,null,null,null,null,null,null,null,null," "]
[null,null,null,null,null,null,null,null,null,null," "]
[null,null,null,null,null,null,null,null,null,null," "]
[null,null,null,null,null,null,null,null,null,null," "]
[null,null,null,null,null,null,null,null,null,null," "]
[null,null,null,null,null,null,null,null,null,null," "]
[null,null,null,null,null,null,null,null,null,null," "]
[null,null,null,null,null,null,null,null,null,null," "]
[null,null,null,null,null,null,null,null,null,null," "]
[null,null,null,null,null,null,null,null,null,null," "]
[null,null,null,null,null,null,null,null,null,null,{"$f":"B97&\" \"&A97","v":" "}]
[null,null,null,null,null,null,null,null,null,null," "]
[null,null,null,null,null,null,null,null,null,null," "]
[null,null,null,null,null,null,null,null,null,null," "]
[null,null,null,null,null,null,null,null,null,null," "]
[null,null,null,null,null,null,null,null,null,null," "]
[null,null,null,null,null,null,null,null,null,null," "]
[null,null,null,null,null,null,null,null,null,null," "]
[null,null,null,null,null,null,null,null,null,null," "]
[null,null,null,null,null,null,null,null,null,null," "]
[null,null,null,null,null,null,null,null,null,null," "]
[null,null,null,null,null,null,null,null,null,null," "]
[null,null,null,null,null,null,null,null,null,null," "]
[null,null,null,null,null,null,null,null,null,null," "]
[null,null,null,null,null,null,null,null,null,null," "]
[null,null,null,null,null,null,null,null,null,null," "]
[null,null,null,null,null,null,null,null,null,null," "]
[null,null,null,null,null,null,null,null,null,null," "]
[null,null,null,null,null,null,null,null,null,null," "]
[null,null,null,null,null,null,null,null,null,null," "]
[null,null,null,null,null,null,null,null,null,null," "]
[null,null,null,null,null,null,null,null,null,null," "]
[null,null,null,null,null,null,null,null,null,null," "]
[null,null,null,null,null,null,null,null,null,null," "]
[null,null,null,null,null,null,null,null,null,null," "]
[null,null,null,null,null,null,null,null,null,null," "]
[null,null,null,null,null,null,null,null,null,null," "]
[null,null,null,null,null,null,null,null,null,null," "]
[null,null,null,null,null,null,null,null,null,null," "]
[null,null,null,null,null,null,null,null,null,null," "]
[null,null,null,null,null,null,null,null,null,null," "]
[null,null,null,null,null,null,null,null,null,null," "]
[null,null,null,null,null,null,null,null,null,null," "]
[null,null,null,null,null,null,null,null,null,null," "]
[null,null,null,null,null,null,null,null,null,null," "]
[null,null,null,null,null,null,null,null,null,null," "]
[null,null,null,null,null,null,null,null,null,null," "]
[null,null,null,null,null,null,null,null,null,null," "]
[null,null,null,null,null,null,null,null,null,null," "]
[null,null,null,null,null,null,null,null,null,null," "]
[null,null,null,null,null,null,null,null,null,null," "]
[null,null,null,null,null,null,null,null,null,null," "]
[null,null,null,null,null,null,null,null,null,null," "]
[null,null,null,null,null,null,null,null,null,null," "]
[null,null,null,null,null,null,null,null,null,null," "]
[null,null,null,null,null,null,null,null,null,null," "]
[null,null,null,null,null,null,null,null,null,null," "]
[null,null,null,null,null,null,null,null,null,null," "]
[null,null,null,null,null,null,null,null,null,null," "]
[null,null,null,null,null,null,null,null,null,null," "]
[null,null,null,null,null,null,null,null,null,null," "]
[null,null,null,null,null,null,null,null,null,null," "]
[null,null,null,null,null,null,null,null,null,null," "]
[null,null,null,null,null,null,null,null,null,null," "]
[null,null,null,null,null,null,null,null,null,null," "]
[null,null,null,null,null,null,null,null,null,null," "]
[null,null,null,null,null,null,null,null,null,null," "]
[null,null,null,null,null,null,null,null,null,null," "]
[null,null,null,null,null,null,null,null,null,null," "]
[null,null,null,null,null,null,null,null,null,null," "]
[null,null,null,null,null,null,null,null,null,null," "]
[null,null,null,null,null,null,null,null,null,null," "]
[null,null,null,null,null,null,null,null,null,null," "]
[null,null,null,null,null,null,null,null,null,null,{"$f":"B160&\" \"&A160","v":" "}]
[null,null,null,null,null,null,null,null,null,null," "]
[null,null,null,null,null,null,null,null,null,null," "]
[null,null,null,null,null,null,null,null,null,null," "]
[null,null,null,null,null,null,null,null,null,null," "]
[null,null,null,null,null,null,null,null,null,null," "]
[null,null,null,null,null,null,null,null,null,null," "]
[null,null,null,null,null,null,null,null,null,null," "]
[null,null,null,null,null,null,null,null,null,null," "]
[null,null,null,null,null,null,null,null,null,null," "]
[null,null,null,null,null,null,null,null,null,null," "]
[null,null,null,null,null,null,null,null,null,null," "]
[null,null,null,null,null,null,null,null,null,null," "]
[null,null,null,null,null,null,null,null,null,null," "]
[null,null,null,null,null,null,null,null,null,null," "]
[null,null,null,null,null,null,null,null,null,null," "]
[null,null,null,null,null,null,null,null,null,null," "]
[null,null,null,null,null,null,null,null,null,null," "]
[null,null,null,null,null,null,null,null,null,null," "]
[null,null,null,null,null,null,null,null,null,null," "]
[null,null,null,null,null,null,null,null,null,null," "]
[null,null,null,null,null,null,null,null,null,null," "]
[null,null,null,null,null,null,null,null,null,null," "]
[null,null,null,null,null,null,null,null,null,null," "]
[null,null,null,null,null,null,null,null,null,null," "]
[null,null,null,null,null,null,null,null,null,null," "]
[null,null,null,null,null,null,null,null,null,null," "]
[null,null,null,null,null,null,null,null,null,null," "]
[null,null,null,null,null,null,null,null,null,null," "]
[null,null,null,null,null,null,null,null,null,null," "]
[null,null,null,null,null,null,null,null,null,null," "]
[null,null,null,null,null,null,null,null,null,null," "]
[null,null,null,null,null,null,null,null,null,null," "]
[null,null,null,null,null,null,null,null,null,null," "]
[null,null,null,null,null,null,null,null,null,null," "]
[null,null,null,null,null,null,null,null,null,null," "]
[null,null,null,null,null,null,null,null,null,null," "]
[null,null,null,null,null,null,null,null,null,null," "]
[null,null,null,null,null,null,null,null,null,null," "]
[null,null,null,null,null,null,null,null,null,null," "]
[null,null,null,null,null,null,null,null,null,null," "]
[null,null,null,null,null,null,null,null,null,null," "]
[null,null,null,null,null,null,null,null,null,null," "]
[null,null,null,null,null,null,null,null,null,null," "]
[null,null,null,null,null,null,null,null,null,null," "]
[null,null,null,null,null,null,null,null,null,null," "]
[null,null,null,null,null,null,null,null,null,null," "]
[null,null,null,null,null,null,null,null,null,null," "]
[null,null,null,null,null,null,null,null,null,null," "]
[null,null,null,null,null,null,null,null,null,null," "]
[null,null,null,null,null,null,null,null,null,null," "]
[null,null,null,null,null,null,null,null,null,null," "]
[null,null,null,null,null,null,null,null,null,null," "]
[null,null,null,null,null,null,null,null,null,null," "]
[null,null,null,null,null,null,null,null,null,null," "]
[null,null,null,null,null,null,null,null,null,null," "]
[null,null,null,null,null,null,null,null,null,null," "]
[null,null,null,null,null,null,null,null,null,null," "]
[null,null,null,null,null,null,null,null,null,null," "]
[null,null,null,null,null,null,null,null,null,null," "]
[null,null,null,null,null,null,null,null,null,null," "]
[null,null,null,null,null,null,null,null,null,null," "]
[null,null,null,null,null,null,null,null,null,null," "]
[null,null,null,null,null,null,null,null,null,null," "]
[null,null,null,null,null,null,null,null,null,null,{"$f":"B224&\" \"&A224","v":" "}]
[null,null,null,null,null,null,null,null,null,null," "]
[null,null,null,null,null,null,null,null,null,null," "]
[null,null,null,null,null,null,null,null,null,null," "]
[null,null,null,null,null,null,null,null,null,null," "]
[null,null,null,null,null,null,null,null,null,null," "]
[null,null,null,null,null,null,null,null,null,null," "]
[null,null,null,null,null,null,null,null,null,null," "]
[null,null,null,null,null,null,null,null,null,null," "]
[null,null,null,null,null,null,null,null,null,null," "]
[null,null,null,null,null,null,null,null,null,null," "]
[null,null,null,null,null,null,null,null,null,null," "]
[null,null,null,null,null,null,null,null,null,null," "]
[null,null,null,null,null,null,null,null,null,null," "]
[null,null,null,null,null,null,null,null,null,null," "]
[null,null,null,null,null,null,null,null,null,null," "]
[null,null,null,null,null,null,null,null,null,null," "]
[null,null,null,null,null,null,null,null,null,null," "]
[null,null,null,null,null,null,null,null,null,null," "]
[null,null,null,null,null,null,null,null,null,null," "]
[null,null,null,null,null,null,null,null,null,null," "]
[null,null,null,null,null,null,null,null,null,null," "]
[null,null,null,null,null,null,null,null,null,null," "]
[null,null,null,null,null,null,null,null,null,null," "]
[null,null,null,null,null,null,null,null,null,null," "]
[null,null,null,null,null,null,null,null,null,null," "]
[null,null,null,null,null,null,null,null,null,null," "]
[null,null,null,null,null,null,null,null,null,null," "]
[null,null,null,null,null,null,null,null,null,null," "]
[null,null,null,null,null,null,null,null,null,null," "]
[null,null,null,null,null,null,null,null,null,null," "]
[null,null,null,null,null,null,null,null,null,null," "]
[null,null,null,null,null,null,null,null,null,null," "]
[null,null,null,null,null,null,null,null,null,null," "]
[null,null,null,null,null,null,null,null,null,null," "]
[null,null,null,null,null,null,null,null,null,null," "]
[null,null,null,null,null,null,null,null,null,null," "]
[null,null,null,null,null,null,null,null,null,null," "]
[null,null,null,null,null,null,null,null,null,null," "]
[null,null,null,null,null,null,null,null,null,null," "]
[null,null,null,null,null,null,null,null,null,null," "]
[null,null,null,null,null,null,null,null,null,null," "]
[null,null,null,null,null,null,null,null,null,null," "]
[null,null,null,null,null,null,null,null,null,null," "]
[null,null,null,null,null,null,null,null,null,null," "]
[null,null,null,null,null,null,null,null,null,null," "]
[null,null,null,null,null,null,null,null,null,null," "]
[null,null,null,null,null,null,null,null,null,null," "]
[null,null,null,null,null,null,null,null,null,null," "]
[null,null,null,null,null,null,null,null,null,null," "]
[null,null,null,null,null,null,null,null,null,null," "]
[null,null,null,null,null,null,null,null,null,null," "]
[null,null,null,null,null,null,null,null,null,null," "]
[null,null,null,null,null,null,null,null,null,null," "]
[null,null,null,null,null,null,null,null,null,null," "]
[null,null,null,null,null,null,null,null,null,null," "]
[null,null,null,null,null,null,null,null,null,null," "]
[null,null,null,null,null,null,null,null,null,null," "]
[null,null,null,null,null,null,null,null,null,null," "]
[null,null,null,null,null,null,null,null,null,null," "]
[null,null,null,null,null,null,null,null,null,null," "]
[null,null,null,null,null,null,null,null,null,null," "]
[null,null,null,null,null,null,null,null,null,null," "]
[null,null,null,null,null,null,null,null,null,null," "]
[null,null,null,null,null,null,null,null,null,null,{"$f":"B288&\" \"&A288","v":" "}]
[null,null,null,null,null,null,null,null,null,null," "]
[null,null,null,null,null,null,null,null,null,null," "]
[null,null,null,null,null,null,null,null,null,null," "]
[null,null,null,null,null,null,null,null,null,null," "]
[null,null,null,null,null,null,null,null,null,null," "]
[null,null,null,null,null,null,null,null,null,null," "]
[null,null,null,null,null,null,null,null,null,null," "]
[null,null,null,null,null,null,null,null,null,null," "]
[null,null,null,null,null,null,null,null,null,null," "]
[null,null,null,null,null,null,null,null,null,null," "]
[null,null,null,null,null,null,null,null,null,null," "]
[null,null,null,null,null,null,null,null,null,null," "]
[null,null,null,null,null,null,null,null,null,null," "]
[null,null,null,null,null,null,null,null,null,null," "]
[null,null,null,null,null,null,null,null,null,null," "]
[null,null,null,null,null,null,null,null,null,null," "]
[null,null,null,null,null,null,null,null,null,null," "]
[null,null,null,null,null,null,null,null,null,null," "]
[null,null,null,null,null,null,null,null,null,null," "]
[null,null,null,null,null,null,null,null,null,null," "]
[null,null,null,null,null,null,null,null,null,null," "]
[null,null,null,null,null,null,null,null,null,null," "]
[null,null,null,null,null,null,null,null,null,null," "]
[null,null,null,null,null,null,null,null,null,null," "]
[null,null,null,null,null,null,null,null,null,null," "]
[null,null,null,null,null,null,null,null,null,null," "]
[null,null,null,null,null,null,null,null,null,null," "]
[null,null,null,null,null,null,null,null,null,null," "]
[null,null,null,null,null,null,null,null,null,null," "]
[null,null,null,null,null,null,null,null,null,null," "]
[null,null,null,null,null,null,null,null,null,null," "]
[null,null,null,null,null,null,null,null,null,null," "]
[null,null,null,null,null,null,null,null,null,null," "]
[null,null,null,null,null,null,null,null,null,null," "]
[null,null,null,null,null,null,null,null,null,null," "]
[null,null,null,null,null,null,null,null,null,null," "]
[null,null,null,null,null,null,null,null,null,null," "]
[null,null,null,null,null,null,null,null,null,null," "]
[null,null,null,null,null,null,null,null,null,null," "]
[null,null,null,null,null,null,null,null,null,null," "]
[null,null,null,null,null,null,null,null,null,null," "]
[null,null,null,null,null,null,null,null,null,null," "]
[null,null,null,null,null,null,null,null,null,null," "]
[null,null,null,null,null,null,null,null,null,null," "]
[null,null,null,null,null,null,null,null,null,null," "]
[null,null,null,null,null,null,null,null,null,null," "]
[null,null,null,null,null,null,null,null,null,null," "]
[null,null,null,null,null,null,null,null,null,null," "]
[null,null,null,null,null,null,null,null,null,null," "]
[null,null,null,null,null,null,null,null,null,null," "]
[null,null,null,null,null,null,null,null,null,null," "]
[null,null,null,null,null,null,null,null,null,null," "]
[null,null,null,null,null,null,null,null,null,null," "]
[null,null,null,null,null,null,null,null,null,null," "]
[null,null,null,null,null,null,null,null,null,null," "]
[null,null,null,null,null,null,null,null,null,null," "]
[null,null,null,null,null,null,null,null,null,null," "]
[null,null,null,null,null,null,null,null,null,null," "]
[null,null,null,null,null,null,null,null,null,null," "]
[null,null,null,null,null,null,null,null,null,null," "]
[null,null,null,null,null,null,null,null,null,null," "]
[null,null,null,null,null,null,null,null,null,null," "]
[null,null,null,null,null,null,null,null,null,null," "]
[null,null,null,null,null,null,null,null,null,null,{"$f":"B352&\" \"&A352","v":" "}]
[null,null,null,null,null,null,null,null,null,null," "]
[null,null,null,null,null,null,null,null,null,null," "]
[null,null,null,null,null,null,null,null,null,null," "]
[null,null,null,null,null,null,null,null,null,null," "]
[null,null,null,null,null,null,null,null,null,null," "]
[null,null,null,null,null,null,null,null,null,null," "]
[null,null,null,null,null,null,null,null,null,null," "]
[null,null,null,null,null,null,null,null,null,null," "]
[null,null,null,null,null,null,null,null,null,null," "]
[null,null,null,null,null,null,null,null,null,null," "]
[null,null,null,null,null,null,null,null,null,null," "]
[null,null,null,null,null,null,null,null,null,null," "]
[null,null,null,null,null,null,null,null,null,null," "]
[null,null,null,null,null,null,null,null,null,null," "]
[null,null,null,null,null,null,null,null,null,null," "]
[null,null,null,null,null,null,null,null,null,null," "]
[null,null,null,null,null,null,null,null,null,null," "]
[null,null,null,null,null,null,null,null,null,null," "]
[null,null,null,null,null,null,null,null,null,null," "]
[null,null,null,null,null,null,null,null,null,null," "]
[null,null,null,null,null,null,null,null,null,null," "]
[null,null,null,null,null,null,null,null,null,null," "]
[null,null,null,null,null,null,null,null,null,null," "]
[null,null,null,null,null,null,null,null,null,null," "]
[null,null,null,null,null,null,null,null,null,null," "]
[null,null,null,null,null,null,null,null,null,null," "]
[null,null,null,null,null,null,null,null,null,null," "]
[null,null,null,null,null,null,null,null,null,null," "]
[null,null,null,null,null,null,null,null,null,null," "]
[null,null,null,null,null,null,null,null,null,null," "]
[null,null,null,null,null,null,null,null,null,null," "]
[null,null,null,null,null,null,null,null,null,null," "]
[null,null,null,null,null,null,null,null,null,null," "]
[null,null,null,null,null,null,null,null,null,null," "]
[null,null,null,null,null,null,null,null,null,null," "]
[null,null,null,null,null,null,null,null,null,null," "]
[null,null,null,null,null,null,null,null,null,null," "]
[null,null,null,null,null,null,null,null,null,null," "]
[null,null,null,null,null,null,null,null,null,null," "]
[null,null,null,null,null,null,null,null,null,null," "]
[null,null,null,null,null,null,null,null,null,null," "]
[null,null,null,null,null,null,null,null,null,null," "]
[null,null,null,null,null,null,null,null,null,null," "]
[null,null,null,null,null,null,null,null,null,null," "]
[null,null,null,null,null,null,null,null,null,null," "]
[null,null,null,null,null,null,null,null,null,null," "]
[null,null,null,null,null,null,null,null,null,null," "]
[null,null,null,null,null,null,null,null,null,null," "]
[null,null,null,null,null,null,null,null,null,null," "]
[null,null,null,null,null,null,null,null,null,null," "]
[null,null,null,null,null,null,null,null,null,null," "]
[null,null,null,null,null,null,null,null,null,null," "]
[null,null,null,null,null,null,null,null,null,null," "]
[null,null,null,null,null,null,null,null,null,null," "]
[null,null,null,null,null,null,null,null,null,null," "]
[null,null,null,null,null,null,null,null,null,null," "]
[null,null,null,null,null,null,null,null,null,null," "]
[null,null,null,null,null,null,null,null,null,null," "]
[null,null,null,null,null,null,null,null,null,null," "]
[null,null,null,null,null,null,null,null,null,null," "]
[null,null,null,null,null,null,null,null,null,null," "]
[null,null,null,null,null,null,null,null,null,null," "]
[null,null,null,null,null,null,null,null,null,null," "]
[null,null,null,null,null,null,null,null,null,null,{"$f":"B416&\" \"&A416","v":" "}]
[null,null,null,null,null,null,null,null,null,null," "]
[null,null,null,null,null,null,null,null,null,null," "]
[null,null,null,null,null,null,null,null,null,null," "]
[null,null,null,null,null,null,null,null,null,null," "]
[null,null,null,null,null,null,null,null,null,null," "]
[null,null,null,null,null,null,null,null,null,null," "]
[null,null,null,null,null,null,null,null,null,null," "]
[null,null,null,null,null,null,null,null,null,null," "]
[null,null,null,null,null,null,null,null,null,null," "]
[null,null,null,null,null,null,null,null,null,null," "]
[null,null,null,null,null,null,null,null,null,null," "]
[null,null,null,null,null,null,null,null,null,null," "]
[null,null,null,null,null,null,null,null,null,null," "]
[null,null,null,null,null,null,null,null,null,null," "]
[null,null,null,null,null,null,null,null,null,null," "]
[null,null,null,null,null,null,null,null,null,null," "]
[null,null,null,null,null,null,null,null,null,null," "]
[null,null,null,null,null,null,null,null,null,null," "]
[null,null,null,null,null,null,null,null,null,null," "]
[null,null,null,null,null,null,null,null,null,null," "]
[null,null,null,null,null,null,null,null,null,null," "]
[null,null,null,null,null,null,null,null,null,null," "]
[null,null,null,null,null,null,null,null,null,null," "]
[null,null,null,null,null,null,null,null,null,null," "]
[null,null,null,null,null,null,null,null,null,null," "]
[null,null,null,null,null,null,null,null,null,null," "]
[null,null,null,null,null,null,null,null,null,null," "]
[null,null,null,null,null,null,null,null,null,null," "]
[null,null,null,null,null,null,null,null,null,null," "]
[null,null,null,null,null,null,null,null,null,null," "]
[null,null,null,null,null,null,null,null,null,null," "]
[null,null,null,null,null,null,null,null,null,null," "]
[null,null,null,null,null,null,null,null,null,null," "]
[null,null,null,null,null,null,null,null,null,null," "]
[null,null,null,null,null,null,null,null,null,null," "]
[null,null,null,null,null,null,null,null,null,null," "]
[null,null,null,null,null,null,null,null,null,null," "]
[null,null,null,null,null,null,null,null,null,null," "]
[null,null,null,null,null,null,null,null,null,null," "]
[null,null,null,null,null,null,null,null,null,null," "]
[null,null,null,null,null,null,null,null,null,null," "]
[null,null,null,null,null,null,null,null,null,null," "]
[null,null,null,null,null,null,null,null,null,null," "]
[null,null,null,null,null,null,null,null,null,null," "]
[null,null,null,null,null,null,null,null,null,null,{"$f":"B461&\" \"&A461","v":" "}]

{"sheet":"MATCH RESULTS","index":10,"n_rows":28,"n_cols":18,"rows_kept":28,"cut":false,"hidden":false,"merged":[[12,17,12,19],[26,1,26,3],[26,5,26,7],[26,9,26,11],[26,13,26,15],[26,17,26,19],[12,1,12,3],[12,5,12,7],[12,9,12,11],[12,13,12,15],[13,17,13,19],[13,1,13,3],[13,5,13,7],[13,9,13,11],[13,13,13,15],[27,1,27,3],[27,5,27,7],[27,9,27,11],[27,13,27,15],[27,17,27,19]]}
[null,{"$f":"'SCORE ENTRY WORKSHEET'!$N$12","v":"Week 9"},null,null,null,null,null,null,null,"Match Results"]
[null,{"$f":"'SCORE ENTRY WORKSHEET'!$C$21","v":"Team 04"}]
[null,{"$f":"'SCORE ENTRY WORKSHEET'!$M$21","v":0}]
[null,{"$f":"'SCORE ENTRY WORKSHEET'!$C$22","v":"Team 16"}]
[null,{"$f":"'SCORE ENTRY WORKSHEET'!$M$22","v":0}]
[null,{"$f":"IF(B3=B5,B2&\" and \"&B4&\" tie, \"&TEXT(B3,\"0.0\")&\" - \"&TEXT(B5,\"0.0\"),IF(B3>B5,B2&\" def. \"&B4&\", \"&TEXT(B3,\"0.0\")&\" - \"&TEXT(B5,\"0.0\"),IF(B5>B3,B4&\" def. \"&B2&\", \"&TEXT(B5,\"0.0\")&\" - \"&TEXT(B3,\"0.0\"))))","v":"Team 04 and Team 16 tie, 0.0 - 0.0"}]
[]
[]
[]
[]
[]
[]
[null,"Week 1",null,null,null,"Week 2",null,null,null,"Week 3",null,null,null,"Week 4",null,null,null,"Week 5"]
[null,{"$f":"IF($K$1=\"1st Half\",HLOOKUP(B13,SCHEDULE!$D$52:$M$53,2,FALSE),HLOOKUP(B13,SCHEDULE!$D$72:$M$73,2,FALSE))","v":"2013-07-03"},null,null,null,{"$f":"IF($K$1=\"1st Half\",HLOOKUP(F13,SCHEDULE!$D$52:$M$53,2,FALSE),HLOOKUP(F13,SCHEDULE!$D$72:$M$73,2,FALSE))","v":"2013-07-10"},null,null,null,{"$f":"IF($K$1=\"1st Half\",HLOOKUP(J13,SCHEDULE!$D$52:$M$53,2,FALSE),HLOOKUP(J13,SCHEDULE!$D$72:$M$73,2,FALSE))","v":"2013-07-17"},null,null,null,{"$f":"IF($K$1=\"1st Half\",HLOOKUP(N13,SCHEDULE!$D$52:$M$53,2,FALSE),HLOOKUP(N13,SCHEDULE!$D$72:$M$73,2,FALSE))","v":"2013-07-24"},null,null,null,{"$f":"IF($K$1=\"1st Half\",HLOOKUP(R13,SCHEDULE!$D$52:$M$53,2,FALSE),HLOOKUP(R13,SCHEDULE!$D$72:$M$73,2,FALSE))","v":"2013-07-31"}]
[]
[]
[]
[]
[]
[]
[]
[]
[]
[]
[]
[]
[null,"Week 6",null,null,null,"Week 7",null,null,null,"Week 8",null,null,null,"Week 9",null,null,null,"Week 10"]
[null,{"$f":"IF($K$1=\"1st Half\",HLOOKUP(B27,SCHEDULE!$D$52:$M$53,2,FALSE),HLOOKUP(B27,SCHEDULE!$D$72:$M$73,2,FALSE))","v":"2013-08-07"},null,null,null,{"$f":"IF($K$1=\"1st Half\",HLOOKUP(F27,SCHEDULE!$D$52:$M$53,2,FALSE),HLOOKUP(F27,SCHEDULE!$D$72:$M$73,2,FALSE))","v":"2013-08-14"},null,null,null,{"$f":"IF($K$1=\"1st Half\",IF(ISERROR(HLOOKUP(J27,SCHEDULE!$D$52:$M$53,2,FALSE)),\"\",HLOOKUP(J27,SCHEDULE!$D$52:$M$53,2,FALSE)),IF(ISERROR(HLOOKUP(J27,SCHEDULE!$D$72:$M$73,2,FALSE)),\"\",HLOOKUP(J27,SCHEDULE!$D$72:$M$73,2,FALSE)))","v":"2013-08-21"},null,null,null,{"$f":"IF($K$1=\"1st Half\",IF(ISERROR(HLOOKUP(N27,SCHEDULE!$D$52:$M$53,2,FALSE)),\"\",HLOOKUP(N27,SCHEDULE!$D$52:$M$53,2,FALSE)),IF(ISERROR(HLOOKUP(N27,SCHEDULE!$D$72:$M$73,2,FALSE)),\"\",HLOOKUP(N27,SCHEDULE!$D$72:$M$73,2,FALSE)))","v":"2013-08-28"},null,null,null,{"$f":"IF($K$1=\"1st Half\",IF(ISERROR(HLOOKUP(R27,SCHEDULE!$D$52:$M$53,2,FALSE)),\"\",HLOOKUP(R27,SCHEDULE!$D$52:$M$53,2,FALSE)),IF(ISERROR(HLOOKUP(R27,SCHEDULE!$D$72:$M$73,2,FALSE)),\"\",HLOOKUP(R27,SCHEDULE!$D$72:$M$73,2,FALSE)))","v":""}]

{"sheet":"MATCH RESULTS - 2nd Half 2011","index":11,"n_rows":36,"n_cols":18,"rows_kept":36,"cut":false,"hidden":false,"merged":[[10,1,10,3],[10,5,10,7],[10,9,10,11],[10,13,10,15],[10,17,10,19],[11,1,11,3],[11,5,11,7],[11,9,11,11],[11,13,11,15],[11,17,11,19],[24,1,24,3],[24,5,24,7],[24,9,24,11],[24,13,24,15],[24,17,24,19],[25,1,25,3],[25,5,25,7],[25,9,25,11],[25,13,25,15],[25,17,25,19]]}
[null,{"$f":"'SCORE ENTRY WORKSHEET'!$N$12","v":"Week 9"},null,null,null,null,null,null,null,{"$f":"\"Match Results - 2nd Half 2011\"","v":"Match Results - 2nd Half 2011"}]
[null,{"$f":"'SCORE ENTRY WORKSHEET'!$C$21","v":"Team 04"}]
[null,{"$f":"'SCORE ENTRY WORKSHEET'!$M$21","v":0}]
[null,{"$f":"'SCORE ENTRY WORKSHEET'!$C$22","v":"Team 16"}]
[null,{"$f":"'SCORE ENTRY WORKSHEET'!$M$22","v":0}]
[null,{"$f":"IF(B3=B5,B2&\" and \"&B4&\" tie, \"&TEXT(B3,\"0.0\")&\" - \"&TEXT(B5,\"0.0\"),IF(B3>B5,B2&\" def. \"&B4&\", \"&TEXT(B3,\"0.0\")&\" - \"&TEXT(B5,\"0.0\"),IF(B5>B3,B4&\" def. \"&B2&\", \"&TEXT(B5,\"0.0\")&\" - \"&TEXT(B3,\"0.0\"))))","v":"Team 04 and Team 16 tie, 0.0 - 0.0"}]
[]
[]
[]
[]
[null,"Week 1",null,null,null,"Week 2",null,null,null,"Week 3",null,null,null,"Week 4",null,null,null,"Week 5"]
[null,"2011-06-29",null,null,null,"2011-07-06",null,null,null,"2011-07-13",null,null,null,"2011-07-20",null,null,null,"2011-07-27"]
[null,"Team 01 def. Team 13, 5.0 - 4.0",null,null,null,"Team 15 def. Team 06, 5.5 - 3.5",null,null,null,"Team 01 and Team 05 tie, 4.5 - 4.5",null,null,null,"Team 07 def. Team 05, 6.5 - 2.5",null,null,null,"Team 06 def. Team 09, 5.0 - 4.0"]
[null,"Team 03 def. Team 17, 6.0 - 3.0",null,null,null,"Team 01 def. Team 18, 8.5 - 0.0",null,null,null,"Team 03 def. Team 08, 7.0 - 0.0",null,null,null,"Team 14 def. Team 15, 5.0 - 4.0",null,null,null,"Team 02 def. Team 08, 6.5 - 2.5"]
[null,"Team 04 and Team 18 tie, 4.5 - 4.5",null,null,null,"Team 17 def. Team 02, 6.5 - 2.5",null,null,null,"Team 07 def. Team 04, 6.0 - 3.0",null,null,null,"Team 10 def. Team 18, 6.0 - 0.0",null,null,null,"Team 04 def. Team 01, 6.5 - 2.5"]
[null,"Team 15 def. Team 05, 6.0 - 3.0",null,null,null,"Team 03 def. Team 07, 5.5 - 0.0",null,null,null,"Team 20 def. Team 06, 5.5 - 3.5",null,null,null,"Team 01 def. Team 08, 6.0 - 3.0",null,null,null,"Team 07 def. Team 11, 5.5 - 3.5"]
[null,"Team 10 def. Team 02, 5.5 - 3.5",null,null,null,"Team 20 def. Team 11, 7.0 - 0.0",null,null,null,"Team 09 def. Team 11, 5.5 - 3.5",null,null,null,"Team 11 def. Team 12, 6.5 - 2.5",null,null,null,"Team 03 and Team 05 tie, 4.5 - 4.5"]
[null,"Team 11 def. Team 06, 7.0 - 2.0",null,null,null,"Team 08 def. Team 16, 5.5 - 3.5",null,null,null,"Team 15 def. Team 16, 6.0 - 3.0",null,null,null,"Team 16 def. Team 17, 7.0 - 2.0",null,null,null,"Team 15 def. Team 19, 6.0 - 3.0"]
[null,"Team 20 def. Team 08, 6.5 - 2.5",null,null,null,"Team 12 def. Team 10, 5.0 - 4.0",null,null,null,"Team 19 def. Team 10, 5.0 - 4.0",null,null,null,"Team 06 def. Team 02, 5.0 - 4.0",null,null,null,"Team 18 def. Team 20, 5.0 - 4.0"]
[null,"Team 09 def. Team 14, 6.5 - 2.5",null,null,null,"Team 13 def. Team 14, 5.0 - 4.0",null,null,null,"Team 18 def. Team 14, 5.5 - 3.5",null,null,null,"Team 09 and Team 13 tie, 4.5 - 4.5",null,null,null,"Team 10 def. Team 13, 6.5 - 2.5"]
[null,"Team 16 def. Team 07, 5.5 - 3.5",null,null,null,"Team 09 def. Team 05, 6.0 - 3.0",null,null,null,"Team 12 def. Team 02, 7.0 - 2.0",null,null,null,"Team 19 def. Team 20, 6.0 - 3.0",null,null,null,"Team 12 def. Team 16, 6.0 - 0.0"]
[null,"Team 19 def. Team 12, 7.5 - 1.5",null,null,null,"Team 19 def. Team 04, 5.0 - 4.0",null,null,null,"Team 13 and Team 17 tie, 4.5 - 4.5",null,null,null,"Team 03 and Team 04 tie, 4.5 - 4.5",null,null,null,"Team 14 def. Team 17, 5.5 - 3.5"]
[]
[]
[null,"Week 6",null,null,null,"Week 7",null,null,null,"Week 8",null,null,null,"Week 9",null,null,null,"Week 10"]
[null,"2011-08-03",null,null,null,"2011-08-10",null,null,null,"2011-08-17",null,null,null,"2011-08-24",null,null,null,"1900-01-01"]
[null,"Team 15 def. Team 01, 5.0 - 4.0",null,null,null,"Team 16 def. Team 01, 5.5 - 3.5",null,null,null,"Team 18 def. Team 11, 5.0 - 4.0",null,null,null,"Team 07 def. Team 14, 5.5 - 3.5"]
[null,"Team 02 def. Team 14, 6.0 - 3.0",null,null,null,"Team 04 def. Team 13, 5.0 - 4.0",null,null,null,"Team 12 def. Team 17, 7.5 - 1.5",null,null,null,"Team 10 def. Team 05, 8.5 - 0.5"]
[null,"Team 16 and Team 04 tie, 4.5 - 4.5",null,null,null,"Team 11 def. Team 02, 5.0 - 4.0",null,null,null,"Team 03 def. Team 01, 5.0 - 4.0",null,null,null,"Team 06 def. Team 04, 5.0 - 4.0"]
[null,"Team 10 def. Team 09, 5.5 - 3.5",null,null,null,"Team 20 def. Team 14, 5.5 - 3.5",null,null,null,"Team 02 def. Team 09, 6.0 - 3.0",null,null,null,"Team 09 def. Team 16, 7.0 - 2.0"]
[null,"Team 12 def. Team 07, 7.0 - 2.0",null,null,null,"Team 09 def. Team 18, 5.5 - 3.5",null,null,null,"Team 04 def. Team 15, 5.5 - 3.5",null,null,null,"Team 03 def. Team 11, 5.5 - 3.5"]
[null,"Team 20 def. Team 03, 5.0 - 4.0",null,null,null,"Team 19 def. Team 07, 5.0 - 4.0",null,null,null,"Team 07 def. Team 20, 5.5 - 3.5",null,null,null,"Team 20 def. Team 15, 6.5 - 2.5"]
[null,"Team 19 def. Team 06, 7.5 - 1.5",null,null,null,"Team 15 def. Team 03, 6.5 - 2.5",null,null,null,"Team 13 and Team 19 tie, 4.5 - 4.5",null,null,null,"Team 01 def. Team 17, 5.0 - 4.0"]
[null,"Team 17 def. Team 18, 5.0 - 4.0",null,null,null,"Team 05 def. Team 12, 7.5 - 1.5",null,null,null,"Team 14 def. Team 08, 5.0 - 4.0",null,null,null,"Team 19 def. Team 02, 5.0 - 4.0"]
[null,"Team 05 def. Team 11, 8.5 - 0.0",null,null,null,"Team 17 def. Team 10, 6.0 - 3.0",null,null,null,"Team 10 def. Team 16, 5.5 - 3.5",null,null,null,"Team 12 def. Team 13, 6.5 - 2.5"]
[null,"Team 08 def. Team 13, 6.0 - 3.0",null,null,null,"Team 06 def. Team 08, 7.5 - 0.0",null,null,null,"Team 05 and Team 06 tie, 4.5 - 4.5",null,null,null,"Team 08 and Team 18 tie, 4.5 - 4.5"]

{"sheet":"MATCH RESULTS - 1st Half 2012","index":12,"n_rows":38,"n_cols":18,"rows_kept":38,"cut":false,"hidden":false,"merged":[[13,1,13,3],[13,5,13,7],[13,9,13,11],[13,13,13,15],[13,17,13,19],[12,1,12,3],[12,5,12,7],[12,9,12,11],[12,13,12,15],[12,17,12,19],[27,1,27,3],[27,5,27,7],[27,9,27,11],[27,13,27,15],[27,17,27,19],[26,1,26,3],[26,5,26,7],[26,9,26,11],[26,13,26,15],[26,17,26,19]]}
[null,{"$f":"'SCORE ENTRY WORKSHEET'!$N$12","v":"Week 9"},null,null,null,null,null,null,null,{"$f":"\"Match Results - \" & K1 & \" \" & 'COURSE & LEAGUE DETAILS'!F2","v":"Match Results - 1st Half 2013"},"1st Half"]
[null,{"$f":"'SCORE ENTRY WORKSHEET'!$C$21","v":"Team 04"}]
[null,{"$f":"'SCORE ENTRY WORKSHEET'!$M$21","v":0}]
[null,{"$f":"'SCORE ENTRY WORKSHEET'!$C$22","v":"Team 16"}]
[null,{"$f":"'SCORE ENTRY WORKSHEET'!$M$22","v":0}]
[null,{"$f":"IF(B3=B5,B2&\" and \"&B4&\" tie, \"&TEXT(B3,\"0.0\")&\" - \"&TEXT(B5,\"0.0\"),IF(B3>B5,B2&\" def. \"&B4&\", \"&TEXT(B3,\"0.0\")&\" - \"&TEXT(B5,\"0.0\"),IF(B5>B3,B4&\" def. \"&B2&\", \"&TEXT(B5,\"0.0\")&\" - \"&TEXT(B3,\"0.0\"))))","v":"Team 04 and Team 16 tie, 0.0 - 0.0"}]
[]
[]
[]
[]
[]
[]
[null,"Week 1",null,null,null,"Week 2",null,null,null,"Week 3",null,null,null,"Week 4",null,null,null,"Week 5"]
[null,{"$f":"IF($K$1=\"1st Half\",HLOOKUP(B13,SCHEDULE!$D$52:$M$53,2,FALSE),HLOOKUP(B13,SCHEDULE!$D$72:$M$73,2,FALSE))","v":"2013-04-24"},null,null,null,{"$f":"IF($K$1=\"1st Half\",HLOOKUP(F13,SCHEDULE!$D$52:$M$53,2,FALSE),HLOOKUP(F13,SCHEDULE!$D$72:$M$73,2,FALSE))","v":"2013-05-01"},null,null,null,{"$f":"IF($K$1=\"1st Half\",HLOOKUP(J13,SCHEDULE!$D$52:$M$53,2,FALSE),HLOOKUP(J13,SCHEDULE!$D$72:$M$73,2,FALSE))","v":"2013-05-08"},null,null,null,{"$f":"IF($K$1=\"1st Half\",HLOOKUP(N13,SCHEDULE!$D$52:$M$53,2,FALSE),HLOOKUP(N13,SCHEDULE!$D$72:$M$73,2,FALSE))","v":"2013-05-15"},null,null,null,{"$f":"IF($K$1=\"1st Half\",HLOOKUP(R13,SCHEDULE!$D$52:$M$53,2,FALSE),HLOOKUP(R13,SCHEDULE!$D$72:$M$73,2,FALSE))","v":"2013-05-22"}]
[null,"Team 12 def. Team 02, 7.5 - 1.5",null,null,null,"Team 02 def. Team 01, 5.5 - 3.5",null,null,null,"Team 06 and Team 12 tie, 4.5 - 4.5",null,null,null,"Team 11 def. Team 07, 5.5 - 3.5",null,null,null,"Team 13 def. Team 20, 5.0 - 4.0"]
[null,"Team 11 def. Team 01, 6.5 - 2.5",null,null,null,"Team 17 def. Team 09, 7.0 - 2.0",null,null,null,"Team 17 def. Team 20, 5.5 - 3.5",null,null,null,"Team 12 def. Team 08, 6.5 - 2.5",null,null,null,"Team 05 def. Team 01, 6.5 - 2.5"]
[null,"Team 15 def. Team 05, 5.0 - 4.0",null,null,null,"Team 07 and Team 15 tie, 4.5 - 4.5",null,null,null,"Team 02 def. Team 04, 7.5 - 1.5",null,null,null,"Team 01 def. Team 04, 5.0 - 4.0",null,null,null,"Team 08 def. Team 02, 5.5 - 3.5"]
[null,"Team 20 def. Team 10, 5.0 - 4.0",null,null,null,"Team 05 def. Team 13, 5.5 - 3.5",null,null,null,"Team 11 def. Team 05, 5.5 - 3.5",null,null,null,"Team 05 def. Team 03, 5.0 - 4.0",null,null,null,"Team 11 def. Team 09, 5.5 - 3.5"]
[null,"Team 08 def. Team 18, 6.5 - 2.5",null,null,null,"Team 08 def. Team 16, 6.5 - 0.0",null,null,null,"Team 01 def. Team 03, 7.5 - 1.5",null,null,null,"Team 17 def. Team 18, 5.0 - 4.0",null,null,null,"Team 18 def. Team 15, 5.5 - 3.5"]
[null,"Team 06 and Team 16 tie, 0.0 - 0.0",null,null,null,"Team 03 def. Team 11, 5.0 - 4.0",null,null,null,"Team 08 def. Team 14, 5.5 - 3.5",null,null,null,"Team 15 def. Team 20, 6.5 - 2.5",null,null,null,"Team 14 def. Team 19, 6.5 - 2.5"]
[null,"Team 07 def. Team 17, 6.0 - 3.0",null,null,null,"Team 12 def. Team 04, 7.0 - 2.0",null,null,null,"Team 10 def. Team 16, 6.0 - 0.0",null,null,null,"Team 14 def. Team 10, 5.0 - 4.0",null,null,null,"Team 17 and Team 16 tie, 4.5 - 4.5"]
[null,"Team 14 def. Team 04, 5.5 - 3.5",null,null,null,"Team 20 and Team 19 tie, 4.5 - 4.5",null,null,null,"Team 19 def. Team 18, 6.5 - 2.5",null,null,null,"Team 13 def. Team 09, 6.0 - 3.0",null,null,null,"Team 04 def. Team 06, 6.0 - 0.0"]
[null,"Team 19 def. Team 09, 5.0 - 4.0",null,null,null,"Team 14 def. Team 06, 7.0 - 2.0",null,null,null,"Team 07 def. Team 13, 6.0 - 3.0",null,null,null,"Team 16 def. Team 19, 6.5 - 2.5",null,null,null,"Team 07 def. Team 03, 5.0 - 4.0"]
[null,"Team 03 def. Team 13, 6.0 - 3.0",null,null,null,"Team 10 def. Team 18, 7.5 - 1.5",null,null,null,"Team 15 def. Team 09, 7.5 - 0.0",null,null,null,"Team 02 def. Team 06, 6.0 - 3.0",null,null,null,"Team 12 def. Team 10, 5.5 - 3.5"]
[]
[]
[null,"Week 6",null,null,null,"Week 7",null,null,null,"Week 8",null,null,null,"Week 9",null,null,null,"Week 10"]
[null,{"$f":"IF($K$1=\"1st Half\",HLOOKUP(B27,SCHEDULE!$D$52:$M$53,2,FALSE),HLOOKUP(B27,SCHEDULE!$D$72:$M$73,2,FALSE))","v":"2013-05-29"},null,null,null,{"$f":"IF($K$1=\"1st Half\",HLOOKUP(F27,SCHEDULE!$D$52:$M$53,2,FALSE),HLOOKUP(F27,SCHEDULE!$D$72:$M$73,2,FALSE))","v":"2013-06-05"},null,null,null,{"$f":"IF($K$1=\"1st Half\",IF(ISERROR(HLOOKUP(J27,SCHEDULE!$D$52:$M$53,2,FALSE)),\"\",HLOOKUP(J27,SCHEDULE!$D$52:$M$53,2,FALSE)),IF(ISERROR(HLOOKUP(J27,SCHEDULE!$D$72:$M$73,2,FALSE)),\"\",HLOOKUP(J27,SCHEDULE!$D$72:$M$73,2,FALSE)))","v":"2013-06-12"},null,null,null,{"$f":"IF($K$1=\"1st Half\",IF(ISERROR(HLOOKUP(N27,SCHEDULE!$D$52:$M$53,2,FALSE)),\"\",HLOOKUP(N27,SCHEDULE!$D$52:$M$53,2,FALSE)),IF(ISERROR(HLOOKUP(N27,SCHEDULE!$D$72:$M$73,2,FALSE)),\"\",HLOOKUP(N27,SCHEDULE!$D$72:$M$73,2,FALSE)))","v":"2013-06-19"},null,null,null,{"$f":"IF($K$1=\"1st Half\",IF(ISERROR(HLOOKUP(R27,SCHEDULE!$D$52:$M$53,2,FALSE)),\"\",HLOOKUP(R27,SCHEDULE!$D$52:$M$53,2,FALSE)),IF(ISERROR(HLOOKUP(R27,SCHEDULE!$D$72:$M$73,2,FALSE)),\"\",HLOOKUP(R27,SCHEDULE!$D$72:$M$73,2,FALSE)))","v":"2013-06-26"}]
[null,"Team 06 def. Team 01, 6.5 - 2.5",null,null,null,null,null,null,null,"Team 17 def. Team 02, 5.0 - 4.0",null,null,null,"Team 01 def. Team 09, 5.5 - 3.5",null,null,null,"Team 20 def. Team 09, 7.0 - 2.0"]
[null,"Team 20 def. Team 11, 6.0 - 3.0",null,null,null,null,null,null,null,"Team 16 def. Team 11, 5.5 - 3.5",null,null,null,"Team 20 and Team 07 tie, 4.5 - 4.5",null,null,null,"Team 13 def. Team 02, 5.0 - 4.0"]
[null,"Team 08 def. Team 04, 7.0 - 2.0",null,null,null,null,null,null,null,"Team 20 def. Team 05, 6.5 - 2.5",null,null,null,"Team 08 def. Team 10, 5.5 - 3.5",null,null,null,"Team 11 def. Team 12, 5.0 - 4.0"]
[null,"Team 03 def. Team 09, 6.5 - 2.5",null,null,null,null,null,null,null,"Team 01 def. Team 08, 7.5 - 1.5",null,null,null,"Team 18 and Team 05 tie, 4.5 - 4.5",null,null,null,"Team 01 and Team 10 tie, 4.5 - 4.5"]
[null,"Team 05 def. Team 07, 5.0 - 4.0",null,null,null,null,null,null,null,"Team 12 def. Team 15, 6.0 - 3.0",null,null,null,"Team 11 def. Team 14, 4.5 - 0.0",null,null,null,"Team 17 def. Team 06, 5.5 - 3.5"]
[null,"Team 17 def. Team 14, 8.0 - 0.0",null,null,null,null,null,null,null,"Team 07 def. Team 09, 5.0 - 4.0",null,null,null,"Team 02 def. Team 15, 5.0 - 0.0",null,null,null,"Team 18 and Team 07 tie, 4.5 - 4.5"]
[null,"Team 10 def. Team 02, 5.5 - 3.5",null,null,null,null,null,null,null,"Team 14 def. Team 13, 7.5 - 0.0",null,null,null,"Team 17 def. Team 04, 7.0 - 2.0",null,null,null,"Team 03 def. Team 14, 7.0 - 2.0"]
[null,"Team 18 def. Team 13, 6.0 - 3.0",null,null,null,null,null,null,null,"Team 04 def. Team 19, 5.5 - 3.5",null,null,null,"Team 12 def. Team 13, 6.0 - 3.0",null,null,null,"Team 04 def. Team 15, 6.5 - 0.0"]
[null,"Team 15 def. Team 16, 6.0 - 3.0",null,null,null,null,null,null,null,"Team 06 def. Team 10, 5.5 - 3.5",null,null,null,"Team 06 def. Team 19, 7.0 - 2.0",null,null,null,"Team 05 def. Team 16, 5.0 - 4.0"]
[null,"Team 19 def. Team 12, 5.0 - 4.0",null,null,null,null,null,null,null,"Team 18 def. Team 03, 6.0 - 3.0",null,null,null,"Team 16 def. Team 03, 5.0 - 4.0",null,null,null,"Team 08 def. Team 19, 5.0 - 4.0"]

{"sheet":"MATCH RESULTS - 2nd Half 2012","index":13,"n_rows":38,"n_cols":18,"rows_kept":38,"cut":false,"hidden":false,"merged":[[13,1,13,3],[13,5,13,7],[13,9,13,11],[13,13,13,15],[13,17,13,19],[12,1,12,3],[12,5,12,7],[12,9,12,11],[12,13,12,15],[12,17,12,19],[27,1,27,3],[27,5,27,7],[27,9,27,11],[27,13,27,15],[27,17,27,19],[26,1,26,3],[26,5,26,7],[26,9,26,11],[26,13,26,15],[26,17,26,19]]}
[null,{"$f":"'SCORE ENTRY WORKSHEET'!$N$12","v":"Week 9"},null,null,null,null,null,null,null,{"$f":"\"Match Results - \" & K1 & \" \" & 'COURSE & LEAGUE DETAILS'!F2","v":"Match Results - 2nd Half 2013"},"2nd Half"]
[null,{"$f":"'SCORE ENTRY WORKSHEET'!$C$21","v":"Team 04"}]
[null,{"$f":"'SCORE ENTRY WORKSHEET'!$M$21","v":0}]
[null,{"$f":"'SCORE ENTRY WORKSHEET'!$C$22","v":"Team 16"}]
[null,{"$f":"'SCORE ENTRY WORKSHEET'!$M$22","v":0}]
[null,{"$f":"IF(B3=B5,B2&\" and \"&B4&\" tie, \"&TEXT(B3,\"0.0\")&\" - \"&TEXT(B5,\"0.0\"),IF(B3>B5,B2&\" def. \"&B4&\", \"&TEXT(B3,\"0.0\")&\" - \"&TEXT(B5,\"0.0\"),IF(B5>B3,B4&\" def. \"&B2&\", \"&TEXT(B5,\"0.0\")&\" - \"&TEXT(B3,\"0.0\"))))","v":"Team 04 and Team 16 tie, 0.0 - 0.0"}]
[]
[]
[]
[]
[]
[]
[null,"Week 1",null,null,null,"Week 2",null,null,null,"Week 3",null,null,null,"Week 4",null,null,null,"Week 5"]
[null,{"$f":"IF($K$1=\"1st Half\",HLOOKUP(B13,SCHEDULE!$D$52:$M$53,2,FALSE),HLOOKUP(B13,SCHEDULE!$D$72:$M$73,2,FALSE))","v":"2013-07-03"},null,null,null,{"$f":"IF($K$1=\"1st Half\",HLOOKUP(F13,SCHEDULE!$D$52:$M$53,2,FALSE),HLOOKUP(F13,SCHEDULE!$D$72:$M$73,2,FALSE))","v":"2013-07-10"},null,null,null,{"$f":"IF($K$1=\"1st Half\",HLOOKUP(J13,SCHEDULE!$D$52:$M$53,2,FALSE),HLOOKUP(J13,SCHEDULE!$D$72:$M$73,2,FALSE))","v":"2013-07-17"},null,null,null,{"$f":"IF($K$1=\"1st Half\",HLOOKUP(N13,SCHEDULE!$D$52:$M$53,2,FALSE),HLOOKUP(N13,SCHEDULE!$D$72:$M$73,2,FALSE))","v":"2013-07-24"},null,null,null,{"$f":"IF($K$1=\"1st Half\",HLOOKUP(R13,SCHEDULE!$D$52:$M$53,2,FALSE),HLOOKUP(R13,SCHEDULE!$D$72:$M$73,2,FALSE))","v":"2013-07-31"}]
[null,"Team 01 def. Team 20, 7.0 - 2.0",null,null,null,"Team 16 def. Team 09, 6.0 - 3.0",null,null,null,"Team 11 def. Team 06, 5.5 - 3.5",null,null,null,"Team 08 def. Team 11, 6.0 - 3.0",null,null,null,"Team 06 def. Team 05, 5.5 - 3.5"]
[null,"Team 05 def. Team 14, 6.5 - 0.0",null,null,null,"Team 20 def. Team 18, 5.5 - 3.5",null,null,null,"Team 20 def. Team 16, 5.0 - 4.0",null,null,null,"Team 05 def. Team 04, 5.0 - 4.0",null,null,null,"Team 04 def. Team 07, 6.0 - 0.0"]
[null,"Team 02 def. Team 11, 5.0 - 4.0",null,null,null,"Team 12 def. Team 05, 5.0 - 4.0",null,null,null,"Team 01 def. Team 18, 6.5 - 2.5",null,null,null,"Team 12 and Team 09 tie, 4.5 - 4.5",null,null,null,"Team 01 and Team 16 tie, 4.5 - 4.5"]
[null,"Team 17 def. Team 08, 5.5 - 0.0",null,null,null,"Team 04 def. Team 11, 4.5 - 0.0",null,null,null,"Team 07 def. Team 12, 5.5 - 3.5",null,null,null,"Team 13 def. Team 10, 5.5 - 3.5",null,null,null,"Team 12 def. Team 20, 6.5 - 2.5"]
[null,"Team 12 def. Team 03, 7.0 - 2.0",null,null,null,"Team 15 def. Team 08, 6.0 - 3.0",null,null,null,"Team 08 def. Team 13, 5.0 - 4.0",null,null,null,"Team 14 def. Team 20, 6.0 - 3.0",null,null,null,"Team 14 def. Team 18, 5.0 - 4.0"]
[null,"Team 15 and Team 06 tie, 4.5 - 4.5",null,null,null,"Team 17 def. Team 10, 5.0 - 4.0",null,null,null,"Team 05 def. Team 02, 6.5 - 2.5",null,null,null,"Team 18 def. Team 16, 8.0 - 1.0",null,null,null,"Team 17 def. Team 15, 5.0 - 4.0"]
[null,"Team 13 def. Team 04, 7.0 - 2.0",null,null,null,"Team 19 def. Team 01, 5.0 - 4.0",null,null,null,"Team 09 def. Team 14, 6.5 - 2.5",null,null,null,"Team 02 and Team 07 tie, 4.5 - 4.5",null,null,null,"Team 03 and Team 08 tie, 4.5 - 4.5"]
[null,"Team 10 def. Team 19, 5.5 - 3.5",null,null,null,"Team 07 def. Team 14, 7.5 - 1.5",null,null,null,"Team 19 def. Team 17, 5.0 - 4.0",null,null,null,"Team 17 def. Team 01, 6.0 - 3.0",null,null,null,"Team 11 def. Team 10, 6.5 - 2.5"]
[null,"Team 09 def. Team 18, 6.0 - 3.0",null,null,null,"Team 03 def. Team 02, 5.5 - 3.5",null,null,null,"Team 03 def. Team 04, 6.5 - 2.5",null,null,null,"Team 06 def. Team 03, 5.0 - 4.0",null,null,null,"Team 02 def. Team 09, 4.5 - 0.0"]
[null,"Team 16 def. Team 07, 5.0 - 4.0",null,null,null,"Team 13 and Team 06 tie, 4.5 - 4.5",null,null,null,"Team 15 and Team 10 tie, 4.5 - 4.5",null,null,null,"Team 19 def. Team 15, 5.0 - 4.0",null,null,null,"Team 13 def. Team 19, 5.0 - 4.0"]
[]
[]
[null,"Week 6",null,null,null,"Week 7",null,null,null,"Week 8",null,null,null,"Week 9",null,null,null,"Week 10"]
[null,{"$f":"IF($K$1=\"1st Half\",HLOOKUP(B27,SCHEDULE!$D$52:$M$53,2,FALSE),HLOOKUP(B27,SCHEDULE!$D$72:$M$73,2,FALSE))","v":"2013-08-07"},null,null,null,{"$f":"IF($K$1=\"1st Half\",HLOOKUP(F27,SCHEDULE!$D$52:$M$53,2,FALSE),HLOOKUP(F27,SCHEDULE!$D$72:$M$73,2,FALSE))","v":"2013-08-14"},null,null,null,{"$f":"IF($K$1=\"1st Half\",IF(ISERROR(HLOOKUP(J27,SCHEDULE!$D$52:$M$53,2,FALSE)),\"\",HLOOKUP(J27,SCHEDULE!$D$52:$M$53,2,FALSE)),IF(ISERROR(HLOOKUP(J27,SCHEDULE!$D$72:$M$73,2,FALSE)),\"\",HLOOKUP(J27,SCHEDULE!$D$72:$M$73,2,FALSE)))","v":"2013-08-21"},null,null,null,{"$f":"IF($K$1=\"1st Half\",IF(ISERROR(HLOOKUP(N27,SCHEDULE!$D$52:$M$53,2,FALSE)),\"\",HLOOKUP(N27,SCHEDULE!$D$52:$M$53,2,FALSE)),IF(ISERROR(HLOOKUP(N27,SCHEDULE!$D$72:$M$73,2,FALSE)),\"\",HLOOKUP(N27,SCHEDULE!$D$72:$M$73,2,FALSE)))","v":"2013-08-28"},null,null,null,{"$f":"IF($K$1=\"1st Half\",IF(ISERROR(HLOOKUP(R27,SCHEDULE!$D$52:$M$53,2,FALSE)),\"\",HLOOKUP(R27,SCHEDULE!$D$52:$M$53,2,FALSE)),IF(ISERROR(HLOOKUP(R27,SCHEDULE!$D$72:$M$73,2,FALSE)),\"\",HLOOKUP(R27,SCHEDULE!$D$72:$M$73,2,FALSE)))","v":""}]
[null,"Team 05 def. Team 08, 6.5 - 2.5",null,null,null,"Team 08 def. Team 07, 6.5 - 0.0",null,null,null,"Team 20 def. Team 06, 5.5 - 3.5",null,null,null,"Team 05 def. Team 17, 5.5 - 3.5"]
[null,"Team 16 def. Team 14, 5.5 - 3.5",null,null,null,"Team 11 def. Team 17, 5.0 - 4.0",null,null,null,"Team 12 def. Team 14, 5.5 - 3.5",null,null,null,"Team 13 def. Team 11, 5.0 - 4.0"]
[null,"Team 20 def. Team 02, 6.5 - 2.5",null,null,null,"Team 05 def. Team 10, 5.0 - 4.0",null,null,null,"Team 16 def. Team 02, 6.0 - 3.0",null,null,null,"Team 12 def. Team 01, 5.5 - 3.5"]
[null,"Team 01 def. Team 15, 6.0 - 0.0",null,null,null,"Team 20 def. Team 04, 8.0 - 1.0",null,null,null,"Team 13 def. Team 01, 5.0 - 4.0",null,null,null,"Team 08 def. Team 20, 5.5 - 3.5"]
[null,"Team 13 def. Team 17, 5.0 - 4.0",null,null,null,"Team 01 def. Team 14, 5.5 - 3.5",null,null,null,"Team 10 def. Team 07, 7.0 - 0.0",null,null,null,"Team 10 def. Team 09, 7.0 - 2.0"]
[null,"Team 11 and Team 19 tie, 4.5 - 4.5",null,null,null,"Team 06 def. Team 09, 5.0 - 4.0",null,null,null,"Team 04 and Team 18 tie, 4.5 - 4.5",null,null,null,"Team 03 def. Team 15, 6.5 - 2.5"]
[null,"Team 10 def. Team 03, 5.0 - 4.0",null,null,null,"Team 16 def. Team 12, 5.5 - 3.5",null,null,null,"Team 03 and Team 17 tie, 4.5 - 4.5",null,null,null,"Team 19 def. Team 07, 5.5 - 0.0"]
[null,"Team 12 def. Team 18, 6.5 - 2.5",null,null,null,"Team 03 def. Team 19, 5.5 - 3.5",null,null,null,"Team 05 def. Team 19, 6.5 - 2.5",null,null,null,"Team 16 def. Team 04, 5.5 - 3.5"]
[null,"Team 09 def. Team 04, 6.5 - 2.5",null,null,null,"Team 13 def. Team 15, 5.5 - 3.5",null,null,null,"Team 11 def. Team 15, 5.5 - 3.5",null,null,null,"Team 02 def. Team 14, 5.0 - 4.0"]
[null,"Team 06 def. Team 07, 6.5 - 0.0",null,null,null,"Team 18 def. Team 02, 5.5 - 3.5",null,null,null,"Team 08 def. Team 09, 6.5 - 2.5",null,null,null,"Team 06 def. Team 18, 5.0 - 4.0"]

{"sheet":"MATCH RESULTS - 1st Half 2013","index":14,"n_rows":38,"n_cols":18,"rows_kept":38,"cut":false,"hidden":false,"merged":[[13,1,13,3],[13,5,13,7],[13,9,13,11],[13,13,13,15],[13,17,13,19],[12,1,12,3],[12,5,12,7],[12,9,12,11],[12,13,12,15],[12,17,12,19],[27,1,27,3],[27,5,27,7],[27,9,27,11],[27,13,27,15],[27,17,27,19],[26,1,26,3],[26,5,26,7],[26,9,26,11],[26,13,26,15],[26,17,26,19]]}
[null,{"$f":"'SCORE ENTRY WORKSHEET'!$N$12","v":"Week 9"},null,null,null,null,null,null,null,{"$f":"\"Match Results - \" & K1 & \" \" & 'COURSE & LEAGUE DETAILS'!F2","v":"Match Results - 1st Half 2013"},"1st Half"]
[null,{"$f":"'SCORE ENTRY WORKSHEET'!$C$21","v":"Team 04"}]
[null,{"$f":"'SCORE ENTRY WORKSHEET'!$M$21","v":0}]
[null,{"$f":"'SCORE ENTRY WORKSHEET'!$C$22","v":"Team 16"}]
[null,{"$f":"'SCORE ENTRY WORKSHEET'!$M$22","v":0}]
[null,{"$f":"IF(B3=B5,B2&\" and \"&B4&\" tie, \"&TEXT(B3,\"0.0\")&\" - \"&TEXT(B5,\"0.0\"),IF(B3>B5,B2&\" def. \"&B4&\", \"&TEXT(B3,\"0.0\")&\" - \"&TEXT(B5,\"0.0\"),IF(B5>B3,B4&\" def. \"&B2&\", \"&TEXT(B5,\"0.0\")&\" - \"&TEXT(B3,\"0.0\"))))","v":"Team 04 and Team 16 tie, 0.0 - 0.0"}]
[]
[]
[]
[]
[]
[]
[null,"Week 1",null,null,null,"Week 2",null,null,null,"Week 3",null,null,null,"Week 4",null,null,null,"Week 5"]
[null,{"$f":"IF($K$1=\"1st Half\",HLOOKUP(B13,SCHEDULE!$D$52:$M$53,2,FALSE),HLOOKUP(B13,SCHEDULE!$D$72:$M$73,2,FALSE))","v":"2013-04-24"},null,null,null,{"$f":"IF($K$1=\"1st Half\",HLOOKUP(F13,SCHEDULE!$D$52:$M$53,2,FALSE),HLOOKUP(F13,SCHEDULE!$D$72:$M$73,2,FALSE))","v":"2013-05-01"},null,null,null,{"$f":"IF($K$1=\"1st Half\",HLOOKUP(J13,SCHEDULE!$D$52:$M$53,2,FALSE),HLOOKUP(J13,SCHEDULE!$D$72:$M$73,2,FALSE))","v":"2013-05-08"},null,null,null,{"$f":"IF($K$1=\"1st Half\",HLOOKUP(N13,SCHEDULE!$D$52:$M$53,2,FALSE),HLOOKUP(N13,SCHEDULE!$D$72:$M$73,2,FALSE))","v":"2013-05-15"},null,null,null,{"$f":"IF($K$1=\"1st Half\",HLOOKUP(R13,SCHEDULE!$D$52:$M$53,2,FALSE),HLOOKUP(R13,SCHEDULE!$D$72:$M$73,2,FALSE))","v":"2013-05-22"}]
[null,null,null,null,null,"Team 16 def. Team 08, 5.5 - 3.5",null,null,null,null,null,null,null,"Team 08 def. Team 12, 6.5 - 2.5",null,null,null,"Team 20 def. Team 13, 5.0 - 4.0"]
[null,null,null,null,null,"Team 03 def. Team 11, 6.0 - 3.0",null,null,null,null,null,null,null,"Team 04 def. Team 01, 6.5 - 2.5",null,null,null,"Team 06 def. Team 04, 6.0 - 3.0"]
[null,null,null,null,null,"Team 01 def. Team 02, 7.0 - 2.0",null,null,null,null,null,null,null,"Team 13 def. Team 09, 6.5 - 2.5",null,null,null,"Team 01 def. Team 05, 5.0 - 4.0"]
[null,null,null,null,null,"Team 09 def. Team 17, 6.5 - 2.5",null,null,null,null,null,null,null,"Team 20 def. Team 15, 6.0 - 0.0",null,null,null,"Team 15 def. Team 18, 6.5 - 2.5"]
[null,null,null,null,null,"Team 14 def. Team 06, 4.5 - 0.0",null,null,null,null,null,null,null,"Team 02 def. Team 06, 5.0 - 4.0",null,null,null,"Team 11 def. Team 09, 5.0 - 4.0"]
[null,null,null,null,null,"Team 04 def. Team 12, 5.5 - 3.5",null,null,null,null,null,null,null,"Team 17 def. Team 18, 5.5 - 3.5",null,null,null,"Team 12 def. Team 10, 5.5 - 3.5"]
[null,null,null,null,null,"Team 18 def. Team 10, 5.0 - 4.0",null,null,null,null,null,null,null,"Team 10 def. Team 14, 6.0 - 3.0",null,null,null,"Team 19 def. Team 14, 5.0 - 4.0"]
[null,null,null,null,null,"Team 15 def. Team 07, 6.5 - 0.0",null,null,null,null,null,null,null,"Team 11 def. Team 07, 4.5 - 0.0",null,null,null,"Team 03 def. Team 07, 5.5 - 0.0"]
[null,null,null,null,null,"Team 19 def. Team 20, 5.0 - 4.0",null,null,null,null,null,null,null,"Team 16 def. Team 19, 5.0 - 4.0",null,null,null,"Team 17 def. Team 16, 5.0 - 4.0"]
[null,null,null,null,null,"Team 05 def. Team 13, 5.5 - 3.5",null,null,null,null,null,null,null,"Team 05 and Team 03 tie, 4.5 - 4.5",null,null,null,"Team 08 def. Team 02, 6.0 - 3.0"]
[]
[]
[null,"Week 6",null,null,null,"Week 7",null,null,null,"Week 8",null,null,null,"Week 9",null,null,null,"Week 10"]
[null,{"$f":"IF($K$1=\"1st Half\",HLOOKUP(B27,SCHEDULE!$D$52:$M$53,2,FALSE),HLOOKUP(B27,SCHEDULE!$D$72:$M$73,2,FALSE))","v":"2013-05-29"},null,null,null,{"$f":"IF($K$1=\"1st Half\",HLOOKUP(F27,SCHEDULE!$D$52:$M$53,2,FALSE),HLOOKUP(F27,SCHEDULE!$D$72:$M$73,2,FALSE))","v":"2013-06-05"},null,null,null,{"$f":"IF($K$1=\"1st Half\",IF(ISERROR(HLOOKUP(J27,SCHEDULE!$D$52:$M$53,2,FALSE)),\"\",HLOOKUP(J27,SCHEDULE!$D$52:$M$53,2,FALSE)),IF(ISERROR(HLOOKUP(J27,SCHEDULE!$D$72:$M$73,2,FALSE)),\"\",HLOOKUP(J27,SCHEDULE!$D$72:$M$73,2,FALSE)))","v":"2013-06-12"},null,null,null,{"$f":"IF($K$1=\"1st Half\",IF(ISERROR(HLOOKUP(N27,SCHEDULE!$D$52:$M$53,2,FALSE)),\"\",HLOOKUP(N27,SCHEDULE!$D$52:$M$53,2,FALSE)),IF(ISERROR(HLOOKUP(N27,SCHEDULE!$D$72:$M$73,2,FALSE)),\"\",HLOOKUP(N27,SCHEDULE!$D$72:$M$73,2,FALSE)))","v":"2013-06-19"},null,null,null,{"$f":"IF($K$1=\"1st Half\",IF(ISERROR(HLOOKUP(R27,SCHEDULE!$D$52:$M$53,2,FALSE)),\"\",HLOOKUP(R27,SCHEDULE!$D$52:$M$53,2,FALSE)),IF(ISERROR(HLOOKUP(R27,SCHEDULE!$D$72:$M$73,2,FALSE)),\"\",HLOOKUP(R27,SCHEDULE!$D$72:$M$73,2,FALSE)))","v":"2013-06-26"}]
[null,"Team 09 and Team 03 tie, 4.5 - 4.5",null,null,null,"Team 13 def. Team 16, 5.5 - 3.5",null,null,null,"Team 08 def. Team 01, 5.0 - 4.0",null,null,null,"Team 05 def. Team 18, 5.5 - 0.0",null,null,null,"Team 05 def. Team 16, 6.0 - 3.0"]
[null,"Team 20 and Team 11 tie, 4.5 - 4.5",null,null,null,"Team 20 def. Team 03, 8.0 - 1.0",null,null,null,"Team 12 def. Team 15, 5.0 - 4.0",null,null,null,"Team 02 def. Team 15, 6.0 - 3.0",null,null,null,"Team 04 def. Team 15, 5.0 - 4.0"]
[null,"Team 01 and Team 06 tie, 4.5 - 4.5",null,null,null,"Team 08 def. Team 06, 5.0 - 4.0",null,null,null,"Team 11 def. Team 16, 5.5 - 3.5",null,null,null,"Team 20 def. Team 07, 7.5 - 0.0",null,null,null,"Team 12 def. Team 11, 5.5 - 3.5"]
[null,"Team 19 def. Team 12, 5.0 - 4.0",null,null,null,"Team 09 def. Team 05, 5.0 - 4.0",null,null,null,"Team 03 def. Team 18, 7.0 - 2.0",null,null,null,"Team 16 def. Team 03, 6.0 - 3.0",null,null,null,"Team 20 def. Team 09, 6.0 - 3.0"]
[null,"Team 15 def. Team 16, 5.0 - 4.0",null,null,null,"Team 17 def. Team 12, 6.0 - 3.0",null,null,null,"Team 06 def. Team 10, 7.5 - 1.5",null,null,null,"Team 12 def. Team 13, 5.0 - 4.0",null,null,null,"Team 13 and Team 02 tie, 4.5 - 4.5"]
[null,"Team 17 and Team 14 tie, 4.5 - 4.5",null,null,null,"Team 11 def. Team 18, 5.0 - 0.0",null,null,null,"Team 20 def. Team 05, 6.0 - 3.0",null,null,null,"Team 11 def. Team 14, 5.0 - 4.0",null,null,null,"Team 01 def. Team 10, 6.0 - 3.0"]
[null,"Team 18 def. Team 13, 6.5 - 2.5",null,null,null,"Team 01 def. Team 07, 4.0 - 0.0",null,null,null,"Team 02 def. Team 17, 6.0 - 3.0",null,null,null,"Team 17 def. Team 04, 5.0 - 4.0",null,null,null,"Team 18 def. Team 07, 5.0 - 0.0"]
[null,"Team 10 and Team 02 tie, 4.5 - 4.5",null,null,null,"Team 19 def. Team 02, 5.5 - 3.5",null,null,null,"Team 14 and Team 13 tie, 4.5 - 4.5",null,null,null,"Team 19 and Team 06 tie, 4.5 - 4.5",null,null,null,"Team 17 def. Team 06, 5.5 - 3.5"]
[null,"Team 04 def. Team 08, 6.0 - 0.0",null,null,null,"Team 14 def. Team 15, 5.0 - 4.0",null,null,null,"Team 19 def. Team 04, 5.0 - 4.0",null,null,null,"Team 01 def. Team 09, 5.0 - 4.0",null,null,null,"Team 19 def. Team 08, 5.0 - 4.0"]
[null,"Team 05 def. Team 07, 7.0 - 0.0",null,null,null,"Team 10 def. Team 04, 6.0 - 3.0",null,null,null,"Team 09 def. Team 07, 5.5 - 0.0",null,null,null,"Team 08 def. Team 10, 6.0 - 3.0",null,null,null,"Team 03 def. Team 14, 6.0 - 3.0"]

{"sheet":"MATCH RESULTS - 2nd Half 2013","index":15,"n_rows":38,"n_cols":18,"rows_kept":38,"cut":false,"hidden":false,"merged":[[13,1,13,3],[13,5,13,7],[13,9,13,11],[13,13,13,15],[13,17,13,19],[12,1,12,3],[12,5,12,7],[12,9,12,11],[12,13,12,15],[12,17,12,19],[27,1,27,3],[27,5,27,7],[27,9,27,11],[27,13,27,15],[27,17,27,19],[26,1,26,3],[26,5,26,7],[26,9,26,11],[26,13,26,15],[26,17,26,19]]}
[null,{"$f":"'SCORE ENTRY WORKSHEET'!$N$12","v":"Week 9"},null,null,null,null,null,null,null,{"$f":"\"Match Results - \" & K1 & \" \" & 'COURSE & LEAGUE DETAILS'!F2","v":"Match Results - 2nd Half 2013"},"2nd Half"]
[null,{"$f":"'SCORE ENTRY WORKSHEET'!$C$21","v":"Team 04"}]
[null,{"$f":"'SCORE ENTRY WORKSHEET'!$M$21","v":0}]
[null,{"$f":"'SCORE ENTRY WORKSHEET'!$C$22","v":"Team 16"}]
[null,{"$f":"'SCORE ENTRY WORKSHEET'!$M$22","v":0}]
[null,{"$f":"IF(B3=B5,B2&\" and \"&B4&\" tie, \"&TEXT(B3,\"0.0\")&\" - \"&TEXT(B5,\"0.0\"),IF(B3>B5,B2&\" def. \"&B4&\", \"&TEXT(B3,\"0.0\")&\" - \"&TEXT(B5,\"0.0\"),IF(B5>B3,B4&\" def. \"&B2&\", \"&TEXT(B5,\"0.0\")&\" - \"&TEXT(B3,\"0.0\"))))","v":"Team 04 and Team 16 tie, 0.0 - 0.0"}]
[]
[]
[]
[]
[]
[]
[null,"Week 1",null,null,null,"Week 2",null,null,null,"Week 3",null,null,null,"Week 4",null,null,null,"Week 5"]
[null,{"$f":"IF($K$1=\"1st Half\",HLOOKUP(B13,SCHEDULE!$D$52:$M$53,2,FALSE),HLOOKUP(B13,SCHEDULE!$D$72:$M$73,2,FALSE))","v":"2013-07-03"},null,null,null,{"$f":"IF($K$1=\"1st Half\",HLOOKUP(F13,SCHEDULE!$D$52:$M$53,2,FALSE),HLOOKUP(F13,SCHEDULE!$D$72:$M$73,2,FALSE))","v":"2013-07-10"},null,null,null,{"$f":"IF($K$1=\"1st Half\",HLOOKUP(J13,SCHEDULE!$D$52:$M$53,2,FALSE),HLOOKUP(J13,SCHEDULE!$D$72:$M$73,2,FALSE))","v":"2013-07-17"},null,null,null,{"$f":"IF($K$1=\"1st Half\",HLOOKUP(N13,SCHEDULE!$D$52:$M$53,2,FALSE),HLOOKUP(N13,SCHEDULE!$D$72:$M$73,2,FALSE))","v":"2013-07-24"},null,null,null,{"$f":"IF($K$1=\"1st Half\",HLOOKUP(R13,SCHEDULE!$D$52:$M$53,2,FALSE),HLOOKUP(R13,SCHEDULE!$D$72:$M$73,2,FALSE))","v":"2013-07-31"}]
[null,"Team 02 def. Team 11, 6.5 - 2.5",null,null,null,null,null,null,null,"Team 01 def. Team 18, 6.5 - 2.5",null,null,null,"Team 20 def. Team 14, 6.0 - 3.0",null,null,null,"Team 17 def. Team 15, 5.0 - 4.0"]
[null,"Team 16 def. Team 07, 6.0 - 0.0",null,null,null,null,null,null,null,"Team 09 def. Team 14, 7.0 - 2.0",null,null,null,"Team 03 def. Team 06, 6.0 - 3.0",null,null,null,"Team 05 def. Team 06, 6.0 - 3.0"]
[null,"Team 08 def. Team 17, 5.5 - 3.5",null,null,null,null,null,null,null,"Team 16 def. Team 20, 7.5 - 1.5",null,null,null,"Team 02 def. Team 07, 7.0 - 0.0",null,null,null,"Team 01 def. Team 16, 5.5 - 3.5"]
[null,"Team 03 def. Team 12, 5.5 - 3.5",null,null,null,null,null,null,null,"Team 06 def. Team 11, 6.0 - 3.0",null,null,null,"Team 11 def. Team 08, 6.5 - 2.5",null,null,null,"Team 11 and Team 10 tie, 4.5 - 4.5"]
[null,"Team 05 def. Team 14, 5.5 - 3.5",null,null,null,null,null,null,null,"Team 03 def. Team 04, 5.5 - 3.5",null,null,null,"Team 10 def. Team 13, 6.0 - 3.0",null,null,null,"Team 02 def. Team 09, 6.0 - 3.0"]
[null,"Team 04 def. Team 13, 5.0 - 0.0",null,null,null,null,null,null,null,"Team 17 def. Team 19, 5.0 - 4.0",null,null,null,"Team 16 def. Team 18, 9.0 - 0.0",null,null,null,"Team 20 def. Team 12, 5.5 - 3.5"]
[null,"Team 20 def. Team 01, 5.5 - 3.5",null,null,null,null,null,null,null,"Team 15 def. Team 10, 5.5 - 3.5",null,null,null,"Team 01 def. Team 17, 5.5 - 3.5",null,null,null,"Team 03 and Team 08 tie, 4.5 - 4.5"]
[null,"Team 18 and Team 09 tie, 4.5 - 4.5",null,null,null,null,null,null,null,"Team 02 def. Team 05, 5.0 - 4.0",null,null,null,"Team 05 def. Team 04, 5.0 - 4.0",null,null,null,"Team 14 and Team 18 tie, 4.5 - 4.5"]
[null,"Team 19 and Team 10 tie, 4.5 - 4.5",null,null,null,null,null,null,null,"Team 13 def. Team 08, 5.0 - 4.0",null,null,null,"Team 19 def. Team 15, 5.0 - 4.0",null,null,null,"Team 04 def. Team 07, 4.0 - 0.0"]
[null,"Team 15 def. Team 06, 5.5 - 3.5",null,null,null,null,null,null,null,"Team 12 def. Team 07, 7.5 - 0.0",null,null,null,"Team 09 def. Team 12, 6.0 - 3.0",null,null,null,"Team 19 def. Team 13, 7.5 - 1.5"]
[]
[]
[null,"Week 6",null,null,null,"Week 7",null,null,null,"Week 8",null,null,null,"Week 9",null,null,null,"Week 10"]
[null,{"$f":"IF($K$1=\"1st Half\",HLOOKUP(B27,SCHEDULE!$D$52:$M$53,2,FALSE),HLOOKUP(B27,SCHEDULE!$D$72:$M$73,2,FALSE))","v":"2013-08-07"},null,null,null,{"$f":"IF($K$1=\"1st Half\",HLOOKUP(F27,SCHEDULE!$D$52:$M$53,2,FALSE),HLOOKUP(F27,SCHEDULE!$D$72:$M$73,2,FALSE))","v":"2013-08-14"},null,null,null,{"$f":"IF($K$1=\"1st Half\",IF(ISERROR(HLOOKUP(J27,SCHEDULE!$D$52:$M$53,2,FALSE)),\"\",HLOOKUP(J27,SCHEDULE!$D$52:$M$53,2,FALSE)),IF(ISERROR(HLOOKUP(J27,SCHEDULE!$D$72:$M$73,2,FALSE)),\"\",HLOOKUP(J27,SCHEDULE!$D$72:$M$73,2,FALSE)))","v":"2013-08-21"},null,null,null,{"$f":"IF($K$1=\"1st Half\",IF(ISERROR(HLOOKUP(N27,SCHEDULE!$D$52:$M$53,2,FALSE)),\"\",HLOOKUP(N27,SCHEDULE!$D$52:$M$53,2,FALSE)),IF(ISERROR(HLOOKUP(N27,SCHEDULE!$D$72:$M$73,2,FALSE)),\"\",HLOOKUP(N27,SCHEDULE!$D$72:$M$73,2,FALSE)))","v":"2013-08-28"},null,null,null,{"$f":"IF($K$1=\"1st Half\",IF(ISERROR(HLOOKUP(R27,SCHEDULE!$D$52:$M$53,2,FALSE)),\"\",HLOOKUP(R27,SCHEDULE!$D$52:$M$53,2,FALSE)),IF(ISERROR(HLOOKUP(R27,SCHEDULE!$D$72:$M$73,2,FALSE)),\"\",HLOOKUP(R27,SCHEDULE!$D$72:$M$73,2,FALSE)))","v":""}]
[null,"Team 14 def. Team 16, 5.5 - 3.5",null,null,null,"Team 10 def. Team 05, 5.5 - 3.5",null,null,null,"Team 10 def. Team 07, 7.0 - 0.0",null,null,null,"Team 04 def. Team 16, 5.0 - 4.0"]
[null,"Team 17 def. Team 13, 7.0 - 2.0",null,null,null,"Team 11 and Team 17 tie, 4.5 - 4.5",null,null,null,"Team 08 def. Team 09, 8.0 - 1.0",null,null,null,"Team 08 def. Team 20, 5.0 - 4.0"]
[null,"Team 09 def. Team 04, 5.0 - 4.0",null,null,null,"Team 01 def. Team 14, 7.0 - 2.0",null,null,null,"Team 06 def. Team 20, 5.0 - 4.0",null,null,null,"Team 12 def. Team 01, 6.0 - 3.0"]
[null,"Team 20 def. Team 02, 7.5 - 1.5",null,null,null,"Team 08 def. Team 07, 5.0 - 0.0",null,null,null,"Team 11 def. Team 15, 5.0 - 4.0",null,null,null,"Team 14 def. Team 02, 5.0 - 4.0"]
[null,"Team 05 def. Team 08, 8.0 - 0.0",null,null,null,"Team 15 def. Team 13, 6.5 - 2.5",null,null,null,"Team 19 def. Team 05, 5.0 - 4.0",null,null,null,"Team 05 def. Team 17, 6.5 - 2.5"]
[null,"Team 10 def. Team 03, 5.5 - 3.5",null,null,null,"Team 19 def. Team 03, 5.5 - 3.5",null,null,null,"Team 17 def. Team 03, 6.0 - 3.0",null,null,null,"Team 15 def. Team 03, 5.5 - 3.5"]
[null,"Team 19 def. Team 11, 5.0 - 4.0",null,null,null,"Team 06 def. Team 09, 5.0 - 4.0",null,null,null,"Team 04 and Team 18 tie, 4.5 - 4.5",null,null,null,"Team 10 def. Team 09, 7.0 - 2.0"]
[null,"Team 06 def. Team 07, 5.0 - 0.0",null,null,null,"Team 04 def. Team 20, 5.0 - 4.0",null,null,null,"Team 02 def. Team 16, 5.0 - 4.0",null,null,null,"Team 19 def. Team 07, 4.0 - 0.0"]
[null,"Team 12 def. Team 18, 5.5 - 3.5",null,null,null,"Team 18 def. Team 02, 5.0 - 4.0",null,null,null,"Team 01 def. Team 13, 6.0 - 3.0",null,null,null,"Team 11 def. Team 13, 6.5 - 2.5"]
[null,"Team 15 def. Team 01, 7.0 - 2.0",null,null,null,"Team 12 def. Team 16, 5.0 - 4.0",null,null,null,"Team 12 def. Team 14, 7.0 - 2.0",null,null,null,"Team 18 def. Team 06, 4.5 - 0.0"]

{"sheet":"POINTS","index":16,"n_rows":32,"n_cols":15,"rows_kept":32,"cut":false,"hidden":false,"merged":[[7,3,7,13]]}
[{"$f":"'SCORE ENTRY WORKSHEET'!$C$21","v":"Team 04"},{"$f":"'SCORE ENTRY WORKSHEET'!M21","v":0},null,null,null,null,null,null,null,{"$f":"\"Team Points - \" & K1 & \" \" & 'COURSE & LEAGUE DETAILS'!F2","v":"Team Points -  2013"}]
[{"$f":"'SCORE ENTRY WORKSHEET'!$C$22","v":"Team 16"},{"$f":"'SCORE ENTRY WORKSHEET'!M22","v":0}]
["Week:",{"$f":"'SCORE ENTRY WORKSHEET'!N12","v":"Week 9"}]
[]
[]
[1]
[]
[null,null,null,"Points",null,null,null,null,null,null,null,null,null,null,"Total"]
[null,null,"Week:",null,"Week 1","Week 2","Week 3","Week 4","Week 5","Week 6","Week 7","Week 8","Week 9","Week 10"]
[null,null,"Date:",null,{"$f":"IF($K$1=\"1st Half\",SCHEDULE!D53,SCHEDULE!D73)","v":"2013-07-03"},{"$f":"IF($K$1=\"1st Half\",SCHEDULE!E53,SCHEDULE!E73)","v":"2013-07-10"},{"$f":"IF($K$1=\"1st Half\",SCHEDULE!F53,SCHEDULE!F73)","v":"2013-07-17"},{"$f":"IF($K$1=\"1st Half\",SCHEDULE!G53,SCHEDULE!G73)","v":"2013-07-24"},{"$f":"IF($K$1=\"1st Half\",SCHEDULE!H53,SCHEDULE!H73)","v":"2013-07-31"},{"$f":"IF($K$1=\"1st Half\",SCHEDULE!I53,SCHEDULE!I73)","v":"2013-08-07"},{"$f":"IF($K$1=\"1st Half\",SCHEDULE!J53,SCHEDULE!J73)","v":"2013-08-14"},{"$f":"IF($K$1=\"1st Half\",IF(SCHEDULE!K53<>\"\",SCHEDULE!K53,\"\"),IF(SCHEDULE!K73<>\"\",SCHEDULE!K73,\"\"))","v":"2013-08-21"},{"$f":"IF($K$1=\"1st Half\",IF(SCHEDULE!L53<>\"\",SCHEDULE!L53,\"\"),IF(SCHEDULE!L73<>\"\",SCHEDULE!L73,\"\"))","v":"2013-08-28"},{"$f":"IF($K$1=\"1st Half\",IF(SCHEDULE!M53<>\"\",SCHEDULE!M53,\"\"),IF(SCHEDULE!M73<>\"\",SCHEDULE!M73,\"\"))","v":""}]
[null,null,"Team 01","\"",null,null,null,null,null,null,null,null,null,null,{"$f":"SUM(E11:N11)","v":0}]
[null,null,"Team 02","\"",null,null,null,null,null,null,null,null,null,null,0]
[null,null,"Team 03","\"",null,null,null,null,null,null,null,null,null,null,0]
[null,null,"Team 04","\"",null,null,null,null,null,null,null,null,null,null,0]
[null,null,"Team 05","\"",null,null,null,null,null,null,null,null,null,null,0]
[null,null,"Team 06","\"",null,null,null,null,null,null,null,null,null,null,0]
[null,null,"Team 07","\"",null,null,null,null,null,null,null,null,null,null,0]
[null,null,"Team 08","\"",null,null,null,null,null,null,null,null,null,null,0]
[null,null,"Team 09","\"",null,null,null,null,null,null,null,null,null,null,0]
[null,null,"Team 10","\"",null,null,null,null,null,null,null,null,null,null,0]
[null,null,"Team 11","\"",null,null,null,null,null,null,null,null,null,null,0]
[null,null,"Team 12","\"",null,null,null,null,null,null,null,null,null,null,0]
[null,null,"Team 13","\"",null,null,null,null,null,null,null,null,null,null,0]
[null,null,"Team 14","\"",null,null,null,null,null,null,null,null,null,null,0]
[null,null,"Team 15","\"",null,null,null,null,null,null,null,null,null,null,0]
[null,null,"Team 16","\"",null,null,null,null,null,null,null,null,null,null,0]
[null,null,"Team 17","\"",null,null,null,null,null,null,null,null,null,null,0]
[null,null,"Team 18","\"",null,null,null,null,null,null,null,null,null,null,0]
[null,null,"Team 19","\"",null,null,null,null,null,null,null,null,null,null,0]
[null,null,"Team 20","\"",null,null,null,null,null,null,null,null,null,null,0]
[null,null,"Team 21","\"",null,null,null,null,null,null,null,null,null,null,{"$f":"SUM(E31:N31)","v":0}]
[null,null,"Team 22","\"",null,null,null,null,null,null,null,null,null,null,0]

{"sheet":"POINTS - 1st Half 2011","index":17,"n_rows":32,"n_cols":15,"rows_kept":32,"cut":false,"hidden":false,"merged":[[7,3,7,13]]}
[{"$f":"'SCORE ENTRY WORKSHEET'!$C$21","v":"Team 04"},{"$f":"'SCORE ENTRY WORKSHEET'!M21","v":0}]
[{"$f":"'SCORE ENTRY WORKSHEET'!$C$22","v":"Team 16"},{"$f":"'SCORE ENTRY WORKSHEET'!M22","v":0}]
["Week:",{"$f":"'SCORE ENTRY WORKSHEET'!N12","v":"Week 9"}]
[]
[]
[1]
[]
[null,null,null,"Points",null,null,null,null,null,null,null,null,null,null,"Total"]
[null,null,"Week:",null,"Week 1","Week 2","Week 3","Week 4","Week 5","Week 6","Week 7","Week 8","Week 9"]
[null,null,"Date:",null,{"$f":"SCHEDULE!D53","v":"2013-04-24"},{"$f":"SCHEDULE!E53","v":"2013-05-01"},{"$f":"SCHEDULE!F53","v":"2013-05-08"},{"$f":"SCHEDULE!G53","v":"2013-05-15"},{"$f":"SCHEDULE!H53","v":"2013-05-22"},{"$f":"SCHEDULE!I53","v":"2013-05-29"},{"$f":"SCHEDULE!J53","v":"2013-06-05"},{"$f":"SCHEDULE!K53","v":"2013-06-12"},{"$f":"SCHEDULE!L53","v":"2013-06-19"}]
[null,null,"Team 01","\"",5,null,3.5,null,6.5,null,5.5,4,null,null,{"$f":"SUM(E11:N11)","v":24.5}]
[null,null,"Team 02","\"",3.5,null,5.5,null,4.5,null,3.5,4.5,null,null,21.5]
[null,null,"Team 03","\"",6,null,5.5,null,4.5,null,3.5,4,null,null,23.5]
[null,null,"Team 04","\"",5,null,3.5,null,1.5,null,5,2.5,null,null,17.5]
[null,null,"Team 05","\"",4,null,8,null,3,null,4.5,5,null,null,24.5]
[null,null,"Team 06","\"",3,null,6,null,2.5,null,6.5,3.5,null,null,21.5]
[null,null,"Team 07","\"",4.5,null,3.5,null,4.5,null,5,5.5,null,null,23]
[null,null,"Team 08","\"",5,null,5.5,null,7.5,null,5.5,3,null,null,26.5]
[null,null,"Team 09","\"",4.5,null,5.5,null,6,null,3,6,null,null,25]
[null,null,"Team 10","\"",4,null,4,null,4.5,null,4,5,null,null,21.5]
[null,null,"Team 11","\"",4,null,3,null,5.5,null,3,4,null,null,19.5]
[null,null,"Team 12","\"",5,null,4,null,4.5,null,2,5,null,null,20.5]
[null,null,"Team 13","\"",5,null,3.5,null,3.5,null,0,4,null,null,16]
[null,null,"Team 14","\"",4,null,5.5,null,0,null,5.5,4,null,null,19]
[null,null,"Team 15","\"",4,null,5,null,4.5,null,3.5,5,null,null,22]
[null,null,"Team 16","\"",5.5,null,6,null,6,null,2.5,4,null,null,24]
[null,null,"Team 17","\"",4.5,null,3,null,3,null,6,6.5,null,null,23]
[null,null,"Team 18","\"",5,null,0,null,6,null,7,5,null,null,23]
[null,null,"Team 19","\"",4.5,null,3.5,null,3,null,6,5,null,null,22]
[null,null,"Team 20","\"",4,null,5,null,5.5,null,4.5,4.5,null,null,23.5]
[null,null,"Team 21","\"",null,null,null,null,null,null,null,null,null,null,0]
[null,null,"Team 22","\"",null,null,null,null,null,null,null,null,null,null,0]

{"sheet":"POINTS - 2nd Half 2011","index":18,"n_rows":32,"n_cols":15,"rows_kept":32,"cut":false,"hidden":false,"merged":[[7,3,7,13]]}
[{"$f":"'SCORE ENTRY WORKSHEET'!$C$21","v":"Team 04"},{"$f":"'SCORE ENTRY WORKSHEET'!M21","v":0},null,null,null,null,null,null,null,{"$f":"\"Team Points - \" & SCHEDULE!J31","v":"Team Points - 2nd Half"}]
[{"$f":"'SCORE ENTRY WORKSHEET'!$C$22","v":"Team 16"},{"$f":"'SCORE ENTRY WORKSHEET'!M22","v":0}]
["Week:",{"$f":"'SCORE ENTRY WORKSHEET'!N12","v":"Week 9"}]
[]
[]
[1]
[]
[null,null,null,"Points",null,null,null,null,null,null,null,null,null,null,"Total"]
[null,null,"Week:",null,{"$f":"SCHEDULE!D11","v":"Week 1"},"Week 2","Week 3","Week 4","Week 5","Week 6","Week 7","Week 8","Week 9","Week 10"]
[null,null,"Date:",null,{"$f":"SCHEDULE!D73","v":"2013-07-03"},{"$f":"SCHEDULE!E73","v":"2013-07-10"},{"$f":"SCHEDULE!F73","v":"2013-07-17"},{"$f":"SCHEDULE!G73","v":"2013-07-24"},{"$f":"SCHEDULE!H73","v":"2013-07-31"},{"$f":"SCHEDULE!I73","v":"2013-08-07"},{"$f":"SCHEDULE!J73","v":"2013-08-14"},{"$f":"SCHEDULE!K73","v":"2013-08-21"},{"$f":"SCHEDULE!L73","v":"2013-08-28"}]
[null,null,"Team 01","\"",5,8.5,4.5,6,2.5,4,3.5,4,5,null,{"$f":"SUM(E11:N11)","v":43}]
[null,null,"Team 02","\"",3.5,2.5,2,4,6.5,6,4,6,4,null,38.5]
[null,null,"Team 03","\"",6,5.5,7,4.5,4.5,4,2.5,5,5.5,null,44.5]
[null,null,"Team 04","\"",4.5,4,3,4.5,6.5,4.5,5,5.5,4,null,41.5]
[null,null,"Team 05","\"",3,3,4.5,2.5,4.5,8.5,7.5,4.5,0.5,null,38.5]
[null,null,"Team 06","\"",2,3.5,3.5,5,5,1.5,7.5,4.5,5,null,37.5]
[null,null,"Team 07","\"",0,0,6,6.5,5.5,2,4,5.5,5.5,null,35]
[null,null,"Team 08","\"",2.5,5.5,0,3,2.5,6,0,4,4.5,null,28]
[null,null,"Team 09","\"",6.5,6,5.5,4.5,4,3.5,5.5,3,7,null,45.5]
[null,null,"Team 10","\"",5.5,4,4,6,6.5,5.5,3,5.5,8.5,null,48.5]
[null,null,"Team 11","\"",7,0,3.5,6.5,3.5,0,5,4,3.5,null,33]
[null,null,"Team 12","\"",1.5,5,7,2.5,6,7,1.5,7.5,6.5,null,44.5]
[null,null,"Team 13","\"",4,5,4.5,4.5,2.5,3,4,4.5,2.5,null,34.5]
[null,null,"Team 14","\"",2.5,4,3.5,5,5.5,3,3.5,5,3.5,null,35.5]
[null,null,"Team 15","\"",6,5.5,6,4,6,5,6.5,3.5,2.5,null,45]
[null,null,"Team 16","\"",5.5,3.5,3,7,0,4.5,5.5,3.5,2,null,34.5]
[null,null,"Team 17","\"",0,6.5,4.5,2,3.5,5,6,1.5,4,null,33]
[null,null,"Team 18","\"",4.5,0,5.5,0,5,4,3.5,5,4.5,null,32]
[null,null,"Team 19","\"",7.5,5,5,6,3,7.5,5,4.5,5,null,48.5]
[null,null,"Team 20","\"",6.5,7,5.5,3,4,5,5.5,3.5,6.5,null,46.5]
[null,null,"Team 21","\"",null,null,null,null,null,null,null,null,null,null,{"$f":"SUM(E31:N31)","v":0}]
[null,null,"Team 22","\"",null,null,null,null,null,null,null,null,null,null,0]

{"sheet":"POINTS - 1st Half 2012","index":19,"n_rows":32,"n_cols":15,"rows_kept":32,"cut":false,"hidden":false,"merged":[[7,3,7,13]]}
[{"$f":"'SCORE ENTRY WORKSHEET'!$C$21","v":"Team 04"},{"$f":"'SCORE ENTRY WORKSHEET'!M21","v":0},null,null,null,null,null,null,null,{"$f":"\"Team Points - \" & K1 & \" \" & 'COURSE & LEAGUE DETAILS'!F2","v":"Team Points - 1st Half 2013"},"1st Half"]
[{"$f":"'SCORE ENTRY WORKSHEET'!$C$22","v":"Team 16"},{"$f":"'SCORE ENTRY WORKSHEET'!M22","v":0}]
["Week:",{"$f":"'SCORE ENTRY WORKSHEET'!N12","v":"Week 9"}]
[]
[]
[1]
[]
[null,null,null,"Points",null,null,null,null,null,null,null,null,null,null,"Total"]
[null,null,"Week:",null,"Week 1","Week 2","Week 3","Week 4","Week 5","Week 6","Week 7","Week 8","Week 9","Week 10"]
[null,null,"Date:",null,{"$f":"IF($K$1=\"1st Half\",SCHEDULE!D53,SCHEDULE!D73)","v":"2013-04-24"},{"$f":"IF($K$1=\"1st Half\",SCHEDULE!E53,SCHEDULE!E73)","v":"2013-05-01"},{"$f":"IF($K$1=\"1st Half\",SCHEDULE!F53,SCHEDULE!F73)","v":"2013-05-08"},{"$f":"IF($K$1=\"1st Half\",SCHEDULE!G53,SCHEDULE!G73)","v":"2013-05-15"},{"$f":"IF($K$1=\"1st Half\",SCHEDULE!H53,SCHEDULE!H73)","v":"2013-05-22"},{"$f":"IF($K$1=\"1st Half\",SCHEDULE!I53,SCHEDULE!I73)","v":"2013-05-29"},{"$f":"IF($K$1=\"1st Half\",SCHEDULE!J53,SCHEDULE!J73)","v":"2013-06-05"},{"$f":"IF($K$1=\"1st Half\",IF(SCHEDULE!K53<>\"\",SCHEDULE!K53,\"\"),IF(SCHEDULE!K73<>\"\",SCHEDULE!K73,\"\"))","v":"2013-06-12"},{"$f":"IF($K$1=\"1st Half\",IF(SCHEDULE!L53<>\"\",SCHEDULE!L53,\"\"),IF(SCHEDULE!L73<>\"\",SCHEDULE!L73,\"\"))","v":"2013-06-19"},{"$f":"IF($K$1=\"1st Half\",IF(SCHEDULE!M53<>\"\",SCHEDULE!M53,\"\"),IF(SCHEDULE!M73<>\"\",SCHEDULE!M73,\"\"))","v":"2013-06-26"}]
[null,null,"Team 01","\"",2.5,3.5,7.5,5,2.5,2.5,null,7.5,5.5,4.5,{"$f":"SUM(E11:N11)","v":41}]
[null,null,"Team 02","\"",1.5,5.5,7.5,6,3.5,3.5,null,4,5,4,40.5]
[null,null,"Team 03","\"",6,5,1.5,4,4,6.5,null,3,4,7,41]
[null,null,"Team 04","\"",3.5,2,1.5,4,6,2,null,5.5,2,6.5,33]
[null,null,"Team 05","\"",4,5.5,3.5,5,6.5,5,null,2.5,4.5,5,41.5]
[null,null,"Team 06","\"",0,2,4.5,3,0,6.5,null,5.5,7,3.5,32]
[null,null,"Team 07","\"",6,4.5,6,3.5,5,4,null,5,4.5,4.5,43]
[null,null,"Team 08","\"",6.5,6.5,5.5,2.5,5.5,7,null,1.5,5.5,5,45.5]
[null,null,"Team 09","\"",4,2,0,3,3.5,2.5,null,4,3.5,2,24.5]
[null,null,"Team 10","\"",4,7.5,6,4,3.5,5.5,null,3.5,3.5,4.5,42]
[null,null,"Team 11","\"",6.5,4,5.5,5.5,5.5,3,null,3.5,4.5,5,43]
[null,null,"Team 12","\"",7.5,7,4.5,6.5,5.5,4,null,6,6,4,51]
[null,null,"Team 13","\"",3,3.5,3,6,5,3,null,0,3,5,31.5]
[null,null,"Team 14","\"",5.5,7,3.5,5,6.5,0,null,7.5,0,2,37]
[null,null,"Team 15","\"",5,4.5,7.5,6.5,3.5,6,null,3,0,0,36]
[null,null,"Team 16","\"",0,0,0,6.5,4.5,3,null,5.5,5,4,28.5]
[null,null,"Team 17","\"",3,7,5.5,5,4.5,8,null,5,7,5.5,50.5]
[null,null,"Team 18","\"",2.5,1.5,2.5,4,5.5,6,null,6,4.5,4.5,37]
[null,null,"Team 19","\"",5,4.5,6.5,2.5,2.5,5,null,3.5,2,4,35.5]
[null,null,"Team 20","\"",5,4.5,3.5,2.5,4,6,null,6.5,4.5,7,43.5]
[null,null,"Team 21","\"",null,null,null,null,null,null,null,null,null,null,{"$f":"SUM(E31:N31)","v":0}]
[null,null,"Team 22","\"",null,null,null,null,null,null,null,null,null,null,0]

{"sheet":"POINTS - 2nd Half 2012","index":20,"n_rows":32,"n_cols":15,"rows_kept":32,"cut":false,"hidden":false,"merged":[[7,3,7,13]]}
[{"$f":"'SCORE ENTRY WORKSHEET'!$C$21","v":"Team 04"},{"$f":"'SCORE ENTRY WORKSHEET'!M21","v":0},null,null,null,null,null,null,null,{"$f":"\"Team Points - \" & K1 & \" \" & 'COURSE & LEAGUE DETAILS'!F2","v":"Team Points - 2nd Half 2013"},"2nd Half"]
[{"$f":"'SCORE ENTRY WORKSHEET'!$C$22","v":"Team 16"},{"$f":"'SCORE ENTRY WORKSHEET'!M22","v":0}]
["Week:",{"$f":"'SCORE ENTRY WORKSHEET'!N12","v":"Week 9"}]
[]
[]
[1]
[]
[null,null,null,"Points",null,null,null,null,null,null,null,null,null,null,"Total"]
[null,null,"Week:",null,"Week 1","Week 2","Week 3","Week 4","Week 5","Week 6","Week 7","Week 8","Week 9","Week 10"]
[null,null,"Date:",null,{"$f":"IF($K$1=\"1st Half\",SCHEDULE!D53,SCHEDULE!D73)","v":"2013-07-03"},{"$f":"IF($K$1=\"1st Half\",SCHEDULE!E53,SCHEDULE!E73)","v":"2013-07-10"},{"$f":"IF($K$1=\"1st Half\",SCHEDULE!F53,SCHEDULE!F73)","v":"2013-07-17"},{"$f":"IF($K$1=\"1st Half\",SCHEDULE!G53,SCHEDULE!G73)","v":"2013-07-24"},{"$f":"IF($K$1=\"1st Half\",SCHEDULE!H53,SCHEDULE!H73)","v":"2013-07-31"},{"$f":"IF($K$1=\"1st Half\",SCHEDULE!I53,SCHEDULE!I73)","v":"2013-08-07"},{"$f":"IF($K$1=\"1st Half\",SCHEDULE!J53,SCHEDULE!J73)","v":"2013-08-14"},{"$f":"IF($K$1=\"1st Half\",IF(SCHEDULE!K53<>\"\",SCHEDULE!K53,\"\"),IF(SCHEDULE!K73<>\"\",SCHEDULE!K73,\"\"))","v":"2013-08-21"},{"$f":"IF($K$1=\"1st Half\",IF(SCHEDULE!L53<>\"\",SCHEDULE!L53,\"\"),IF(SCHEDULE!L73<>\"\",SCHEDULE!L73,\"\"))","v":"2013-08-28"},{"$f":"IF($K$1=\"1st Half\",IF(SCHEDULE!M53<>\"\",SCHEDULE!M53,\"\"),IF(SCHEDULE!M73<>\"\",SCHEDULE!M73,\"\"))","v":""}]
[null,null,"Team 01","\"",7,4,6.5,3,4.5,6,5.5,4,3.5,null,{"$f":"SUM(E11:N11)","v":44}]
[null,null,"Team 02","\"",5,3.5,2.5,4.5,4.5,2.5,3.5,3,5,null,34]
[null,null,"Team 03","\"",2,5.5,6.5,4,4.5,4,5.5,4.5,6.5,null,43]
[null,null,"Team 04","\"",2,4.5,2.5,4,6,2.5,1,4.5,3.5,null,30.5]
[null,null,"Team 05","\"",6.5,4,6.5,5,3.5,6.5,5,6.5,5.5,null,49]
[null,null,"Team 06","\"",4.5,4.5,3.5,5,5.5,6.5,5,3.5,5,null,43]
[null,null,"Team 07","\"",4,7.5,5.5,4.5,0,0,0,0,0,null,21.5]
[null,null,"Team 08","\"",0,3,5,6,4.5,2.5,6.5,6.5,5.5,null,39.5]
[null,null,"Team 09","\"",6,3,6.5,4.5,0,6.5,4,2.5,2,null,35]
[null,null,"Team 10","\"",5.5,4,4.5,3.5,2.5,5,4,7,7,null,43]
[null,null,"Team 11","\"",4,0,5.5,3,6.5,4.5,5,5.5,4,null,38]
[null,null,"Team 12","\"",7,5,3.5,4.5,6.5,6.5,3.5,5.5,5.5,null,47.5]
[null,null,"Team 13","\"",7,4.5,4,5.5,5,5,5.5,5,5,null,46.5]
[null,null,"Team 14","\"",0,1.5,2.5,6,5,3.5,3.5,3.5,4,null,29.5]
[null,null,"Team 15","\"",4.5,6,4.5,4,4,0,3.5,3.5,2.5,null,32.5]
[null,null,"Team 16","\"",5,6,4,1,4.5,5.5,5.5,6,5.5,null,43]
[null,null,"Team 17","\"",5.5,5,4,6,5,4,4,4.5,3.5,null,41.5]
[null,null,"Team 18","\"",3,3.5,2.5,8,4,2.5,5.5,4.5,4,null,37.5]
[null,null,"Team 19","\"",3.5,5,5,5,4,4.5,3.5,2.5,5.5,null,38.5]
[null,null,"Team 20","\"",2,5.5,5,3,2.5,6.5,8,5.5,3.5,null,41.5]
[null,null,"Team 21","\"",null,null,null,null,null,null,null,null,null,null,{"$f":"SUM(E31:N31)","v":0}]
[null,null,"Team 22","\"",null,null,null,null,null,null,null,null,null,null,0]

{"sheet":"POINTS - 1st Half 2013","index":21,"n_rows":32,"n_cols":15,"rows_kept":32,"cut":false,"hidden":false,"merged":[[7,3,7,13]]}
[{"$f":"'SCORE ENTRY WORKSHEET'!$C$21","v":"Team 04"},{"$f":"'SCORE ENTRY WORKSHEET'!M21","v":0},null,null,null,null,null,null,null,{"$f":"\"Team Points - \" & K1 & \" \" & 'COURSE & LEAGUE DETAILS'!F2","v":"Team Points - 1st Half 2013"},"1st Half"]
[{"$f":"'SCORE ENTRY WORKSHEET'!$C$22","v":"Team 16"},{"$f":"'SCORE ENTRY WORKSHEET'!M22","v":0}]
["Week:",{"$f":"'SCORE ENTRY WORKSHEET'!N12","v":"Week 9"}]
[]
[]
[1]
[]
[null,null,null,"Points",null,null,null,null,null,null,null,null,null,null,"Total"]
[null,null,"Week:",null,"Week 1","Week 2","Week 3","Week 4","Week 5","Week 6","Week 7","Week 8","Week 9","Week 10"]
[null,null,"Date:",null,{"$f":"IF($K$1=\"1st Half\",SCHEDULE!D53,SCHEDULE!D73)","v":"2013-04-24"},{"$f":"IF($K$1=\"1st Half\",SCHEDULE!E53,SCHEDULE!E73)","v":"2013-05-01"},{"$f":"IF($K$1=\"1st Half\",SCHEDULE!F53,SCHEDULE!F73)","v":"2013-05-08"},{"$f":"IF($K$1=\"1st Half\",SCHEDULE!G53,SCHEDULE!G73)","v":"2013-05-15"},{"$f":"IF($K$1=\"1st Half\",SCHEDULE!H53,SCHEDULE!H73)","v":"2013-05-22"},{"$f":"IF($K$1=\"1st Half\",SCHEDULE!I53,SCHEDULE!I73)","v":"2013-05-29"},{"$f":"IF($K$1=\"1st Half\",SCHEDULE!J53,SCHEDULE!J73)","v":"2013-06-05"},{"$f":"IF($K$1=\"1st Half\",IF(SCHEDULE!K53<>\"\",SCHEDULE!K53,\"\"),IF(SCHEDULE!K73<>\"\",SCHEDULE!K73,\"\"))","v":"2013-06-12"},{"$f":"IF($K$1=\"1st Half\",IF(SCHEDULE!L53<>\"\",SCHEDULE!L53,\"\"),IF(SCHEDULE!L73<>\"\",SCHEDULE!L73,\"\"))","v":"2013-06-19"},{"$f":"IF($K$1=\"1st Half\",IF(SCHEDULE!M53<>\"\",SCHEDULE!M53,\"\"),IF(SCHEDULE!M73<>\"\",SCHEDULE!M73,\"\"))","v":"2013-06-26"}]
[null,null,"Team 01","\"",null,7,null,2.5,5,4.5,4,4,5,6,{"$f":"SUM(E11:N11)","v":38}]
[null,null,"Team 02","\"",null,2,null,5,3,4.5,3.5,6,6,4.5,34.5]
[null,null,"Team 03","\"",null,6,null,4.5,5.5,4.5,1,7,3,6,37.5]
[null,null,"Team 04","\"",null,5.5,null,6.5,3,6,3,4,4,5,37]
[null,null,"Team 05","\"",null,5.5,null,4.5,4,7,4,3,5.5,6,39.5]
[null,null,"Team 06","\"",null,0,null,4,6,4.5,4,7.5,4.5,3.5,34]
[null,null,"Team 07","\"",null,0,null,0,0,0,0,0,0,0,0]
[null,null,"Team 08","\"",null,3.5,null,6.5,6,0,5,5,6,4,36]
[null,null,"Team 09","\"",null,6.5,null,2.5,4,4.5,5,5.5,4,3,35]
[null,null,"Team 10","\"",null,4,null,6,3.5,4.5,6,1.5,3,3,31.5]
[null,null,"Team 11","\"",null,3,null,4.5,5,4.5,5,5.5,5,3.5,36]
[null,null,"Team 12","\"",null,3.5,null,2.5,5.5,4,3,5,5,5.5,34]
[null,null,"Team 13","\"",null,3.5,null,6.5,4,2.5,5.5,4.5,4,4.5,35]
[null,null,"Team 14","\"",null,4.5,null,3,4,4.5,5,4.5,4,3,32.5]
[null,null,"Team 15","\"",null,6.5,null,0,6.5,5,4,4,3,4,33]
[null,null,"Team 16","\"",null,5.5,null,5,4,4,3.5,3.5,6,3,34.5]
[null,null,"Team 17","\"",null,2.5,null,5.5,5,4.5,6,3,5,5.5,37]
[null,null,"Team 18","\"",null,5,null,3.5,2.5,6.5,0,2,0,5,24.5]
[null,null,"Team 19","\"",null,5,null,4,5,5,5.5,5,4.5,5,39]
[null,null,"Team 20","\"",null,4,null,6,5,4.5,8,6,7.5,6,47]
[null,null,"Team 21","\"",null,null,null,null,null,null,null,null,null,null,{"$f":"SUM(E31:N31)","v":0}]
[null,null,"Team 22","\"",null,null,null,null,null,null,null,null,null,null,0]

{"sheet":"POINTS - 2nd Half 2013","index":22,"n_rows":32,"n_cols":15,"rows_kept":32,"cut":false,"hidden":false,"merged":[[7,3,7,13]]}
[{"$f":"'SCORE ENTRY WORKSHEET'!$C$21","v":"Team 04"},{"$f":"'SCORE ENTRY WORKSHEET'!M21","v":0},null,null,null,null,null,null,null,{"$f":"\"Team Points - \" & K1 & \" \" & 'COURSE & LEAGUE DETAILS'!F2","v":"Team Points - 2nd Half 2013"},"2nd Half"]
[{"$f":"'SCORE ENTRY WORKSHEET'!$C$22","v":"Team 16"},{"$f":"'SCORE ENTRY WORKSHEET'!M22","v":0}]
["Week:",{"$f":"'SCORE ENTRY WORKSHEET'!N12","v":"Week 9"}]
[]
[]
[1]
[]
[null,null,null,"Points",null,null,null,null,null,null,null,null,null,null,"Total"]
[null,null,"Week:",null,"Week 1","Week 2","Week 3","Week 4","Week 5","Week 6","Week 7","Week 8","Week 9","Week 10"]
[null,null,"Date:",null,{"$f":"IF($K$1=\"1st Half\",SCHEDULE!D53,SCHEDULE!D73)","v":"2013-07-03"},{"$f":"IF($K$1=\"1st Half\",SCHEDULE!E53,SCHEDULE!E73)","v":"2013-07-10"},{"$f":"IF($K$1=\"1st Half\",SCHEDULE!F53,SCHEDULE!F73)","v":"2013-07-17"},{"$f":"IF($K$1=\"1st Half\",SCHEDULE!G53,SCHEDULE!G73)","v":"2013-07-24"},{"$f":"IF($K$1=\"1st Half\",SCHEDULE!H53,SCHEDULE!H73)","v":"2013-07-31"},{"$f":"IF($K$1=\"1st Half\",SCHEDULE!I53,SCHEDULE!I73)","v":"2013-08-07"},{"$f":"IF($K$1=\"1st Half\",SCHEDULE!J53,SCHEDULE!J73)","v":"2013-08-14"},{"$f":"IF($K$1=\"1st Half\",IF(SCHEDULE!K53<>\"\",SCHEDULE!K53,\"\"),IF(SCHEDULE!K73<>\"\",SCHEDULE!K73,\"\"))","v":"2013-08-21"},{"$f":"IF($K$1=\"1st Half\",IF(SCHEDULE!L53<>\"\",SCHEDULE!L53,\"\"),IF(SCHEDULE!L73<>\"\",SCHEDULE!L73,\"\"))","v":"2013-08-28"},{"$f":"IF($K$1=\"1st Half\",IF(SCHEDULE!M53<>\"\",SCHEDULE!M53,\"\"),IF(SCHEDULE!M73<>\"\",SCHEDULE!M73,\"\"))","v":""}]
[null,null,"Team 01","\"",3.5,null,6.5,5.5,5.5,2,7,6,3,null,{"$f":"SUM(E11:N11)","v":39}]
[null,null,"Team 02","\"",6.5,null,5,7,6,1.5,4,5,4,null,39]
[null,null,"Team 03","\"",5.5,null,5.5,6,4.5,3.5,3.5,3,3.5,null,35]
[null,null,"Team 04","\"",5,null,3.5,4,4,4,5,4.5,5,null,35]
[null,null,"Team 05","\"",5.5,null,4,5,6,8,3.5,4,6.5,null,42.5]
[null,null,"Team 06","\"",3.5,null,6,3,3,5,5,5,0,null,30.5]
[null,null,"Team 07","\"",0,null,0,0,0,0,0,0,0,null,0]
[null,null,"Team 08","\"",5.5,null,4,2.5,4.5,0,5,8,5,null,34.5]
[null,null,"Team 09","\"",4.5,null,7,6,3,5,4,1,2,null,32.5]
[null,null,"Team 10","\"",4.5,null,3.5,6,4.5,5.5,5.5,7,7,null,43.5]
[null,null,"Team 11","\"",2.5,null,3,6.5,4.5,4,4.5,5,6.5,null,36.5]
[null,null,"Team 12","\"",3.5,null,7.5,3,3.5,5.5,5,7,6,null,41]
[null,null,"Team 13","\"",0,null,5,3,1.5,2,2.5,3,2.5,null,19.5]
[null,null,"Team 14","\"",3.5,null,2,3,4.5,5.5,2,2,5,null,27.5]
[null,null,"Team 15","\"",5.5,null,5.5,4,4,7,6.5,4,5.5,null,42]
[null,null,"Team 16","\"",6,null,7.5,9,3.5,3.5,4,4,4,null,41.5]
[null,null,"Team 17","\"",3.5,null,5,3.5,5,7,4.5,6,2.5,null,37]
[null,null,"Team 18","\"",4.5,null,2.5,0,4.5,3.5,5,4.5,4.5,null,29]
[null,null,"Team 19","\"",4.5,null,4,5,7.5,5,5.5,5,4,null,40.5]
[null,null,"Team 20","\"",5.5,null,1.5,6,5.5,7.5,4,4,4,null,38]
[null,null,"Team 21","\"",null,null,null,null,null,null,null,null,null,null,{"$f":"SUM(E31:N31)","v":0}]
[null,null,"Team 22","\"",null,null,null,null,null,null,null,null,null,null,0]

{"sheet":"STANDINGS","index":23,"n_rows":33,"n_cols":12,"rows_kept":33,"cut":false,"hidden":false,"merged":[[9,4,9,7]]}
[null,null,null,null,null,null,null,null,null,null,null,{"$f":"IF(N2=\"\",\"Team Standings\",IF(N4=\"1st Half\",IF(N2=N3,\"Final Standings - First Half\",\"Team Standings After \"&N2),IF(N4=\"2nd Half\",IF(N2=N3,\"Final Standings - Second Half\",\"Team Standings After \"&N2))))","v":"Team Standings"}]
[]
[]
[]
[]
[]
[]
[null,null,null,null,null,null,null,null,null,"\"Standings Through \"&'SCORE ENTRY WORKSHEET'!D24"]
[]
[null,null,null,"Rank",{"$f":"L1","v":"Team Standings"},null,null,null,"Points"]
[null,null,{"$f":"RANK(I11,$I$11:$I$32)","v":{"$error":"#REF!"}},{"$f":"IF(C11=C10,C11&\"T\",IF(C11=C12,C11&\"T\",C11))","v":{"$error":"#REF!"}},{"$f":"\"01  \"&VLOOKUP(\"Team 1\",'LEAGUE MEMBERSHIP'!$I:$M,3,FALSE)&\" / \"&VLOOKUP(\"Team 1\",'LEAGUE MEMBERSHIP'!$I:$M,5,FALSE)","v":"01  Lester Lockhart / Pete Normandin"}]
[null,null,{"$error":"#REF!"},{"$f":"IF(C12=C11,C12&\"T\",IF(C12=C13,C12&\"T\",C12))","v":{"$error":"#REF!"}},{"$f":"\"02  \"&VLOOKUP(\"Team 2\",'LEAGUE MEMBERSHIP'!$I:$M,3,FALSE)&\" / \"&VLOOKUP(\"Team 2\",'LEAGUE MEMBERSHIP'!$I:$M,5,FALSE)","v":"02  Dave Cormier / Adam Williamson"}]
[null,null,{"$error":"#REF!"},{"$error":"#REF!"},{"$f":"\"03  \"&VLOOKUP(\"Team 3\",'LEAGUE MEMBERSHIP'!$I:$M,3,FALSE)&\" / \"&VLOOKUP(\"Team 3\",'LEAGUE MEMBERSHIP'!$I:$M,5,FALSE)","v":"03  Pete Romano / Don Frigoletto"}]
[null,null,{"$error":"#REF!"},{"$error":"#REF!"},{"$f":"\"04  \"&VLOOKUP(\"Team 4\",'LEAGUE MEMBERSHIP'!$I:$M,3,FALSE)&\" / \"&VLOOKUP(\"Team 4\",'LEAGUE MEMBERSHIP'!$I:$M,5,FALSE)","v":"04  Peg Romano / Lynn Laroche"}]
[null,null,{"$error":"#REF!"},{"$error":"#REF!"},{"$f":"\"05  \"&VLOOKUP(\"Team 5\",'LEAGUE MEMBERSHIP'!$I:$M,3,FALSE)&\" / \"&VLOOKUP(\"Team 5\",'LEAGUE MEMBERSHIP'!$I:$M,5,FALSE)","v":"05  Dennis Normandin / Mark Normandin"}]
[null,null,{"$error":"#REF!"},{"$error":"#REF!"},{"$f":"\"06  \"&VLOOKUP(\"Team 6\",'LEAGUE MEMBERSHIP'!$I:$M,3,FALSE)&\" / \"&VLOOKUP(\"Team 6\",'LEAGUE MEMBERSHIP'!$I:$M,5,FALSE)","v":"06  Vance Butterfield / Bob Schleyer"}]
[null,null,{"$error":"#REF!"},{"$error":"#REF!"},{"$f":"\"07  \"&VLOOKUP(\"Team 7\",'LEAGUE MEMBERSHIP'!$I:$M,3,FALSE)&\" / \"&VLOOKUP(\"Team 7\",'LEAGUE MEMBERSHIP'!$I:$M,5,FALSE)","v":"07  Steve Scapparone / Dave Hyre"}]
[null,null,{"$error":"#REF!"},{"$error":"#REF!"},{"$f":"\"08  \"&VLOOKUP(\"Team 8\",'LEAGUE MEMBERSHIP'!$I:$M,3,FALSE)&\" / \"&VLOOKUP(\"Team 8\",'LEAGUE MEMBERSHIP'!$I:$M,5,FALSE)","v":"08  Mike Sunderland / Debbie Sunderland"}]
[null,null,{"$error":"#REF!"},{"$error":"#REF!"},{"$f":"\"09  \"&VLOOKUP(\"Team 9\",'LEAGUE MEMBERSHIP'!$I:$M,3,FALSE)&\" / \"&VLOOKUP(\"Team 9\",'LEAGUE MEMBERSHIP'!$I:$M,5,FALSE)","v":"09  Mike Doane / John Cassin"}]
[null,null,{"$error":"#REF!"},{"$error":"#REF!"},{"$f":"\"10  \"&VLOOKUP(\"Team 10\",'LEAGUE MEMBERSHIP'!$I:$M,3,FALSE)&\" / \"&VLOOKUP(\"Team 10\",'LEAGUE MEMBERSHIP'!$I:$M,5,FALSE)","v":"10  Ron Eckstrom / Beth Romano"}]
[null,null,{"$error":"#REF!"},{"$error":"#REF!"},{"$f":"\"11  \"&VLOOKUP(\"Team 11\",'LEAGUE MEMBERSHIP'!$I:$M,3,FALSE)&\" / \"&VLOOKUP(\"Team 11\",'LEAGUE MEMBERSHIP'!$I:$M,5,FALSE)","v":"11  Ray Henderson / Zachary Wallace"}]
[null,null,{"$error":"#REF!"},{"$error":"#REF!"},{"$f":"\"12  \"&VLOOKUP(\"Team 12\",'LEAGUE MEMBERSHIP'!$I:$M,3,FALSE)&\" / \"&VLOOKUP(\"Team 12\",'LEAGUE MEMBERSHIP'!$I:$M,5,FALSE)","v":"12  Sal Cuifetti / Paul LeBlanc"}]
[null,null,{"$error":"#REF!"},{"$error":"#REF!"},{"$f":"\"13  \"&VLOOKUP(\"Team 13\",'LEAGUE MEMBERSHIP'!$I:$M,3,FALSE)&\" / \"&VLOOKUP(\"Team 13\",'LEAGUE MEMBERSHIP'!$I:$M,5,FALSE)","v":"13  Kyle Currier / Walter Drake"}]
[null,null,{"$error":"#REF!"},{"$error":"#REF!"},{"$f":"\"14  \"&VLOOKUP(\"Team 14\",'LEAGUE MEMBERSHIP'!$I:$M,3,FALSE)&\" / \"&VLOOKUP(\"Team 14\",'LEAGUE MEMBERSHIP'!$I:$M,5,FALSE)","v":"14  Doug Cormier / Ralph Romano, Jr."}]
[null,null,{"$error":"#REF!"},{"$error":"#REF!"},{"$f":"\"15  \"&VLOOKUP(\"Team 15\",'LEAGUE MEMBERSHIP'!$I:$M,3,FALSE)&\" / \"&VLOOKUP(\"Team 15\",'LEAGUE MEMBERSHIP'!$I:$M,5,FALSE)","v":"15  Tim Hurley / John Elie"}]
[null,null,{"$error":"#REF!"},{"$error":"#REF!"},{"$f":"\"16  \"&VLOOKUP(\"Team 16\",'LEAGUE MEMBERSHIP'!$I:$M,3,FALSE)&\" / \"&VLOOKUP(\"Team 16\",'LEAGUE MEMBERSHIP'!$I:$M,5,FALSE)","v":"16  Deb DeCarolis / Joey DeCarolis"}]
[null,null,{"$error":"#REF!"},{"$error":"#REF!"},{"$f":"\"17  \"&VLOOKUP(\"Team 17\",'LEAGUE MEMBERSHIP'!$I:$M,3,FALSE)&\" / \"&VLOOKUP(\"Team 17\",'LEAGUE MEMBERSHIP'!$I:$M,5,FALSE)","v":"17  Gary Bittner / Mike Dauphinais"}]
[null,null,{"$error":"#REF!"},{"$f":"IF(C28=C27,C28&\"T\",IF(C28=C29,C28&\"T\",C28))","v":{"$error":"#REF!"}},{"$f":"\"18  \"&VLOOKUP(\"Team 18\",'LEAGUE MEMBERSHIP'!$I:$M,3,FALSE)&\" / \"&VLOOKUP(\"Team 18\",'LEAGUE MEMBERSHIP'!$I:$M,5,FALSE)","v":"18  Norm Gamache / Michelle Bouvier"}]
[null,null,{"$f":"RANK(I29,$I$11:$I$32)","v":{"$error":"#REF!"}},{"$f":"IF(C29=C28,C29&\"T\",IF(C29=C30,C29&\"T\",C29))","v":{"$error":"#REF!"}},{"$f":"\"19  \"&VLOOKUP(\"Team 19\",'LEAGUE MEMBERSHIP'!$I:$M,3,FALSE)&\" / \"&VLOOKUP(\"Team 19\",'LEAGUE MEMBERSHIP'!$I:$M,5,FALSE)","v":"19  Gary Leavenworth / Patty Leavenworth"}]
[null,null,{"$f":"RANK(I30,$I$11:$I$32)","v":{"$error":"#REF!"}},{"$f":"IF(C30=C29,C30&\"T\",IF(C30=C31,C30&\"T\",C30))","v":{"$error":"#REF!"}},{"$f":"\"20  \"&VLOOKUP(\"Team 20\",'LEAGUE MEMBERSHIP'!$I:$M,3,FALSE)&\" / \"&VLOOKUP(\"Team 20\",'LEAGUE MEMBERSHIP'!$I:$M,5,FALSE)","v":"20  Paul Fontaine / Ralph Romano III"}]
[null,null,{"$error":"#REF!"},{"$f":"IF(C31=C28,C31&\"T\",IF(C31=C32,C31&\"T\",C31))","v":{"$error":"#REF!"}},{"$f":"\"21  \"&VLOOKUP(\"Team 21\",'LEAGUE MEMBERSHIP'!$I:$M,3,FALSE)&\" / \"&VLOOKUP(\"Team 21\",'LEAGUE MEMBERSHIP'!$I:$M,5,FALSE)","v":"21   / "},null,null,null,{"$f":"VLOOKUP(\"Team \"&LEFT(E31,2),#REF!,13,FALSE)","v":{"$error":"#REF!"}}]
[null,null,{"$error":"#REF!"},{"$f":"IF(C32=C31,C32&\"T\",IF(C32=C33,C32&\"T\",C32))","v":{"$error":"#REF!"}},{"$f":"\"22 \"&VLOOKUP(\"Team 22\",'LEAGUE MEMBERSHIP'!$I:$M,3,FALSE)&\" / \"&VLOOKUP(\"Team 22\",'LEAGUE MEMBERSHIP'!$I:$M,5,FALSE)","v":"22  / "},null,null,null,{"$f":"VLOOKUP(\"Team \"&LEFT(E32,2),#REF!,13,FALSE)","v":{"$error":"#REF!"}}]
[null,null,null,null,null,null,null,null,-1]

{"sheet":"STANDINGS - 1st Half 2012","index":24,"n_rows":33,"n_cols":14,"rows_kept":33,"cut":false,"hidden":false,"merged":[[9,4,9,7]]}
[null,null,null,null,null,null,null,null,null,null,null,{"$f":"IF(N2=\"\",\"Team Standings\",IF(N4=\"1st Half\",IF(N2=N3,\"Final Standings - First Half\",\"Team Standings After \"&N2),IF(N4=\"2nd Half\",IF(N2=N3,\"Final Standings - Second Half\",\"Team Standings After \"&N2))))","v":"Final Standings - First Half"}]
[null,null,null,null,null,null,null,null,null,null,null,null,null,"Week 10"]
[null,null,null,null,null,null,null,null,null,null,null,null,null,"Week 10"]
[null,null,null,null,null,null,null,null,null,null,null,null,null,"1st Half"]
[]
[]
[]
[null,null,null,null,null,null,null,null,null,"\"Standings Through \"&'SCORE ENTRY WORKSHEET'!D24"]
[]
[null,null,null,"Rank",{"$f":"L1","v":"Final Standings - First Half"},null,null,null,"Points"]
[null,null,{"$f":"RANK(I11,$I$11:$I$32)","v":1},{"$f":"IF(C11=C10,C11&\"T\",IF(C11=C12,C11&\"T\",C11))","v":1},{"$f":"\"12  \"&VLOOKUP(\"Team 12\",'LEAGUE MEMBERSHIP'!$I:$M,3,FALSE)&\" / \"&VLOOKUP(\"Team 12\",'LEAGUE MEMBERSHIP'!$I:$M,5,FALSE)","v":"12  Sal Cuifetti / Paul LeBlanc"},null,null,null,{"$f":"VLOOKUP(\"Team \"&LEFT(E11,2),'POINTS - 1st Half 2012'!$C$11:$O$32,13,FALSE)","v":51}]
[null,null,2,{"$f":"IF(C12=C11,C12&\"T\",IF(C12=C13,C12&\"T\",C12))","v":2},{"$f":"\"17  \"&VLOOKUP(\"Team 17\",'LEAGUE MEMBERSHIP'!$I:$M,3,FALSE)&\" / \"&VLOOKUP(\"Team 17\",'LEAGUE MEMBERSHIP'!$I:$M,5,FALSE)","v":"17  Gary Bittner / Mike Dauphinais"},null,null,null,{"$f":"VLOOKUP(\"Team \"&LEFT(E12,2),'POINTS - 1st Half 2012'!$C$11:$O$32,13,FALSE)","v":50.5}]
[null,null,3,3,{"$f":"\"08  \"&VLOOKUP(\"Team 8\",'LEAGUE MEMBERSHIP'!$I:$M,3,FALSE)&\" / \"&VLOOKUP(\"Team 8\",'LEAGUE MEMBERSHIP'!$I:$M,5,FALSE)","v":"08  Mike Sunderland / Debbie Sunderland"},null,null,null,{"$f":"VLOOKUP(\"Team \"&LEFT(E13,2),'POINTS - 1st Half 2012'!$C$11:$O$32,13,FALSE)","v":45.5}]
[null,null,4,4,{"$f":"\"20  \"&VLOOKUP(\"Team 20\",'LEAGUE MEMBERSHIP'!$I:$M,3,FALSE)&\" / \"&VLOOKUP(\"Team 20\",'LEAGUE MEMBERSHIP'!$I:$M,5,FALSE)","v":"20  Paul Fontaine / Ralph Romano III"},null,null,null,{"$f":"VLOOKUP(\"Team \"&LEFT(E14,2),'POINTS - 1st Half 2012'!$C$11:$O$32,13,FALSE)","v":43.5}]
[null,null,5,"5T",{"$f":"\"07  \"&VLOOKUP(\"Team 7\",'LEAGUE MEMBERSHIP'!$I:$M,3,FALSE)&\" / \"&VLOOKUP(\"Team 7\",'LEAGUE MEMBERSHIP'!$I:$M,5,FALSE)","v":"07  Steve Scapparone / Dave Hyre"},null,null,null,{"$f":"VLOOKUP(\"Team \"&LEFT(E15,2),'POINTS - 1st Half 2012'!$C$11:$O$32,13,FALSE)","v":43}]
[null,null,5,"5T",{"$f":"\"11  \"&VLOOKUP(\"Team 11\",'LEAGUE MEMBERSHIP'!$I:$M,3,FALSE)&\" / \"&VLOOKUP(\"Team 11\",'LEAGUE MEMBERSHIP'!$I:$M,5,FALSE)","v":"11  Ray Henderson / Zachary Wallace"},null,null,null,{"$f":"VLOOKUP(\"Team \"&LEFT(E16,2),'POINTS - 1st Half 2012'!$C$11:$O$32,13,FALSE)","v":43}]
[null,null,7,7,{"$f":"\"10  \"&VLOOKUP(\"Team 10\",'LEAGUE MEMBERSHIP'!$I:$M,3,FALSE)&\" / \"&VLOOKUP(\"Team 10\",'LEAGUE MEMBERSHIP'!$I:$M,5,FALSE)","v":"10  Ron Eckstrom / Beth Romano"},null,null,null,{"$f":"VLOOKUP(\"Team \"&LEFT(E17,2),'POINTS - 1st Half 2012'!$C$11:$O$32,13,FALSE)","v":42}]
[null,null,8,8,{"$f":"\"05  \"&VLOOKUP(\"Team 5\",'LEAGUE MEMBERSHIP'!$I:$M,3,FALSE)&\" / \"&VLOOKUP(\"Team 5\",'LEAGUE MEMBERSHIP'!$I:$M,5,FALSE)","v":"05  Dennis Normandin / Mark Normandin"},null,null,null,{"$f":"VLOOKUP(\"Team \"&LEFT(E18,2),'POINTS - 1st Half 2012'!$C$11:$O$32,13,FALSE)","v":41.5}]
[null,null,9,"9T",{"$f":"\"01  \"&VLOOKUP(\"Team 1\",'LEAGUE MEMBERSHIP'!$I:$M,3,FALSE)&\" / \"&VLOOKUP(\"Team 1\",'LEAGUE MEMBERSHIP'!$I:$M,5,FALSE)","v":"01  Lester Lockhart / Pete Normandin"},null,null,null,{"$f":"VLOOKUP(\"Team \"&LEFT(E19,2),'POINTS - 1st Half 2012'!$C$11:$O$32,13,FALSE)","v":41}]
[null,null,9,"9T",{"$f":"\"03  \"&VLOOKUP(\"Team 3\",'LEAGUE MEMBERSHIP'!$I:$M,3,FALSE)&\" / \"&VLOOKUP(\"Team 3\",'LEAGUE MEMBERSHIP'!$I:$M,5,FALSE)","v":"03  Pete Romano / Don Frigoletto"},null,null,null,{"$f":"VLOOKUP(\"Team \"&LEFT(E20,2),'POINTS - 1st Half 2012'!$C$11:$O$32,13,FALSE)","v":41}]
[null,null,11,11,{"$f":"\"02  \"&VLOOKUP(\"Team 2\",'LEAGUE MEMBERSHIP'!$I:$M,3,FALSE)&\" / \"&VLOOKUP(\"Team 2\",'LEAGUE MEMBERSHIP'!$I:$M,5,FALSE)","v":"02  Dave Cormier / Adam Williamson"},null,null,null,{"$f":"VLOOKUP(\"Team \"&LEFT(E21,2),'POINTS - 1st Half 2012'!$C$11:$O$32,13,FALSE)","v":40.5}]
[null,null,12,"12T",{"$f":"\"14  \"&VLOOKUP(\"Team 14\",'LEAGUE MEMBERSHIP'!$I:$M,3,FALSE)&\" / \"&VLOOKUP(\"Team 14\",'LEAGUE MEMBERSHIP'!$I:$M,5,FALSE)","v":"14  Doug Cormier / Ralph Romano, Jr."},null,null,null,{"$f":"VLOOKUP(\"Team \"&LEFT(E22,2),'POINTS - 1st Half 2012'!$C$11:$O$32,13,FALSE)","v":37}]
[null,null,12,"12T",{"$f":"\"18  \"&VLOOKUP(\"Team 18\",'LEAGUE MEMBERSHIP'!$I:$M,3,FALSE)&\" / \"&VLOOKUP(\"Team 18\",'LEAGUE MEMBERSHIP'!$I:$M,5,FALSE)","v":"18  Norm Gamache / Michelle Bouvier"},null,null,null,{"$f":"VLOOKUP(\"Team \"&LEFT(E23,2),'POINTS - 1st Half 2012'!$C$11:$O$32,13,FALSE)","v":37}]
[null,null,14,14,{"$f":"\"15  \"&VLOOKUP(\"Team 15\",'LEAGUE MEMBERSHIP'!$I:$M,3,FALSE)&\" / \"&VLOOKUP(\"Team 15\",'LEAGUE MEMBERSHIP'!$I:$M,5,FALSE)","v":"15  Tim Hurley / John Elie"},null,null,null,{"$f":"VLOOKUP(\"Team \"&LEFT(E24,2),'POINTS - 1st Half 2012'!$C$11:$O$32,13,FALSE)","v":36}]
[null,null,15,15,{"$f":"\"19  \"&VLOOKUP(\"Team 19\",'LEAGUE MEMBERSHIP'!$I:$M,3,FALSE)&\" / \"&VLOOKUP(\"Team 19\",'LEAGUE MEMBERSHIP'!$I:$M,5,FALSE)","v":"19  Gary Leavenworth / Patty Leavenworth"},null,null,null,{"$f":"VLOOKUP(\"Team \"&LEFT(E25,2),'POINTS - 1st Half 2012'!$C$11:$O$32,13,FALSE)","v":35.5}]
[null,null,16,16,{"$f":"\"04  \"&VLOOKUP(\"Team 4\",'LEAGUE MEMBERSHIP'!$I:$M,3,FALSE)&\" / \"&VLOOKUP(\"Team 4\",'LEAGUE MEMBERSHIP'!$I:$M,5,FALSE)","v":"04  Peg Romano / Lynn Laroche"},null,null,null,{"$f":"VLOOKUP(\"Team \"&LEFT(E26,2),'POINTS - 1st Half 2012'!$C$11:$O$32,13,FALSE)","v":33}]
[null,null,17,17,{"$f":"\"06  \"&VLOOKUP(\"Team 6\",'LEAGUE MEMBERSHIP'!$I:$M,3,FALSE)&\" / \"&VLOOKUP(\"Team 6\",'LEAGUE MEMBERSHIP'!$I:$M,5,FALSE)","v":"06  Vance Butterfield / Bob Schleyer"},null,null,null,{"$f":"VLOOKUP(\"Team \"&LEFT(E27,2),'POINTS - 1st Half 2012'!$C$11:$O$32,13,FALSE)","v":32}]
[null,null,18,{"$f":"IF(C28=C27,C28&\"T\",IF(C28=C29,C28&\"T\",C28))","v":18},{"$f":"\"13  \"&VLOOKUP(\"Team 13\",'LEAGUE MEMBERSHIP'!$I:$M,3,FALSE)&\" / \"&VLOOKUP(\"Team 13\",'LEAGUE MEMBERSHIP'!$I:$M,5,FALSE)","v":"13  Kyle Currier / Walter Drake"},null,null,null,{"$f":"VLOOKUP(\"Team \"&LEFT(E28,2),'POINTS - 1st Half 2012'!$C$11:$O$32,13,FALSE)","v":31.5}]
[null,null,{"$f":"RANK(I29,$I$11:$I$32)","v":19},{"$f":"IF(C29=C28,C29&\"T\",IF(C29=C30,C29&\"T\",C29))","v":19},{"$f":"\"16  \"&VLOOKUP(\"Team 16\",'LEAGUE MEMBERSHIP'!$I:$M,3,FALSE)&\" / \"&VLOOKUP(\"Team 16\",'LEAGUE MEMBERSHIP'!$I:$M,5,FALSE)","v":"16  Deb DeCarolis / Joey DeCarolis"},null,null,null,{"$f":"VLOOKUP(\"Team \"&LEFT(E29,2),'POINTS - 1st Half 2012'!$C$11:$O$32,13,FALSE)","v":28.5}]
[null,null,{"$f":"RANK(I30,$I$11:$I$32)","v":20},{"$f":"IF(C30=C29,C30&\"T\",IF(C30=C31,C30&\"T\",C30))","v":20},{"$f":"\"09  \"&VLOOKUP(\"Team 9\",'LEAGUE MEMBERSHIP'!$I:$M,3,FALSE)&\" / \"&VLOOKUP(\"Team 9\",'LEAGUE MEMBERSHIP'!$I:$M,5,FALSE)","v":"09  Mike Doane / John Cassin"},null,null,null,{"$f":"VLOOKUP(\"Team \"&LEFT(E30,2),'POINTS - 1st Half 2012'!$C$11:$O$32,13,FALSE)","v":24.5}]
[null,null,21,{"$f":"IF(C31=C28,C31&\"T\",IF(C31=C32,C31&\"T\",C31))","v":"21T"},{"$f":"\"21  \"&VLOOKUP(\"Team 21\",'LEAGUE MEMBERSHIP'!$I:$M,3,FALSE)&\" / \"&VLOOKUP(\"Team 21\",'LEAGUE MEMBERSHIP'!$I:$M,5,FALSE)","v":"21   / "},null,null,null,{"$f":"VLOOKUP(\"Team \"&LEFT(E31,2),'POINTS - 1st Half 2012'!$C$11:$O$32,13,FALSE)","v":0}]
[null,null,21,{"$f":"IF(C32=C31,C32&\"T\",IF(C32=C33,C32&\"T\",C32))","v":"21T"},{"$f":"\"22 \"&VLOOKUP(\"Team 22\",'LEAGUE MEMBERSHIP'!$I:$M,3,FALSE)&\" / \"&VLOOKUP(\"Team 22\",'LEAGUE MEMBERSHIP'!$I:$M,5,FALSE)","v":"22  / "},null,null,null,{"$f":"VLOOKUP(\"Team \"&LEFT(E32,2),'POINTS - 1st Half 2012'!$C$11:$O$32,13,FALSE)","v":0}]
[null,null,null,null,null,null,null,null,-1]

{"sheet":"STANDINGS - 2nd Half 2012","index":25,"n_rows":33,"n_cols":14,"rows_kept":33,"cut":false,"hidden":false,"merged":[[9,4,9,7]]}
[null,null,null,null,null,null,null,null,null,null,null,{"$f":"IF(N2=\"\",\"Team Standings\",IF(N4=\"1st Half\",IF(N2=N3,\"Final Standings - First Half\",\"Team Standings After \"&N2),IF(N4=\"2nd Half\",IF(N2=N3,\"Final Standings - Second Half\",\"Team Standings After \"&N2))))","v":"Final Standings - Second Half"}]
[null,null,null,null,null,null,null,null,null,null,null,null,null,"Week 9"]
[null,null,null,null,null,null,null,null,null,null,null,null,null,"Week 9"]
[null,null,null,null,null,null,null,null,null,null,null,null,null,"2nd Half"]
[]
[]
[]
[null,null,null,null,null,null,null,null,null,"\"Standings Through \"&'SCORE ENTRY WORKSHEET'!D24"]
[]
[null,null,null,"Rank",{"$f":"L1","v":"Final Standings - Second Half"},null,null,null,"Points"]
[null,null,{"$f":"RANK(I11,$I$11:$I$32)","v":1},{"$f":"IF(C11=C10,C11&\"T\",IF(C11=C12,C11&\"T\",C11))","v":1},{"$f":"\"05  \"&VLOOKUP(\"Team 5\",'LEAGUE MEMBERSHIP'!$I:$M,3,FALSE)&\" / \"&VLOOKUP(\"Team 5\",'LEAGUE MEMBERSHIP'!$I:$M,5,FALSE)","v":"05  Dennis Normandin / Mark Normandin"},null,null,null,{"$f":"VLOOKUP(\"Team \"&LEFT(E11,2),'POINTS - 2nd Half 2012'!$C$11:$O$32,13,FALSE)","v":49}]
[null,null,2,{"$f":"IF(C12=C11,C12&\"T\",IF(C12=C13,C12&\"T\",C12))","v":2},{"$f":"\"12  \"&VLOOKUP(\"Team 12\",'LEAGUE MEMBERSHIP'!$I:$M,3,FALSE)&\" / \"&VLOOKUP(\"Team 12\",'LEAGUE MEMBERSHIP'!$I:$M,5,FALSE)","v":"12  Sal Cuifetti / Paul LeBlanc"},null,null,null,{"$f":"VLOOKUP(\"Team \"&LEFT(E12,2),'POINTS - 2nd Half 2012'!$C$11:$O$32,13,FALSE)","v":47.5}]
[null,null,3,3,{"$f":"\"13  \"&VLOOKUP(\"Team 13\",'LEAGUE MEMBERSHIP'!$I:$M,3,FALSE)&\" / \"&VLOOKUP(\"Team 13\",'LEAGUE MEMBERSHIP'!$I:$M,5,FALSE)","v":"13  Kyle Currier / Walter Drake"},null,null,null,{"$f":"VLOOKUP(\"Team \"&LEFT(E13,2),'POINTS - 2nd Half 2012'!$C$11:$O$32,13,FALSE)","v":46.5}]
[null,null,4,4,{"$f":"\"01  \"&VLOOKUP(\"Team 1\",'LEAGUE MEMBERSHIP'!$I:$M,3,FALSE)&\" / \"&VLOOKUP(\"Team 1\",'LEAGUE MEMBERSHIP'!$I:$M,5,FALSE)","v":"01  Lester Lockhart / Pete Normandin"},null,null,null,{"$f":"VLOOKUP(\"Team \"&LEFT(E14,2),'POINTS - 2nd Half 2012'!$C$11:$O$32,13,FALSE)","v":44}]
[null,null,5,"5T",{"$f":"\"03  \"&VLOOKUP(\"Team 3\",'LEAGUE MEMBERSHIP'!$I:$M,3,FALSE)&\" / \"&VLOOKUP(\"Team 3\",'LEAGUE MEMBERSHIP'!$I:$M,5,FALSE)","v":"03  Pete Romano / Don Frigoletto"},null,null,null,{"$f":"VLOOKUP(\"Team \"&LEFT(E15,2),'POINTS - 2nd Half 2012'!$C$11:$O$32,13,FALSE)","v":43}]
[null,null,5,"5T",{"$f":"\"06  \"&VLOOKUP(\"Team 6\",'LEAGUE MEMBERSHIP'!$I:$M,3,FALSE)&\" / \"&VLOOKUP(\"Team 6\",'LEAGUE MEMBERSHIP'!$I:$M,5,FALSE)","v":"06  Vance Butterfield / Bob Schleyer"},null,null,null,{"$f":"VLOOKUP(\"Team \"&LEFT(E16,2),'POINTS - 2nd Half 2012'!$C$11:$O$32,13,FALSE)","v":43}]
[null,null,5,"5T",{"$f":"\"10  \"&VLOOKUP(\"Team 10\",'LEAGUE MEMBERSHIP'!$I:$M,3,FALSE)&\" / \"&VLOOKUP(\"Team 10\",'LEAGUE MEMBERSHIP'!$I:$M,5,FALSE)","v":"10  Ron Eckstrom / Beth Romano"},null,null,null,{"$f":"VLOOKUP(\"Team \"&LEFT(E17,2),'POINTS - 2nd Half 2012'!$C$11:$O$32,13,FALSE)","v":43}]
[null,null,5,"5T",{"$f":"\"16  \"&VLOOKUP(\"Team 16\",'LEAGUE MEMBERSHIP'!$I:$M,3,FALSE)&\" / \"&VLOOKUP(\"Team 16\",'LEAGUE MEMBERSHIP'!$I:$M,5,FALSE)","v":"16  Deb DeCarolis / Joey DeCarolis"},null,null,null,{"$f":"VLOOKUP(\"Team \"&LEFT(E18,2),'POINTS - 2nd Half 2012'!$C$11:$O$32,13,FALSE)","v":43}]
[null,null,9,"9T",{"$f":"\"17  \"&VLOOKUP(\"Team 17\",'LEAGUE MEMBERSHIP'!$I:$M,3,FALSE)&\" / \"&VLOOKUP(\"Team 17\",'LEAGUE MEMBERSHIP'!$I:$M,5,FALSE)","v":"17  Gary Bittner / Mike Dauphinais"},null,null,null,{"$f":"VLOOKUP(\"Team \"&LEFT(E19,2),'POINTS - 2nd Half 2012'!$C$11:$O$32,13,FALSE)","v":41.5}]
[null,null,9,"9T",{"$f":"\"20  \"&VLOOKUP(\"Team 20\",'LEAGUE MEMBERSHIP'!$I:$M,3,FALSE)&\" / \"&VLOOKUP(\"Team 20\",'LEAGUE MEMBERSHIP'!$I:$M,5,FALSE)","v":"20  Paul Fontaine / Ralph Romano III"},null,null,null,{"$f":"VLOOKUP(\"Team \"&LEFT(E20,2),'POINTS - 2nd Half 2012'!$C$11:$O$32,13,FALSE)","v":41.5}]
[null,null,11,11,{"$f":"\"08  \"&VLOOKUP(\"Team 8\",'LEAGUE MEMBERSHIP'!$I:$M,3,FALSE)&\" / \"&VLOOKUP(\"Team 8\",'LEAGUE MEMBERSHIP'!$I:$M,5,FALSE)","v":"08  Mike Sunderland / Debbie Sunderland"},null,null,null,{"$f":"VLOOKUP(\"Team \"&LEFT(E21,2),'POINTS - 2nd Half 2012'!$C$11:$O$32,13,FALSE)","v":39.5}]
[null,null,12,12,{"$f":"\"19  \"&VLOOKUP(\"Team 19\",'LEAGUE MEMBERSHIP'!$I:$M,3,FALSE)&\" / \"&VLOOKUP(\"Team 19\",'LEAGUE MEMBERSHIP'!$I:$M,5,FALSE)","v":"19  Gary Leavenworth / Patty Leavenworth"},null,null,null,{"$f":"VLOOKUP(\"Team \"&LEFT(E22,2),'POINTS - 2nd Half 2012'!$C$11:$O$32,13,FALSE)","v":38.5}]
[null,null,13,13,{"$f":"\"11  \"&VLOOKUP(\"Team 11\",'LEAGUE MEMBERSHIP'!$I:$M,3,FALSE)&\" / \"&VLOOKUP(\"Team 11\",'LEAGUE MEMBERSHIP'!$I:$M,5,FALSE)","v":"11  Ray Henderson / Zachary Wallace"},null,null,null,{"$f":"VLOOKUP(\"Team \"&LEFT(E23,2),'POINTS - 2nd Half 2012'!$C$11:$O$32,13,FALSE)","v":38}]
[null,null,14,14,{"$f":"\"18  \"&VLOOKUP(\"Team 18\",'LEAGUE MEMBERSHIP'!$I:$M,3,FALSE)&\" / \"&VLOOKUP(\"Team 18\",'LEAGUE MEMBERSHIP'!$I:$M,5,FALSE)","v":"18  Norm Gamache / Michelle Bouvier"},null,null,null,{"$f":"VLOOKUP(\"Team \"&LEFT(E24,2),'POINTS - 2nd Half 2012'!$C$11:$O$32,13,FALSE)","v":37.5}]
[null,null,15,15,{"$f":"\"09  \"&VLOOKUP(\"Team 9\",'LEAGUE MEMBERSHIP'!$I:$M,3,FALSE)&\" / \"&VLOOKUP(\"Team 9\",'LEAGUE MEMBERSHIP'!$I:$M,5,FALSE)","v":"09  Mike Doane / John Cassin"},null,null,null,{"$f":"VLOOKUP(\"Team \"&LEFT(E25,2),'POINTS - 2nd Half 2012'!$C$11:$O$32,13,FALSE)","v":35}]
[null,null,16,16,{"$f":"\"02  \"&VLOOKUP(\"Team 2\",'LEAGUE MEMBERSHIP'!$I:$M,3,FALSE)&\" / \"&VLOOKUP(\"Team 2\",'LEAGUE MEMBERSHIP'!$I:$M,5,FALSE)","v":"02  Dave Cormier / Adam Williamson"},null,null,null,{"$f":"VLOOKUP(\"Team \"&LEFT(E26,2),'POINTS - 2nd Half 2012'!$C$11:$O$32,13,FALSE)","v":34}]
[null,null,17,17,{"$f":"\"15  \"&VLOOKUP(\"Team 15\",'LEAGUE MEMBERSHIP'!$I:$M,3,FALSE)&\" / \"&VLOOKUP(\"Team 15\",'LEAGUE MEMBERSHIP'!$I:$M,5,FALSE)","v":"15  Tim Hurley / John Elie"},null,null,null,{"$f":"VLOOKUP(\"Team \"&LEFT(E27,2),'POINTS - 2nd Half 2012'!$C$11:$O$32,13,FALSE)","v":32.5}]
[null,null,18,{"$f":"IF(C28=C27,C28&\"T\",IF(C28=C29,C28&\"T\",C28))","v":18},{"$f":"\"04  \"&VLOOKUP(\"Team 4\",'LEAGUE MEMBERSHIP'!$I:$M,3,FALSE)&\" / \"&VLOOKUP(\"Team 4\",'LEAGUE MEMBERSHIP'!$I:$M,5,FALSE)","v":"04  Peg Romano / Lynn Laroche"},null,null,null,{"$f":"VLOOKUP(\"Team \"&LEFT(E28,2),'POINTS - 2nd Half 2012'!$C$11:$O$32,13,FALSE)","v":30.5}]
[null,null,{"$f":"RANK(I29,$I$11:$I$32)","v":19},{"$f":"IF(C29=C28,C29&\"T\",IF(C29=C30,C29&\"T\",C29))","v":19},{"$f":"\"14  \"&VLOOKUP(\"Team 14\",'LEAGUE MEMBERSHIP'!$I:$M,3,FALSE)&\" / \"&VLOOKUP(\"Team 14\",'LEAGUE MEMBERSHIP'!$I:$M,5,FALSE)","v":"14  Doug Cormier / Ralph Romano, Jr."},null,null,null,{"$f":"VLOOKUP(\"Team \"&LEFT(E29,2),'POINTS - 2nd Half 2012'!$C$11:$O$32,13,FALSE)","v":29.5}]
[null,null,{"$f":"RANK(I30,$I$11:$I$32)","v":20},{"$f":"IF(C30=C29,C30&\"T\",IF(C30=C31,C30&\"T\",C30))","v":20},{"$f":"\"07  \"&VLOOKUP(\"Team 7\",'LEAGUE MEMBERSHIP'!$I:$M,3,FALSE)&\" / \"&VLOOKUP(\"Team 7\",'LEAGUE MEMBERSHIP'!$I:$M,5,FALSE)","v":"07  Steve Scapparone / Dave Hyre"},null,null,null,{"$f":"VLOOKUP(\"Team \"&LEFT(E30,2),'POINTS - 2nd Half 2012'!$C$11:$O$32,13,FALSE)","v":21.5}]
[null,null,21,{"$f":"IF(C31=C28,C31&\"T\",IF(C31=C32,C31&\"T\",C31))","v":"21T"},{"$f":"\"21  \"&VLOOKUP(\"Team 21\",'LEAGUE MEMBERSHIP'!$I:$M,3,FALSE)&\" / \"&VLOOKUP(\"Team 21\",'LEAGUE MEMBERSHIP'!$I:$M,5,FALSE)","v":"21   / "},null,null,null,{"$f":"VLOOKUP(\"Team \"&LEFT(E31,2),'POINTS - 2nd Half 2012'!$C$11:$O$32,13,FALSE)","v":0}]
[null,null,21,{"$f":"IF(C32=C31,C32&\"T\",IF(C32=C33,C32&\"T\",C32))","v":"21T"},{"$f":"\"22 \"&VLOOKUP(\"Team 22\",'LEAGUE MEMBERSHIP'!$I:$M,3,FALSE)&\" / \"&VLOOKUP(\"Team 22\",'LEAGUE MEMBERSHIP'!$I:$M,5,FALSE)","v":"22  / "},null,null,null,{"$f":"VLOOKUP(\"Team \"&LEFT(E32,2),'POINTS - 2nd Half 2012'!$C$11:$O$32,13,FALSE)","v":0}]
[null,null,null,null,null,null,null,null,-1]

{"sheet":"STANDINGS - 1st Half 2013","index":26,"n_rows":33,"n_cols":14,"rows_kept":33,"cut":false,"hidden":false,"merged":[[9,4,9,7]]}
[null,null,null,null,null,null,null,null,null,null,null,{"$f":"IF(N2=\"\",\"Team Standings\",IF(N4=\"1st Half\",IF(N2=N3,\"Final Standings - First Half\",\"Team Standings After \"&N2),IF(N4=\"2nd Half\",IF(N2=N3,\"Final Standings - Second Half\",\"Team Standings After \"&N2))))","v":"Final Standings - First Half"}]
[null,null,null,null,null,null,null,null,null,null,null,null,null,"Week 10"]
[null,null,null,null,null,null,null,null,null,null,null,null,null,"Week 10"]
[null,null,null,null,null,null,null,null,null,null,null,null,null,"1st Half"]
[]
[]
[]
[null,null,null,null,null,null,null,null,null,"\"Standings Through \"&'SCORE ENTRY WORKSHEET'!D24"]
[]
[null,null,null,"Rank",{"$f":"L1","v":"Final Standings - First Half"},null,null,null,"Points"]
[null,null,{"$f":"RANK(I11,$I$11:$I$32)","v":1},{"$f":"IF(C11=C10,C11&\"T\",IF(C11=C12,C11&\"T\",C11))","v":1},{"$f":"\"20  \"&VLOOKUP(\"Team 20\",'LEAGUE MEMBERSHIP'!$I:$M,3,FALSE)&\" / \"&VLOOKUP(\"Team 20\",'LEAGUE MEMBERSHIP'!$I:$M,5,FALSE)","v":"20  Paul Fontaine / Ralph Romano III"},null,null,null,{"$f":"VLOOKUP(\"Team \"&LEFT(E11,2),'POINTS - 1st Half 2013'!$C$11:$O$32,13,FALSE)","v":47}]
[null,null,2,{"$f":"IF(C12=C11,C12&\"T\",IF(C12=C13,C12&\"T\",C12))","v":2},{"$f":"\"05  \"&VLOOKUP(\"Team 5\",'LEAGUE MEMBERSHIP'!$I:$M,3,FALSE)&\" / \"&VLOOKUP(\"Team 5\",'LEAGUE MEMBERSHIP'!$I:$M,5,FALSE)","v":"05  Dennis Normandin / Mark Normandin"},null,null,null,{"$f":"VLOOKUP(\"Team \"&LEFT(E12,2),'POINTS - 1st Half 2013'!$C$11:$O$32,13,FALSE)","v":39.5}]
[null,null,3,3,{"$f":"\"19  \"&VLOOKUP(\"Team 19\",'LEAGUE MEMBERSHIP'!$I:$M,3,FALSE)&\" / \"&VLOOKUP(\"Team 19\",'LEAGUE MEMBERSHIP'!$I:$M,5,FALSE)","v":"19  Gary Leavenworth / Patty Leavenworth"},null,null,null,{"$f":"VLOOKUP(\"Team \"&LEFT(E13,2),'POINTS - 1st Half 2013'!$C$11:$O$32,13,FALSE)","v":39}]
[null,null,4,4,{"$f":"\"01  \"&VLOOKUP(\"Team 1\",'LEAGUE MEMBERSHIP'!$I:$M,3,FALSE)&\" / \"&VLOOKUP(\"Team 1\",'LEAGUE MEMBERSHIP'!$I:$M,5,FALSE)","v":"01  Lester Lockhart / Pete Normandin"},null,null,null,{"$f":"VLOOKUP(\"Team \"&LEFT(E14,2),'POINTS - 1st Half 2013'!$C$11:$O$32,13,FALSE)","v":38}]
[null,null,5,5,{"$f":"\"03  \"&VLOOKUP(\"Team 3\",'LEAGUE MEMBERSHIP'!$I:$M,3,FALSE)&\" / \"&VLOOKUP(\"Team 3\",'LEAGUE MEMBERSHIP'!$I:$M,5,FALSE)","v":"03  Pete Romano / Don Frigoletto"},null,null,null,{"$f":"VLOOKUP(\"Team \"&LEFT(E15,2),'POINTS - 1st Half 2013'!$C$11:$O$32,13,FALSE)","v":37.5}]
[null,null,6,"6T",{"$f":"\"04  \"&VLOOKUP(\"Team 4\",'LEAGUE MEMBERSHIP'!$I:$M,3,FALSE)&\" / \"&VLOOKUP(\"Team 4\",'LEAGUE MEMBERSHIP'!$I:$M,5,FALSE)","v":"04  Peg Romano / Lynn Laroche"},null,null,null,{"$f":"VLOOKUP(\"Team \"&LEFT(E16,2),'POINTS - 1st Half 2013'!$C$11:$O$32,13,FALSE)","v":37}]
[null,null,6,"6T",{"$f":"\"17  \"&VLOOKUP(\"Team 17\",'LEAGUE MEMBERSHIP'!$I:$M,3,FALSE)&\" / \"&VLOOKUP(\"Team 17\",'LEAGUE MEMBERSHIP'!$I:$M,5,FALSE)","v":"17  Gary Bittner / Mike Dauphinais"},null,null,null,{"$f":"VLOOKUP(\"Team \"&LEFT(E17,2),'POINTS - 1st Half 2013'!$C$11:$O$32,13,FALSE)","v":37}]
[null,null,8,"8T",{"$f":"\"08  \"&VLOOKUP(\"Team 8\",'LEAGUE MEMBERSHIP'!$I:$M,3,FALSE)&\" / \"&VLOOKUP(\"Team 8\",'LEAGUE MEMBERSHIP'!$I:$M,5,FALSE)","v":"08  Mike Sunderland / Debbie Sunderland"},null,null,null,{"$f":"VLOOKUP(\"Team \"&LEFT(E18,2),'POINTS - 1st Half 2013'!$C$11:$O$32,13,FALSE)","v":36}]
[null,null,8,"8T",{"$f":"\"11  \"&VLOOKUP(\"Team 11\",'LEAGUE MEMBERSHIP'!$I:$M,3,FALSE)&\" / \"&VLOOKUP(\"Team 11\",'LEAGUE MEMBERSHIP'!$I:$M,5,FALSE)","v":"11  Ray Henderson / Zachary Wallace"},null,null,null,{"$f":"VLOOKUP(\"Team \"&LEFT(E19,2),'POINTS - 1st Half 2013'!$C$11:$O$32,13,FALSE)","v":36}]
[null,null,10,"10T",{"$f":"\"09  \"&VLOOKUP(\"Team 9\",'LEAGUE MEMBERSHIP'!$I:$M,3,FALSE)&\" / \"&VLOOKUP(\"Team 9\",'LEAGUE MEMBERSHIP'!$I:$M,5,FALSE)","v":"09  Mike Doane / John Cassin"},null,null,null,{"$f":"VLOOKUP(\"Team \"&LEFT(E20,2),'POINTS - 1st Half 2013'!$C$11:$O$32,13,FALSE)","v":35}]
[null,null,10,"10T",{"$f":"\"13  \"&VLOOKUP(\"Team 13\",'LEAGUE MEMBERSHIP'!$I:$M,3,FALSE)&\" / \"&VLOOKUP(\"Team 13\",'LEAGUE MEMBERSHIP'!$I:$M,5,FALSE)","v":"13  Kyle Currier / Walter Drake"},null,null,null,{"$f":"VLOOKUP(\"Team \"&LEFT(E21,2),'POINTS - 1st Half 2013'!$C$11:$O$32,13,FALSE)","v":35}]
[null,null,12,"12T",{"$f":"\"02  \"&VLOOKUP(\"Team 2\",'LEAGUE MEMBERSHIP'!$I:$M,3,FALSE)&\" / \"&VLOOKUP(\"Team 2\",'LEAGUE MEMBERSHIP'!$I:$M,5,FALSE)","v":"02  Dave Cormier / Adam Williamson"},null,null,null,{"$f":"VLOOKUP(\"Team \"&LEFT(E22,2),'POINTS - 1st Half 2013'!$C$11:$O$32,13,FALSE)","v":34.5}]
[null,null,12,"12T",{"$f":"\"16  \"&VLOOKUP(\"Team 16\",'LEAGUE MEMBERSHIP'!$I:$M,3,FALSE)&\" / \"&VLOOKUP(\"Team 16\",'LEAGUE MEMBERSHIP'!$I:$M,5,FALSE)","v":"16  Deb DeCarolis / Joey DeCarolis"},null,null,null,{"$f":"VLOOKUP(\"Team \"&LEFT(E23,2),'POINTS - 1st Half 2013'!$C$11:$O$32,13,FALSE)","v":34.5}]
[null,null,14,"14T",{"$f":"\"06  \"&VLOOKUP(\"Team 6\",'LEAGUE MEMBERSHIP'!$I:$M,3,FALSE)&\" / \"&VLOOKUP(\"Team 6\",'LEAGUE MEMBERSHIP'!$I:$M,5,FALSE)","v":"06  Vance Butterfield / Bob Schleyer"},null,null,null,{"$f":"VLOOKUP(\"Team \"&LEFT(E24,2),'POINTS - 1st Half 2013'!$C$11:$O$32,13,FALSE)","v":34}]
[null,null,14,"14T",{"$f":"\"12  \"&VLOOKUP(\"Team 12\",'LEAGUE MEMBERSHIP'!$I:$M,3,FALSE)&\" / \"&VLOOKUP(\"Team 12\",'LEAGUE MEMBERSHIP'!$I:$M,5,FALSE)","v":"12  Sal Cuifetti / Paul LeBlanc"},null,null,null,{"$f":"VLOOKUP(\"Team \"&LEFT(E25,2),'POINTS - 1st Half 2013'!$C$11:$O$32,13,FALSE)","v":34}]
[null,null,16,16,{"$f":"\"15  \"&VLOOKUP(\"Team 15\",'LEAGUE MEMBERSHIP'!$I:$M,3,FALSE)&\" / \"&VLOOKUP(\"Team 15\",'LEAGUE MEMBERSHIP'!$I:$M,5,FALSE)","v":"15  Tim Hurley / John Elie"},null,null,null,{"$f":"VLOOKUP(\"Team \"&LEFT(E26,2),'POINTS - 1st Half 2013'!$C$11:$O$32,13,FALSE)","v":33}]
[null,null,17,17,{"$f":"\"14  \"&VLOOKUP(\"Team 14\",'LEAGUE MEMBERSHIP'!$I:$M,3,FALSE)&\" / \"&VLOOKUP(\"Team 14\",'LEAGUE MEMBERSHIP'!$I:$M,5,FALSE)","v":"14  Doug Cormier / Ralph Romano, Jr."},null,null,null,{"$f":"VLOOKUP(\"Team \"&LEFT(E27,2),'POINTS - 1st Half 2013'!$C$11:$O$32,13,FALSE)","v":32.5}]
[null,null,18,{"$f":"IF(C28=C27,C28&\"T\",IF(C28=C29,C28&\"T\",C28))","v":18},{"$f":"\"10  \"&VLOOKUP(\"Team 10\",'LEAGUE MEMBERSHIP'!$I:$M,3,FALSE)&\" / \"&VLOOKUP(\"Team 10\",'LEAGUE MEMBERSHIP'!$I:$M,5,FALSE)","v":"10  Ron Eckstrom / Beth Romano"},null,null,null,{"$f":"VLOOKUP(\"Team \"&LEFT(E28,2),'POINTS - 1st Half 2013'!$C$11:$O$32,13,FALSE)","v":31.5}]
[null,null,{"$f":"RANK(I29,$I$11:$I$32)","v":19},{"$f":"IF(C29=C28,C29&\"T\",IF(C29=C30,C29&\"T\",C29))","v":19},{"$f":"\"18  \"&VLOOKUP(\"Team 18\",'LEAGUE MEMBERSHIP'!$I:$M,3,FALSE)&\" / \"&VLOOKUP(\"Team 18\",'LEAGUE MEMBERSHIP'!$I:$M,5,FALSE)","v":"18  Norm Gamache / Michelle Bouvier"},null,null,null,{"$f":"VLOOKUP(\"Team \"&LEFT(E29,2),'POINTS - 1st Half 2013'!$C$11:$O$32,13,FALSE)","v":24.5}]
[null,null,{"$f":"RANK(I30,$I$11:$I$32)","v":20},{"$f":"IF(C30=C29,C30&\"T\",IF(C30=C31,C30&\"T\",C30))","v":20},{"$f":"\"07  \"&VLOOKUP(\"Team 7\",'LEAGUE MEMBERSHIP'!$I:$M,3,FALSE)&\" / \"&VLOOKUP(\"Team 7\",'LEAGUE MEMBERSHIP'!$I:$M,5,FALSE)","v":"07  Steve Scapparone / Dave Hyre"},null,null,null,{"$f":"VLOOKUP(\"Team \"&LEFT(E30,2),'POINTS - 1st Half 2013'!$C$11:$O$32,13,FALSE)","v":0}]
[null,null,null,null,{"$f":"\"21  \"&VLOOKUP(\"Team 21\",'LEAGUE MEMBERSHIP'!$I:$M,3,FALSE)&\" / \"&VLOOKUP(\"Team 21\",'LEAGUE MEMBERSHIP'!$I:$M,5,FALSE)","v":"21   / "}]
[null,null,null,null,{"$f":"\"22 \"&VLOOKUP(\"Team 22\",'LEAGUE MEMBERSHIP'!$I:$M,3,FALSE)&\" / \"&VLOOKUP(\"Team 22\",'LEAGUE MEMBERSHIP'!$I:$M,5,FALSE)","v":"22  / "}]
[null,null,null,null,null,null,null,null,-1]

{"sheet":"STANDINGS - 2nd Half 2013","index":27,"n_rows":33,"n_cols":14,"rows_kept":33,"cut":false,"hidden":false,"merged":[[9,4,9,7]]}
[null,null,null,null,null,null,null,null,null,null,null,{"$f":"IF(N2=\"\",\"Team Standings\",IF(N4=\"1st Half\",IF(N2=N3,\"Final Standings - First Half\",\"Team Standings After \"&N2),IF(N4=\"2nd Half\",IF(N2=N3,\"Final Standings - Second Half\",\"Team Standings After \"&N2))))","v":"Final Standings - Second Half"}]
[null,null,null,null,null,null,null,null,null,null,null,null,null,"Week 9"]
[null,null,null,null,null,null,null,null,null,null,null,null,null,"Week 9"]
[null,null,null,null,null,null,null,null,null,null,null,null,null,"2nd Half"]
[]
[]
[]
[null,null,null,null,null,null,null,null,null,"\"Standings Through \"&'SCORE ENTRY WORKSHEET'!D24"]
[]
[null,null,null,"Rank",{"$f":"L1","v":"Final Standings - Second Half"},null,null,null,"Points"]
[null,null,{"$f":"RANK(I11,$I$11:$I$32)","v":1},{"$f":"IF(C11=C10,C11&\"T\",IF(C11=C12,C11&\"T\",C11))","v":1},{"$f":"\"10  \"&VLOOKUP(\"Team 10\",'LEAGUE MEMBERSHIP'!$I:$M,3,FALSE)&\" / \"&VLOOKUP(\"Team 10\",'LEAGUE MEMBERSHIP'!$I:$M,5,FALSE)","v":"10  Ron Eckstrom / Beth Romano"},null,null,null,{"$f":"VLOOKUP(\"Team \"&LEFT(E11,2),'POINTS - 2nd Half 2013'!$C$11:$O$32,13,FALSE)","v":43.5}]
[null,null,2,{"$f":"IF(C12=C11,C12&\"T\",IF(C12=C13,C12&\"T\",C12))","v":2},{"$f":"\"05  \"&VLOOKUP(\"Team 5\",'LEAGUE MEMBERSHIP'!$I:$M,3,FALSE)&\" / \"&VLOOKUP(\"Team 5\",'LEAGUE MEMBERSHIP'!$I:$M,5,FALSE)","v":"05  Dennis Normandin / Mark Normandin"},null,null,null,{"$f":"VLOOKUP(\"Team \"&LEFT(E12,2),'POINTS - 2nd Half 2013'!$C$11:$O$32,13,FALSE)","v":42.5}]
[null,null,3,3,{"$f":"\"15  \"&VLOOKUP(\"Team 15\",'LEAGUE MEMBERSHIP'!$I:$M,3,FALSE)&\" / \"&VLOOKUP(\"Team 15\",'LEAGUE MEMBERSHIP'!$I:$M,5,FALSE)","v":"15  Tim Hurley / John Elie"},null,null,null,{"$f":"VLOOKUP(\"Team \"&LEFT(E13,2),'POINTS - 2nd Half 2013'!$C$11:$O$32,13,FALSE)","v":42}]
[null,null,4,4,{"$f":"\"16  \"&VLOOKUP(\"Team 16\",'LEAGUE MEMBERSHIP'!$I:$M,3,FALSE)&\" / \"&VLOOKUP(\"Team 16\",'LEAGUE MEMBERSHIP'!$I:$M,5,FALSE)","v":"16  Deb DeCarolis / Joey DeCarolis"},null,null,null,{"$f":"VLOOKUP(\"Team \"&LEFT(E14,2),'POINTS - 2nd Half 2013'!$C$11:$O$32,13,FALSE)","v":41.5}]
[null,null,5,5,{"$f":"\"12  \"&VLOOKUP(\"Team 12\",'LEAGUE MEMBERSHIP'!$I:$M,3,FALSE)&\" / \"&VLOOKUP(\"Team 12\",'LEAGUE MEMBERSHIP'!$I:$M,5,FALSE)","v":"12  Sal Cuifetti / Paul LeBlanc"},null,null,null,{"$f":"VLOOKUP(\"Team \"&LEFT(E15,2),'POINTS - 2nd Half 2013'!$C$11:$O$32,13,FALSE)","v":41}]
[null,null,6,6,{"$f":"\"19  \"&VLOOKUP(\"Team 19\",'LEAGUE MEMBERSHIP'!$I:$M,3,FALSE)&\" / \"&VLOOKUP(\"Team 19\",'LEAGUE MEMBERSHIP'!$I:$M,5,FALSE)","v":"19  Gary Leavenworth / Patty Leavenworth"},null,null,null,{"$f":"VLOOKUP(\"Team \"&LEFT(E16,2),'POINTS - 2nd Half 2013'!$C$11:$O$32,13,FALSE)","v":40.5}]
[null,null,7,"7T",{"$f":"\"01  \"&VLOOKUP(\"Team 1\",'LEAGUE MEMBERSHIP'!$I:$M,3,FALSE)&\" / \"&VLOOKUP(\"Team 1\",'LEAGUE MEMBERSHIP'!$I:$M,5,FALSE)","v":"01  Lester Lockhart / Pete Normandin"},null,null,null,{"$f":"VLOOKUP(\"Team \"&LEFT(E17,2),'POINTS - 2nd Half 2013'!$C$11:$O$32,13,FALSE)","v":39}]
[null,null,7,"7T",{"$f":"\"02  \"&VLOOKUP(\"Team 2\",'LEAGUE MEMBERSHIP'!$I:$M,3,FALSE)&\" / \"&VLOOKUP(\"Team 2\",'LEAGUE MEMBERSHIP'!$I:$M,5,FALSE)","v":"02  Dave Cormier / Adam Williamson"},null,null,null,{"$f":"VLOOKUP(\"Team \"&LEFT(E18,2),'POINTS - 2nd Half 2013'!$C$11:$O$32,13,FALSE)","v":39}]
[null,null,9,9,{"$f":"\"20  \"&VLOOKUP(\"Team 20\",'LEAGUE MEMBERSHIP'!$I:$M,3,FALSE)&\" / \"&VLOOKUP(\"Team 20\",'LEAGUE MEMBERSHIP'!$I:$M,5,FALSE)","v":"20  Paul Fontaine / Ralph Romano III"},null,null,null,{"$f":"VLOOKUP(\"Team \"&LEFT(E19,2),'POINTS - 2nd Half 2013'!$C$11:$O$32,13,FALSE)","v":38}]
[null,null,10,10,{"$f":"\"17  \"&VLOOKUP(\"Team 17\",'LEAGUE MEMBERSHIP'!$I:$M,3,FALSE)&\" / \"&VLOOKUP(\"Team 17\",'LEAGUE MEMBERSHIP'!$I:$M,5,FALSE)","v":"17  Gary Bittner / Mike Dauphinais"},null,null,null,{"$f":"VLOOKUP(\"Team \"&LEFT(E20,2),'POINTS - 2nd Half 2013'!$C$11:$O$32,13,FALSE)","v":37}]
[null,null,11,11,{"$f":"\"11  \"&VLOOKUP(\"Team 11\",'LEAGUE MEMBERSHIP'!$I:$M,3,FALSE)&\" / \"&VLOOKUP(\"Team 11\",'LEAGUE MEMBERSHIP'!$I:$M,5,FALSE)","v":"11  Ray Henderson / Zachary Wallace"},null,null,null,{"$f":"VLOOKUP(\"Team \"&LEFT(E21,2),'POINTS - 2nd Half 2013'!$C$11:$O$32,13,FALSE)","v":36.5}]
[null,null,12,"12T",{"$f":"\"03  \"&VLOOKUP(\"Team 3\",'LEAGUE MEMBERSHIP'!$I:$M,3,FALSE)&\" / \"&VLOOKUP(\"Team 3\",'LEAGUE MEMBERSHIP'!$I:$M,5,FALSE)","v":"03  Pete Romano / Don Frigoletto"},null,null,null,{"$f":"VLOOKUP(\"Team \"&LEFT(E22,2),'POINTS - 2nd Half 2013'!$C$11:$O$32,13,FALSE)","v":35}]
[null,null,12,"12T",{"$f":"\"04  \"&VLOOKUP(\"Team 4\",'LEAGUE MEMBERSHIP'!$I:$M,3,FALSE)&\" / \"&VLOOKUP(\"Team 4\",'LEAGUE MEMBERSHIP'!$I:$M,5,FALSE)","v":"04  Peg Romano / Lynn Laroche"},null,null,null,{"$f":"VLOOKUP(\"Team \"&LEFT(E23,2),'POINTS - 2nd Half 2013'!$C$11:$O$32,13,FALSE)","v":35}]
[null,null,14,14,{"$f":"\"08  \"&VLOOKUP(\"Team 8\",'LEAGUE MEMBERSHIP'!$I:$M,3,FALSE)&\" / \"&VLOOKUP(\"Team 8\",'LEAGUE MEMBERSHIP'!$I:$M,5,FALSE)","v":"08  Mike Sunderland / Debbie Sunderland"},null,null,null,{"$f":"VLOOKUP(\"Team \"&LEFT(E24,2),'POINTS - 2nd Half 2013'!$C$11:$O$32,13,FALSE)","v":34.5}]
[null,null,15,15,{"$f":"\"09  \"&VLOOKUP(\"Team 9\",'LEAGUE MEMBERSHIP'!$I:$M,3,FALSE)&\" / \"&VLOOKUP(\"Team 9\",'LEAGUE MEMBERSHIP'!$I:$M,5,FALSE)","v":"09  Mike Doane / John Cassin"},null,null,null,{"$f":"VLOOKUP(\"Team \"&LEFT(E25,2),'POINTS - 2nd Half 2013'!$C$11:$O$32,13,FALSE)","v":32.5}]
[null,null,16,16,{"$f":"\"06  \"&VLOOKUP(\"Team 6\",'LEAGUE MEMBERSHIP'!$I:$M,3,FALSE)&\" / \"&VLOOKUP(\"Team 6\",'LEAGUE MEMBERSHIP'!$I:$M,5,FALSE)","v":"06  Vance Butterfield / Bob Schleyer"},null,null,null,{"$f":"VLOOKUP(\"Team \"&LEFT(E26,2),'POINTS - 2nd Half 2013'!$C$11:$O$32,13,FALSE)","v":30.5}]
[null,null,17,17,{"$f":"\"18  \"&VLOOKUP(\"Team 18\",'LEAGUE MEMBERSHIP'!$I:$M,3,FALSE)&\" / \"&VLOOKUP(\"Team 18\",'LEAGUE MEMBERSHIP'!$I:$M,5,FALSE)","v":"18  Norm Gamache / Michelle Bouvier"},null,null,null,{"$f":"VLOOKUP(\"Team \"&LEFT(E27,2),'POINTS - 2nd Half 2013'!$C$11:$O$32,13,FALSE)","v":29}]
[null,null,18,{"$f":"IF(C28=C27,C28&\"T\",IF(C28=C29,C28&\"T\",C28))","v":18},{"$f":"\"14  \"&VLOOKUP(\"Team 14\",'LEAGUE MEMBERSHIP'!$I:$M,3,FALSE)&\" / \"&VLOOKUP(\"Team 14\",'LEAGUE MEMBERSHIP'!$I:$M,5,FALSE)","v":"14  Doug Cormier / Ralph Romano, Jr."},null,null,null,{"$f":"VLOOKUP(\"Team \"&LEFT(E28,2),'POINTS - 2nd Half 2013'!$C$11:$O$32,13,FALSE)","v":27.5}]
[null,null,{"$f":"RANK(I29,$I$11:$I$32)","v":19},{"$f":"IF(C29=C28,C29&\"T\",IF(C29=C30,C29&\"T\",C29))","v":19},{"$f":"\"13  \"&VLOOKUP(\"Team 13\",'LEAGUE MEMBERSHIP'!$I:$M,3,FALSE)&\" / \"&VLOOKUP(\"Team 13\",'LEAGUE MEMBERSHIP'!$I:$M,5,FALSE)","v":"13  Kyle Currier / Walter Drake"},null,null,null,{"$f":"VLOOKUP(\"Team \"&LEFT(E29,2),'POINTS - 2nd Half 2013'!$C$11:$O$32,13,FALSE)","v":19.5}]
[null,null,{"$f":"RANK(I30,$I$11:$I$32)","v":20},{"$f":"IF(C30=C29,C30&\"T\",IF(C30=C31,C30&\"T\",C30))","v":"20T"},{"$f":"\"07  \"&VLOOKUP(\"Team 7\",'LEAGUE MEMBERSHIP'!$I:$M,3,FALSE)&\" / \"&VLOOKUP(\"Team 7\",'LEAGUE MEMBERSHIP'!$I:$M,5,FALSE)","v":"07  Steve Scapparone / Dave Hyre"},null,null,null,{"$f":"VLOOKUP(\"Team \"&LEFT(E30,2),'POINTS - 2nd Half 2013'!$C$11:$O$32,13,FALSE)","v":0}]
[null,null,20,{"$f":"IF(C31=C28,C31&\"T\",IF(C31=C32,C31&\"T\",C31))","v":"20T"},{"$f":"\"21  \"&VLOOKUP(\"Team 21\",'LEAGUE MEMBERSHIP'!$I:$M,3,FALSE)&\" / \"&VLOOKUP(\"Team 21\",'LEAGUE MEMBERSHIP'!$I:$M,5,FALSE)","v":"21   / "},null,null,null,{"$f":"VLOOKUP(\"Team \"&LEFT(E31,2),'POINTS - 2nd Half 2013'!$C$11:$O$32,13,FALSE)","v":0}]
[null,null,20,{"$f":"IF(C32=C31,C32&\"T\",IF(C32=C33,C32&\"T\",C32))","v":"20T"},{"$f":"\"22 \"&VLOOKUP(\"Team 22\",'LEAGUE MEMBERSHIP'!$I:$M,3,FALSE)&\" / \"&VLOOKUP(\"Team 22\",'LEAGUE MEMBERSHIP'!$I:$M,5,FALSE)","v":"22  / "},null,null,null,{"$f":"VLOOKUP(\"Team \"&LEFT(E32,2),'POINTS - 2nd Half 2013'!$C$11:$O$32,13,FALSE)","v":0}]
[null,null,null,null,null,null,null,null,-1]

{"sheet":"INDIVIDUAL SCORES","index":28,"n_rows":2774,"n_cols":55,"rows_kept":2774,"cut":false,"hidden":false,"merged":[[27,18,27,20],[28,18,28,20],[37,18,37,20],[4,15,4,17],[39,15,39,17],[23,15,23,17],[16,15,16,17],[17,15,17,17],[18,15,18,17],[26,15,26,17],[27,15,27,17],[10,18,10,20],[11,18,11,20],[12,18,12,20],[13,18,13,20],[14,18,14,20],[42,18,42,20],[46,15,46,17],[34,18,34,20],[35,18,35,20],[43,18,43,20],[39,18,39,20],[40,18,40,20],[41,18,41,20],[44,18,44,20],[43,15,43,17],[44,15,44,17],[36,15,36,17],[38,15,38,17],[40,15,40,17],[41,15,41,17],[42,15,42,17],[15,18,15,20],[24,18,24,20],[25,18,25,20],[26,18,26,20],[21,18,21,20],[22,18,22,20],[16,18,16,20],[17,18,17,20],[18,18,18,20],[19,18,19,20],[20,18,20,20],[23,18,23,20],[29,18,29,20],[36,18,36,20],[38,18,38,20],[33,18,33,20],[29,15,29,17],[30,15,30,17],[32,18,32,20],[30,18,30,20],[32,15,32,17],[31,18,31,20],[31,15,31,17],[33,15,33,17],[37,15,37,17],[34,15,34,17],[35,15,35,17],[45,0,45,2],[26,0,26,2],[24,15,24,17],[25,15,25,17],[46,0,46,2],[32,2,32,3],[31,2,31,3],[45,15,45,17],[10,4,10,12],[22,15,22,17],[12,2,12,3],[13,2,13,3],[29,4,29,12],[10,15,10,17],[19,15,19,17],[21,15,21,17],[15,15,15,17],[28,15,28,17],[11,15,11,17],[12,15,12,17],[13,15,13,17],[20,15,20,17],[14,15,14,17]]}
[null,null,null,null,null,null,null,null,null,null,null,null,null,null,null,"Gary Bittner",null,null,null,null,null,null,{"$f":"VLOOKUP(RIGHT(LEFT(P5,(LEN((LEFT(P5,FIND(\"RGL\",P5)+3)))+3)),7),'INDIVIDUAL SCORES'!$A$74:$P$2799,16,FALSE)","v":3}]
[]
[]
[null,null,null,null,null,null,null,null,null,null,null,null,{"$f":"RIGHT($P$5,LEN($P$5)-FIND(\"RGL\",$P$5)-9)","v":"Ron Eckstrom"}]
[null,null,null,null,null,null,null,null,null,null,null,null,{"$f":"LEFT(RIGHT($P$5,LEN($P$5)-FIND(\"RGL\",$P$5)-9), FIND(\" \",RIGHT($P$5,LEN($P$5)-FIND(\"RGL\",$P$5)-9))-1)","v":"Ron"},null,null,"10A - RGL-046 - Ron Eckstrom","10A - RGL-046 - Ron Eckstrom","10A - RGL-046 - Ron Eckstrom"]
[null,2,3,4,5,6,7,8,9,10,11,12,13]
[]
[null,null,null,null,null,null,null,null,null,null,null,null,null,null,null,null,null,null,null,null,null,null,{"$f":"'INDIVIDUAL SCORES'!M4 & \" - Front\"","v":"Ron Eckstrom - Front"},{"$f":"11-COUNTBLANK(N15:N25)","v":7}]
[null,null,null,null,null,null,null,null,null,null,null,null,null,null,null,null,null,null,null,null,null,null,{"$f":"'INDIVIDUAL SCORES'!M4 & \" - Back\"","v":"Ron Eckstrom - Back"},{"$f":"11-COUNTBLANK(N34:N44)","v":7}]
[]
[null,null,null,null,"Front",null,null,null,null,null,null,null,null,null,null,{"$f":"IF(ISERROR(VLOOKUP('LEAGUE MEMBERSHIP'!J8,'LEAGUE MEMBERSHIP'!E:G,3,FALSE)),\"\",'LEAGUE MEMBERSHIP'!J8&\" - \"&VLOOKUP('LEAGUE MEMBERSHIP'!J8,'LEAGUE MEMBERSHIP'!E:G,3,FALSE)&\" - \"&('LEAGUE MEMBERSHIP'!K8))","v":"1A - RGL-024 - Lester Lockhart"},null,null,{"$f":"IF(ISERROR(VLOOKUP('LEAGUE MEMBERSHIP'!L8,'LEAGUE MEMBERSHIP'!E:G,3,FALSE)),\"\",'LEAGUE MEMBERSHIP'!L8&\" - \"&VLOOKUP('LEAGUE MEMBERSHIP'!L8,'LEAGUE MEMBERSHIP'!E:G,3,FALSE)&\" - \"&('LEAGUE MEMBERSHIP'!M8))","v":"1B - RGL-028 - Pete Normandin"}]
[null,"Date","Hcp","Side","1","2","3","4","5","6","7","8","9","Total",null,{"$f":"IF(ISERROR(VLOOKUP('LEAGUE MEMBERSHIP'!J9,'LEAGUE MEMBERSHIP'!E:G,3,FALSE)),\"\",'LEAGUE MEMBERSHIP'!J9&\" - \"&VLOOKUP('LEAGUE MEMBERSHIP'!J9,'LEAGUE MEMBERSHIP'!E:G,3,FALSE)&\" - \"&('LEAGUE MEMBERSHIP'!K9))","v":"2A - RGL-007 - Dave Cormier"},null,null,{"$f":"IF(ISERROR(VLOOKUP('LEAGUE MEMBERSHIP'!L9,'LEAGUE MEMBERSHIP'!E:G,3,FALSE)),\"\",'LEAGUE MEMBERSHIP'!L9&\" - \"&VLOOKUP('LEAGUE MEMBERSHIP'!L9,'LEAGUE MEMBERSHIP'!E:G,3,FALSE)&\" - \"&('LEAGUE MEMBERSHIP'!M9))","v":"2B - RGL-048 - Adam Williamson"}]
[null,null,"Men's Par",null,5,4,5,4,4,3,4,3,4,{"$f":"SUM(E13:M13)","v":36},null,{"$f":"IF(ISERROR(VLOOKUP('LEAGUE MEMBERSHIP'!J10,'LEAGUE MEMBERSHIP'!E:G,3,FALSE)),\"\",'LEAGUE MEMBERSHIP'!J10&\" - \"&VLOOKUP('LEAGUE MEMBERSHIP'!J10,'LEAGUE MEMBERSHIP'!E:G,3,FALSE)&\" - \"&('LEAGUE MEMBERSHIP'!K10))","v":"3A - RGL-033 - Pete Romano"},null,null,{"$f":"IF(ISERROR(VLOOKUP('LEAGUE MEMBERSHIP'!L10,'LEAGUE MEMBERSHIP'!E:G,3,FALSE)),\"\",'LEAGUE MEMBERSHIP'!L10&\" - \"&VLOOKUP('LEAGUE MEMBERSHIP'!L10,'LEAGUE MEMBERSHIP'!E:G,3,FALSE)&\" - \"&('LEAGUE MEMBERSHIP'!M10))","v":"3B - RGL-014 - Don Frigoletto"}]
[null,null,"Women's Par",null,5,4,5,4,4,3,5,3,4,{"$f":"SUM(E14:M14)","v":37},null,{"$f":"IF(ISERROR(VLOOKUP('LEAGUE MEMBERSHIP'!J11,'LEAGUE MEMBERSHIP'!E:G,3,FALSE)),\"\",'LEAGUE MEMBERSHIP'!J11&\" - \"&VLOOKUP('LEAGUE MEMBERSHIP'!J11,'LEAGUE MEMBERSHIP'!E:G,3,FALSE)&\" - \"&('LEAGUE MEMBERSHIP'!K11))","v":"4A - RGL-032 - Peg Romano"},null,null,{"$f":"IF(ISERROR(VLOOKUP('LEAGUE MEMBERSHIP'!L11,'LEAGUE MEMBERSHIP'!E:G,3,FALSE)),\"\",'LEAGUE MEMBERSHIP'!L11&\" - \"&VLOOKUP('LEAGUE MEMBERSHIP'!L11,'LEAGUE MEMBERSHIP'!E:G,3,FALSE)&\" - \"&('LEAGUE MEMBERSHIP'!M11))","v":"4B - RGL-021 - Lynn Laroche"}]
[{"$f":"LEFT(RIGHT($P$5,LEN($P$5)-FIND(\"RGL\",$P$5)+1),7)&\" 1\"","v":"RGL-046 1"},{"$f":"IF(VLOOKUP($A15,$A$74:$N$2799,B$6,FALSE)<>\"\",VLOOKUP($A15,$A$74:$N$2799,B$6,FALSE),\"\")","v":"2013-05-22"},{"$f":"IF(VLOOKUP($A15,$A$74:$N$2778,C$6,FALSE)<>\"\",VLOOKUP($A15,$A$74:$N$2778,C$6,FALSE),\"\")","v":1},"Front",5,4,8,4,4,3,4,3,4,{"$f":"IF(SUM(E15:M15)<>0,SUM(E15:M15),\"\")","v":39},null,{"$f":"IF(ISERROR(VLOOKUP('LEAGUE MEMBERSHIP'!J12,'LEAGUE MEMBERSHIP'!E:G,3,FALSE)),\"\",'LEAGUE MEMBERSHIP'!J12&\" - \"&VLOOKUP('LEAGUE MEMBERSHIP'!J12,'LEAGUE MEMBERSHIP'!E:G,3,FALSE)&\" - \"&('LEAGUE MEMBERSHIP'!K12))","v":"5A - RGL-026 - Dennis Normandin"},null,null,{"$f":"IF(ISERROR(VLOOKUP('LEAGUE MEMBERSHIP'!L12,'LEAGUE MEMBERSHIP'!E:G,3,FALSE)),\"\",'LEAGUE MEMBERSHIP'!L12&\" - \"&VLOOKUP('LEAGUE MEMBERSHIP'!L12,'LEAGUE MEMBERSHIP'!E:G,3,FALSE)&\" - \"&('LEAGUE MEMBERSHIP'!M12))","v":"5B - RGL-027 - Mark Normandin"}]
[{"$f":"LEFT(RIGHT($P$5,LEN($P$5)-FIND(\"RGL\",$P$5)+1),7)&\" 2\"","v":"RGL-046 2"},{"$f":"IF(VLOOKUP($A16,$A$74:$N$2778,B$6,FALSE)<>\"\",VLOOKUP($A16,$A$74:$N$2778,B$6,FALSE),\"\")","v":"2013-06-19"},3,"Front",5,4,6,4,4,4,5,4,4,{"$f":"IF(SUM(E16:M16)<>0,SUM(E16:M16),\"\")","v":40},null,{"$f":"IF(ISERROR(VLOOKUP('LEAGUE MEMBERSHIP'!J13,'LEAGUE MEMBERSHIP'!E:G,3,FALSE)),\"\",'LEAGUE MEMBERSHIP'!J13&\" - \"&VLOOKUP('LEAGUE MEMBERSHIP'!J13,'LEAGUE MEMBERSHIP'!E:G,3,FALSE)&\" - \"&('LEAGUE MEMBERSHIP'!K13))","v":"6A - RGL-006 - Vance Butterfield"},null,null,{"$f":"IF(ISERROR(VLOOKUP('LEAGUE MEMBERSHIP'!L13,'LEAGUE MEMBERSHIP'!E:G,3,FALSE)),\"\",'LEAGUE MEMBERSHIP'!L13&\" - \"&VLOOKUP('LEAGUE MEMBERSHIP'!L13,'LEAGUE MEMBERSHIP'!E:G,3,FALSE)&\" - \"&('LEAGUE MEMBERSHIP'!M13))","v":"6B - RGL-037 - Bob Schleyer"}]
[{"$f":"LEFT(RIGHT($P$5,LEN($P$5)-FIND(\"RGL\",$P$5)+1),7)&\" 3\"","v":"RGL-046 3"},"2013-07-03",3,"Front",6,6,6,6,3,3,7,4,3,44,null,{"$f":"IF(ISERROR(VLOOKUP('LEAGUE MEMBERSHIP'!J14,'LEAGUE MEMBERSHIP'!E:G,3,FALSE)),\"\",'LEAGUE MEMBERSHIP'!J14&\" - \"&VLOOKUP('LEAGUE MEMBERSHIP'!J14,'LEAGUE MEMBERSHIP'!E:G,3,FALSE)&\" - \"&('LEAGUE MEMBERSHIP'!K14))","v":"7A - RGL-036 - Steve Scapparone"},null,null,{"$f":"IF(ISERROR(VLOOKUP('LEAGUE MEMBERSHIP'!L14,'LEAGUE MEMBERSHIP'!E:G,3,FALSE)),\"\",'LEAGUE MEMBERSHIP'!L14&\" - \"&VLOOKUP('LEAGUE MEMBERSHIP'!L14,'LEAGUE MEMBERSHIP'!E:G,3,FALSE)&\" - \"&('LEAGUE MEMBERSHIP'!M14))","v":"7B - RGL-020 - Dave Hyre"}]
[{"$f":"LEFT(RIGHT($P$5,LEN($P$5)-FIND(\"RGL\",$P$5)+1),7)&\" 4\"","v":"RGL-046 4"},"2013-07-17",4,"Front",6,6,6,4,4,4,4,3,6,43,null,{"$f":"IF(ISERROR(VLOOKUP('LEAGUE MEMBERSHIP'!J15,'LEAGUE MEMBERSHIP'!E:G,3,FALSE)),\"\",'LEAGUE MEMBERSHIP'!J15&\" - \"&VLOOKUP('LEAGUE MEMBERSHIP'!J15,'LEAGUE MEMBERSHIP'!E:G,3,FALSE)&\" - \"&('LEAGUE MEMBERSHIP'!K15))","v":"8A - RGL-063 - Mike Sunderland"},null,null,{"$f":"IF(ISERROR(VLOOKUP('LEAGUE MEMBERSHIP'!L15,'LEAGUE MEMBERSHIP'!E:G,3,FALSE)),\"\",'LEAGUE MEMBERSHIP'!L15&\" - \"&VLOOKUP('LEAGUE MEMBERSHIP'!L15,'LEAGUE MEMBERSHIP'!E:G,3,FALSE)&\" - \"&('LEAGUE MEMBERSHIP'!M15))","v":"8B - RGL-040 - Debbie Sunderland"}]
[{"$f":"LEFT(RIGHT($P$5,LEN($P$5)-FIND(\"RGL\",$P$5)+1),7)&\" 5\"","v":"RGL-046 5"},"2013-07-31",4,"Front",6,4,5,5,5,3,4,4,5,41,null,{"$f":"IF(ISERROR(VLOOKUP('LEAGUE MEMBERSHIP'!J16,'LEAGUE MEMBERSHIP'!E:G,3,FALSE)),\"\",'LEAGUE MEMBERSHIP'!J16&\" - \"&VLOOKUP('LEAGUE MEMBERSHIP'!J16,'LEAGUE MEMBERSHIP'!E:G,3,FALSE)&\" - \"&('LEAGUE MEMBERSHIP'!K16))","v":"9A - RGL-015 - Mike Doane"},null,null,{"$f":"IF(ISERROR(VLOOKUP('LEAGUE MEMBERSHIP'!L16,'LEAGUE MEMBERSHIP'!E:G,3,FALSE)),\"\",'LEAGUE MEMBERSHIP'!L16&\" - \"&VLOOKUP('LEAGUE MEMBERSHIP'!L16,'LEAGUE MEMBERSHIP'!E:G,3,FALSE)&\" - \"&('LEAGUE MEMBERSHIP'!M16))","v":"9B - RGL-005 - John Cassin"}]
[{"$f":"LEFT(RIGHT($P$5,LEN($P$5)-FIND(\"RGL\",$P$5)+1),7)&\" 6\"","v":"RGL-046 6"},"2013-08-14",4,"Front",6,5,5,5,3,4,6,3,3,40,null,{"$f":"IF(ISERROR(VLOOKUP('LEAGUE MEMBERSHIP'!J17,'LEAGUE MEMBERSHIP'!E:G,3,FALSE)),\"\",'LEAGUE MEMBERSHIP'!J17&\" - \"&VLOOKUP('LEAGUE MEMBERSHIP'!J17,'LEAGUE MEMBERSHIP'!E:G,3,FALSE)&\" - \"&('LEAGUE MEMBERSHIP'!K17))","v":"10A - RGL-046 - Ron Eckstrom"},null,null,{"$f":"IF(ISERROR(VLOOKUP('LEAGUE MEMBERSHIP'!L17,'LEAGUE MEMBERSHIP'!E:G,3,FALSE)),\"\",'LEAGUE MEMBERSHIP'!L17&\" - \"&VLOOKUP('LEAGUE MEMBERSHIP'!L17,'LEAGUE MEMBERSHIP'!E:G,3,FALSE)&\" - \"&('LEAGUE MEMBERSHIP'!M17))","v":"10B - RGL-060 - Beth Romano"}]
[{"$f":"LEFT(RIGHT($P$5,LEN($P$5)-FIND(\"RGL\",$P$5)+1),7)&\" 7\"","v":"RGL-046 7"},"2013-08-28",3,"Front",7,4,5,4,3,3,5,3,5,39,null,{"$f":"IF(ISERROR(VLOOKUP('LEAGUE MEMBERSHIP'!J18,'LEAGUE MEMBERSHIP'!E:G,3,FALSE)),\"\",'LEAGUE MEMBERSHIP'!J18&\" - \"&VLOOKUP('LEAGUE MEMBERSHIP'!J18,'LEAGUE MEMBERSHIP'!E:G,3,FALSE)&\" - \"&('LEAGUE MEMBERSHIP'!K18))","v":"11A - RGL-018 - Ray Henderson"},null,null,{"$f":"IF(ISERROR(VLOOKUP('LEAGUE MEMBERSHIP'!L18,'LEAGUE MEMBERSHIP'!E:G,3,FALSE)),\"\",'LEAGUE MEMBERSHIP'!L18&\" - \"&VLOOKUP('LEAGUE MEMBERSHIP'!L18,'LEAGUE MEMBERSHIP'!E:G,3,FALSE)&\" - \"&('LEAGUE MEMBERSHIP'!M18))","v":"11B - RGL-044 - Zachary Wallace"}]
[{"$f":"LEFT(RIGHT($P$5,LEN($P$5)-FIND(\"RGL\",$P$5)+1),7)&\" 8\"","v":"RGL-046 8"},"","","","","","","","","","","","","",null,{"$f":"IF(ISERROR(VLOOKUP('LEAGUE MEMBERSHIP'!J19,'LEAGUE MEMBERSHIP'!E:G,3,FALSE)),\"\",'LEAGUE MEMBERSHIP'!J19&\" - \"&VLOOKUP('LEAGUE MEMBERSHIP'!J19,'LEAGUE MEMBERSHIP'!E:G,3,FALSE)&\" - \"&('LEAGUE MEMBERSHIP'!K19))","v":"12A - RGL-050 - Sal Cuifetti"},null,null,{"$f":"IF(ISERROR(VLOOKUP('LEAGUE MEMBERSHIP'!L19,'LEAGUE MEMBERSHIP'!E:G,3,FALSE)),\"\",'LEAGUE MEMBERSHIP'!L19&\" - \"&VLOOKUP('LEAGUE MEMBERSHIP'!L19,'LEAGUE MEMBERSHIP'!E:G,3,FALSE)&\" - \"&('LEAGUE MEMBERSHIP'!M19))","v":"12B - RGL-031 - Paul LeBlanc"}]
[{"$f":"LEFT(RIGHT($P$5,LEN($P$5)-FIND(\"RGL\",$P$5)+1),7)&\" 9\"","v":"RGL-046 9"},"","","","","","","","","","","","","",null,{"$f":"IF(ISERROR(VLOOKUP('LEAGUE MEMBERSHIP'!J20,'LEAGUE MEMBERSHIP'!E:G,3,FALSE)),\"\",'LEAGUE MEMBERSHIP'!J20&\" - \"&VLOOKUP('LEAGUE MEMBERSHIP'!J20,'LEAGUE MEMBERSHIP'!E:G,3,FALSE)&\" - \"&('LEAGUE MEMBERSHIP'!K20))","v":"13A - RGL-047 - Kyle Currier"},null,null,{"$f":"IF(ISERROR(VLOOKUP('LEAGUE MEMBERSHIP'!L20,'LEAGUE MEMBERSHIP'!E:G,3,FALSE)),\"\",'LEAGUE MEMBERSHIP'!L20&\" - \"&VLOOKUP('LEAGUE MEMBERSHIP'!L20,'LEAGUE MEMBERSHIP'!E:G,3,FALSE)&\" - \"&('LEAGUE MEMBERSHIP'!M20))","v":"13B - RGL-010 - Walter Drake"}]
[{"$f":"LEFT(RIGHT($P$5,LEN($P$5)-FIND(\"RGL\",$P$5)+1),7)&\" 10\"","v":"RGL-046 10"},"","","","","","","","","","","","","",null,{"$f":"IF(ISERROR(VLOOKUP('LEAGUE MEMBERSHIP'!J21,'LEAGUE MEMBERSHIP'!E:G,3,FALSE)),\"\",'LEAGUE MEMBERSHIP'!J21&\" - \"&VLOOKUP('LEAGUE MEMBERSHIP'!J21,'LEAGUE MEMBERSHIP'!E:G,3,FALSE)&\" - \"&('LEAGUE MEMBERSHIP'!K21))","v":"14A - RGL-008 - Doug Cormier"},null,null,{"$f":"IF(ISERROR(VLOOKUP('LEAGUE MEMBERSHIP'!L21,'LEAGUE MEMBERSHIP'!E:G,3,FALSE)),\"\",'LEAGUE MEMBERSHIP'!L21&\" - \"&VLOOKUP('LEAGUE MEMBERSHIP'!L21,'LEAGUE MEMBERSHIP'!E:G,3,FALSE)&\" - \"&('LEAGUE MEMBERSHIP'!M21))","v":"14B - RGL-035 - Ralph Romano, Jr."}]
[{"$f":"LEFT(RIGHT($P$5,LEN($P$5)-FIND(\"RGL\",$P$5)+1),7)&\" 11\"","v":"RGL-046 11"},"","","","","","","","","","","","","",null,{"$f":"IF(ISERROR(VLOOKUP('LEAGUE MEMBERSHIP'!J22,'LEAGUE MEMBERSHIP'!E:G,3,FALSE)),\"\",'LEAGUE MEMBERSHIP'!J22&\" - \"&VLOOKUP('LEAGUE MEMBERSHIP'!J22,'LEAGUE MEMBERSHIP'!E:G,3,FALSE)&\" - \"&('LEAGUE MEMBERSHIP'!K22))","v":"15A - RGL-019 - Tim Hurley"},null,null,{"$f":"IF(ISERROR(VLOOKUP('LEAGUE MEMBERSHIP'!L22,'LEAGUE MEMBERSHIP'!E:G,3,FALSE)),\"\",'LEAGUE MEMBERSHIP'!L22&\" - \"&VLOOKUP('LEAGUE MEMBERSHIP'!L22,'LEAGUE MEMBERSHIP'!E:G,3,FALSE)&\" - \"&('LEAGUE MEMBERSHIP'!M22))","v":"15B - RGL-012 - John Elie"}]
[null,null,null,null,null,null,null,null,null,null,null,null,null,null,null,{"$f":"IF(ISERROR(VLOOKUP('LEAGUE MEMBERSHIP'!J23,'LEAGUE MEMBERSHIP'!E:G,3,FALSE)),\"\",'LEAGUE MEMBERSHIP'!J23&\" - \"&VLOOKUP('LEAGUE MEMBERSHIP'!J23,'LEAGUE MEMBERSHIP'!E:G,3,FALSE)&\" - \"&('LEAGUE MEMBERSHIP'!K23))","v":"16A - RGL-066 - Deb DeCarolis"},null,null,{"$f":"IF(ISERROR(VLOOKUP('LEAGUE MEMBERSHIP'!L23,'LEAGUE MEMBERSHIP'!E:G,3,FALSE)),\"\",'LEAGUE MEMBERSHIP'!L23&\" - \"&VLOOKUP('LEAGUE MEMBERSHIP'!L23,'LEAGUE MEMBERSHIP'!E:G,3,FALSE)&\" - \"&('LEAGUE MEMBERSHIP'!M23))","v":"16B - RGL-043 - Joey DeCarolis"}]
[{"$f":"RIGHT($P$5,LEN($P$5)-FIND(\"RGL\",$P$5)-9)&\" - Avg. Score\"","v":"Ron Eckstrom - Avg. Score"},null,null,"Front",{"$f":"IF(ISERROR(SUMIF($D$15:$D$25,\"=\"&$D27,E$15:E$25)/COUNTIF($D$15:$D$25,\"=\"&$D27)),\"\",SUMIF($D$15:$D$25,\"=\"&$D27,E$15:E$25)/COUNTIF($D$15:$D$25,\"=\"&$D27))","v":5.8571428571428568},4.7142857142857144,5.8571428571428568,4.5714285714285712,3.7142857142857144,3.4285714285714284,5,3.4285714285714284,4.2857142857142856,40.857142857142854,null,{"$f":"IF(ISERROR(VLOOKUP('LEAGUE MEMBERSHIP'!J24,'LEAGUE MEMBERSHIP'!E:G,3,FALSE)),\"\",'LEAGUE MEMBERSHIP'!J24&\" - \"&VLOOKUP('LEAGUE MEMBERSHIP'!J24,'LEAGUE MEMBERSHIP'!E:G,3,FALSE)&\" - \"&('LEAGUE MEMBERSHIP'!K24))","v":"17A - RGL-003 - Gary Bittner"},null,null,{"$f":"IF(ISERROR(VLOOKUP('LEAGUE MEMBERSHIP'!L24,'LEAGUE MEMBERSHIP'!E:G,3,FALSE)),\"\",'LEAGUE MEMBERSHIP'!L24&\" - \"&VLOOKUP('LEAGUE MEMBERSHIP'!L24,'LEAGUE MEMBERSHIP'!E:G,3,FALSE)&\" - \"&('LEAGUE MEMBERSHIP'!M24))","v":"17B - RGL-009 - Mike Dauphinais"}]
[null,"League Avg. - Front Side",null,"Front",{"$f":"IF(ISERROR(SUMIF($D$78:$D$2774,\"=\"&$D28,E$78:E$2774)/COUNTIF($D$78:$D$2774,\"=\"&$D28)),\"\",SUMIF($D$78:$D$2774,\"=\"&$D28,E$78:E$2774)/COUNTIF($D$78:$D$2774,\"=\"&$D28))","v":6.9652777777777777},5.5,6.9861111111111107,5.5347222222222223,5.0590277777777777,4.0555555555555554,6.208333333333333,4.041666666666667,4.9513888888888893,{"$f":"IF(SUM(E28:M28)<>0,SUM(E28:M28),\"\")","v":49.302083333333329},null,{"$f":"IF(ISERROR(VLOOKUP('LEAGUE MEMBERSHIP'!J25,'LEAGUE MEMBERSHIP'!E:G,3,FALSE)),\"\",'LEAGUE MEMBERSHIP'!J25&\" - \"&VLOOKUP('LEAGUE MEMBERSHIP'!J25,'LEAGUE MEMBERSHIP'!E:G,3,FALSE)&\" - \"&('LEAGUE MEMBERSHIP'!K25))","v":"18A - RGL-016 - Norm Gamache"},null,null,{"$f":"IF(ISERROR(VLOOKUP('LEAGUE MEMBERSHIP'!L25,'LEAGUE MEMBERSHIP'!E:G,3,FALSE)),\"\",'LEAGUE MEMBERSHIP'!L25&\" - \"&VLOOKUP('LEAGUE MEMBERSHIP'!L25,'LEAGUE MEMBERSHIP'!E:G,3,FALSE)&\" - \"&('LEAGUE MEMBERSHIP'!M25))","v":"18B - RGL-045 - Michelle Bouvier"}]
[null,null,null,null,null,null,null,null,null,null,null,null,null,null,null,{"$f":"IF(ISERROR(VLOOKUP('LEAGUE MEMBERSHIP'!J26,'LEAGUE MEMBERSHIP'!E:G,3,FALSE)),\"\",'LEAGUE MEMBERSHIP'!J26&\" - \"&VLOOKUP('LEAGUE MEMBERSHIP'!J26,'LEAGUE MEMBERSHIP'!E:G,3,FALSE)&\" - \"&('LEAGUE MEMBERSHIP'!K26))","v":"19A - RGL-022 - Gary Leavenworth"},null,null,{"$f":"IF(ISERROR(VLOOKUP('LEAGUE MEMBERSHIP'!L26,'LEAGUE MEMBERSHIP'!E:G,3,FALSE)),\"\",'LEAGUE MEMBERSHIP'!L26&\" - \"&VLOOKUP('LEAGUE MEMBERSHIP'!L26,'LEAGUE MEMBERSHIP'!E:G,3,FALSE)&\" - \"&('LEAGUE MEMBERSHIP'!M26))","v":"19B - RGL-023 - Patty Leavenworth"}]
[null,null,null,null,"Back",null,null,null,null,null,null,null,null,null,null,{"$f":"IF(ISERROR(VLOOKUP('LEAGUE MEMBERSHIP'!J27,'LEAGUE MEMBERSHIP'!E:G,3,FALSE)),\"\",'LEAGUE MEMBERSHIP'!J27&\" - \"&VLOOKUP('LEAGUE MEMBERSHIP'!J27,'LEAGUE MEMBERSHIP'!E:G,3,FALSE)&\" - \"&('LEAGUE MEMBERSHIP'!K27))","v":"20A - RGL-055 - Paul Fontaine"},null,null,{"$f":"IF(ISERROR(VLOOKUP('LEAGUE MEMBERSHIP'!L27,'LEAGUE MEMBERSHIP'!E:G,3,FALSE)),\"\",'LEAGUE MEMBERSHIP'!L27&\" - \"&VLOOKUP('LEAGUE MEMBERSHIP'!L27,'LEAGUE MEMBERSHIP'!E:G,3,FALSE)&\" - \"&('LEAGUE MEMBERSHIP'!M27))","v":"20B - RGL-034 - Ralph Romano III"}]
[null,"Date","Hcp","Side",10,11,12,13,14,15,16,17,18,"Total",null,{"$f":"IF(ISERROR(VLOOKUP('LEAGUE MEMBERSHIP'!J28,'LEAGUE MEMBERSHIP'!E:G,3,FALSE)),\"\",'LEAGUE MEMBERSHIP'!J28&\" - \"&VLOOKUP('LEAGUE MEMBERSHIP'!J28,'LEAGUE MEMBERSHIP'!E:G,3,FALSE)&\" - \"&('LEAGUE MEMBERSHIP'!K28))","v":""},null,null,{"$f":"IF(ISERROR(VLOOKUP('LEAGUE MEMBERSHIP'!L28,'LEAGUE MEMBERSHIP'!E:G,3,FALSE)),\"\",'LEAGUE MEMBERSHIP'!L28&\" - \"&VLOOKUP('LEAGUE MEMBERSHIP'!L28,'LEAGUE MEMBERSHIP'!E:G,3,FALSE)&\" - \"&('LEAGUE MEMBERSHIP'!M28))","v":""}]
[null,null,"Men's Par",null,5,4,4,5,3,4,3,4,4,{"$f":"SUM(E32:M32)","v":36},null,{"$f":"IF(ISERROR(VLOOKUP('LEAGUE MEMBERSHIP'!J30,'LEAGUE MEMBERSHIP'!E:G,3,FALSE)),\"\",'LEAGUE MEMBERSHIP'!J30&\" - \"&VLOOKUP('LEAGUE MEMBERSHIP'!J30,'LEAGUE MEMBERSHIP'!E:G,3,FALSE)&\" - \"&('LEAGUE MEMBERSHIP'!K30))","v":"Sub1 - RGL-001 - Becky Bartkus"},null,null,{"$f":"IF(ISERROR(VLOOKUP('LEAGUE MEMBERSHIP'!J46,'LEAGUE MEMBERSHIP'!E:G,3,FALSE)),\"\",'LEAGUE MEMBERSHIP'!J46&\" - \"&VLOOKUP('LEAGUE MEMBERSHIP'!J46,'LEAGUE MEMBERSHIP'!E:G,3,FALSE)&\" - \"&('LEAGUE MEMBERSHIP'!K46))","v":"Sub17 - RGL-064 - Deb Passios"}]
[null,null,"Women's Par",null,4,4,4,5,3,4,3,4,4,{"$f":"SUM(E33:M33)","v":35},null,{"$f":"IF(ISERROR(VLOOKUP('LEAGUE MEMBERSHIP'!J31,'LEAGUE MEMBERSHIP'!E:G,3,FALSE)),\"\",'LEAGUE MEMBERSHIP'!J31&\" - \"&VLOOKUP('LEAGUE MEMBERSHIP'!J31,'LEAGUE MEMBERSHIP'!E:G,3,FALSE)&\" - \"&('LEAGUE MEMBERSHIP'!K31))","v":"Sub2 - RGL-062 - P.J. Romano"},null,null,{"$f":"IF(ISERROR(VLOOKUP('LEAGUE MEMBERSHIP'!J47,'LEAGUE MEMBERSHIP'!E:G,3,FALSE)),\"\",'LEAGUE MEMBERSHIP'!J47&\" - \"&VLOOKUP('LEAGUE MEMBERSHIP'!J47,'LEAGUE MEMBERSHIP'!E:G,3,FALSE)&\" - \"&('LEAGUE MEMBERSHIP'!K47))","v":"Sub18 - RGL-030 - Joe Pearson"}]
[{"$f":"LEFT(RIGHT($P$5,LEN($P$5)-FIND(\"RGL\",$P$5)+1),7)&\" 12\"","v":"RGL-046 12"},{"$f":"IF(VLOOKUP($A34,$A$74:$N$2778,B$6,FALSE)<>\"\",VLOOKUP($A34,$A$74:$N$2778,B$6,FALSE),\"\")","v":"2013-05-01"},3,"Back",5,5,4,5,3,5,3,4,4,38,null,{"$f":"IF(ISERROR(VLOOKUP('LEAGUE MEMBERSHIP'!J32,'LEAGUE MEMBERSHIP'!E:G,3,FALSE)),\"\",'LEAGUE MEMBERSHIP'!J32&\" - \"&VLOOKUP('LEAGUE MEMBERSHIP'!J32,'LEAGUE MEMBERSHIP'!E:G,3,FALSE)&\" - \"&('LEAGUE MEMBERSHIP'!K32))","v":"Sub3 - RGL-057 - Mike Forbes"},null,null,{"$f":"IF(ISERROR(VLOOKUP('LEAGUE MEMBERSHIP'!J48,'LEAGUE MEMBERSHIP'!E:G,3,FALSE)),\"\",'LEAGUE MEMBERSHIP'!J48&\" - \"&VLOOKUP('LEAGUE MEMBERSHIP'!J48,'LEAGUE MEMBERSHIP'!E:G,3,FALSE)&\" - \"&('LEAGUE MEMBERSHIP'!K48))","v":"Sub19 - RGL-017 - Audrey Henderson"}]
[{"$f":"LEFT(RIGHT($P$5,LEN($P$5)-FIND(\"RGL\",$P$5)+1),7)&\" 13\"","v":"RGL-046 13"},"2013-05-29",2,"Back",8,6,3,7,4,3,4,4,4,43,null,{"$f":"IF(ISERROR(VLOOKUP('LEAGUE MEMBERSHIP'!J33,'LEAGUE MEMBERSHIP'!E:G,3,FALSE)),\"\",'LEAGUE MEMBERSHIP'!J33&\" - \"&VLOOKUP('LEAGUE MEMBERSHIP'!J33,'LEAGUE MEMBERSHIP'!E:G,3,FALSE)&\" - \"&('LEAGUE MEMBERSHIP'!K33))","v":"Sub4 - RGL-061 - Mike Romano"},null,null,{"$f":"IF(ISERROR(VLOOKUP('LEAGUE MEMBERSHIP'!J49,'LEAGUE MEMBERSHIP'!E:G,3,FALSE)),\"\",'LEAGUE MEMBERSHIP'!J49&\" - \"&VLOOKUP('LEAGUE MEMBERSHIP'!J49,'LEAGUE MEMBERSHIP'!E:G,3,FALSE)&\" - \"&('LEAGUE MEMBERSHIP'!K49))","v":"Sub20 - RGL-038 - David St. Jean"}]
[{"$f":"LEFT(RIGHT($P$5,LEN($P$5)-FIND(\"RGL\",$P$5)+1),7)&\" 14\"","v":"RGL-046 14"},"2013-06-12",2,"Back",5,4,4,7,4,4,4,4,4,40,null,{"$f":"IF(ISERROR(VLOOKUP('LEAGUE MEMBERSHIP'!J34,'LEAGUE MEMBERSHIP'!E:G,3,FALSE)),\"\",'LEAGUE MEMBERSHIP'!J34&\" - \"&VLOOKUP('LEAGUE MEMBERSHIP'!J34,'LEAGUE MEMBERSHIP'!E:G,3,FALSE)&\" - \"&('LEAGUE MEMBERSHIP'!K34))","v":"Sub5 - RGL-059 - Jono Normandin"},null,null,{"$f":"IF(ISERROR(VLOOKUP('LEAGUE MEMBERSHIP'!J50,'LEAGUE MEMBERSHIP'!E:G,3,FALSE)),\"\",'LEAGUE MEMBERSHIP'!J50&\" - \"&VLOOKUP('LEAGUE MEMBERSHIP'!J50,'LEAGUE MEMBERSHIP'!E:G,3,FALSE)&\" - \"&('LEAGUE MEMBERSHIP'!K50))","v":"Sub21 - RGL-039 - Dennis St. Jean"}]
[{"$f":"LEFT(RIGHT($P$5,LEN($P$5)-FIND(\"RGL\",$P$5)+1),7)&\" 15\"","v":"RGL-046 15"},"2013-06-26",3,"Back",5,4,4,4,3,6,3,3,4,36,null,{"$f":"IF(ISERROR(VLOOKUP('LEAGUE MEMBERSHIP'!J35,'LEAGUE MEMBERSHIP'!E:G,3,FALSE)),\"\",'LEAGUE MEMBERSHIP'!J35&\" - \"&VLOOKUP('LEAGUE MEMBERSHIP'!J35,'LEAGUE MEMBERSHIP'!E:G,3,FALSE)&\" - \"&('LEAGUE MEMBERSHIP'!K35))","v":"Sub6 - RGL-058 - Scott Leavenworth"},null,null,{"$f":"IF(ISERROR(VLOOKUP('LEAGUE MEMBERSHIP'!J51,'LEAGUE MEMBERSHIP'!E:G,3,FALSE)),\"\",'LEAGUE MEMBERSHIP'!J51&\" - \"&VLOOKUP('LEAGUE MEMBERSHIP'!J51,'LEAGUE MEMBERSHIP'!E:G,3,FALSE)&\" - \"&('LEAGUE MEMBERSHIP'!K51))","v":"Sub22 - RGL-049 - Joe Fratticelli"}]
[{"$f":"LEFT(RIGHT($P$5,LEN($P$5)-FIND(\"RGL\",$P$5)+1),7)&\" 16\"","v":"RGL-046 16"},"2013-07-24",4,"Back",5,5,5,5,3,3,3,4,6,39,null,{"$f":"IF(ISERROR(VLOOKUP('LEAGUE MEMBERSHIP'!J36,'LEAGUE MEMBERSHIP'!E:G,3,FALSE)),\"\",'LEAGUE MEMBERSHIP'!J36&\" - \"&VLOOKUP('LEAGUE MEMBERSHIP'!J36,'LEAGUE MEMBERSHIP'!E:G,3,FALSE)&\" - \"&('LEAGUE MEMBERSHIP'!K36))","v":"Sub7 - RGL-056 - PJ Fontaine"},null,null,{"$f":"IF(ISERROR(VLOOKUP('LEAGUE MEMBERSHIP'!J52,'LEAGUE MEMBERSHIP'!E:G,3,FALSE)),\"\",'LEAGUE MEMBERSHIP'!J52&\" - \"&VLOOKUP('LEAGUE MEMBERSHIP'!J52,'LEAGUE MEMBERSHIP'!E:G,3,FALSE)&\" - \"&('LEAGUE MEMBERSHIP'!K52))","v":"Sub23 - RGL-052 - Pete Collette"}]
[{"$f":"LEFT(RIGHT($P$5,LEN($P$5)-FIND(\"RGL\",$P$5)+1),7)&\" 17\"","v":"RGL-046 17"},"2013-08-07",4,"Back",5,5,4,7,3,4,3,5,4,40,null,{"$f":"IF(ISERROR(VLOOKUP('LEAGUE MEMBERSHIP'!J37,'LEAGUE MEMBERSHIP'!E:G,3,FALSE)),\"\",'LEAGUE MEMBERSHIP'!J37&\" - \"&VLOOKUP('LEAGUE MEMBERSHIP'!J37,'LEAGUE MEMBERSHIP'!E:G,3,FALSE)&\" - \"&('LEAGUE MEMBERSHIP'!K37))","v":"Sub8 - RGL-051 - Yogi DiPasquale"},null,null,{"$f":"IF(ISERROR(VLOOKUP('LEAGUE MEMBERSHIP'!J53,'LEAGUE MEMBERSHIP'!E:G,3,FALSE)),\"\",'LEAGUE MEMBERSHIP'!J53&\" - \"&VLOOKUP('LEAGUE MEMBERSHIP'!J53,'LEAGUE MEMBERSHIP'!E:G,3,FALSE)&\" - \"&('LEAGUE MEMBERSHIP'!K53))","v":"Sub24 - RGL-054 - Shane McCarthy"}]
[{"$f":"LEFT(RIGHT($P$5,LEN($P$5)-FIND(\"RGL\",$P$5)+1),7)&\" 18\"","v":"RGL-046 18"},"2013-08-21",4,"Back",5,5,4,4,4,6,3,4,4,39,null,{"$f":"IF(ISERROR(VLOOKUP('LEAGUE MEMBERSHIP'!J38,'LEAGUE MEMBERSHIP'!E:G,3,FALSE)),\"\",'LEAGUE MEMBERSHIP'!J38&\" - \"&VLOOKUP('LEAGUE MEMBERSHIP'!J38,'LEAGUE MEMBERSHIP'!E:G,3,FALSE)&\" - \"&('LEAGUE MEMBERSHIP'!K38))","v":"Sub9 - RGL-013 - Jon Friberg"},null,null,{"$f":"IF(ISERROR(VLOOKUP('LEAGUE MEMBERSHIP'!J54,'LEAGUE MEMBERSHIP'!E:G,3,FALSE)),\"\",'LEAGUE MEMBERSHIP'!J54&\" - \"&VLOOKUP('LEAGUE MEMBERSHIP'!J54,'LEAGUE MEMBERSHIP'!E:G,3,FALSE)&\" - \"&('LEAGUE MEMBERSHIP'!K54))","v":"Sub25 - RGL-067 - Brenda Louney"}]
[{"$f":"LEFT(RIGHT($P$5,LEN($P$5)-FIND(\"RGL\",$P$5)+1),7)&\" 19\"","v":"RGL-046 19"},"","","","","","","","","","","","","",null,{"$f":"IF(ISERROR(VLOOKUP('LEAGUE MEMBERSHIP'!J39,'LEAGUE MEMBERSHIP'!E:G,3,FALSE)),\"\",'LEAGUE MEMBERSHIP'!J39&\" - \"&VLOOKUP('LEAGUE MEMBERSHIP'!J39,'LEAGUE MEMBERSHIP'!E:G,3,FALSE)&\" - \"&('LEAGUE MEMBERSHIP'!K39))","v":"Sub10 - RGL-065 - Jim Hedlund"},null,null,{"$f":"IF(ISERROR(VLOOKUP('LEAGUE MEMBERSHIP'!J55,'LEAGUE MEMBERSHIP'!E:G,3,FALSE)),\"\",'LEAGUE MEMBERSHIP'!J55&\" - \"&VLOOKUP('LEAGUE MEMBERSHIP'!J55,'LEAGUE MEMBERSHIP'!E:G,3,FALSE)&\" - \"&('LEAGUE MEMBERSHIP'!K55))","v":"Sub26 - RGL-068 - Mark Louney"}]
[{"$f":"LEFT(RIGHT($P$5,LEN($P$5)-FIND(\"RGL\",$P$5)+1),7)&\" 20\"","v":"RGL-046 20"},"","","","","","","","","","","","","",null,{"$f":"IF(ISERROR(VLOOKUP('LEAGUE MEMBERSHIP'!J40,'LEAGUE MEMBERSHIP'!E:G,3,FALSE)),\"\",'LEAGUE MEMBERSHIP'!J40&\" - \"&VLOOKUP('LEAGUE MEMBERSHIP'!J40,'LEAGUE MEMBERSHIP'!E:G,3,FALSE)&\" - \"&('LEAGUE MEMBERSHIP'!K40))","v":"Sub11 - RGL-041 - Don Shank"},null,null,{"$f":"IF(ISERROR(VLOOKUP('LEAGUE MEMBERSHIP'!J56,'LEAGUE MEMBERSHIP'!E:G,3,FALSE)),\"\",'LEAGUE MEMBERSHIP'!J56&\" - \"&VLOOKUP('LEAGUE MEMBERSHIP'!J56,'LEAGUE MEMBERSHIP'!E:G,3,FALSE)&\" - \"&('LEAGUE MEMBERSHIP'!K56))","v":"Sub27 - RGL-069 - Victor Szewczyk"}]
[{"$f":"LEFT(RIGHT($P$5,LEN($P$5)-FIND(\"RGL\",$P$5)+1),7)&\" 21\"","v":"RGL-046 21"},"","","","","","","","","","","","","",null,{"$f":"IF(ISERROR(VLOOKUP('LEAGUE MEMBERSHIP'!J41,'LEAGUE MEMBERSHIP'!E:G,3,FALSE)),\"\",'LEAGUE MEMBERSHIP'!J41&\" - \"&VLOOKUP('LEAGUE MEMBERSHIP'!J41,'LEAGUE MEMBERSHIP'!E:G,3,FALSE)&\" - \"&('LEAGUE MEMBERSHIP'!K41))","v":"Sub12 - RGL-002 - Chris Barry"},null,null,{"$f":"IF(ISERROR(VLOOKUP('LEAGUE MEMBERSHIP'!J57,'LEAGUE MEMBERSHIP'!E:G,3,FALSE)),\"\",'LEAGUE MEMBERSHIP'!J57&\" - \"&VLOOKUP('LEAGUE MEMBERSHIP'!J57,'LEAGUE MEMBERSHIP'!E:G,3,FALSE)&\" - \"&('LEAGUE MEMBERSHIP'!K57))","v":"Sub28 - RGL-004 - Matt Lee"}]
[{"$f":"LEFT(RIGHT($P$5,LEN($P$5)-FIND(\"RGL\",$P$5)+1),7)&\" 22\"","v":"RGL-046 22"},"","","","","","","","","","","","","",null,{"$f":"IF(ISERROR(VLOOKUP('LEAGUE MEMBERSHIP'!J42,'LEAGUE MEMBERSHIP'!E:G,3,FALSE)),\"\",'LEAGUE MEMBERSHIP'!J42&\" - \"&VLOOKUP('LEAGUE MEMBERSHIP'!J42,'LEAGUE MEMBERSHIP'!E:G,3,FALSE)&\" - \"&('LEAGUE MEMBERSHIP'!K42))","v":"Sub13 - RGL-011 - Tom Farias"},null,null,{"$f":"IF(ISERROR(VLOOKUP('LEAGUE MEMBERSHIP'!J58,'LEAGUE MEMBERSHIP'!E:G,3,FALSE)),\"\",'LEAGUE MEMBERSHIP'!J58&\" - \"&VLOOKUP('LEAGUE MEMBERSHIP'!J58,'LEAGUE MEMBERSHIP'!E:G,3,FALSE)&\" - \"&('LEAGUE MEMBERSHIP'!K58))","v":"Sub29 - RGL-053 - Jay Melansom"}]
[{"$f":"LEFT(RIGHT($P$5,LEN($P$5)-FIND(\"RGL\",$P$5)+1),7)&\" 23\"","v":"RGL-046 23"},"","","","","","","","","","","","","",null,{"$f":"IF(ISERROR(VLOOKUP('LEAGUE MEMBERSHIP'!J43,'LEAGUE MEMBERSHIP'!E:G,3,FALSE)),\"\",'LEAGUE MEMBERSHIP'!J43&\" - \"&VLOOKUP('LEAGUE MEMBERSHIP'!J43,'LEAGUE MEMBERSHIP'!E:G,3,FALSE)&\" - \"&('LEAGUE MEMBERSHIP'!K43))","v":"Sub14 - RGL-025 - Jeff Erskine"},null,null,{"$f":"IF(ISERROR(VLOOKUP('LEAGUE MEMBERSHIP'!J59,'LEAGUE MEMBERSHIP'!E:G,3,FALSE)),\"\",'LEAGUE MEMBERSHIP'!J59&\" - \"&VLOOKUP('LEAGUE MEMBERSHIP'!J59,'LEAGUE MEMBERSHIP'!E:G,3,FALSE)&\" - \"&('LEAGUE MEMBERSHIP'!K59))","v":""}]
[{"$f":"RIGHT($P$5,LEN($P$5)-FIND(\"RGL\",$P$5)-9)&\" - Avg. Score\"","v":"Ron Eckstrom - Avg. Score"},null,null,"Back",{"$f":"IF(ISERROR(SUMIF($D$34:$D$45,\"=\"&$D46,E$34:E$45)/COUNTIF($D$34:$D$45,\"=\"&$D46)),\"\",SUMIF($D$34:$D$45,\"=\"&$D46,E$34:E$45)/COUNTIF($D$34:$D$45,\"=\"&$D46))","v":5.4285714285714288},4.8571428571428568,4,5.5714285714285712,3.4285714285714284,4.4285714285714288,3.2857142857142856,4,4.2857142857142856,{"$f":"IF(SUM(E46:M46)<>0,SUM(E46:M46),\"\")","v":39.285714285714278},null,{"$f":"IF(ISERROR(VLOOKUP('LEAGUE MEMBERSHIP'!J44,'LEAGUE MEMBERSHIP'!E:G,3,FALSE)),\"\",'LEAGUE MEMBERSHIP'!J44&\" - \"&VLOOKUP('LEAGUE MEMBERSHIP'!J44,'LEAGUE MEMBERSHIP'!E:G,3,FALSE)&\" - \"&('LEAGUE MEMBERSHIP'!K44))","v":"Sub15 - RGL-042 - Jeff Richard"}]
["League Avg. - Back Side",null,null,"Back",{"$f":"IF(ISERROR(SUMIF($D$78:$D$2774,\"=\"&$D47,E$78:E$2774)/COUNTIF($D$78:$D$2774,\"=\"&$D47)),\"\",SUMIF($D$78:$D$2774,\"=\"&$D47,E$78:E$2774)/COUNTIF($D$78:$D$2774,\"=\"&$D47))","v":6.1923076923076925},5.4230769230769234,5.2272727272727275,6.2832167832167833,4.2867132867132867,5.2657342657342658,4.2027972027972025,4.814685314685315,5.2062937062937067,{"$f":"IF(SUM(E47:M47)<>0,SUM(E47:M47),\"\")","v":46.9020979020979},null,{"$f":"IF(ISERROR(VLOOKUP('LEAGUE MEMBERSHIP'!J45,'LEAGUE MEMBERSHIP'!E:G,3,FALSE)),\"\",'LEAGUE MEMBERSHIP'!J45&\" - \"&VLOOKUP('LEAGUE MEMBERSHIP'!J45,'LEAGUE MEMBERSHIP'!E:G,3,FALSE)&\" - \"&('LEAGUE MEMBERSHIP'!K45))","v":"Sub16 - RGL-029 - Paul Stedman"}]
[]
[]
[]
[]
[]
[]
[]
[]
[]
[]
[]
[]
[]
[]
[]
[]
[null,null,null,null,null,"1/10","2/11","3/12","4/13","5/14","6/15","7/16","8/17","9/18","Total"]
[{"$f":"'SCORE ENTRY WORKSHEET'!B18","v":"4A"},{"$f":"VLOOKUP(A65,'LEAGUE MEMBERSHIP'!E$8:G$107,3,FALSE)","v":"RGL-032"},{"$f":"'SCORE ENTRY WORKSHEET'!N13","v":"2013-08-28"},{"$f":"'SCORE ENTRY WORKSHEET'!A18","v":14},{"$f":"IF('SCORE ENTRY WORKSHEET'!$N$14=\"BACK\",\"Back\",IF('SCORE ENTRY WORKSHEET'!$N$14=\"FRONT\",\"Front\",\"\"))","v":"Front"},{"$f":"IF('SCORE ENTRY WORKSHEET'!D18<>\"\",'SCORE ENTRY WORKSHEET'!D18,\"\")","v":""},{"$f":"IF('SCORE ENTRY WORKSHEET'!E18<>\"\",'SCORE ENTRY WORKSHEET'!E18,\"\")","v":""},{"$f":"IF('SCORE ENTRY WORKSHEET'!F18<>\"\",'SCORE ENTRY WORKSHEET'!F18,\"\")","v":""},{"$f":"IF('SCORE ENTRY WORKSHEET'!G18<>\"\",'SCORE ENTRY WORKSHEET'!G18,\"\")","v":""},{"$f":"IF('SCORE ENTRY WORKSHEET'!H18<>\"\",'SCORE ENTRY WORKSHEET'!H18,\"\")","v":""},{"$f":"IF('SCORE ENTRY WORKSHEET'!I18<>\"\",'SCORE ENTRY WORKSHEET'!I18,\"\")","v":""},{"$f":"IF('SCORE ENTRY WORKSHEET'!J18<>\"\",'SCORE ENTRY WORKSHEET'!J18,\"\")","v":""},{"$f":"IF('SCORE ENTRY WORKSHEET'!K18<>\"\",'SCORE ENTRY WORKSHEET'!K18,\"\")","v":""},{"$f":"IF('SCORE ENTRY WORKSHEET'!L18<>\"\",'SCORE ENTRY WORKSHEET'!L18,\"\")","v":""},{"$f":"IF('SCORE ENTRY WORKSHEET'!M18<>\"\",'SCORE ENTRY WORKSHEET'!M18,\"\")","v":""}]
[{"$f":"'SCORE ENTRY WORKSHEET'!B20","v":"4B"},{"$f":"VLOOKUP(A66,'LEAGUE MEMBERSHIP'!E$8:G$107,3,FALSE)","v":"RGL-021"},{"$f":"'SCORE ENTRY WORKSHEET'!N13","v":"2013-08-28"},{"$f":"'SCORE ENTRY WORKSHEET'!A20","v":14},{"$f":"IF('SCORE ENTRY WORKSHEET'!$N$14=\"BACK\",\"Back\",IF('SCORE ENTRY WORKSHEET'!$N$14=\"FRONT\",\"Front\",\"\"))","v":"Front"},{"$f":"IF('SCORE ENTRY WORKSHEET'!D20<>\"\",'SCORE ENTRY WORKSHEET'!D20,\"\")","v":""},{"$f":"IF('SCORE ENTRY WORKSHEET'!E20<>\"\",'SCORE ENTRY WORKSHEET'!E20,\"\")","v":""},{"$f":"IF('SCORE ENTRY WORKSHEET'!F20<>\"\",'SCORE ENTRY WORKSHEET'!F20,\"\")","v":""},{"$f":"IF('SCORE ENTRY WORKSHEET'!G20<>\"\",'SCORE ENTRY WORKSHEET'!G20,\"\")","v":""},{"$f":"IF('SCORE ENTRY WORKSHEET'!H20<>\"\",'SCORE ENTRY WORKSHEET'!H20,\"\")","v":""},{"$f":"IF('SCORE ENTRY WORKSHEET'!I20<>\"\",'SCORE ENTRY WORKSHEET'!I20,\"\")","v":""},{"$f":"IF('SCORE ENTRY WORKSHEET'!J20<>\"\",'SCORE ENTRY WORKSHEET'!J20,\"\")","v":""},{"$f":"IF('SCORE ENTRY WORKSHEET'!K20<>\"\",'SCORE ENTRY WORKSHEET'!K20,\"\")","v":""},{"$f":"IF('SCORE ENTRY WORKSHEET'!L20<>\"\",'SCORE ENTRY WORKSHEET'!L20,\"\")","v":""},{"$f":"IF('SCORE ENTRY WORKSHEET'!M20<>\"\",'SCORE ENTRY WORKSHEET'!M20,\"\")","v":""}]
[{"$f":"'SCORE ENTRY WORKSHEET'!B24","v":"16A"},{"$f":"VLOOKUP(A67,'LEAGUE MEMBERSHIP'!E$8:G$107,3,FALSE)","v":"RGL-066"},{"$f":"'SCORE ENTRY WORKSHEET'!N13","v":"2013-08-28"},{"$f":"'SCORE ENTRY WORKSHEET'!A24","v":10},{"$f":"IF('SCORE ENTRY WORKSHEET'!$N$14=\"BACK\",\"Back\",IF('SCORE ENTRY WORKSHEET'!$N$14=\"FRONT\",\"Front\",\"\"))","v":"Front"},{"$f":"IF('SCORE ENTRY WORKSHEET'!D24<>\"\",'SCORE ENTRY WORKSHEET'!D24,\"\")","v":""},{"$f":"IF('SCORE ENTRY WORKSHEET'!E24<>\"\",'SCORE ENTRY WORKSHEET'!E24,\"\")","v":""},{"$f":"IF('SCORE ENTRY WORKSHEET'!F24<>\"\",'SCORE ENTRY WORKSHEET'!F24,\"\")","v":""},{"$f":"IF('SCORE ENTRY WORKSHEET'!G24<>\"\",'SCORE ENTRY WORKSHEET'!G24,\"\")","v":""},{"$f":"IF('SCORE ENTRY WORKSHEET'!H24<>\"\",'SCORE ENTRY WORKSHEET'!H24,\"\")","v":""},{"$f":"IF('SCORE ENTRY WORKSHEET'!I24<>\"\",'SCORE ENTRY WORKSHEET'!I24,\"\")","v":""},{"$f":"IF('SCORE ENTRY WORKSHEET'!J24<>\"\",'SCORE ENTRY WORKSHEET'!J24,\"\")","v":""},{"$f":"IF('SCORE ENTRY WORKSHEET'!K24<>\"\",'SCORE ENTRY WORKSHEET'!K24,\"\")","v":""},{"$f":"IF('SCORE ENTRY WORKSHEET'!L24<>\"\",'SCORE ENTRY WORKSHEET'!L24,\"\")","v":""},{"$f":"IF('SCORE ENTRY WORKSHEET'!M24<>\"\",'SCORE ENTRY WORKSHEET'!M24,\"\")","v":""}]
[{"$f":"'SCORE ENTRY WORKSHEET'!B26","v":"16B"},{"$f":"VLOOKUP(A68,'LEAGUE MEMBERSHIP'!E$8:G$107,3,FALSE)","v":"RGL-043"},{"$f":"'SCORE ENTRY WORKSHEET'!N13","v":"2013-08-28"},{"$f":"'SCORE ENTRY WORKSHEET'!A26","v":6},{"$f":"IF('SCORE ENTRY WORKSHEET'!$N$14=\"BACK\",\"Back\",IF('SCORE ENTRY WORKSHEET'!$N$14=\"FRONT\",\"Front\",\"\"))","v":"Front"},{"$f":"IF('SCORE ENTRY WORKSHEET'!D26<>\"\",'SCORE ENTRY WORKSHEET'!D26,\"\")","v":""},{"$f":"IF('SCORE ENTRY WORKSHEET'!E26<>\"\",'SCORE ENTRY WORKSHEET'!E26,\"\")","v":""},{"$f":"IF('SCORE ENTRY WORKSHEET'!F26<>\"\",'SCORE ENTRY WORKSHEET'!F26,\"\")","v":""},{"$f":"IF('SCORE ENTRY WORKSHEET'!G26<>\"\",'SCORE ENTRY WORKSHEET'!G26,\"\")","v":""},{"$f":"IF('SCORE ENTRY WORKSHEET'!H26<>\"\",'SCORE ENTRY WORKSHEET'!H26,\"\")","v":""},{"$f":"IF('SCORE ENTRY WORKSHEET'!I26<>\"\",'SCORE ENTRY WORKSHEET'!I26,\"\")","v":""},{"$f":"IF('SCORE ENTRY WORKSHEET'!J26<>\"\",'SCORE ENTRY WORKSHEET'!J26,\"\")","v":""},{"$f":"IF('SCORE ENTRY WORKSHEET'!K26<>\"\",'SCORE ENTRY WORKSHEET'!K26,\"\")","v":""},{"$f":"IF('SCORE ENTRY WORKSHEET'!L26<>\"\",'SCORE ENTRY WORKSHEET'!L26,\"\")","v":""},{"$f":"IF('SCORE ENTRY WORKSHEET'!M26<>\"\",'SCORE ENTRY WORKSHEET'!M26,\"\")","v":""}]
[]
[]
[null,null,null,null,null,null,null,null,null,null,null,null,null,null,null,0.8]
[null,null,null,null,null,null,null,null,null,null,null,null,null,null,{"$f":"Q73","v":0},{"$f":"IF(Q73<>\"\",ROUND($P$71*(AVERAGE(Q73:U73)-36),0),\"\")","v":""}]
[]
["Player #","Date","Handicap","Side","1 / 10","2 / 11","3 / 12","4 / 13","5 / 14","6 / 15","7 / 16","8 / 17","9 / 18",null,null,"Current Hcp","Sc. 1","Sc 2","Sc. 3","Sc. 4","Sc. 5"]
[]
["RGL-001","x",null,null,null,null,null,null,null,null,null,null,null,"x",{"$f":"Q77","v":42},{"$f":"IF(Q77<>\"\",ROUND($P$71*(AVERAGE(Q77:U77)-36),0),\"\")","v":9},"2010-08-11","2009-09-09","2009-09-02","2009-08-26","2009-08-19"]
[null,"x",null,null,null,null,null,null,null,null,null,null,null,"x",null,null,42,42,56,47,52]
["RGL-001 1"]
["RGL-001 2"]
["RGL-001 3"]
["RGL-001 4"]
["RGL-001 5"]
["RGL-001 6"]
["RGL-001 7"]
["RGL-001 8"]
["RGL-001 9"]
["RGL-001 10"]
["RGL-001 11"]
[null,"x",null,null,null,null,null,null,null,null,null,null,null,"x"]
["RGL-001 12"]
["RGL-001 13"]
["RGL-001 14"]
["RGL-001 15"]
["RGL-001 16"]
["RGL-001 17"]
["RGL-001 18"]
["RGL-001 19"]
["RGL-001 20"]
["RGL-001 21"]
["RGL-001 22"]
["RGL-001 23"]
[]
["RGL-002","x",null,null,null,null,null,null,null,null,null,null,null,"x",{"$f":"Q104","v":60},{"$f":"IF(Q104<>\"\",ROUND($P$71*(AVERAGE(Q104:U104)-36),0),\"\")","v":11},"2011-08-03","2011-06-15","2011-05-25","Calc.","Calc."]
[null,"x",null,null,null,null,null,null,null,null,null,null,null,"x",null,null,60,56,62,36,36]
["RGL-002 1"]
["RGL-002 2"]
["RGL-002 3"]
["RGL-002 4"]
["RGL-002 5"]
["RGL-002 6"]
["RGL-002 7"]
["RGL-002 8"]
["RGL-002 9"]
["RGL-002 10"]
["RGL-002 11"]
[null,"x",null,null,null,null,null,null,null,null,null,null,null,"x"]
["RGL-002 12"]
["RGL-002 13"]
["RGL-002 14"]
["RGL-002 15"]
["RGL-002 16"]
["RGL-002 17"]
["RGL-002 18"]
["RGL-002 19"]
["RGL-002 20"]
["RGL-002 21"]
["RGL-002 22"]
["RGL-002 23"]
[]
["RGL-003","x",null,null,null,null,null,null,null,null,null,null,null,"x",43,{"$f":"IF(Q131<>\"\",ROUND($P$71*(AVERAGE(Q131:U131)-36),0),\"\")","v":5},"2013-08-28","2013-08-21","2013-08-07","2013-07-31","2013-07-24","2013-07-17","2013-07-03","2013-06-26","2013-06-19","2013-06-12","2013-06-05","2013-05-29","2013-05-22","2013-05-15","2013-05-01","2012-09-05","2012-08-29","2012-08-22","2012-08-15","2012-08-08","2012-07-25","2012-07-18","2012-07-11","2012-06-27","2012-06-20","2012-06-13","2012-05-30","2012-05-23","2012-05-16","2012-05-09","2012-05-02","2012-04-25","2011-08-24","2011-08-10","2011-08-03","2011-07-27","2011-07-20"]
[null,"x",null,null,null,null,null,null,null,null,null,null,null,"x",null,null,43,38,42,43,45,44,49,45,47,43,50,43,46,45,50,48,42,45,49,48,45,42,43,45,48,46,44,47,47,49,42,50,49,47,51,46,51]
["RGL-003 1","2013-05-22",8,"Front",7,5,7,5,4,4,6,3,5]
["RGL-003 2","2013-06-05",8,"Front",5,8,7,7,4,4,4,5,6]
["RGL-003 3","2013-06-19",8,"Front",6,6,7,6,4,3,7,3,5]
["RGL-003 4","2013-07-03",8,"Front",7,5,6,5,5,3,7,4,7]
["RGL-003 5","2013-07-17",9,"Front",7,8,6,4,4,3,5,3,4]
["RGL-003 6","2013-07-31",8,"Front",5,4,6,6,3,3,6,4,6]
["RGL-003 7","2013-08-28",5,"Front",5,4,6,5,5,4,6,4,4]
["RGL-003 8"]
["RGL-003 9"]
["RGL-003 10"]
["RGL-003 11"]
[null,"x",null,null,null,null,null,null,null,null,null,null,null,"x"]
["RGL-003 12","2013-05-01",8,"Back",7,8,8,6,6,4,2,4,5]
["RGL-003 13","2013-05-15",9,"Back",6,5,6,5,5,6,2,6,4]
["RGL-003 14","2013-05-29",8,"Back",5,5,6,7,4,3,4,4,5]
["RGL-003 15","2013-06-12",9,"Back",7,4,5,6,4,5,3,4,5]
["RGL-003 16","2013-06-26",8,"Back",8,5,4,5,3,7,3,6,4]
["RGL-003 17","2013-07-24",8,"Back",6,7,4,7,3,4,4,4,6]
["RGL-003 18","2013-08-07",7,"Back",5,4,5,6,5,4,3,4,6]
["RGL-003 19","2013-08-21",7,"Back",4,5,4,5,4,5,3,4,4]
["RGL-003 20"]
["RGL-003 21"]
["RGL-003 22"]
["RGL-003 23"]
[]
["RGL-004","x",null,null,null,null,null,null,null,null,null,null,null,"x",43,{"$f":"IF(Q158<>\"\",ROUND($P$71*(AVERAGE(Q158:U158)-36),0),\"\")","v":1},"2013-08-07","Calc.","Calc.","Calc.","Calc.","Calc."]
[null,"x",null,null,null,null,null,null,null,null,null,null,null,"x",null,null,43,36,36,36,36,36]
["RGL-004 1"]
["RGL-004 2"]
["RGL-004 3"]
["RGL-004 4"]
["RGL-004 5"]
["RGL-004 6"]
["RGL-004 7"]
["RGL-004 8"]
["RGL-004 9"]
["RGL-004 10"]
["RGL-004 11"]
[null,"x",null,null,null,null,null,null,null,null,null,null,null,"x"]
["RGL-004 12","2013-08-07",0,"Back",5,4,5,8,5,6,3,3,4]
["RGL-004 13"]
["RGL-004 14"]
["RGL-004 15"]
["RGL-004 16"]
["RGL-004 17"]
["RGL-004 18"]
["RGL-004 19"]
["RGL-004 20"]
["RGL-004 21"]
["RGL-004 22"]
["RGL-004 23"]
[]
["RGL-005","x",null,null,null,null,null,null,null,null,null,null,null,"x",50,{"$f":"IF(Q185<>\"\",ROUND($P$71*(AVERAGE(Q185:U185)-36),0),\"\")","v":7},"2013-08-28","2013-08-14","2013-08-07","2013-07-31","2013-07-24","2013-07-17","2013-07-03","2013-06-26","2013-06-19","2013-06-12","2013-06-05","2013-05-29","2013-05-22","2013-05-15","2013-05-01","2012-09-05","2012-08-29","2012-08-22","2012-08-15","2012-08-01","2012-07-25","2012-07-18","2012-07-11","2012-06-27","2012-06-20","2012-06-13","2012-05-30","2012-05-23","2012-05-16","2012-05-02","2012-04-25","2011-08-24","2011-08-17","2011-08-03","2011-07-27","2011-07-20"]
[null,"x",null,null,null,null,null,null,null,null,null,null,null,"x",null,null,50,48,43,44,41,52,49,46,48,46,55,50,45,45,38,51,46,44,41,45,49,45,43,45,44,38,44,48,46,43,44,49,53,44,46,43]
["RGL-005 1","2013-05-22",7,"Front",9,5,4,5,5,4,5,3,5]
["RGL-005 2","2013-06-05",8,"Front",8,6,8,8,4,4,7,4,6]
["RGL-005 3","2013-06-19",10,"Front",7,6,5,5,6,5,8,3,3]
["RGL-005 4","2013-07-03",10,"Front",9,5,6,6,6,3,5,4,5]
["RGL-005 5","2013-07-17",10,"Front",6,6,6,6,6,5,8,4,5]
["RGL-005 6","2013-07-31",9,"Front",7,5,7,5,4,3,5,4,4]
["RGL-005 7","2013-08-14",8,"Front",7,5,6,7,6,4,6,3,4]
["RGL-005 8",41514,8,"Front",10,5,7,5,5,3,5,4,6]
["RGL-005 9"]
["RGL-005 10"]
["RGL-005 11"]
[null,"x",null,null,null,null,null,null,null,null,null,null,null,"x"]
["RGL-005 12","2013-05-01",8,"Back",4,3,6,5,3,5,4,4,4]
["RGL-005 13","2013-05-15",6,"Back",8,4,5,7,4,5,4,3,5]
["RGL-005 14","2013-05-29",7,"Back",8,7,4,7,4,5,6,5,4]
["RGL-005 15","2013-06-12",8,"Back",7,5,6,5,5,5,5,4,4]
["RGL-005 16","2013-06-26",10,"Back",6,6,6,5,4,6,4,4,5]
["RGL-005 17","2013-07-24",10,"Back",5,6,4,4,4,5,3,5,5]
["RGL-005 18","2013-08-07",8,"Back",7,3,4,6,3,5,4,5,6]
["RGL-005 19"]
["RGL-005 20"]
["RGL-005 21"]
["RGL-005 22"]
["RGL-005 23"]
[]
["RGL-006","x",null,null,null,null,null,null,null,null,null,null,null,"x",41,{"$f":"IF(Q212<>\"\",ROUND($P$71*(AVERAGE(Q212:U212)-36),0),\"\")","v":6},"2013-08-21","2013-08-14","2013-08-07","2013-07-31","2013-07-24","2013-07-17","2013-07-03","2013-06-19","2013-06-12","2013-06-05","2013-05-29","2013-05-22","2012-09-05","2012-08-22","2012-08-15","2012-07-25","2012-07-18","2012-07-11","2012-06-27","2012-06-20","2012-06-13","2012-05-30","2012-05-16","2012-05-02","Calc.","Calc.","Calc.","Calc.","Calc."]
[null,"x",null,null,null,null,null,null,null,null,null,null,null,"x",null,null,41,44,43,46,45,42,46,46,41,48,44,39,41,46,40,42,39,51,46,41,45,42,42,47,47,47,47,47,47]
["RGL-006 1","2013-05-22",4,"Front",6,5,6,4,4,4,4,2,4]
["RGL-006 2","2013-06-05",5,"Front",7,5,6,5,4,5,8,3,5]
["RGL-006 3","2013-06-19",5,"Front",6,6,7,6,4,3,6,4,4]
["RGL-006 4","2013-07-03",6,"Front",9,5,7,7,4,3,4,3,4]
["RGL-006 5","2013-07-17",7,"Front",4,5,7,7,4,3,5,4,3]
["RGL-006 6","2013-07-31",6,"Front",5,5,7,4,5,4,5,4,7]
["RGL-006 7","2013-08-14",7,"Front",5,4,7,5,5,3,5,5,5]
["RGL-006 8"]
["RGL-006 9"]
["RGL-006 10"]
["RGL-006 11"]
[null,"x",null,null,null,null,null,null,null,null,null,null,null,"x"]
["RGL-006 12","2013-05-29",4,"Back",5,5,5,5,3,5,6,6,4]
["RGL-006 13","2013-06-12",6,"Back",6,6,6,5,3,4,4,4,3]
["RGL-006 14","2013-07-24",7,"Back",6,5,6,5,4,5,4,5,5]
["RGL-006 15","2013-08-07",7,"Back",5,5,5,6,5,4,4,4,5]
["RGL-006 16","2013-08-21",6,"Back",6,5,4,5,4,6,3,4,4]
["RGL-006 17"]
["RGL-006 18"]
["RGL-006 19"]
["RGL-006 20"]
["RGL-006 21"]
["RGL-006 22"]
["RGL-006 23"]
[]
["RGL-007","x",null,null,null,null,null,null,null,null,null,null,null,"x",44,{"$f":"IF(Q239<>\"\",ROUND($P$71*(AVERAGE(Q239:U239)-36),0),\"\")","v":6},"2013-08-28","2013-08-21","2013-08-14","2013-08-07","2013-07-31","2013-07-24","2013-07-17","2013-07-03","2013-06-26","2013-06-19","2013-06-12","2013-06-05","2013-05-29","2013-05-22","2013-05-15","2013-05-01","2012-09-05","2012-08-29","2012-08-22","2012-08-15","2012-08-08","2012-08-01","2012-07-25","2012-07-18","2012-06-27","2012-06-20","2012-05-30","2012-05-23","2012-05-09","2012-05-02","2012-04-25","2011-08-24","2011-08-17","2011-08-10","2011-08-03","2011-07-27"]
[null,"x",null,null,null,null,null,null,null,null,null,null,null,"x",null,null,44,43,45,44,44,40,44,48,41,50,41,45,41,46,43,52,41,39,51,42,43,42,46,41,42,51,42,46,50,49,48,46,41,50,44,52]
["RGL-007 1","2013-05-22",7,"Front",8,5,7,5,5,3,5,3,5]
["RGL-007 2","2013-06-05",7,"Front",6,5,5,6,6,4,6,4,3]
["RGL-007 3","2013-06-19",6,"Front",7,6,7,7,4,4,7,3,5]
["RGL-007 4","2013-07-03",6,"Front",8,6,6,5,5,5,4,4,5]
["RGL-007 5","2013-07-17",7,"Front",8,5,6,4,4,3,5,3,6]
["RGL-007 6","2013-07-31",7,"Front",6,5,6,6,4,5,5,4,3]
["RGL-007 7","2013-08-14",6,"Front",8,4,7,5,5,4,4,3,5]
["RGL-007 8","2013-08-28",6,"Front",7,4,7,6,5,3,5,3,4]
["RGL-007 9"]
["RGL-007 10"]
["RGL-007 11"]
[null,"x",null,null,null,null,null,null,null,null,null,null,null,"x"]
["RGL-007 12","2013-05-01",6,"Back",5,6,5,8,5,6,4,8,5]
["RGL-007 13","2013-05-15",7,"Back",5,5,5,7,3,5,3,5,5]
["RGL-007 14","2013-05-29",7,"Back",4,5,5,7,4,4,4,2,6]
["RGL-007 15","2013-06-12",8,"Back",6,4,5,4,5,7,4,3,3]
["RGL-007 16","2013-06-26",7,"Back",6,4,5,6,4,5,2,4,5]
["RGL-007 17","2013-07-24",7,"Back",4,4,6,6,3,5,3,5,4]
["RGL-007 18","2013-08-07",6,"Back",5,6,5,6,4,4,5,4,5]
["RGL-007 19","2013-08-21",6,"Back",6,5,5,8,4,4,4,3,4]
["RGL-007 20"]
["RGL-007 21"]
["RGL-007 22"]
["RGL-007 23"]
[]
["RGL-008","x",null,null,null,null,null,null,null,null,null,null,null,"x",43,{"$f":"IF(Q266<>\"\",ROUND($P$71*(AVERAGE(Q266:U266)-36),0),\"\")","v":4},"2013-08-28","2013-08-21","2013-08-14","2013-08-07","2013-07-31","2013-07-24","2013-07-17","2013-07-03","2013-06-26","2013-06-19","2013-06-12","2013-06-05","2013-05-29","2013-05-22","2013-05-15","2013-05-01","2012-09-05","2012-08-29","2012-08-22","2012-08-15","2012-08-08","2012-08-01","2012-07-25","2012-07-18","2012-06-27","2012-06-13","2012-05-23","2012-05-16","2012-05-09","2012-05-02","2012-04-25","2011-08-24","2011-08-17","2011-08-10","2011-08-03","2011-07-27"]
[null,"x",null,null,null,null,null,null,null,null,null,null,null,"x",null,null,43,41,47,36,40,41,46,45,42,47,39,42,42,41,38,40,41,37,42,37,38,39,45,41,44,37,45,45,42,39,43,38,44,44,44,40]
["RGL-008 1","2013-05-22",3,"Front",5,6,6,4,5,3,5,3,4]
["RGL-008 2","2013-06-05",4,"Front",6,5,6,4,4,4,5,4,4]
["RGL-008 3","2013-06-19",4,"Front",7,6,6,6,4,3,5,5,5]
["RGL-008 4","2013-07-03",5,"Front",6,5,6,4,6,4,5,3,6]
["RGL-008 5","2013-07-17",6,"Front",7,5,5,6,5,4,5,4,5]
["RGL-008 6","2013-07-31",7,"Front",5,4,5,5,4,4,5,3,5]
["RGL-008 7","2013-08-14",4,"Front",5,6,7,5,5,4,7,5,3]
["RGL-008 8",41514,4,"Front",5,4,6,5,5,4,6,3,5]
["RGL-008 9"]
["RGL-008 10"]
["RGL-008 11"]
[null,"x",null,null,null,null,null,null,null,null,null,null,null,"x"]
["RGL-008 12","2013-05-01",2,"Back",5,5,5,5,3,4,4,5,4]
["RGL-008 13","2013-05-15",3,"Back",5,4,5,5,3,4,4,4,4]
["RGL-008 14","2013-05-29",3,"Back",7,4,4,6,6,4,3,4,4]
["RGL-008 15","2013-06-12",4,"Back",5,4,5,5,4,4,3,4,5]
["RGL-008 16","2013-06-26",5,"Back",4,5,5,5,5,4,4,4,6]
["RGL-008 17","2013-07-24",6,"Back",7,5,5,5,3,4,3,5,4]
["RGL-008 18","2013-08-07",5,"Back",4,4,4,6,4,4,2,4,4]
["RGL-008 19","2013-08-21",5,"Back",6,5,5,5,3,4,4,5,4]
["RGL-008 20"]
["RGL-008 21"]
["RGL-008 22"]
["RGL-008 23"]
[]
["RGL-009","x",null,null,null,null,null,null,null,null,null,null,null,"x",47,{"$f":"IF(Q293<>\"\",ROUND($P$71*(AVERAGE(Q293:U293)-36),0),\"\")","v":5},"2013-08-28","2013-08-21","2013-08-14","2013-08-07","2013-07-31","2013-07-24","2013-07-17","2013-07-03","2013-06-26","2013-06-12","2013-06-05","2013-05-29","2013-05-22","2013-05-15","2013-05-01","2012-09-05","2012-08-29","2012-08-15","2012-08-08","2012-08-01","2012-07-25","2012-07-18","2012-07-11","2012-06-27","2012-06-20","2012-06-13","2012-05-30","2012-05-23","2012-05-16","2012-05-09","2012-05-02","2012-04-25","2011-08-24","2011-08-17","2011-08-10","2011-08-03","2011-07-27"]
[null,"x",null,null,null,null,null,null,null,null,null,null,null,"x",null,null,47,37,45,41,39,47,42,48,44,44,44,44,40,41,43,43,47,39,38,40,42,40,48,38,39,46,39,44,41,47,38,49,46,44,48,42,46]
["RGL-009 1","2013-05-22",5,"Front",4,4,5,5,5,3,7,3,4]
["RGL-009 2","2013-06-05",5,"Front",8,4,5,4,4,2,6,5,6]
["RGL-009 3","2013-07-03",6,"Front",5,3,8,5,6,4,8,4,5]
["RGL-009 4","2013-07-17",7,"Front",5,4,6,4,5,5,5,3,5]
["RGL-009 5","2013-07-31",7,"Front",5,5,5,4,3,4,4,4,5]
["RGL-009 6","2013-08-14",6,"Front",5,6,6,4,5,4,7,4,4]
["RGL-009 7","2013-08-28",5,"Front",7,6,8,5,4,4,6,4,3]
["RGL-009 8"]
["RGL-009 9"]
["RGL-009 10"]
["RGL-009 11"]
[null,"x",null,null,null,null,null,null,null,null,null,null,null,"x"]
["RGL-009 12","2013-05-01",4,"Back",6,7,4,5,6,3,4,4,4]
["RGL-009 13","2013-05-15",5,"Back",6,4,4,5,4,5,5,4,4]
["RGL-009 14","2013-05-29",5,"Back",6,4,5,6,3,6,5,4,5]
["RGL-009 15","2013-06-12",5,"Back",7,5,4,8,3,4,4,4,5]
["RGL-009 16","2013-06-26",5,"Back",6,5,4,7,4,5,3,5,5]
["RGL-009 17","2013-07-24",7,"Back",8,5,4,6,5,6,5,4,4]
["RGL-009 18","2013-08-07",6,"Back",5,6,4,7,3,4,4,4,4]
["RGL-009 19","2013-08-21",5,"Back",4,4,3,5,4,3,3,6,5]
["RGL-009 20"]
["RGL-009 21"]
["RGL-009 22"]
["RGL-009 23"]
[]
["RGL-010","x",null,null,null,null,null,null,null,null,null,null,null,"x",62,{"$f":"IF(Q320<>\"\",ROUND($P$71*(AVERAGE(Q320:U320)-36),0),\"\")","v":17},"2013-08-28","2013-08-21","2013-08-14","2013-08-07","2013-07-31","2013-07-24","2013-07-17","2013-06-19","2013-06-12","2013-06-05","2013-05-29","2013-05-22","2013-05-15","2013-05-01","2011-08-24","2011-08-17","2011-08-10","2011-08-03","2011-07-27"]
[null,"x",null,null,null,null,null,null,null,null,null,null,null,"x",null,null,62,55,58,56,58,49,52,58,53,54,54,58,53,51,46,58,51,53,54]
["RGL-010 1","2013-05-22",13,"Front",10,5,6,6,5,5,8,6,7]
["RGL-010 2","2013-06-05",13,"Front",6,4,7,7,6,5,6,6,7]
["RGL-010 3","2013-06-19",15,"Front",7,5,6,7,6,6,8,5,8]
["RGL-010 4","2013-07-17",16,"Front",6,5,8,6,4,4,8,6,5]
["RGL-010 5","2013-07-31",14,"Front",8,5,9,6,6,4,8,6,6]
["RGL-010 6","2013-08-14",15,"Front",7,6,10,8,6,5,5,6,5]
["RGL-010 7","2013-08-28",15,"Front",10,8,10,5,6,6,7,3,7]
["RGL-010 8"]
["RGL-010 9"]
["RGL-010 10"]
["RGL-010 11"]
[null,"x",null,null,null,null,null,null,null,null,null,null,null,"x"]
["RGL-010 12","2013-05-01",13,"Back",6,6,5,6,4,5,4,8,7]
["RGL-010 13","2013-05-15",13,"Back",6,8,8,6,4,7,6,3,5]
["RGL-010 14","2013-05-29",14,"Back",8,7,6,7,5,5,5,5,6]
["RGL-010 15","2013-06-12",14,"Back",6,7,6,6,5,4,4,8,7]
["RGL-010 16","2013-07-24",15,"Back",6,6,6,7,6,5,3,5,5]
["RGL-010 17","2013-08-07",14,"Back",8,6,8,6,5,7,6,4,6]
["RGL-010 18","2013-08-21",15,"Back",8,5,5,8,6,6,6,6,5]
["RGL-010 19"]
["RGL-010 20"]
["RGL-010 21"]
["RGL-010 22"]
["RGL-010 23"]
[]
["RGL-011","x",null,null,null,null,null,null,null,null,null,null,null,"x",43,{"$f":"IF(Q347<>\"\",ROUND($P$71*(AVERAGE(Q347:U347)-36),0),\"\")","v":2},"2013-07-24","2011-07-13","2010-08-04","Calc.","Calc.","Calc."]
[null,"x",null,null,null,null,null,null,null,null,null,null,null,"x",null,null,43,41,34,36,36,36]
["RGL-011 1"]
["RGL-011 2"]
["RGL-011 3"]
["RGL-011 4"]
["RGL-011 5"]
["RGL-011 6"]
["RGL-011 7"]
["RGL-011 8"]
["RGL-011 9"]
["RGL-011 10"]
["RGL-011 11"]
[null,"x",null,null,null,null,null,null,null,null,null,null,null,"x"]
["RGL-011 12","2013-07-24",0,"Back",7,4,5,6,4,4,3,5,5]
["RGL-011 13"]
["RGL-011 14"]
["RGL-011 15"]
["RGL-011 16"]
["RGL-011 17"]
["RGL-011 18"]
["RGL-011 19"]
["RGL-011 20"]
["RGL-011 21"]
["RGL-011 22"]
["RGL-011 23"]
[]
["RGL-012","x",null,null,null,null,null,null,null,null,null,null,null,"x",61,{"$f":"IF(Q374<>\"\",ROUND($P$71*(AVERAGE(Q374:U374)-36),0),\"\")","v":15},"2013-08-28","2013-08-21","2013-08-14","2013-08-07","2013-07-31","2013-07-24","2013-07-17","2013-07-03","2013-06-26","2013-06-19","2013-06-12","2013-06-05","2013-05-29","2013-05-22","2013-05-01","2012-09-05","2012-08-29","2012-08-22","2012-08-08","2012-08-01","2012-07-25","2012-07-18","2012-07-11","2012-06-13","2012-05-30","2012-05-23","2012-05-16","2012-05-09","2012-05-02","2012-04-25","2011-08-24","2011-08-17","2011-08-10","2011-08-03","2011-07-27"]
[null,"x",null,null,null,null,null,null,null,null,null,null,null,"x",null,null,61,57,50,53,55,50,57,54,45,66,51,53,54,53,53,61,50,55,56,48,52,43,57,58,47,57,59,51,50,50,56,58,57,51,52]
["RGL-012 1","2013-05-22",15,"Front",10,5,7,6,5,5,8,3,4]
["RGL-012 2","2013-06-05",15,"Front",6,6,8,8,5,5,8,3,4]
["RGL-012 3","2013-06-19",13,"Front",10,8,10,8,5,4,7,6,8]
["RGL-012 4","2013-07-03",14,"Front",7,6,10,5,4,4,8,4,6]
["RGL-012 5","2013-07-17",14,"Front",9,7,9,8,5,4,8,4,3]
["RGL-012 6","2013-07-31",15,"Front",7,5,6,8,4,6,8,6,5]
["RGL-012 7","2013-08-14",14,"Front",6,8,7,4,6,4,5,3,7]
["RGL-012 8","2013-08-28",14,"Front",10,8,10,7,7,5,6,4,4]
["RGL-012 9"]
["RGL-012 10"]
["RGL-012 11"]
[null,"x",null,null,null,null,null,null,null,null,null,null,null,"x"]
["RGL-012 12","2013-05-01",14,"Back",7,4,7,6,4,8,6,6,5]
["RGL-012 13","2013-05-29",15,"Back",7,7,5,9,3,6,6,4,7]
["RGL-012 14","2013-06-12",15,"Back",6,4,6,7,4,8,3,7,6]
["RGL-012 15","2013-06-26",16,"Back",7,6,5,7,3,4,3,5,5]
["RGL-012 16","2013-07-24",15,"Back",8,4,8,5,3,7,3,7,5]
["RGL-012 17","2013-08-07",13,"Back",9,6,4,7,4,5,5,6,7]
["RGL-012 18","2013-08-21",14,"Back",7,6,8,8,5,6,4,7,6]
["RGL-012 19"]
["RGL-012 20"]
["RGL-012 21"]
["RGL-012 22"]
["RGL-012 23"]
[]
["RGL-013","x",null,null,null,null,null,null,null,null,null,null,null,"x",44,{"$f":"IF(Q401<>\"\",ROUND($P$71*(AVERAGE(Q401:U401)-36),0),\"\")","v":7},"2012-07-25","2012-07-11","2010-08-25","2010-08-18","2010-08-11","2010-07-28","2010-07-21"]
[null,"x",null,null,null,null,null,null,null,null,null,null,null,"x",null,null,44,44,49,43,45,44,51]
["RGL-013 1"]
["RGL-013 2"]
["RGL-013 3"]
["RGL-013 4"]
["RGL-013 5"]
["RGL-013 6"]
["RGL-013 7"]
["RGL-013 8"]
["RGL-013 9"]
["RGL-013 10"]
["RGL-013 11"]
[null,"x",null,null,null,null,null,null,null,null,null,null,null,"x"]
["RGL-013 12"]
["RGL-013 13"]
["RGL-013 14"]
["RGL-013 15"]
["RGL-013 16"]
["RGL-013 17"]
["RGL-013 18"]
["RGL-013 19"]
["RGL-013 20"]
["RGL-013 21"]
["RGL-013 22"]
["RGL-013 23"]
[]
["RGL-014","x",null,null,null,null,null,null,null,null,null,null,null,"x",44,{"$f":"IF(Q428<>\"\",ROUND($P$71*(AVERAGE(Q428:U428)-36),0),\"\")","v":10},"2013-08-28","2013-08-21","2013-08-07","2013-07-31","2013-07-24","2013-07-17","2013-07-03","2013-06-26","2013-06-19","2013-06-12","2013-05-29","2013-05-22","2013-05-15","2013-05-01","2012-09-05","2012-08-29","2012-08-22","2012-08-15","2012-08-08","2012-08-01","2012-07-25","2012-07-18","2012-07-11","2012-06-27","2012-06-20","2012-06-13","2012-05-30","2012-05-23","2012-05-16","2012-05-09","2012-05-02","2012-04-25","2011-08-24","2011-08-17","2011-08-10","2011-08-03","2011-07-27"]
[null,"x",null,null,null,null,null,null,null,null,null,null,null,"x",null,null,44,47,52,53,46,43,47,47,54,46,48,46,46,60,46,48,50,51,44,52,45,48,50,43,53,57,43,49,48,54,46,44,45,47,51,48,46]
["RGL-014 1","2013-05-22",11,"Front",5,4,6,6,3,6,8,4,4]
["RGL-014 2",41444,11,"Front",8,5,8,7,6,3,6,6,5]
["RGL-014 3","2013-07-03",10,"Front",5,6,6,4,6,5,6,4,5]
["RGL-014 4","2013-07-17",10,"Front",6,5,5,5,5,4,5,3,5]
["RGL-014 5","2013-07-31",9,"Front",8,8,9,4,4,3,8,4,5]
["RGL-014 6","2013-08-28",10,"Front",5,5,9,4,5,4,5,4,3]
["RGL-014 7"]
["RGL-014 8"]
["RGL-014 9"]
["RGL-014 10"]
["RGL-014 11"]
[null,"x",null,null,null,null,null,null,null,null,null,null,null,"x"]
["RGL-014 12","2013-05-01",9,"Back",9,7,8,9,6,6,4,5,6]
["RGL-014 13","2013-05-15",12,"Back",6,4,4,7,5,6,4,5,5]
["RGL-014 14","2013-05-29",11,"Back",6,5,7,5,4,6,5,4,6]
["RGL-014 15","2013-06-12",11,"Back",6,6,4,5,4,6,4,6,5]
["RGL-014 16","2013-06-26",10,"Back",4,6,4,9,3,6,4,7,4]
["RGL-014 17","2013-07-24",9,"Back",6,6,4,6,4,5,5,4,6]
["RGL-014 18","2013-08-07",9,"Back",9,5,6,10,3,4,3,6,6]
["RGL-014 19","2013-08-21",10,"Back",5,4,4,8,3,6,4,6,7]
["RGL-014 20"]
["RGL-014 21"]
["RGL-014 22"]
["RGL-014 23"]
[]
["RGL-015","x",null,null,null,null,null,null,null,null,null,null,null,"x",68,{"$f":"IF(Q455<>\"\",ROUND($P$71*(AVERAGE(Q455:U455)-36),0),\"\")","v":23},"2013-08-28","2013-08-21","2013-08-14","2013-08-07","2013-07-31","2013-07-24","2013-07-17","2013-07-03","2013-06-26","2013-06-19","2013-06-12","2013-06-05","2013-05-29","2013-05-22","2013-05-15","2013-05-01","2012-09-05","2012-08-29","2012-08-22","2012-08-15","2012-08-01","2012-07-25","2012-07-18","2012-07-11","2012-06-27","2012-06-20","2012-06-13","2012-05-30","Calc.","Calc.","Calc.","Calc.","Calc."]
[null,"x",null,null,null,null,null,null,null,null,null,null,null,"x",null,null,68,65,68,59,66,62,61,71,68,62,56,60,61,56,62,57,60,59,63,59,61,59,59,60,61,59,67,63,54,54,54,54,54]
["RGL-015 1","2013-05-22",19,"Front",10,6,9,6,8,4,5,3,5]
["RGL-015 2","2013-06-05",19,"Front",10,5,10,6,6,4,8,4,7]
["RGL-015 3","2013-06-19",18,"Front",8,5,10,8,7,6,8,3,7]
["RGL-015 4","2013-07-03",20,"Front",10,8,10,8,7,6,8,6,8]
["RGL-015 5","2013-07-17",22,"Front",10,6,10,6,6,4,8,4,7]
["RGL-015 6","2013-07-31",23,"Front",10,7,9,8,7,5,8,5,7]
["RGL-015 7","2013-08-14",22,"Front",10,8,10,8,6,6,8,4,8]
["RGL-015 8","2013-08-28",22,"Front",10,5,9,8,8,6,8,6,8]
["RGL-015 9"]
["RGL-015 10"]
["RGL-015 11"]
[null,"x",null,null,null,null,null,null,null,null,null,null,null,"x"]
["RGL-015 12","2013-05-01",20,"Back",8,5,6,7,6,7,6,4,8]
["RGL-015 13","2013-05-15",19,"Back",10,8,7,10,3,7,6,5,6]
["RGL-015 14","2013-05-29",18,"Back",8,6,7,7,6,7,4,8,8]
["RGL-015 15","2013-06-12",19,"Back",8,8,5,6,6,5,6,8,4]
["RGL-015 16","2013-06-26",18,"Back",8,8,8,8,6,8,6,8,8]
["RGL-015 17","2013-07-24",22,"Back",6,7,8,10,5,7,6,7,6]
["RGL-015 18","2013-08-07",24,"Back",9,7,8,8,4,5,6,6,6]
["RGL-015 19","2013-08-21",22,"Back",8,8,7,10,6,5,6,7,8]
["RGL-015 20"]
["RGL-015 21"]
["RGL-015 22"]
["RGL-015 23"]
[]
["RGL-016","x",null,null,null,null,null,null,null,null,null,null,null,"x",45,{"$f":"IF(Q482<>\"\",ROUND($P$71*(AVERAGE(Q482:U482)-36),0),\"\")","v":8},"2013-08-28","2013-08-21","2013-08-14","2013-08-07","2013-07-31","2013-07-24","2013-07-17","2013-07-03","2013-06-26","2013-05-22","2013-05-15","2013-05-01","2012-09-05","2012-08-15","2012-08-08","2012-08-01","2012-07-25","2012-07-18","2012-07-11","2012-06-27","2012-06-20","2012-06-13","2012-05-30","2012-05-23","2012-05-16","2012-05-09","2012-05-02","2012-04-25","2011-08-24","2011-08-17","2011-08-10","2011-08-03","2011-07-27"]
[null,"x",null,null,null,null,null,null,null,null,null,null,null,"x",null,null,45,41,47,45,49,50,53,47,44,50,45,41,45,47,51,49,51,48,55,40,53,42,44,49,53,51,53,47,49,47,52,51,46]
["RGL-016 1","2013-05-22",8,"Front",10,5,6,4,5,5,8,3,4]
["RGL-016 2","2013-07-03",7,"Front",6,4,7,7,5,3,5,3,7]
["RGL-016 3","2013-07-17",8,"Front",9,7,7,5,5,4,7,5,4]
["RGL-016 4","2013-07-31",10,"Front",7,5,6,6,6,4,7,3,5]
["RGL-016 5","2013-08-14",10,"Front",7,5,7,5,4,5,7,3,4]
["RGL-016 6","2013-08-28",8,"Front",6,5,7,4,4,4,7,4,4]
["RGL-016 7"]
["RGL-016 8"]
["RGL-016 9"]
["RGL-016 10"]
["RGL-016 11"]
[null,"x",null,null,null,null,null,null,null,null,null,null,null,"x"]
["RGL-016 12","2013-05-01",10,"Back",5,4,4,9,4,3,4,4,4]
["RGL-016 13","2013-05-15",8,"Back",5,4,4,5,4,6,5,5,7]
["RGL-016 14","2013-06-26",8,"Back",7,6,4,5,4,6,3,4,5]
["RGL-016 15","2013-07-24",9,"Back",8,6,5,6,4,5,6,5,5]
["RGL-016 16","2013-08-07",10,"Back",6,4,5,5,4,6,3,5,7]
["RGL-016 17","2013-08-21",10,"Back",4,5,5,4,6,3,3,6,5]
["RGL-016 18"]
["RGL-016 19"]
["RGL-016 20"]
["RGL-016 21"]
["RGL-016 22"]
["RGL-016 23"]
[]
["RGL-017","x",null,null,null,null,null,null,null,null,null,null,null,"x",58,{"$f":"IF(Q509<>\"\",ROUND($P$71*(AVERAGE(Q509:U509)-36),0),\"\")","v":15},"2013-06-19","2012-09-05","2012-08-22","2012-08-15","2012-08-08","2012-06-27","2012-05-30","2012-05-23","2012-05-16","2012-05-09","2012-05-02","2012-04-25","2011-08-24","2011-08-17","2011-08-10","2011-07-27","2011-07-20"]
[null,"x",null,null,null,null,null,null,null,null,null,null,null,"x",null,null,58,52,61,51,53,54,58,57,53,65,60,56,57,56,61,59,52]
["RGL-017 1","2013-06-19",15,"Front",9,8,10,6,6,3,8,3,5]
["RGL-017 2"]
["RGL-017 3"]
["RGL-017 4"]
["RGL-017 5"]
["RGL-017 6"]
["RGL-017 7"]
["RGL-017 8"]
["RGL-017 9"]
["RGL-017 10"]
["RGL-017 11"]
[null,"x",null,null,null,null,null,null,null,null,null,null,null,"x"]
["RGL-017 12"]
["RGL-017 13"]
["RGL-017 14"]
["RGL-017 15"]
["RGL-017 16"]
["RGL-017 17"]
["RGL-017 18"]
["RGL-017 19"]
["RGL-017 20"]
["RGL-017 21"]
["RGL-017 22"]
["RGL-017 23"]
[]
["RGL-018","x",null,null,null,null,null,null,null,null,null,null,null,"x",40,{"$f":"IF(Q536<>\"\",ROUND($P$71*(AVERAGE(Q536:U536)-36),0),\"\")","v":4},"2013-08-28","2013-08-21","2013-08-14","2013-07-31","2013-07-24","2013-07-17","2013-06-26","2013-06-19","2013-06-12","2013-06-05","2013-05-29","2013-05-22","2013-05-15","2012-09-05","2012-08-29","2012-08-22","2012-08-15","2012-08-08","2012-08-01","2012-07-25","2012-07-11","2012-06-27","2012-06-20","2012-06-13","2012-05-30","2012-05-23","2012-05-16","2012-05-09","2012-05-02","2012-04-25","2011-08-24","2011-08-17","2011-08-10","2011-07-27","2011-07-20"]
[null,"x",null,null,null,null,null,null,null,null,null,null,null,"x",null,null,40,40,46,39,39,42,38,46,42,41,38,40,40,42,38,41,39,41,43,39,44,36,40,39,40,45,41,40,42,43,45,43,45,41,34]
["RGL-018 1","2013-05-22",3,"Front",5,4,8,5,4,4,4,2,4]
["RGL-018 2","2013-06-05",3,"Front",5,5,6,5,5,3,5,3,4]
["RGL-018 3","2013-06-19",3,"Front",7,4,6,7,4,4,5,5,4]
["RGL-018 4","2013-07-17",4,"Front",6,6,6,4,4,4,5,3,4]
["RGL-018 5","2013-07-31",4,"Front",4,5,6,4,3,4,4,5,4]
["RGL-018 6","2013-08-14",4,"Front",6,5,6,5,5,5,5,4,5]
["RGL-018 7","2013-08-28",4,"Front",5,5,6,4,4,4,4,4,4]
["RGL-018 8"]
["RGL-018 9"]
["RGL-018 10"]
["RGL-018 11"]
[null,"x",null,null,null,null,null,null,null,null,null,null,null,"x"]
["RGL-018 12","2013-05-15",3,"Back",4,5,5,5,3,5,3,5,5]
["RGL-018 13","2013-05-29",3,"Back",4,5,5,5,3,5,3,4,4]
["RGL-018 14","2013-06-12",3,"Back",7,5,4,4,4,6,3,4,5]
["RGL-018 15","2013-06-26",4,"Back",6,3,5,5,3,4,4,4,4]
["RGL-018 16",41479,5,"Back",5,6,4,5,3,5,3,4,4]
["RGL-018 17","2013-08-21",4,"Back",7,5,4,5,3,4,4,4,4]
["RGL-018 18"]
["RGL-018 19"]
["RGL-018 20"]
["RGL-018 21"]
["RGL-018 22"]
["RGL-018 23"]
[]
["RGL-019","x",null,null,null,null,null,null,null,null,null,null,null,"x",43,{"$f":"IF(Q563<>\"\",ROUND($P$71*(AVERAGE(Q563:U563)-36),0),\"\")","v":6},"2013-08-28","2013-08-21","2013-08-14","2013-08-07","2013-07-31","2013-07-24","2013-07-17","2013-07-03","2013-06-26","2013-06-19","2013-06-05","2013-05-29","2013-05-22","2013-05-01","2012-09-05","2012-07-25","2012-07-18","2012-07-11","2012-06-13","2012-05-30","2012-05-23","2012-05-16","2012-05-09","2012-05-02","2012-04-25","2011-08-24","2011-08-17","2011-08-10","2011-08-03","2011-07-27"]
[null,"x",null,null,null,null,null,null,null,null,null,null,null,"x",null,null,43,45,45,40,47,48,45,49,48,53,50,41,46,49,50,45,44,47,41,44,44,43,46,43,47,45,43,46,38,44]
["RGL-019 1","2013-05-22",9,"Front",6,6,7,5,5,4,5,4,4]
["RGL-019 2","2013-06-05",8,"Front",7,6,7,5,5,3,8,4,5]
["RGL-019 3","2013-06-19",9,"Front",6,6,6,8,4,4,6,5,8]
["RGL-019 4","2013-07-03",9,"Front",6,7,6,5,6,3,7,4,5]
["RGL-019 5","2013-07-17",10,"Front",8,6,5,4,5,4,6,3,4]
["RGL-019 6","2013-07-31",10,"Front",7,5,6,6,6,4,4,4,5]
["RGL-019 7","2013-08-14",8,"Front",8,7,5,4,5,4,4,5,3]
["RGL-019 8","2013-08-28",7,"Front",8,4,6,4,3,4,4,4,6]
["RGL-019 9"]
["RGL-019 10"]
["RGL-019 11"]
[null,"x",null,null,null,null,null,null,null,null,null,null,null,"x"]
["RGL-019 12","2013-05-01",8,"Back",7,7,4,7,4,5,6,3,6]
["RGL-019 13","2013-05-29",9,"Back",6,5,5,4,4,5,4,5,3]
["RGL-019 14","2013-06-26",9,"Back",6,5,4,6,3,6,6,5,7]
["RGL-019 15","2013-07-24",10,"Back",6,5,5,7,6,4,4,6,5]
["RGL-019 16","2013-08-07",9,"Back",4,5,4,8,4,4,4,4,3]
["RGL-019 17","2013-08-21",7,"Back",6,5,5,6,4,5,5,4,5]
["RGL-019 18"]
["RGL-019 19"]
["RGL-019 20"]
["RGL-019 21"]
["RGL-019 22"]
["RGL-019 23"]
[]
["RGL-020","x",null,null,null,null,null,null,null,null,null,null,null,"x",46,{"$f":"IF(Q590<>\"\",ROUND($P$71*(AVERAGE(Q590:U590)-36),0),\"\")","v":9},"2012-08-01","2012-07-25","2012-07-18","2012-07-11","2012-06-27","2012-06-20","2012-06-13","2012-05-30","2012-05-23","2012-05-16","2012-05-09","2012-05-02","2012-04-25","2011-08-24","2011-08-17","2011-08-10","2011-07-27","2011-07-20"]
[null,"x",null,null,null,null,null,null,null,null,null,null,null,"x",null,null,46,56,45,48,41,51,47,45,46,44,45,42,53,49,43,60,54,45]
["RGL-020 1"]
["RGL-020 2"]
["RGL-020 3"]
["RGL-020 4"]
["RGL-020 5"]
["RGL-020 6"]
["RGL-020 7"]
["RGL-020 8"]
["RGL-020 9"]
["RGL-020 10"]
["RGL-020 11"]
[null,"x",null,null,null,null,null,null,null,null,null,null,null,"x"]
["RGL-020 12"]
["RGL-020 13"]
["RGL-020 14"]
["RGL-020 15"]
["RGL-020 16"]
["RGL-020 17"]
["RGL-020 18"]
["RGL-020 19"]
["RGL-020 20"]
["RGL-020 21"]
["RGL-020 22"]
["RGL-020 23"]
[]
["RGL-021","x",null,null,null,null,null,null,null,null,null,null,null,"x",53,{"$f":"IF(Q617<>\"\",ROUND($P$71*(AVERAGE(Q617:U617)-36),0),\"\")","v":14},"2013-08-28","2013-08-21","2013-08-14","2013-08-07","2013-07-31","2013-06-26","2013-06-19","2013-06-12","2013-06-05","2013-05-29","2013-05-22","2013-05-15","2013-05-01","2012-09-05","2012-08-29","2012-08-22","2012-08-08","2012-08-01","2012-07-25","2012-07-18","2012-07-11","2012-06-27","2012-06-20","2012-06-13","2012-05-30","2012-05-23","2012-05-16","2012-05-09","2012-04-25","2011-08-24","2011-08-17","2011-08-10","2011-08-03","2011-07-20"]
[null,"x",null,null,null,null,null,null,null,null,null,null,null,"x",null,null,53,50,58,52,54,52,54,56,56,54,58,47,46,53,51,56,52,49,58,54,56,45,58,55,60,56,55,58,61,59,54,61,53,54]
["RGL-021 1","2013-05-22",12,"Front",10,6,8,6,6,6,7,5,4]
["RGL-021 2","2013-06-05",12,"Front",7,6,8,8,6,5,7,4,5]
["RGL-021 3","2013-06-19",15,"Front",8,8,7,5,6,4,6,4,6]
["RGL-021 4","2013-07-31",15,"Front",8,6,8,6,5,5,7,4,5]
["RGL-021 5","2013-08-14",14,"Front",9,7,7,5,6,4,8,5,7]
["RGL-021 6","2013-08-28",14,"Front",7,5,5,8,5,4,8,5,6]
["RGL-021 7"]
["RGL-021 8"]
["RGL-021 9"]
["RGL-021 10"]
["RGL-021 11"]
[null,"x",null,null,null,null,null,null,null,null,null,null,null,"x"]
["RGL-021 12","2013-05-01",13,"Back",5,6,6,5,5,5,5,4,5]
["RGL-021 13","2013-05-15",12,"Back",6,6,4,6,4,5,6,5,5]
["RGL-021 14","2013-05-29",12,"Back",6,6,7,7,5,6,5,6,6]
["RGL-021 15","2013-06-12",13,"Back",8,7,6,7,5,7,5,5,6]
["RGL-021 16","2013-06-26",16,"Back",5,8,5,5,5,8,6,4,6]
["RGL-021 17","2013-08-07",15,"Back",8,7,5,6,6,6,4,4,6]
["RGL-021 18","2013-08-21",14,"Back",6,6,5,7,5,6,5,6,4]
["RGL-021 19"]
["RGL-021 20"]
["RGL-021 21"]
["RGL-021 22"]
["RGL-021 23"]
[]
["RGL-022","x",null,null,null,null,null,null,null,null,null,null,null,"x",44,{"$f":"IF(Q644<>\"\",ROUND($P$71*(AVERAGE(Q644:U644)-36),0),\"\")","v":7},"2013-08-28","2013-08-21","2013-08-14","2013-08-07","2013-07-31","2013-07-24","2013-07-17","2013-07-03","2013-06-26","2013-06-19","2013-06-12","2013-06-05","2013-05-29","2013-05-22","2013-05-15","2013-05-01","2012-09-05","2012-08-29","2012-08-22","2012-05-30","2012-05-23","2012-05-16","2012-05-09","2012-05-02","2012-04-25","2011-08-24","2011-08-17","2011-08-10","2011-08-03","2011-07-27"]
[null,"x",null,null,null,null,null,null,null,null,null,null,null,"x",null,null,44,42,41,44,51,42,42,46,44,45,44,43,40,44,49,42,43,41,40,42,48,41,43,41,39,43,42,45,43,50]
["RGL-022 1","2013-05-22",6,"Front",6,5,6,5,5,3,6,3,5]
["RGL-022 2","2013-06-05",6,"Front",5,5,7,5,5,4,5,4,3]
["RGL-022 3","2013-06-19",6,"Front",6,7,7,4,5,3,6,2,5]
["RGL-022 4","2013-07-03",6,"Front",6,4,7,5,6,4,7,3,4]
["RGL-022 5","2013-07-17",7,"Front",5,3,5,5,5,4,6,4,5]
["RGL-022 6","2013-07-31",6,"Front",8,6,8,5,4,4,8,4,4]
["RGL-022 7","2013-08-14",7,"Front",6,4,7,4,3,5,5,3,4]
["RGL-022 8","2013-08-28",6,"Front",7,5,7,5,4,4,6,4,2]
["RGL-022 9"]
["RGL-022 10"]
["RGL-022 11"]
[null,"x",null,null,null,null,null,null,null,null,null,null,null,"x"]
["RGL-022 12","2013-05-01",5,"Back",4,5,4,6,4,4,5,4,6]
["RGL-022 13","2013-05-15",4,"Back",10,3,5,6,3,6,5,6,5]
["RGL-022 14","2013-05-29",6,"Back",6,4,4,6,4,5,3,4,4]
["RGL-022 15","2013-06-12",6,"Back",7,4,6,6,5,4,5,3,4]
["RGL-022 16","2013-06-26",6,"Back",4,5,5,6,4,6,4,5,5]
["RGL-022 17","2013-07-24",7,"Back",5,7,3,7,4,3,4,4,5]
["RGL-022 18","2013-08-07",7,"Back",6,6,5,6,3,4,6,4,4]
["RGL-022 19","2013-08-21",6,"Back",5,4,6,7,5,4,3,3,5]
["RGL-022 20"]
["RGL-022 21"]
["RGL-022 22"]
["RGL-022 23"]
[]
["RGL-023","x",null,null,null,null,null,null,null,null,null,null,null,"x",54,{"$f":"IF(Q671<>\"\",ROUND($P$71*(AVERAGE(Q671:U671)-36),0),\"\")","v":12},"2013-08-28","2013-08-14","2013-08-07","2013-07-31","2013-07-24","2013-07-17","2013-07-03","2013-06-26","2013-06-19","2013-06-12","2013-06-05","2013-05-29","2013-05-22","2013-05-01","2012-09-05","2012-08-29","2012-08-22","2012-08-15","2012-08-08","2012-08-01","2012-07-25","2012-07-18","2012-07-11","2012-06-27","2012-06-20","2012-06-13","2012-05-30","2012-05-23","2012-05-16","2012-05-09","2012-05-02","2012-04-25","2011-08-24","2011-08-17","2011-08-10","2011-08-03","2011-07-27"]
[null,"x",null,null,null,null,null,null,null,null,null,null,null,"x",null,null,54,53,52,53,46,53,58,45,55,56,60,49,51,55,49,52,54,45,57,46,50,52,58,46,57,54,48,56,50,55,52,56,53,47,51,50,48]
["RGL-023 1","2013-05-22",12,"Front",9,5,8,5,6,4,5,4,5]
["RGL-023 2","2013-06-05",12,"Front",9,5,10,8,4,5,8,6,5]
["RGL-023 3","2013-06-19",15,"Front",10,6,10,6,6,4,5,3,5]
["RGL-023 4","2013-07-03",14,"Front",8,7,8,6,6,5,9,3,6]
["RGL-023 5","2013-07-17",15,"Front",8,8,6,4,7,5,6,4,5]
["RGL-023 6","2013-07-31",12,"Front",7,5,8,4,5,5,8,5,6]
["RGL-023 7","2013-08-14",13,"Front",8,6,6,4,8,5,7,4,5]
["RGL-023 8","2013-08-28",12,"Front",8,5,10,5,5,4,7,5,5]
["RGL-023 9"]
["RGL-023 10"]
["RGL-023 11"]
[null,"x",null,null,null,null,null,null,null,null,null,null,null,"x"]
["RGL-023 12","2013-05-01",12,"Back",7,8,6,8,4,5,6,7,4]
["RGL-023 13","2013-05-29",13,"Back",5,4,5,8,6,7,5,6,3]
["RGL-023 14","2013-06-12",13,"Back",5,6,6,9,6,6,5,7,6]
["RGL-023 15","2013-06-26",15,"Back",4,6,5,6,5,7,3,4,5]
["RGL-023 16","2013-07-24",14,"Back",5,4,6,6,5,6,3,4,7]
["RGL-023 17","2013-08-07",12,"Back",8,7,4,7,6,6,6,3,5]
["RGL-023 18"]
["RGL-023 19"]
["RGL-023 20"]
["RGL-023 21"]
["RGL-023 22"]
["RGL-023 23"]
[]
["RGL-024","x",null,null,null,null,null,null,null,null,null,null,null,"x",48,{"$f":"IF(Q698<>\"\",ROUND($P$71*(AVERAGE(Q698:U698)-36),0),\"\")","v":9},"2013-08-07","2013-07-31","2013-07-24","2013-07-17","2013-07-03","2013-06-26","2013-06-19","2013-06-12","2013-06-05","2013-05-29","2013-05-22","2013-05-15","2012-09-05","2012-08-29","2012-08-15","2012-08-08","2012-08-01","2012-07-25","2012-07-18","2012-07-11","2012-06-27","2012-06-20","2012-06-13","2012-05-30","2012-05-23","2012-05-16","2012-05-09","2012-05-02","2011-08-17","2011-08-10","2011-08-03","2011-07-27","2011-07-20"]
[null,"x",null,null,null,null,null,null,null,null,null,null,null,"x",null,null,48,47,45,48,51,46,48,44,48,47,47,44,47,43,44,44,48,47,44,46,40,48,47,48,52,46,44,44,45,52,50,48,46]
["RGL-024 1","2013-05-22",7,"Front",6,4,10,5,6,5,4,3,4]
["RGL-024 2","2013-06-05",8,"Front",6,3,7,5,5,4,6,6,6]
["RGL-024 3","2013-06-19",8,"Front",6,5,7,5,5,3,5,4,8]
["RGL-024 4","2013-07-03",8,"Front",7,5,6,7,6,5,6,5,4]
["RGL-024 5","2013-07-17",9,"Front",6,7,8,5,4,3,5,6,4]
["RGL-024 6","2013-07-31",9,"Front",6,5,8,5,4,4,7,3,5]
["RGL-024 7"]
["RGL-024 8"]
["RGL-024 9"]
["RGL-024 10"]
["RGL-024 11"]
[null,"x",null,null,null,null,null,null,null,null,null,null,null,"x"]
["RGL-024 12","2013-05-15",7,"Back",6,5,4,6,5,5,3,5,5]
["RGL-024 13","2013-05-29",7,"Back",7,5,4,7,4,4,4,5,7]
["RGL-024 14","2013-06-12",8,"Back",5,5,4,5,4,6,5,5,5]
["RGL-024 15","2013-06-26",9,"Back",6,3,5,5,5,6,5,4,7]
["RGL-024 16","2013-07-24",9,"Back",6,6,4,7,3,4,5,4,6]
["RGL-024 17","2013-08-07",9,"Back",6,7,5,6,4,5,5,5,5]
["RGL-024 18"]
["RGL-024 19"]
["RGL-024 20"]
["RGL-024 21"]
["RGL-024 22"]
["RGL-024 23"]
[null,null,null,null,null,null,null,null,null,null,null,null,null,null,null," "]
["RGL-025","x",null,null,null,null,null,null,null,null,null,null,null,"x",48,{"$f":"IF(Q725<>\"\",ROUND($P$71*(AVERAGE(Q725:U725)-36),0),\"\")","v":8},"2013-08-14","2012-09-05","2012-08-01","2012-06-20","2012-05-30","2012-05-23","2012-05-02","2011-08-24","2011-08-17","2011-08-03","2011-07-27","2011-07-20"]
[null,"x",null,null,null,null,null,null,null,null,null,null,null,"x",null,null,48,46,42,51,45,47,43,52,49,49,52,53]
["RGL-025 1","2013-08-14",8,"Front",8,7,6,4,4,3,7,4,5]
["RGL-025 2"]
["RGL-025 3"]
["RGL-025 4"]
["RGL-025 5"]
["RGL-025 6"]
["RGL-025 7"]
["RGL-025 8"]
["RGL-025 9"]
["RGL-025 10"]
["RGL-025 11"]
[null,"x",null,null,null,null,null,null,null,null,null,null,null,"x"]
["RGL-025 12"]
["RGL-025 13"]
["RGL-025 14"]
["RGL-025 15"]
["RGL-025 16"]
["RGL-025 17"]
["RGL-025 18"]
["RGL-025 19"]
["RGL-025 20"]
["RGL-025 21"]
["RGL-025 22"]
["RGL-025 23"]
[]
["RGL-026","x",null,null,null,null,null,null,null,null,null,null,null,"x",46,{"$f":"IF(Q752<>\"\",ROUND($P$71*(AVERAGE(Q752:U752)-36),0),\"\")","v":9},"2013-08-28","2013-08-21","2013-08-14","2013-08-07","2013-07-31","2013-07-24","2013-07-17","2013-07-03","2013-06-26","2013-06-19","2013-06-12","2013-06-05","2013-05-29","2013-05-22","2013-05-15","2013-05-01","2012-09-05","2012-08-29","2012-08-22","2012-08-08","2012-08-01","2012-07-25","2012-07-18","2012-07-11","2012-06-20","2012-06-13","2012-05-30","2012-05-23","2012-05-16","2012-05-09","2012-05-02","2011-08-24","2011-08-17","2011-08-10","2011-08-03","2011-07-27"]
[null,"x",null,null,null,null,null,null,null,null,null,null,null,"x",null,null,46,51,44,43,50,46,51,53,56,47,43,49,45,54,43,44,49,44,47,49,43,46,55,50,53,52,47,54,49,53,46,54,53,51,43,44]
["RGL-026 1","2013-05-22",8,"Front",6,7,8,6,6,6,8,3,4]
["RGL-026 2","2013-06-05",9,"Front",7,6,7,6,4,4,8,4,3]
["RGL-026 3","2013-06-19",9,"Front",6,7,6,6,5,4,6,3,4]
["RGL-026 4","2013-07-03",10,"Front",7,5,7,7,5,5,7,5,5]
["RGL-026 5","2013-07-17",11,"Front",7,6,7,4,5,6,6,5,5]
["RGL-026 6","2013-07-31",12,"Front",6,4,9,5,5,5,5,6,5]
["RGL-026 7","2013-08-14",10,"Front",6,6,6,4,4,3,8,3,4]
["RGL-026 8",41514,9,"Front",5,5,6,6,6,4,6,3,5]
["RGL-026 9"]
["RGL-026 10"]
["RGL-026 11"]
[null,"x",null,null,null,null,null,null,null,null,null,null,null,"x"]
["RGL-026 12","2013-05-01",8,"Back",5,6,4,7,3,6,3,4,6]
["RGL-026 13","2013-05-15",8,"Back",5,6,7,6,2,5,4,4,4]
["RGL-026 14","2013-05-29",9,"Back",6,5,6,7,3,5,3,4,6]
["RGL-026 15","2013-06-12",9,"Back",7,4,6,5,3,5,3,4,6]
["RGL-026 16","2013-06-26",9,"Back",7,6,8,10,4,6,4,6,5]
["RGL-026 17","2013-07-24",11,"Back",7,6,5,7,4,4,3,4,6]
["RGL-026 18","2013-08-07",12,"Back",5,5,4,8,4,4,4,4,5]
["RGL-026 19","2013-08-21",9,"Back",6,4,7,6,3,7,6,6,6]
["RGL-026 20"]
["RGL-026 21"]
["RGL-026 22"]
["RGL-026 23"]
[]
["RGL-027","x",null,null,null,null,null,null,null,null,null,null,null,"x",49,{"$f":"IF(Q779<>\"\",ROUND($P$71*(AVERAGE(Q779:U779)-36),0),\"\")","v":7},"2013-08-14","2013-08-07","2013-07-31","2013-07-24","2013-07-17","2013-07-03","2013-06-26","2013-06-19","2013-06-12","2013-06-05","2013-05-29","2013-05-22","2013-05-15","2013-05-01","2012-09-05","2012-08-29","2012-08-22","2012-08-15","2012-08-08","2012-08-01","2012-07-25","2012-07-18","2012-07-11","2012-06-27","2012-06-20","2012-06-13","2012-05-30","2012-05-23","2012-05-16","2012-05-09","2012-05-02","2012-04-25","2011-08-24","2011-08-17","2011-08-03","2011-07-27","2011-07-20"]
[null,"x",null,null,null,null,null,null,null,null,null,null,null,"x",null,null,49,43,47,40,45,47,41,47,45,46,44,43,44,38,45,39,48,39,44,40,44,41,42,45,42,42,47,41,45,44,45,54,50,43,43,44,43]
["RGL-027 1","2013-05-22",5,"Front",4,6,6,5,5,5,4,4,4]
["RGL-027 2","2013-06-05",5,"Front",8,6,5,6,4,4,7,3,3]
["RGL-027 3","2013-06-19",7,"Front",8,7,7,4,4,5,6,3,3]
["RGL-027 4","2013-07-03",7,"Front",5,4,7,7,5,3,6,4,6]
["RGL-027 5","2013-07-17",7,"Front",6,5,6,5,6,4,6,4,3]
["RGL-027 6","2013-07-31",6,"Front",6,4,7,4,5,4,7,6,4]
["RGL-027 7","2013-08-14",7,"Front",6,5,6,5,5,4,5,5,8]
["RGL-027 8"]
["RGL-027 9"]
["RGL-027 10"]
["RGL-027 11"]
[null,"x",null,null,null,null,null,null,null,null,null,null,null,"x"]
["RGL-027 12","2013-05-01",6,"Back",5,4,3,4,3,5,3,6,5]
["RGL-027 13","2013-05-15",5,"Back",5,6,3,5,4,6,4,5,6]
["RGL-027 14","2013-05-29",5,"Back",5,6,5,6,5,5,3,5,4]
["RGL-027 15","2013-06-12",6,"Back",6,6,5,5,5,4,4,4,6]
["RGL-027 16","2013-06-26",7,"Back",4,5,4,5,4,6,5,4,4]
["RGL-027 17","2013-07-24",7,"Back",6,6,4,5,2,6,3,4,4]
["RGL-027 18","2013-08-07",6,"Back",7,4,6,5,4,5,4,5,3]
["RGL-027 19"]
["RGL-027 20"]
["RGL-027 21"]
["RGL-027 22"]
["RGL-027 23"]
[]
["RGL-028","x",null,null,null,null,null,null,null,null,null,null,null,"x",53,{"$f":"IF(Q806<>\"\",ROUND($P$71*(AVERAGE(Q806:U806)-36),0),\"\")","v":13},"2013-08-28","2013-08-21","2013-08-14","2013-08-07","2013-07-31","2013-07-24","2013-07-17","2013-07-03","2013-06-26","2013-06-19","2013-06-12","2013-06-05","2013-05-29","2013-05-22","2013-05-15","2013-05-01","2012-09-05","2012-08-29","2012-08-22","2012-08-15","2012-08-08","2012-08-01","2012-07-25","2012-07-18","2012-07-11","2012-06-27","2012-06-20","2012-06-13","2012-05-30","2012-05-23","2012-05-16","2012-05-09","2012-05-02","2012-04-25","2011-08-24","2011-08-17","2011-08-10","2011-08-03","2011-07-27"]
[null,"x",null,null,null,null,null,null,null,null,null,null,null,"x",null,null,53,47,53,54,53,46,53,61,46,50,48,57,51,53,54,53,53,45,53,48,52,47,48,47,46,52,50,48,53,58,52,47,52,57,51,48,52,43,54]
["RGL-028 1","2013-05-22",12,"Front",6,7,8,6,4,5,8,4,5]
["RGL-028 2","2013-06-05",13,"Front",8,5,10,8,6,4,4,6,6]
["RGL-028 3","2013-06-19",13,"Front",7,5,9,6,4,4,7,4,4]
["RGL-028 4","2013-07-03",12,"Front",10,6,10,8,5,4,8,4,6]
["RGL-028 5","2013-07-17",13,"Front",6,5,8,6,5,3,7,5,8]
["RGL-028 6","2013-07-31",12,"Front",6,5,5,5,8,5,7,6,6]
["RGL-028 7","2013-08-14",14,"Front",8,4,8,5,5,4,8,4,7]
["RGL-028 8","2013-08-28",12,"Front",8,4,8,6,7,3,6,4,7]
["RGL-028 9"]
["RGL-028 10"]
["RGL-028 11"]
[null,"x",null,null,null,null,null,null,null,null,null,null,null,"x"]
["RGL-028 12","2013-05-01",11,"Back",6,6,6,7,3,8,4,6,7]
["RGL-028 13","2013-05-15",12,"Back",6,6,8,9,4,5,4,4,8]
["RGL-028 14","2013-05-29",12,"Back",10,4,4,5,5,7,5,5,6]
["RGL-028 15","2013-06-12",14,"Back",6,6,6,6,4,4,4,5,7]
["RGL-028 16","2013-06-26",13,"Back",5,6,5,7,5,5,4,4,5]
["RGL-028 17","2013-07-24",12,"Back",6,8,3,6,4,5,5,5,4]
["RGL-028 18","2013-08-07",13,"Back",7,5,4,8,5,5,5,7,8]
["RGL-028 19","2013-08-21",13,"Back",5,5,6,6,5,4,4,6,6]
["RGL-028 20"]
["RGL-028 21"]
["RGL-028 22"]
["RGL-028 23"]
[]
["RGL-029","x",null,null,null,null,null,null,null,null,null,null,null,"x",41,{"$f":"IF(Q833<>\"\",ROUND($P$71*(AVERAGE(Q833:U833)-36),0),\"\")","v":4},"2012-08-22","2012-08-15","2012-08-08","2012-07-25","2012-07-18","2012-07-11","2012-06-27","2012-06-20","2012-06-13","Calc.","Calc.","Calc.","Calc.","Calc."]
[null,"x",null,null,null,null,null,null,null,null,null,null,null,"x",null,null,41,40,40,39,43,39,42,49,39,36,36,36,36,36]
["RGL-029 1"]
["RGL-029 2"]
["RGL-029 3"]
["RGL-029 4"]
["RGL-029 5"]
["RGL-029 6"]
["RGL-029 7"]
["RGL-029 8"]
["RGL-029 9"]
["RGL-029 10"]
["RGL-029 11"]
[null,"x",null,null,null,null,null,null,null,null,null,null,null,"x"]
["RGL-029 12"]
["RGL-029 13"]
["RGL-029 14"]
["RGL-029 15"]
["RGL-029 16"]
["RGL-029 17"]
["RGL-029 18"]
["RGL-029 19"]
["RGL-029 20"]
["RGL-029 21"]
["RGL-029 22"]
["RGL-029 23"]
[]
["RGL-030","x",null,null,null,null,null,null,null,null,null,null,null,"x",49,{"$f":"IF(Q860<>\"\",ROUND($P$71*(AVERAGE(Q860:U860)-36),0),\"\")","v":11},"2013-05-15","2012-09-05","2012-08-29","2012-08-22","2012-08-15","2012-08-08","2012-08-01","2012-07-25","2012-07-18","2012-07-11","2012-06-27","2012-06-20","2012-06-13","2012-05-30","2012-05-23","2012-05-16","2012-05-09","2010-08-18","2010-08-04","2010-06-30","2009-09-09","2009-09-02"]
[null,"x",null,null,null,null,null,null,null,null,null,null,null,"x",null,null,49,53,45,46,55,55,43,55,54,57,49,50,48,50,49,48,58,50,54,58,44,47]
["RGL-030 1"]
["RGL-030 2"]
["RGL-030 3"]
["RGL-030 4"]
["RGL-030 5"]
["RGL-030 6"]
["RGL-030 7"]
["RGL-030 8"]
["RGL-030 9"]
["RGL-030 10"]
["RGL-030 11"]
[null,"x",null,null,null,null,null,null,null,null,null,null,null,"x"]
["RGL-030 12","2013-05-15",12,"Back",6,8,7,6,6,4,3,4,5]
["RGL-030 13"]
["RGL-030 14"]
["RGL-030 15"]
["RGL-030 16"]
["RGL-030 17"]
["RGL-030 18"]
["RGL-030 19"]
["RGL-030 20"]
["RGL-030 21"]
["RGL-030 22"]
["RGL-030 23"]
[]
["RGL-031","x",null,null,null,null,null,null,null,null,null,null,null,"x",49,{"$f":"IF(Q887<>\"\",ROUND($P$71*(AVERAGE(Q887:U887)-36),0),\"\")","v":7},"2013-08-28","2013-08-21","2013-08-14","2013-08-07","2013-07-31","2013-07-17","2013-07-03","2013-06-26","2013-06-19","2013-06-12","2013-06-05","2013-05-29","2013-05-22","2013-05-15","2013-05-01","2012-09-05","2012-08-29","2012-08-22","2012-08-15","2012-08-08","2012-08-01","2012-07-25","2012-07-18","2012-07-11","2012-06-27","2012-06-20","2012-06-13","2012-05-30","2012-05-23","2012-05-16","2012-05-09","2012-05-02","2012-04-25","Calc.","Calc.","Calc.","Calc.","Calc."]
[null,"x",null,null,null,null,null,null,null,null,null,null,null,"x",null,null,49,41,43,43,46,40,55,42,51,46,45,40,42,49,44,43,42,43,39,46,45,51,45,39,40,44,41,37,44,37,42,48,44,49,49,49,49,49]
["RGL-031 1","2013-05-22",7,"Front",5,8,7,4,4,3,4,3,4]
["RGL-031 2","2013-06-05",6,"Front",6,6,6,5,5,4,5,5,3]
["RGL-031 3","2013-06-19",7,"Front",7,5,7,7,6,4,7,5,3]
["RGL-031 4","2013-07-03",7,"Front",9,4,7,6,4,4,8,6,7]
["RGL-031 5","2013-07-17",9,"Front",5,4,6,5,4,4,5,4,3]
["RGL-031 6","2013-07-31",9,"Front",7,6,6,6,3,4,5,6,3]
["RGL-031 7","2013-08-14",7,"Front",6,6,5,7,4,3,4,4,4]
["RGL-031 8","2013-08-28",5,"Front",6,4,7,5,5,3,8,6,5]
["RGL-031 9"]
["RGL-031 10"]
["RGL-031 11"]
[null,"x",null,null,null,null,null,null,null,null,null,null,null,"x"]
["RGL-031 12","2013-05-01",5,"Back",10,4,6,4,5,4,3,4,4]
["RGL-031 13","2013-05-15",5,"Back",7,5,7,6,4,6,4,7,3]
["RGL-031 14","2013-05-29",6,"Back",6,5,4,7,4,3,3,4,4]
["RGL-031 15","2013-06-12",6,"Back",10,5,4,6,4,5,3,5,4]
["RGL-031 16","2013-06-26",7,"Back",7,7,5,5,4,4,3,4,3]
["RGL-031 17","2013-08-07",9,"Back",5,5,5,5,6,5,3,4,5]
["RGL-031 18","2013-08-21",8,"Back",6,5,4,6,4,2,4,4,6]
["RGL-031 19"]
["RGL-031 20"]
["RGL-031 21"]
["RGL-031 22"]
["RGL-031 23"]
[]
["RGL-032","x",null,null,null,null,null,null,null,null,null,null,null,"x",56,{"$f":"IF(Q914<>\"\",ROUND($P$71*(AVERAGE(Q914:U914)-36),0),\"\")","v":14},"2013-08-28","2013-08-21","2013-08-14","2013-08-07","2013-07-31","2013-07-24","2013-07-17","2013-07-03","2013-06-26","2013-06-19","2013-06-12","2013-06-05","2013-05-29","2013-05-22","2013-05-15","2013-05-01","2012-09-05","2012-08-29","2012-08-22","2012-08-15","2012-08-08","2012-08-01","2012-07-25","2012-07-18","2012-07-11","2012-06-27","2012-06-20","2012-06-13","2012-05-30","2012-05-23","2012-05-16","2012-05-09","2012-05-02","2012-04-25","2011-08-24","2011-08-17","2011-08-10","2011-08-03","2011-07-27"]
[null,"x",null,null,null,null,null,null,null,null,null,null,null,"x",null,null,56,45,58,53,54,58,57,55,44,52,51,53,42,57,47,50,54,47,63,54,50,56,56,52,57,51,56,52,58,51,54,56,61,60,50,51,51,55,59]
["RGL-032 1","2013-05-22",13,"Front",8,8,8,4,7,4,8,5,5]
["RGL-032 2","2013-06-05",11,"Front",6,7,7,4,7,6,7,4,5]
["RGL-032 3","2013-06-19",11,"Front",7,7,7,7,7,4,5,3,5]
["RGL-032 4","2013-07-03",10,"Front",8,6,9,7,5,4,8,4,4]
["RGL-032 5","2013-07-17",12,"Front",9,8,9,5,5,4,8,4,5]
["RGL-032 6","2013-07-31",14,"Front",7,6,8,6,5,5,7,4,6]
["RGL-032 7","2013-08-14",16,"Front",9,8,7,7,5,4,7,6,5]
["RGL-032 8","2013-08-28",14,"Front",8,8,8,5,5,4,7,4,7]
["RGL-032 9"]
["RGL-032 10"]
["RGL-032 11"]
[null,"x",null,null,null,null,null,null,null,null,null,null,null,"x"]
["RGL-032 12","2013-05-01",14,"Back",6,5,5,6,4,6,6,6,6]
["RGL-032 13","2013-05-15",14,"Back",7,5,4,7,5,6,4,4,5]
["RGL-032 14","2013-05-29",12,"Back",5,5,6,4,2,7,4,5,4]
["RGL-032 15","2013-06-12",11,"Back",5,6,5,7,4,7,5,7,5]
["RGL-032 16","2013-06-26",12,"Back",6,4,4,6,5,5,3,5,6]
["RGL-032 17","2013-07-24",13,"Back",8,8,7,6,4,7,6,5,7]
["RGL-032 18","2013-08-07",14,"Back",6,6,6,6,5,7,6,5,6]
["RGL-032 19","2013-08-21",16,"Back",5,5,5,6,4,5,4,5,6]
["RGL-032 20"]
["RGL-032 21"]
["RGL-032 22"]
["RGL-032 23"]
[]
["RGL-033","x",null,null,null,null,null,null,null,null,null,null,null,"x",60,{"$f":"IF(Q941<>\"\",ROUND($P$71*(AVERAGE(Q941:U941)-36),0),\"\")","v":15},"2013-08-28","2013-08-21","2013-08-14","2013-08-07","2013-07-31","2013-07-24","2013-07-17","2013-07-03","2013-06-26","2013-06-19","2013-06-12","2013-06-05","2013-05-29","2013-05-22","2013-05-15","2013-05-01","2012-09-05","2012-08-29","2012-08-22","2012-08-15","2012-08-08","2012-08-01","2012-07-25","2012-07-18","2012-07-11","2012-06-27","2012-06-20","2012-06-13","2012-05-30","2012-05-23","2012-05-16","2012-05-09","2012-05-02","2012-04-25","2011-08-24","2011-08-17","2011-08-10","2011-08-03","2011-07-27"]
[null,"x",null,null,null,null,null,null,null,null,null,null,null,"x",null,null,60,52,53,58,51,50,58,63,52,59,57,59,50,57,47,47,53,47,54,51,51,50,52,47,59,50,64,51,53,58,53,60,54,53,62,53,59,52,57]
["RGL-033 1","2013-05-22",11,"Front",10,5,7,8,5,6,8,4,4]
["RGL-033 2","2013-06-05",12,"Front",8,6,8,7,7,4,7,5,7]
["RGL-033 3","2013-06-19",14,"Front",8,6,9,6,8,4,8,4,6]
["RGL-033 4","2013-07-03",16,"Front",10,7,9,7,7,6,7,4,6]
["RGL-033 5","2013-07-17",18,"Front",8,6,8,5,6,6,8,4,7]
["RGL-033 6","2013-07-31",16,"Front",7,5,7,6,5,4,7,5,5]
["RGL-033 7","2013-08-14",16,"Front",8,6,7,5,8,3,7,4,5]
["RGL-033 8","2013-08-28",13,"Front",8,6,8,8,7,5,8,6,4]
["RGL-033 9"]
["RGL-033 10"]
["RGL-033 11"]
[null,"x",null,null,null,null,null,null,null,null,null,null,null,"x"]
["RGL-033 12","2013-05-01",12,"Back",6,6,5,6,4,4,6,6,4]
["RGL-033 13","2013-05-15",12,"Back",6,5,6,8,4,5,6,3,4]
["RGL-033 14","2013-05-29",11,"Back",5,7,7,6,4,5,6,4,6]
["RGL-033 15","2013-06-12",13,"Back",9,5,6,8,6,6,5,6,6]
["RGL-033 16","2013-06-26",16,"Back",8,6,6,6,5,6,4,5,6]
["RGL-033 17","2013-07-24",17,"Back",6,6,6,7,3,5,4,5,8]
["RGL-033 18","2013-08-07",15,"Back",7,8,8,8,6,7,4,5,5]
["RGL-033 19","2013-08-21",14,"Back",7,5,5,6,4,6,6,7,6]
["RGL-033 20"]
["RGL-033 21"]
["RGL-033 22"]
["RGL-033 23"]
[]
["RGL-034","x",null,null,null,null,null,null,null,null,null,null,null,"x",49,{"$f":"IF(Q968<>\"\",ROUND($P$71*(AVERAGE(Q968:U968)-36),0),\"\")","v":10},"2013-08-28","2013-08-21","2013-08-14","2013-08-07","2013-07-31","2013-07-24","2013-07-17","2013-07-03","2013-06-26","2013-06-19","2013-06-05","2013-05-29","2013-05-22","2013-05-15","2013-05-01","2012-09-05","2012-08-29","2012-08-22","2012-08-15","2012-08-08","2012-08-01","2012-07-25","2012-07-18","2012-07-11","2012-06-27","2012-06-20","2012-06-13","2012-05-30","2012-05-23","2012-05-16","2012-05-09","2012-05-02","2012-04-25","2011-08-24","2011-08-17","2011-08-10","2011-08-03","2011-07-27"]
[null,"x",null,null,null,null,null,null,null,null,null,null,null,"x",null,null,49,48,50,45,49,39,50,46,45,43,45,52,49,43,49,50,47,44,45,48,48,48,44,57,44,53,46,49,56,53,48,40,54,45,46,47,47,46]
["RGL-034 1","2013-05-22",8,"Front",5,6,5,8,4,3,8,4,6]
["RGL-034 2","2013-06-05",10,"Front",6,5,5,5,5,3,5,4,7]
["RGL-034 3","2013-06-19",9,"Front",7,6,5,3,6,3,6,3,4]
["RGL-034 4","2013-07-03",9,"Front",6,6,5,5,6,4,6,3,5]
["RGL-034 5","2013-07-17",8,"Front",7,7,6,5,4,4,7,4,6]
["RGL-034 6","2013-07-31",7,"Front",6,4,6,5,6,4,8,6,4]
["RGL-034 7","2013-08-14",8,"Front",8,3,8,6,6,3,7,5,4]
["RGL-034 8","2013-08-28",8,"Front",6,7,8,4,6,3,8,3,4]
["RGL-034 9"]
["RGL-034 10"]
["RGL-034 11"]
[null,"x",null,null,null,null,null,null,null,null,null,null,null,"x"]
["RGL-034 12","2013-05-01",9,"Back",7,4,7,8,4,6,3,5,5]
["RGL-034 13","2013-05-15",9,"Back",6,6,4,6,4,3,4,6,4]
["RGL-034 14","2013-05-29",9,"Back",9,5,5,6,4,7,5,5,6]
["RGL-034 15","2013-06-26",8,"Back",5,4,6,5,5,5,4,4,7]
["RGL-034 16","2013-07-24",8,"Back",5,4,4,7,4,5,3,3,4]
["RGL-034 17","2013-08-07",8,"Back",5,4,4,6,4,6,4,5,7]
["RGL-034 18","2013-08-21",8,"Back",7,6,6,5,4,4,5,5,6]
["RGL-034 19"]
["RGL-034 20"]
["RGL-034 21"]
["RGL-034 22"]
["RGL-034 23"]
[]
["RGL-035","x",null,null,null,null,null,null,null,null,null,null,null,"x",64,{"$f":"IF(Q995<>\"\",ROUND($P$71*(AVERAGE(Q995:U995)-36),0),\"\")","v":19},"2013-08-21","2013-08-07","2013-07-31","2013-07-24","2013-07-03","2013-06-26","2013-06-19","2013-06-05","2013-05-29","2013-05-22","2013-05-15","2013-05-01","2009-09-09","2009-09-02","2009-08-26","2009-08-19","2009-08-12"]
[null,"x",null,null,null,null,null,null,null,null,null,null,null,"x",null,null,64,55,61,56,63,49,58,58,54,57,62,57,58,57,55,58,47]
["RGL-035 1","2013-05-22",17,"Front",9,7,7,7,8,4,6,4,5]
["RGL-035 2","2013-06-05",17,"Front",5,7,9,8,8,6,7,3,5]
["RGL-035 3","2013-06-19",17,"Front",8,7,9,8,6,4,8,4,4]
["RGL-035 4","2013-07-03",15,"Front",10,5,10,6,7,5,8,5,7]
["RGL-035 5","2013-07-31",17,"Front",8,8,6,6,6,6,8,6,7]
["RGL-035 6"]
["RGL-035 7"]
["RGL-035 8"]
["RGL-035 9"]
["RGL-035 10"]
["RGL-035 11"]
[null,"x",null,null,null,null,null,null,null,null,null,null,null,"x"]
["RGL-035 12","2013-05-01",15,"Back",8,6,8,7,6,6,4,6,6]
["RGL-035 13","2013-05-15",17,"Back",10,5,8,9,5,6,6,7,6]
["RGL-035 14","2013-05-29",18,"Back",7,6,7,9,5,5,4,4,7]
["RGL-035 15","2013-06-26",17,"Back",6,5,5,7,5,6,4,5,6]
["RGL-035 16","2013-07-24",16,"Back",7,8,7,6,5,7,4,6,6]
["RGL-035 17","2013-08-07",17,"Back",5,7,8,8,5,5,4,5,8]
["RGL-035 18","2013-08-21",17,"Back",8,7,6,8,6,7,6,8,8]
["RGL-035 19"]
["RGL-035 20"]
["RGL-035 21"]
["RGL-035 22"]
["RGL-035 23"]
[]
["RGL-036","x",null,null,null,null,null,null,null,null,null,null,null,"x",50,{"$f":"IF(Q1022<>\"\",ROUND($P$71*(AVERAGE(Q1022:U1022)-36),0),\"\")","v":10},"2012-08-01","2012-07-25","2012-07-18","2012-07-11","2012-06-27","2012-06-13","2012-05-30","2012-05-23","2012-05-16","2012-05-09","2012-05-02","2012-04-25","2011-08-24","2011-08-17","2011-08-10","2011-08-03","2011-07-27"]
[null,"x",null,null,null,null,null,null,null,null,null,null,null,"x",null,null,50,48,45,55,46,45,47,53,47,53,51,50,46,48,53,52,52]
["RGL-036 1"]
["RGL-036 2"]
["RGL-036 3"]
["RGL-036 4"]
["RGL-036 5"]
["RGL-036 6"]
["RGL-036 7"]
["RGL-036 8"]
["RGL-036 9"]
["RGL-036 10"]
["RGL-036 11"]
[null,"x",null,null,null,null,null,null,null,null,null,null,null,"x"]
["RGL-036 12"]
["RGL-036 13"]
["RGL-036 14"]
["RGL-036 15"]
["RGL-036 16"]
["RGL-036 17"]
["RGL-036 18"]
["RGL-036 19"]
["RGL-036 20"]
["RGL-036 21"]
["RGL-036 22"]
["RGL-036 23"]
[]
["RGL-037","x",null,null,null,null,null,null,null,null,null,null,null,"x",45,{"$f":"IF(Q1049<>\"\",ROUND($P$71*(AVERAGE(Q1049:U1049)-36),0),\"\")","v":9},"2013-08-21","2013-08-14","2013-08-07","2013-07-31","2013-07-17","2013-06-26","2013-06-19","2013-06-12","2013-06-05","2013-05-29","2013-05-22","2013-05-15","2012-09-05","2012-08-29","2012-08-22","2012-08-15","2012-08-08","2012-08-01","2012-07-18","2012-07-11","2012-06-27","2012-06-20","2012-06-13","2012-05-30","2012-05-16","2012-05-09","2012-05-02","2011-08-24","2011-08-17","2011-08-10","2011-08-03","2011-07-27"]
[null,"x",null,null,null,null,null,null,null,null,null,null,null,"x",null,null,45,55,50,48,41,41,45,43,47,47,47,46,48,46,50,45,52,45,45,50,43,53,41,46,48,43,51,49,46,47,55,47]
["RGL-037 1","2013-05-22",9,"Front",7,6,7,5,5,3,6,4,4]
["RGL-037 2","2013-06-05",9,"Front",7,5,6,7,5,3,7,4,3]
["RGL-037 3","2013-06-19",8,"Front",7,5,7,5,4,5,4,4,4]
["RGL-037 4","2013-07-17",7,"Front",6,3,6,5,4,4,5,3,5]
["RGL-037 5","2013-07-31",6,"Front",6,5,7,5,5,5,5,4,6]
["RGL-037 6","2013-08-14",7,"Front",6,8,9,5,4,4,7,4,8]
["RGL-037 7"]
["RGL-037 8"]
["RGL-037 9"]
["RGL-037 10"]
["RGL-037 11"]
[null,"x",null,null,null,null,null,null,null,null,null,null,null,"x"]
["RGL-037 12","2013-05-15",10,"Back",8,5,5,6,3,4,4,5,6]
["RGL-037 13","2013-05-29",9,"Back",8,4,5,6,5,6,4,4,5]
["RGL-037 14","2013-06-12",9,"Back",5,5,5,6,5,4,3,5,5]
["RGL-037 15","2013-06-26",8,"Back",4,5,4,5,5,3,4,6,5]
["RGL-037 16","2013-08-07",6,"Back",7,7,5,7,5,5,5,3,6]
["RGL-037 17","2013-08-21",9,"Back",5,6,5,6,3,5,4,5,6]
["RGL-037 18"]
["RGL-037 19"]
["RGL-037 20"]
["RGL-037 21"]
["RGL-037 22"]
["RGL-037 23"]
[]
["RGL-038","x",null,null,null,null,null,null,null,null,null,null,null,"x",46,{"$f":"IF(Q1076<>\"\",ROUND($P$71*(AVERAGE(Q1076:U1076)-36),0),\"\")","v":10},"2012-09-05","2012-08-29","2012-08-22","2012-08-15","2012-08-08","2012-08-01","2012-07-25","2012-07-11","2012-06-27","2012-06-20","2012-06-13","2012-05-30","2012-05-23","2012-05-16","2012-05-09","2012-05-02","2012-04-25","2011-08-24","2011-08-17","2011-08-10","2011-08-03","2011-07-27"]
[null,"x",null,null,null,null,null,null,null,null,null,null,null,"x",null,null,46,46,47,53,51,38,48,46,43,46,43,44,46,53,44,49,57,51,53,52,46,43]
["RGL-038 1"]
["RGL-038 2"]
["RGL-038 3"]
["RGL-038 4"]
["RGL-038 5"]
["RGL-038 6"]
["RGL-038 7"]
["RGL-038 8"]
["RGL-038 9"]
["RGL-038 10"]
["RGL-038 11"]
[null,"x",null,null,null,null,null,null,null,null,null,null,null,"x"]
["RGL-038 12"]
["RGL-038 13"]
["RGL-038 14"]
["RGL-038 15"]
["RGL-038 16"]
["RGL-038 17"]
["RGL-038 18"]
["RGL-038 19"]
["RGL-038 20"]
["RGL-038 21"]
["RGL-038 22"]
["RGL-038 23"]
[]
["RGL-039","x",null,null,null,null,null,null,null,null,null,null,null,"x",46,{"$f":"IF(Q1103<>\"\",ROUND($P$71*(AVERAGE(Q1103:U1103)-36),0),\"\")","v":7},"2012-09-05","2012-08-29","2012-08-22","2012-08-15","2012-08-08","2012-08-01","2012-07-25","2012-07-18","2012-07-11","2012-06-27","2012-06-20","2012-06-13","2012-05-30","2012-05-23","2012-05-16","2012-05-09","2012-05-02","2012-04-25","2011-08-24","2011-08-17","2011-08-10","2011-08-03","2011-07-27"]
[null,"x",null,null,null,null,null,null,null,null,null,null,null,"x",null,null,46,44,42,45,44,44,45,42,44,43,50,40,40,47,41,43,44,50,49,44,48,40,43]
["RGL-039 1"]
["RGL-039 2"]
["RGL-039 3"]
["RGL-039 4"]
["RGL-039 5"]
["RGL-039 6"]
["RGL-039 7"]
["RGL-039 8"]
["RGL-039 9"]
["RGL-039 10"]
["RGL-039 11"]
[null,"x",null,null,null,null,null,null,null,null,null,null,null,"x"]
["RGL-039 12"]
["RGL-039 13"]
["RGL-039 14"]
["RGL-039 15"]
["RGL-039 16"]
["RGL-039 17"]
["RGL-039 18"]
["RGL-039 19"]
["RGL-039 20"]
["RGL-039 21"]
["RGL-039 22"]
["RGL-039 23"]
[]
["RGL-040","x",null,null,null,null,null,null,null,null,null,null,null,"x",49,{"$f":"IF(Q1130<>\"\",ROUND($P$71*(AVERAGE(Q1130:U1130)-36),0),\"\")","v":10},"2013-08-28","2013-08-21","2013-08-14","2013-07-31","2013-07-24","2013-07-17","2013-07-03","2013-06-26","2013-06-19","2013-06-12","2013-06-05","2013-05-22","2013-05-15","2013-05-01","2012-09-05","2012-08-29","2012-08-22","2012-08-15","2012-08-08","2012-08-01","2012-07-25","2012-07-18","2012-06-27","2012-06-20","2012-06-13","2012-05-30","2012-05-23","2012-05-16","2012-05-09","2012-05-02","2012-04-25","2011-08-24","2011-08-17","2011-07-27","2011-07-20","2011-07-06"]
[null,"x",null,null,null,null,null,null,null,null,null,null,null,"x",null,null,49,47,50,48,50,47,48,41,42,46,47,46,46,48,49,42,48,49,50,43,51,47,47,50,52,46,46,47,47,49,52,48,50,52,46,44]
["RGL-040 1","2013-05-22",8,"Front",7,4,7,5,6,5,5,3,4]
["RGL-040 2","2013-06-05",8,"Front",5,6,9,5,5,3,6,3,5]
["RGL-040 3","2013-06-19",8,"Front",7,5,6,4,5,3,5,2,5]
["RGL-040 4","2013-07-03",7,"Front",8,5,7,4,4,4,8,3,5]
["RGL-040 5","2013-07-17",7,"Front",7,4,9,3,5,4,7,3,5]
["RGL-040 6","2013-07-31",8,"Front",6,5,8,4,6,4,7,3,5]
["RGL-040 7",41500,9,"Front",8,6,6,6,4,3,8,4,5]
["RGL-040 8",41514,10,"Front",7,5,6,7,6,3,5,4,6]
["RGL-040 9"]
["RGL-040 10"]
["RGL-040 11"]
[null,"x",null,null,null,null,null,null,null,null,null,null,null,"x"]
["RGL-040 12","2013-05-01",9,"Back",5,7,6,6,5,4,4,6,5]
["RGL-040 13","2013-05-15",9,"Back",6,5,7,4,3,5,4,7,5]
["RGL-040 14","2013-06-12",9,"Back",7,7,6,4,4,6,3,5,4]
["RGL-040 15","2013-06-26",8,"Back",5,6,4,5,5,5,3,4,4]
["RGL-040 16","2013-07-24",7,"Back",8,7,5,6,4,5,6,4,5]
["RGL-040 17","2013-08-21",10,"Back",4,6,6,6,4,6,6,5,4]
["RGL-040 18"]
["RGL-040 19"]
["RGL-040 20"]
["RGL-040 21"]
["RGL-040 22"]
["RGL-040 23"]
[]
["RGL-041","x",null,null,null,null,null,null,null,null,null,null,null,"x",42,{"$f":"IF(Q1157<>\"\",ROUND($P$71*(AVERAGE(Q1157:U1157)-36),0),\"\")","v":4},"2013-08-21","2010-08-25","2010-08-18","2010-08-11","2010-08-04","2010-07-28"]
[null,"x",null,null,null,null,null,null,null,null,null,null,null,"x",null,null,42,37,36,42,46,40]
["RGL-041 1"]
["RGL-041 2"]
["RGL-041 3"]
["RGL-041 4"]
["RGL-041 5"]
["RGL-041 6"]
["RGL-041 7"]
["RGL-041 8"]
["RGL-041 9"]
["RGL-041 10"]
["RGL-041 11"]
[null,"x",null,null,null,null,null,null,null,null,null,null,null,"x"]
["RGL-041 12","2013-08-21",3,"Back",6,4,4,5,5,4,3,4,7]
["RGL-041 13"]
["RGL-041 14"]
["RGL-041 15"]
["RGL-041 16"]
["RGL-041 17"]
["RGL-041 18"]
["RGL-041 19"]
["RGL-041 20"]
["RGL-041 21"]
["RGL-041 22"]
["RGL-041 23"]
[]
["RGL-042","x",null,null,null,null,null,null,null,null,null,null,null,"x",54,{"$f":"IF(Q1184<>\"\",ROUND($P$71*(AVERAGE(Q1184:U1184)-36),0),\"\")","v":14},"2013-08-21","2013-05-29","2012-08-29","2012-08-08","2012-08-01","2012-07-25","2012-07-18","2012-06-20","2012-06-13","Calc.","Calc.","Calc.","Calc.","Calc."]
[null,"x",null,null,null,null,null,null,null,null,null,null,null,"x",null,null,54,49,53,56,56,56,57,58,61,56,56,56,56,56]
["RGL-042 1"]
["RGL-042 2"]
["RGL-042 3"]
["RGL-042 4"]
["RGL-042 5"]
["RGL-042 6"]
["RGL-042 7"]
["RGL-042 8"]
["RGL-042 9"]
["RGL-042 10"]
["RGL-042 11"]
[null,"x",null,null,null,null,null,null,null,null,null,null,null,"x"]
["RGL-042 12","2013-05-29",16,"Back",7,6,4,6,5,8,3,4,6]
["RGL-042 13","2013-08-21",14,"Back",9,5,4,8,6,6,6,6,4]
["RGL-042 14"]
["RGL-042 15"]
["RGL-042 16"]
["RGL-042 17"]
["RGL-042 18"]
["RGL-042 19"]
["RGL-042 20"]
["RGL-042 21"]
["RGL-042 22"]
["RGL-042 23"]
[]
["RGL-043","x",null,null,null,null,null,null,null,null,null,null,null,"x",42,{"$f":"IF(Q1211<>\"\",ROUND($P$71*(AVERAGE(Q1211:U1211)-36),0),\"\")","v":6},"2013-08-28","2013-08-21","2013-08-14","2013-08-07","2013-07-31","2013-07-24","2013-07-17","2013-07-03","2013-06-26","2013-06-19","2013-06-12","2013-06-05","2013-05-29","2013-05-22","2013-05-15","2013-05-01","2012-09-05","2012-08-29","2012-08-22","2012-08-15","2012-08-08","2012-08-01","2012-07-25","2012-07-18","2012-07-11","2012-06-27","2012-06-20","2012-06-13","2012-05-30","2012-05-23","2012-05-16","Calc.","Calc.","Calc.","Calc.","Calc."]
[null,"x",null,null,null,null,null,null,null,null,null,null,null,"x",null,null,42,44,42,45,45,41,46,45,47,44,50,47,42,40,37,50,43,38,39,52,47,46,51,49,44,43,48,41,45,44,37,46,46,46,46,46]
["RGL-043 1","2013-05-22",4,"Front",4,5,5,5,4,4,6,3,4]
["RGL-043 2","2013-06-05",5,"Front",10,6,6,5,4,3,4,3,6]
["RGL-043 3","2013-06-19",6,"Front",7,6,5,7,4,3,5,3,4]
["RGL-043 4","2013-07-03",8,"Front",7,5,5,5,5,2,5,4,7]
["RGL-043 5","2013-07-17",8,"Front",5,5,7,5,6,4,5,4,5]
["RGL-043 6","2013-07-31",7,"Front",8,5,5,4,5,4,5,5,4]
["RGL-043 7","2013-08-14",7,"Front",6,3,5,5,4,3,7,4,5]
["RGL-043 8","2013-08-28",6,"Front",6,5,7,5,5,3,4,3,4]
["RGL-043 9"]
["RGL-043 10"]
["RGL-043 11"]
[null,"x",null,null,null,null,null,null,null,null,null,null,null,"x"]
["RGL-043 12","2013-05-01",6,"Back",9,5,4,7,5,5,5,4,6]
["RGL-043 13","2013-05-15",7,"Back",5,5,4,4,3,5,4,3,4]
["RGL-043 14","2013-05-29",4,"Back",6,5,6,5,4,4,3,4,5]
["RGL-043 15","2013-06-12",6,"Back",6,6,5,6,4,8,4,5,6]
["RGL-043 16","2013-06-26",7,"Back",5,6,4,6,4,7,5,4,6]
["RGL-043 17","2013-07-24",8,"Back",5,5,4,6,3,3,4,5,6]
["RGL-043 18","2013-08-07",7,"Back",8,4,4,5,4,5,3,4,8]
["RGL-043 19","2013-08-21",6,"Back",6,5,4,8,3,7,3,4,4]
["RGL-043 20"]
["RGL-043 21"]
["RGL-043 22"]
["RGL-043 23"]
[]
["RGL-044","x",null,null,null,null,null,null,null,null,null,null,null,"x",51,{"$f":"IF(Q1238<>\"\",ROUND($P$71*(AVERAGE(Q1238:U1238)-36),0),\"\")","v":12},"2013-08-28","2013-08-21","2013-08-14","2013-08-07","2013-07-31","2013-07-24","2013-07-17","2013-07-03","2013-06-26","2013-06-12","2013-06-05","2013-05-29","2013-05-22","2013-05-15","2013-05-01","Calc.","Calc.","Calc.","Calc.","Calc."]
[null,"x",null,null,null,null,null,null,null,null,null,null,null,"x",null,null,51,57,50,43,53,45,45,52,43,42,46,43,44,55,50,46,46,46,46,46]
["RGL-044 1","2013-05-22",10,"Front",9,4,6,5,4,4,4,4,4]
["RGL-044 2","2013-06-05",9,"Front",4,7,5,5,5,4,5,6,5]
["RGL-044 3","2013-07-03",6,"Front",6,4,9,7,6,4,7,5,4]
["RGL-044 4","2013-07-17",7,"Front",7,3,8,6,4,4,7,3,3]
["RGL-044 5","2013-07-31",8,"Front",6,5,9,6,6,4,8,4,5]
["RGL-044 6","2013-08-14",9,"Front",7,5,6,6,6,6,7,3,4]
["RGL-044 7","2013-08-28",11,"Front",6,6,8,5,5,4,6,5,6]
["RGL-044 8"]
["RGL-044 9"]
["RGL-044 10"]
["RGL-044 11"]
[null,"x",null,null,null,null,null,null,null,null,null,null,null,"x"]
["RGL-044 12","2013-05-01",8,"Back",7,5,4,7,6,7,4,4,6]
["RGL-044 13","2013-05-15",9,"Back",5,5,5,10,5,8,6,6,5]
["RGL-044 14","2013-05-29",10,"Back",5,6,5,6,5,4,3,4,5]
["RGL-044 15","2013-06-12",9,"Back",6,4,5,4,4,5,3,5,6]
["RGL-044 16","2013-06-26",8,"Back",8,3,4,6,3,5,5,4,5]
["RGL-044 17","2013-07-24",8,"Back",6,6,5,5,6,4,5,4,4]
["RGL-044 18","2013-08-07",9,"Back",7,4,4,6,5,5,3,5,4]
["RGL-044 19","2013-08-21",9,"Back",7,6,6,7,4,7,6,8,6]
["RGL-044 20"]
["RGL-044 21"]
["RGL-044 22"]
["RGL-044 23"]
[]
["RGL-045","x",null,null,null,null,null,null,null,null,null,null,null,"x",65,{"$f":"IF(Q1265<>\"\",ROUND($P$71*(AVERAGE(Q1265:U1265)-36),0),\"\")","v":22},"2013-08-28","2013-08-21","2013-08-14","2013-08-07","2013-07-31","2013-07-24","2013-07-17","2013-06-26","2013-06-12","2013-05-29","2013-05-22","2013-05-15","2013-05-01","Calc.","Calc.","Calc.","Calc.","Calc."]
[null,"x",null,null,null,null,null,null,null,null,null,null,null,"x",null,null,65,63,65,66,61,65,67,62,63,65,66,62,57,59,59,59,59,59]
["RGL-045 1","2013-05-22",19,"Front",10,8,10,8,8,6,8,4,4]
["RGL-045 2","2013-07-17",22,"Front",10,8,10,7,5,5,8,6,8]
["RGL-045 3","2013-07-31",23,"Front",8,8,10,6,5,4,8,4,8]
["RGL-045 4",41500,23,"Front",10,8,10,7,7,5,6,5,7]
["RGL-045 5",41514,22,"Front",7,8,10,8,7,6,8,5,6]
["RGL-045 6"]
["RGL-045 7"]
["RGL-045 8"]
["RGL-045 9"]
["RGL-045 10"]
["RGL-045 11"]
[null,"x",null,null,null,null,null,null,null,null,null,null,null,"x"]
["RGL-045 12","2013-05-01",18,"Back",7,8,6,8,6,5,6,5,6]
["RGL-045 13","2013-05-15",18,"Back",8,8,7,10,6,8,4,5,6]
["RGL-045 14","2013-05-29",20,"Back",8,8,8,10,6,8,4,5,8]
["RGL-045 15","2013-06-12",21,"Back",8,8,7,9,6,7,6,6,6]
["RGL-045 16","2013-06-26",21,"Back",8,8,8,9,6,8,5,6,4]
["RGL-045 17","2013-07-24",23,"Back",7,8,7,7,6,8,6,8,8]
["RGL-045 18","2013-08-07",22,"Back",8,8,8,9,6,7,5,7,8]
["RGL-045 19","2013-08-21",23,"Back",8,7,6,8,5,8,5,8,8]
["RGL-045 20"]
["RGL-045 21"]
["RGL-045 22"]
["RGL-045 23"]
[]
["RGL-046","x",null,null,null,null,null,null,null,null,null,null,null,"x",39,{"$f":"IF(Q1292<>\"\",ROUND($P$71*(AVERAGE(Q1292:U1292)-36),0),\"\")","v":3},"2013-08-28","2013-08-21","2013-08-14","2013-08-07","2013-07-31","2013-07-24","2013-07-17","2013-07-03","2013-06-26","2013-06-19","2013-06-12","2013-05-29","2013-05-22","2013-05-01","2012-09-05","2012-08-29","2012-08-22","2012-08-15","2012-08-08","2012-08-01","2012-07-18","2012-07-11","2012-06-27","2012-06-13","2012-05-30","2012-05-23","2012-05-16","2012-05-09","2012-05-02","2012-04-25","2011-08-24","2011-08-17","2011-08-10","2011-08-03","2011-07-27"]
[null,"x",null,null,null,null,null,null,null,null,null,null,null,"x",null,null,39,39,40,40,41,39,43,44,36,40,40,43,39,38,37,36,41,37,45,40,34,40,40,40,36,48,39,40,39,44,38,38,42,37,42]
["RGL-046 1","2013-05-22",1,"Front",5,4,8,4,4,3,4,3,4]
["RGL-046 2","2013-06-19",3,"Front",5,4,6,4,4,4,5,4,4]
["RGL-046 3","2013-07-03",3,"Front",6,6,6,6,3,3,7,4,3]
["RGL-046 4","2013-07-17",4,"Front",6,6,6,4,4,4,4,3,6]
["RGL-046 5","2013-07-31",4,"Front",6,4,5,5,5,3,4,4,5]
["RGL-046 6","2013-08-14",4,"Front",6,5,5,5,3,4,6,3,3]
["RGL-046 7","2013-08-28",3,"Front",7,4,5,4,3,3,5,3,5]
["RGL-046 8"]
["RGL-046 9"]
["RGL-046 10"]
["RGL-046 11"]
[null,"x",null,null,null,null,null,null,null,null,null,null,null,"x"]
["RGL-046 12","2013-05-01",3,"Back",5,5,4,5,3,5,3,4,4]
["RGL-046 13","2013-05-29",2,"Back",8,6,3,7,4,3,4,4,4]
["RGL-046 14","2013-06-12",2,"Back",5,4,4,7,4,4,4,4,4]
["RGL-046 15","2013-06-26",3,"Back",5,4,4,4,3,6,3,3,4]
["RGL-046 16","2013-07-24",4,"Back",5,5,5,5,3,3,3,4,6]
["RGL-046 17","2013-08-07",4,"Back",5,5,4,7,3,4,3,5,4]
["RGL-046 18","2013-08-21",4,"Back",5,5,4,4,4,6,3,4,4]
["RGL-046 19"]
["RGL-046 20"]
["RGL-046 21"]
["RGL-046 22"]
["RGL-046 23"]
[]
["RGL-047","x",null,null,null,null,null,null,null,null,null,null,null,"x",52,{"$f":"IF(Q1319<>\"\",ROUND($P$71*(AVERAGE(Q1319:U1319)-36),0),\"\")","v":9},"2013-08-28","2013-08-14","2013-08-07","2013-07-17","2013-06-26","2013-06-19","2013-06-12","2013-06-05","2013-05-29","2013-05-22","2013-05-15","2013-05-01","Calc.","Calc.","Calc.","Calc.","Calc."]
[null,"x",null,null,null,null,null,null,null,null,null,null,null,"x",null,null,52,48,47,44,43,43,49,44,48,46,44,46,54,54,54,54,54]
["RGL-047 1","2013-05-22",12,"Front",6,6,5,6,5,5,4,4,5]
["RGL-047 2","2013-06-05",9,"Front",7,4,6,5,4,4,7,3,4]
["RGL-047 3","2013-06-19",8,"Front",8,4,5,5,4,4,6,4,3]
["RGL-047 4","2013-07-17",8,"Front",6,8,7,4,3,3,6,3,4]
["RGL-047 5","2013-08-14",7,"Front",5,4,8,5,5,4,6,6,5]
["RGL-047 6","2013-08-28",7,"Front",9,5,8,6,4,5,6,4,5]
["RGL-047 7"]
["RGL-047 8"]
["RGL-047 9"]
["RGL-047 10"]
["RGL-047 11"]
[null,"x",null,null,null,null,null,null,null,null,null,null,null,"x"]
["RGL-047 12","2013-05-01",14,"Back",6,5,5,6,5,5,3,6,5]
["RGL-047 13","2013-05-15",13,"Back",6,4,5,5,3,5,5,6,5]
["RGL-047 14","2013-05-29",10,"Back",7,6,4,6,4,4,5,6,6]
["RGL-047 15","2013-06-12",8,"Back",6,4,6,5,6,5,5,5,7]
["RGL-047 16","2013-06-26",8,"Back",5,5,6,4,6,4,4,4,5]
["RGL-047 17","2013-08-07",7,"Back",6,7,5,5,4,5,4,5,6]
["RGL-047 18"]
["RGL-047 19"]
["RGL-047 20"]
["RGL-047 21"]
["RGL-047 22"]
["RGL-047 23"]
[]
["RGL-048","x",null,null,null,null,null,null,null,null,null,null,null,"x",37,{"$f":"IF(Q1346<>\"\",ROUND($P$71*(AVERAGE(Q1346:U1346)-36),0),\"\")","v":2},"2013-08-28","2013-08-14","2013-08-07","2013-07-31","2013-07-24","2013-06-26","2013-06-19","2013-06-12","2013-06-05","2013-05-29","2013-05-22","2013-05-15","2013-04-24","Calc.","Calc.","Calc.","Calc."]
[null,"x",null,null,null,null,null,null,null,null,null,null,null,"x",null,null,37,43,39,38,38,40,40,37,45,36,39,39,37,37,37,37,37]
["RGL-048 1","2013-05-22",1,"Front",6,5,6,4,4,3,4,3,4]
["RGL-048 2","2013-06-05",1,"Front",7,5,6,7,4,3,6,4,3]
["RGL-048 3","2013-06-19",3,"Front",5,4,5,4,5,4,4,4,5]
["RGL-048 4","2013-07-31",3,"Front",5,4,6,4,4,3,5,3,4]
["RGL-048 5","2013-08-14",2,"Front",6,4,6,5,5,3,5,4,5]
["RGL-048 6",41514,3,"Front",4,4,5,4,5,3,6,3,3]
["RGL-048 7"]
["RGL-048 8"]
["RGL-048 9"]
["RGL-048 10"]
["RGL-048 11"]
[null,"x",null,null,null,null,null,null,null,null,null,null,null,"x"]
["RGL-048 12","2013-05-15",1,"Back",6,4,5,8,2,4,3,3,4]
["RGL-048 13","2013-05-29",1,"Back",4,4,3,6,3,4,4,4,4]
["RGL-048 14","2013-06-12",3,"Back",4,5,4,4,3,5,3,5,4]
["RGL-048 15","2013-06-26",3,"Back",5,4,3,7,4,5,3,5,4]
["RGL-048 16","2013-07-24",3,"Back",6,4,5,5,3,3,4,3,5]
["RGL-048 17","2013-08-07",2,"Back",5,4,4,7,3,4,4,3,5]
["RGL-048 18"]
["RGL-048 19"]
["RGL-048 20"]
["RGL-048 21"]
["RGL-048 22"]
["RGL-048 23"]
[]
["RGL-049","x",null,null,null,null,null,null,null,null,null,null,null,"x",46,{"$f":"IF(Q1373<>\"\",ROUND($P$71*(AVERAGE(Q1373:U1373)-36),0),\"\")","v":15},"2013-05-01","Calc.","Calc.","Calc.","Calc.","Calc."]
[null,"x",null,null,null,null,null,null,null,null,null,null,null,"x",null,null,46,57,57,57,57,57]
["RGL-049 1"]
["RGL-049 2"]
["RGL-049 3"]
["RGL-049 4"]
["RGL-049 5"]
["RGL-049 6"]
["RGL-049 7"]
["RGL-049 8"]
["RGL-049 9"]
["RGL-049 10"]
["RGL-049 11"]
[null,"x",null,null,null,null,null,null,null,null,null,null,null,"x"]
["RGL-049 12","2013-05-01",17,"Back",8,7,6,5,5,4,3,3,5]
["RGL-049 13"]
["RGL-049 14"]
["RGL-049 15"]
["RGL-049 16"]
["RGL-049 17"]
["RGL-049 18"]
["RGL-049 19"]
["RGL-049 20"]
["RGL-049 21"]
["RGL-049 22"]
["RGL-049 23"]
[]
["RGL-050","x",null,null,null,null,null,null,null,null,null,null,null,"x",48,{"$f":"IF(Q1400<>\"\",ROUND($P$71*(AVERAGE(Q1400:U1400)-36),0),\"\")","v":13},"2013-08-28","2013-08-21","2013-08-14","2013-08-07","2013-07-31","2013-07-24","2013-07-17","2013-07-03","2013-06-26","2013-06-19","2013-06-12","2013-06-05","2013-05-29","2013-05-22","2013-05-15","2013-05-01","2012-09-05","2012-08-29","2012-08-22","2012-08-15","2012-08-08","2012-08-01","2012-07-25","2012-07-18","2012-07-11","2012-06-27","2012-06-20","2012-06-13","2012-05-30","2012-05-23","2012-05-16","2012-05-09","2012-05-02","2012-04-25","2011-08-24","2011-08-10","2011-07-27","2011-07-13","2011-06-08"]
[null,"x",null,null,null,null,null,null,null,null,null,null,null,"x",null,null,48,51,49,59,53,52,47,59,52,51,54,57,51,50,54,55,49,48,58,47,50,52,55,48,51,50,53,50,55,57,53,53,49,52,54,51,50,54,57]
["RGL-050 1","2013-05-22",13,"Front",8,5,8,4,5,4,5,5,6]
["RGL-050 2","2013-06-05",13,"Front",10,5,9,5,6,5,6,5,6]
["RGL-050 3","2013-06-19",14,"Front",7,5,9,6,5,3,6,3,7]
["RGL-050 4","2013-07-03",14,"Front",7,6,9,7,6,4,8,6,6]
["RGL-050 5",41472,15,"Front",6,6,6,5,3,5,7,5,4]
["RGL-050 6","2013-07-31",13,"Front",7,7,6,7,7,4,7,5,3]
["RGL-050 7","2013-08-14",14,"Front",8,6,6,5,5,5,5,4,5]
["RGL-050 8","2013-08-28",13,"Front",7,6,6,6,5,4,4,6,4]
["RGL-050 9"]
["RGL-050 10"]
["RGL-050 11"]
[null,"x",null,null,null,null,null,null,null,null,null,null,null,"x"]
["RGL-050 12","2013-05-01",12,"Back",9,6,5,6,5,6,6,6,6]
["RGL-050 13","2013-05-15",12,"Back",6,8,7,6,4,5,6,8,4]
["RGL-050 14","2013-05-29",12,"Back",6,8,5,6,5,6,4,6,5]
["RGL-050 15","2013-06-12",14,"Back",6,5,6,9,5,5,5,7,6]
["RGL-050 16","2013-06-26",13,"Back",6,5,6,4,6,8,6,4,7]
["RGL-050 17","2013-07-24",13,"Back",5,5,7,9,4,4,6,6,6]
["RGL-050 18","2013-08-07",13,"Back",7,6,8,10,6,8,5,5,4]
["RGL-050 19","2013-08-21",13,"Back",6,7,7,8,3,6,5,4,5]
["RGL-050 20"]
["RGL-050 21"]
["RGL-050 22"]
["RGL-050 23"]
[]
["RGL-051","x",null,null,null,null,null,null,null,null,null,null,null,"x",{"$f":"Q1427","v":46},{"$f":"IF(Q1427<>\"\",ROUND($P$71*(AVERAGE(Q1427:U1427)-36),0),\"\")","v":7},"2009-07-22","2009-07-15","Calc.","Calc.","Calc."]
[null,"x",null,null,null,null,null,null,null,null,null,null,null,"x",null,null,46,40,45,45,45]
["RGL-051 1"]
["RGL-051 2"]
["RGL-051 3"]
["RGL-051 4"]
["RGL-051 5"]
["RGL-051 6"]
["RGL-051 7"]
["RGL-051 8"]
["RGL-051 9"]
["RGL-051 10"]
["RGL-051 11"]
[null,"x",null,null,null,null,null,null,null,null,null,null,null,"x"]
["RGL-051 12"]
["RGL-051 13"]
["RGL-051 14"]
["RGL-051 15"]
["RGL-051 16"]
["RGL-051 17"]
["RGL-051 18"]
["RGL-051 19"]
["RGL-051 20"]
["RGL-051 21"]
["RGL-051 22"]
["RGL-051 23"]
[]
["RGL-052","x",null,null,null,null,null,null,null,null,null,null,null,"x",51,{"$f":"IF(Q1454<>\"\",ROUND($P$71*(AVERAGE(Q1454:U1454)-36),0),\"\")","v":6},"2013-06-12","2009-09-09","2009-09-02","2009-08-26","2009-08-19","2009-08-12"]
[null,"x",null,null,null,null,null,null,null,null,null,null,null,"x",null,null,51,40,45,44,38,49]
["RGL-052 1"]
["RGL-052 2"]
["RGL-052 3"]
["RGL-052 4"]
["RGL-052 5"]
["RGL-052 6"]
["RGL-052 7"]
["RGL-052 8"]
["RGL-052 9"]
["RGL-052 10"]
["RGL-052 11"]
[null,"x",null,null,null,null,null,null,null,null,null,null,null,"x"]
["RGL-052 12","2013-06-12",6,"Back",7,6,4,6,5,6,5,5,7]
["RGL-052 13"]
["RGL-052 14"]
["RGL-052 15"]
["RGL-052 16"]
["RGL-052 17"]
["RGL-052 18"]
["RGL-052 19"]
["RGL-052 20"]
["RGL-052 21"]
["RGL-052 22"]
["RGL-052 23"]
[]
["RGL-053","x",null,null,null,null,null,null,null,null,null,null,null,"x",40,{"$f":"IF(Q1481<>\"\",ROUND($P$71*(AVERAGE(Q1481:U1481)-36),0),\"\")","v":1},"2013-08-21","Calc.","Calc.","Calc.","Calc.","Calc."]
[null,"x",null,null,null,null,null,null,null,null,null,null,null,"x",null,null,40,36,36,36,36,36]
["RGL-053 1"]
["RGL-053 2"]
["RGL-053 3"]
["RGL-053 4"]
["RGL-053 5"]
["RGL-053 6"]
["RGL-053 7"]
["RGL-053 8"]
["RGL-053 9"]
["RGL-053 10"]
["RGL-053 11"]
[null,"x",null,null,null,null,null,null,null,null,null,null,null,"x"]
["RGL-053 12","2013-08-21",0,"Back",5,4,5,5,5,4,4,4,4]
["RGL-053 13"]
["RGL-053 14"]
["RGL-053 15"]
["RGL-053 16"]
["RGL-053 17"]
["RGL-053 18"]
["RGL-053 19"]
["RGL-053 20"]
["RGL-053 21"]
["RGL-053 22"]
["RGL-053 23"]
[]
["RGL-054","x",null,null,null,null,null,null,null,null,null,null,null,"x",51,{"$f":"IF(Q1508<>\"\",ROUND($P$71*(AVERAGE(Q1508:U1508)-36),0),\"\")","v":4},"2013-07-03","Calc.","Calc.","Calc.","Calc.","Calc."]
[null,"x",null,null,null,null,null,null,null,null,null,null,null,"x",null,null,51,39,39,39,39,39]
["RGL-054 1","2013-07-03",2,"Front",9,5,7,7,4,5,4,5,5]
["RGL-054 2"]
["RGL-054 3"]
["RGL-054 4"]
["RGL-054 5"]
["RGL-054 6"]
["RGL-054 7"]
["RGL-054 8"]
["RGL-054 9"]
["RGL-054 10"]
["RGL-054 11"]
[null,"x",null,null,null,null,null,null,null,null,null,null,null,"x"]
["RGL-054 12"]
["RGL-054 13"]
["RGL-054 14"]
["RGL-054 15"]
["RGL-054 16"]
["RGL-054 17"]
["RGL-054 18"]
["RGL-054 19"]
["RGL-054 20"]
["RGL-054 21"]
["RGL-054 22"]
["RGL-054 23"]
[]
["RGL-055","x",null,null,null,null,null,null,null,null,null,null,null,"x",42,{"$f":"IF(Q1535<>\"\",ROUND($P$71*(AVERAGE(Q1535:U1535)-36),0),\"\")","v":1},"2013-08-28","2013-08-21","2013-08-14","2013-08-07","2013-07-31","2013-07-24","2013-07-03","2013-06-26","2013-06-19","2013-06-12","2013-06-05","2013-05-29","2013-05-22","2013-05-15","2013-05-01","2012-09-05","2012-08-22","2012-08-15","2012-08-08","2012-08-01","2012-07-25","2012-07-18","2012-07-11","2012-06-27","2012-06-20","2012-06-13","2012-05-30","2012-05-23","2012-05-16","2012-05-09","2012-05-02","2012-04-25","2011-08-24","2011-08-17","2011-08-10","2011-08-03","2011-07-27"]
[null,"x",null,null,null,null,null,null,null,null,null,null,null,"x",null,null,42,38,42,32,34,39,43,39,35,37,39,39,40,41,40,39,37,35,43,39,38,40,39,35,45,37,37,41,43,43,39,37,42,39,40,38,40]
["RGL-055 1","2013-05-22",2,"Front",6,5,4,4,4,4,5,4,4]
["RGL-055 2","2013-06-05",3,"Front",5,4,6,6,3,4,4,3,4]
["RGL-055 3","2013-06-19",3,"Front",5,4,4,4,4,2,5,3,4]
["RGL-055 4","2013-07-03",1,"Front",7,5,5,5,4,3,6,4,4]
["RGL-055 5","2013-07-31",2,"Front",5,4,4,3,4,3,4,3,4]
["RGL-055 6","2013-08-14",1,"Front",5,4,6,5,5,4,5,5,3]
["RGL-055 7","2013-08-28",1,"Front",8,4,5,4,4,4,6,4,3]
["RGL-055 8"]
["RGL-055 9"]
["RGL-055 10"]
["RGL-055 11"]
[null,"x",null,null,null,null,null,null,null,null,null,null,null,"x"]
["RGL-055 12","2013-05-01",2,"Back",6,5,4,6,3,5,4,3,4]
["RGL-055 13","2013-05-15",2,"Back",8,4,4,4,4,4,4,5,4]
["RGL-055 14","2013-05-29",3,"Back",4,4,6,7,5,3,2,4,4]
["RGL-055 15","2013-06-12",3,"Back",7,3,4,4,4,4,3,4,4]
["RGL-055 16","2013-06-26",2,"Back",5,4,5,7,4,4,3,3,4]
["RGL-055 17","2013-07-24",2,"Back",5,5,4,5,3,4,4,6,3]
["RGL-055 18","2013-08-07",2,"Back",3,5,4,4,3,4,3,3,3]
["RGL-055 19","2013-08-21",2,"Back",5,5,5,4,3,4,3,3,6]
["RGL-055 20"]
["RGL-055 21"]
["RGL-055 22"]
["RGL-055 23"]
[]
["RGL-056","x",null,null,null,null,null,null,null,null,null,null,null,"x",38,{"$f":"IF(Q1562<>\"\",ROUND($P$71*(AVERAGE(Q1562:U1562)-36),0),\"\")","v":3},"2013-08-28","2013-08-14","2013-06-12","2010-08-25","2010-07-14","Calc.","Calc.","Calc."]
[null,"x",null,null,null,null,null,null,null,null,null,null,null,"x",null,null,38,39,38,40,44,41,41,41]
["RGL-056 1","2013-08-14",4,"Front",7,3,5,4,4,4,5,3,4]
["RGL-056 2","2013-08-28",4,"Front",6,4,6,4,4,2,5,3,4]
["RGL-056 3"]
["RGL-056 4"]
["RGL-056 5"]
["RGL-056 6"]
["RGL-056 7"]
["RGL-056 8"]
["RGL-056 9"]
["RGL-056 10"]
["RGL-056 11"]
[null,"x",null,null,null,null,null,null,null,null,null,null,null,"x"]
["RGL-056 12","2013-06-12",4,"Back",4,3,6,5,4,4,2,6,4]
["RGL-056 13"]
["RGL-056 14"]
["RGL-056 15"]
["RGL-056 16"]
["RGL-056 17"]
["RGL-056 18"]
["RGL-056 19"]
["RGL-056 20"]
["RGL-056 21"]
["RGL-056 22"]
["RGL-056 23"]
[]
["RGL-057","x",null,null,null,null,null,null,null,null,null,null,null,"x",{"$f":"Q1589","v":61},{"$f":"IF(Q1589<>\"\",ROUND($P$71*(AVERAGE(Q1589:U1589)-36),0),\"\")","v":12},"2009-04-29","'08 Score","'08 Score","'08 Score","'08 Score"]
[null,"x",null,null,null,null,null,null,null,null,null,null,null,"x",null,null,61,47,43,56,47]
["RGL-057 1"]
["RGL-057 2"]
["RGL-057 3"]
["RGL-057 4"]
["RGL-057 5"]
["RGL-057 6"]
["RGL-057 7"]
["RGL-057 8"]
["RGL-057 9"]
["RGL-057 10"]
["RGL-057 11"]
[null,"x",null,null,null,null,null,null,null,null,null,null,null,"x"]
["RGL-057 12"]
["RGL-057 13"]
["RGL-057 14"]
["RGL-057 15"]
["RGL-057 16"]
["RGL-057 17"]
["RGL-057 18"]
["RGL-057 19"]
["RGL-057 20"]
["RGL-057 21"]
["RGL-057 22"]
["RGL-057 23"]
[]
["RGL-058","x",null,null,null,null,null,null,null,null,null,null,null,"x",53,{"$f":"IF(Q1616<>\"\",ROUND($P$71*(AVERAGE(Q1616:U1616)-36),0),\"\")","v":18},"2013-06-05","2012-05-16","2010-06-23","2010-05-19","2009-05-06","2009-04-29","'08 Score"]
[null,"x",null,null,null,null,null,null,null,null,null,null,null,"x",null,null,66,53,62,60,52,63,56]
["RGL-058 1","2013-06-05",11,"Front",8,8,10,8,8,6,7,6,5]
["RGL-058 2"]
["RGL-058 3"]
["RGL-058 4"]
["RGL-058 5"]
["RGL-058 6"]
["RGL-058 7"]
["RGL-058 8"]
["RGL-058 9"]
["RGL-058 10"]
["RGL-058 11"]
[null,"x",null,null,null,null,null,null,null,null,null,null,null,"x"]
["RGL-058 12"]
["RGL-058 13"]
["RGL-058 14"]
["RGL-058 15"]
["RGL-058 16"]
["RGL-058 17"]
["RGL-058 18"]
["RGL-058 19"]
["RGL-058 20"]
["RGL-058 21"]
["RGL-058 22"]
["RGL-058 23"]
[]
["RGL-059","x",null,null,null,null,null,null,null,null,null,null,null,"x",41,{"$f":"IF(Q1643<>\"\",ROUND($P$71*(AVERAGE(Q1643:U1643)-36),0),\"\")","v":5},"2013-05-01","2012-08-15","2012-08-08","2012-08-01","2012-06-27","2010-06-23","2009-06-17","Calc.","Calc.","Calc."]
[null,"x",null,null,null,null,null,null,null,null,null,null,null,"x",null,null,41,44,44,42,41,49,46,45,45,45]
["RGL-059 1"]
["RGL-059 2"]
["RGL-059 3"]
["RGL-059 4"]
["RGL-059 5"]
["RGL-059 6"]
["RGL-059 7"]
["RGL-059 8"]
["RGL-059 9"]
["RGL-059 10"]
["RGL-059 11"]
[null,"x",null,null,null,null,null,null,null,null,null,null,null,"x"]
["RGL-059 12","2013-05-01",6,"Back",5,4,5,5,5,4,5,4,4]
["RGL-059 13"]
["RGL-059 14"]
["RGL-059 15"]
["RGL-059 16"]
["RGL-059 17"]
["RGL-059 18"]
["RGL-059 19"]
["RGL-059 20"]
["RGL-059 21"]
["RGL-059 22"]
["RGL-059 23"]
[]
["RGL-060","x",null,null,null,null,null,null,null,null,null,null,null,"x",51,{"$f":"IF(Q1670<>\"\",ROUND($P$71*(AVERAGE(Q1670:U1670)-36),0),\"\")","v":13},"2013-08-28","2013-08-21","2013-08-14","2013-08-07","2013-07-31","2013-07-24","2013-07-17","2013-07-03","2013-06-26","2013-06-19","2013-06-12","2013-06-05","2013-05-29","2013-05-22","2013-05-15","2013-05-01","2012-09-05","2012-08-29","2012-08-22","2012-08-15","2012-08-08","2012-08-01","2012-07-25","2012-07-18","2012-07-11","2012-06-27","2012-06-20","2012-06-13","2012-05-02","2012-04-25","2011-08-24","2011-08-17","2011-08-10","2011-08-03","2011-07-27"]
[null,"x",null,null,null,null,null,null,null,null,null,null,null,"x",null,null,51,49,47,56,60,54,61,56,50,59,51,53,43,49,46,48,51,48,64,53,49,49,54,45,53,51,59,59,45,54,51,54,53,49,59]
["RGL-060 1","2013-05-22",12,"Front",7,5,7,6,5,4,5,5,5]
["RGL-060 2","2013-06-05",9,"Front",6,6,7,7,7,4,6,6,4]
["RGL-060 3","2013-06-19",10,"Front",9,7,8,5,8,4,7,5,6]
["RGL-060 4","2013-07-03",12,"Front",7,6,9,5,6,4,9,5,5]
["RGL-060 5","2013-07-17",14,"Front",9,8,10,6,5,4,8,4,7]
["RGL-060 6","2013-07-31",16,"Front",10,6,8,6,6,5,9,6,4]
["RGL-060 7","2013-08-14",17,"Front",5,5,7,8,4,4,7,2,5]
["RGL-060 8","2013-08-28",14,"Front",8,4,7,5,5,3,7,4,8]
["RGL-060 9"]
["RGL-060 10"]
["RGL-060 11"]
[null,"x",null,null,null,null,null,null,null,null,null,null,null,"x"]
["RGL-060 12","2013-05-01",14,"Back",7,5,5,6,4,7,4,4,6]
["RGL-060 13","2013-05-15",13,"Back",4,6,6,5,6,6,5,4,4]
["RGL-060 14","2013-05-29",10,"Back",6,7,4,5,4,5,4,4,4]
["RGL-060 15","2013-06-12",9,"Back",6,7,5,6,6,6,4,5,6]
["RGL-060 16","2013-06-26",12,"Back",6,6,5,7,5,6,5,4,6]
["RGL-060 17","2013-07-24",16,"Back",6,6,7,9,4,7,4,7,4]
["RGL-060 18","2013-08-07",16,"Back",8,6,7,7,5,6,6,5,6]
["RGL-060 19","2013-08-21",16,"Back",5,6,6,6,6,5,5,4,6]
["RGL-060 20"]
["RGL-060 21"]
["RGL-060 22"]
["RGL-060 23"]
[]
["RGL-061","x",null,null,null,null,null,null,null,null,null,null,null,"x",51,{"$f":"IF(Q1697<>\"\",ROUND($P$71*(AVERAGE(Q1697:U1697)-36),0),\"\")","v":14},"2013-08-28","2013-08-21","2013-07-03","2013-06-05","2013-05-15","2013-05-01","2012-09-05","2012-08-29","2012-07-11","2012-06-27","2012-05-16","2012-05-02","2011-08-17","2011-07-27","2011-07-20","2009-08-19","2009-07-08"]
[null,"x",null,null,null,null,null,null,null,null,null,null,null,"x",null,null,51,51,57,52,58,55,48,45,48,54,59,60,57,55,52,54,52]
["RGL-061 1","2013-06-05",12,"Front",6,7,10,8,4,4,6,4,3]
["RGL-061 2",41458,12,"Front",8,7,10,8,5,4,7,4,4]
["RGL-061 3",41514,15,"Front",5,7,6,5,5,4,8,5,6]
["RGL-061 4"]
["RGL-061 5"]
["RGL-061 6"]
["RGL-061 7"]
["RGL-061 8"]
["RGL-061 9"]
["RGL-061 10"]
["RGL-061 11"]
[null,"x",null,null,null,null,null,null,null,null,null,null,null,"x"]
["RGL-061 12","2013-05-01",12,"Back",6,8,6,8,5,7,4,4,7]
["RGL-061 13","2013-05-15",11,"Back",8,4,5,10,5,8,5,5,8]
["RGL-061 14","2013-08-21",14,"Back",10,3,5,7,6,7,6,4,3]
["RGL-061 15"]
["RGL-061 16"]
["RGL-061 17"]
["RGL-061 18"]
["RGL-061 19"]
["RGL-061 20"]
["RGL-061 21"]
["RGL-061 22"]
["RGL-061 23"]
[]
["RGL-062","x",null,null,null,null,null,null,null,null,null,null,null,"x",40,{"$f":"IF(Q1724<>\"\",ROUND($P$71*(AVERAGE(Q1724:U1724)-36),0),\"\")","v":7},"2013-07-24","2013-07-17","2013-07-03","2012-08-15","2012-08-01","2011-08-03","2011-07-06","2010-08-04","2010-06-30","2009-08-05"]
[null,"x",null,null,null,null,null,null,null,null,null,null,null,"x",null,null,40,46,50,43,42,40,42,49,46,43]
["RGL-062 1",41458,6,"Front",10,5,5,5,7,2,6,4,6]
["RGL-062 2",41472,6,"Front",7,5,6,5,5,4,7,3,4]
["RGL-062 3"]
["RGL-062 4"]
["RGL-062 5"]
["RGL-062 6"]
["RGL-062 7"]
["RGL-062 8"]
["RGL-062 9"]
["RGL-062 10"]
["RGL-062 11"]
[null,"x",null,null,null,null,null,null,null,null,null,null,null,"x"]
["RGL-062 12","2013-07-24",7,"Back",5,4,4,6,4,4,4,5,4]
["RGL-062 13"]
["RGL-062 14"]
["RGL-062 15"]
["RGL-062 16"]
["RGL-062 17"]
["RGL-062 18"]
["RGL-062 19"]
["RGL-062 20"]
["RGL-062 21"]
["RGL-062 22"]
["RGL-062 23"]
[]
["RGL-063","x",null,null,null,null,null,null,null,null,null,null,null,"x",43,{"$f":"IF(Q1751<>\"\",ROUND($P$71*(AVERAGE(Q1751:U1751)-36),0),\"\")","v":5},"2013-08-28","2013-08-21","2013-08-14","2013-07-31","2013-07-24","2013-07-17","2013-07-03","2013-06-26","2013-06-19","2013-06-12","2013-06-05","2013-05-22","2013-05-15","2013-05-01","2012-09-05","2012-08-29","2012-08-22","2012-08-15","2012-08-08","2012-08-01","2012-07-25","2012-07-18","2012-06-27","2012-06-20","2012-06-13","2012-05-30","2012-05-23","2012-05-16","2012-05-09","2012-05-02","2012-04-25","2011-08-24","2011-08-17","2011-08-03","2011-07-27","2011-07-20"]
[null,"x",null,null,null,null,null,null,null,null,null,null,null,"x",null,null,43,36,48,41,45,43,42,40,49,41,43,41,47,41,43,41,42,45,41,43,43,44,43,42,45,41,44,47,45,44,40,47,51,41,46,46]
["RGL-063 1","2013-05-22",5,"Front",6,4,7,4,4,3,5,3,5]
["RGL-063 2","2013-06-05",5,"Front",4,6,4,7,5,4,5,5,3]
["RGL-063 3","2013-06-19",5,"Front",8,6,8,5,4,4,5,4,5]
["RGL-063 4","2013-07-03",5,"Front",5,4,6,5,5,3,6,4,4]
["RGL-063 5","2013-07-17",6,"Front",5,4,5,7,5,3,6,3,5]
["RGL-063 6","2013-07-31",6,"Front",6,5,5,4,4,4,4,3,6]
["RGL-063 7",41500,5,"Front",6,6,5,5,5,5,6,4,6]
["RGL-063 8",41514,5,"Front",6,5,6,4,4,3,8,2,5]
["RGL-063 9"]
["RGL-063 10"]
["RGL-063 11"]
[null,"x",null,null,null,null,null,null,null,null,null,null,null,"x"]
["RGL-063 12","2013-05-01",5,"Back",5,4,3,8,4,5,4,3,5]
["RGL-063 13","2013-05-15",5,"Back",8,7,7,5,4,4,3,5,4]
["RGL-063 14","2013-06-12",6,"Back",6,4,4,6,3,6,3,4,5]
["RGL-063 15","2013-06-26",7,"Back",5,5,5,4,4,4,4,4,5]
["RGL-063 16","2013-07-24",6,"Back",7,6,4,5,3,5,6,5,4]
["RGL-063 17","2013-08-21",6,"Back",5,3,6,6,3,3,3,3,4]
["RGL-063 18"]
["RGL-063 19"]
["RGL-063 20"]
["RGL-063 21"]
["RGL-063 22"]
["RGL-063 23"]
[]
["RGL-064","x",null,null,null,null,null,null,null,null,null,null,null,"x",56,{"$f":"IF(Q1778<>\"\",ROUND($P$71*(AVERAGE(Q1778:U1778)-36),0),\"\")","v":15},"2012-08-29","2012-08-22","2012-08-15","2012-08-08","2012-08-01","2012-07-25","2012-07-18","2012-07-11","2012-06-27","2012-06-20","2012-05-30","2012-05-23","2012-05-16","2012-05-09","2012-05-02","2012-04-25","2011-08-10","2011-08-03","2011-07-27","2011-07-20","2011-07-13"]
[null,"x",null,null,null,null,null,null,null,null,null,null,null,"x",null,null,56,59,55,55,51,60,55,55,60,61,54,64,54,58,56,57,54,57,60,55,56]
["RGL-064 1"]
["RGL-064 2"]
["RGL-064 3"]
["RGL-064 4"]
["RGL-064 5"]
["RGL-064 6"]
["RGL-064 7"]
["RGL-064 8"]
["RGL-064 9"]
["RGL-064 10"]
["RGL-064 11"]
[null,"x",null,null,null,null,null,null,null,null,null,null,null,"x"]
["RGL-064 12"]
["RGL-064 13"]
["RGL-064 14"]
["RGL-064 15"]
["RGL-064 16"]
["RGL-064 17"]
["RGL-064 18"]
["RGL-064 19"]
["RGL-064 20"]
["RGL-064 21"]
["RGL-064 22"]
["RGL-064 23"]
[]
["RGL-065","x",null,null,null,null,null,null,null,null,null,null,null,"x",55,{"$f":"IF(Q1805<>\"\",ROUND($P$71*(AVERAGE(Q1805:U1805)-36),0),\"\")","v":17},"2013-06-19","2012-08-22","2012-05-09","2012-04-25","2011-04-27","2010-08-04","2010-06-23","2010-06-02","2010-05-26"]
[null,"x",null,null,null,null,null,null,null,null,null,null,null,"x",null,null,55,56,54,57,62,59,65,61,54]
["RGL-065 1","2013-06-19",17,"Front",5,6,8,8,5,6,6,5,6]
["RGL-065 2"]
["RGL-065 3"]
["RGL-065 4"]
["RGL-065 5"]
["RGL-065 6"]
["RGL-065 7"]
["RGL-065 8"]
["RGL-065 9"]
["RGL-065 10"]
["RGL-065 11"]
[null,"x",null,null,null,null,null,null,null,null,null,null,null,"x"]
["RGL-065 12"]
["RGL-065 13"]
["RGL-065 14"]
["RGL-065 15"]
["RGL-065 16"]
["RGL-065 17"]
["RGL-065 18"]
["RGL-065 19"]
["RGL-065 20"]
["RGL-065 21"]
["RGL-065 22"]
["RGL-065 23"]
[]
["RGL-066","x",null,null,null,null,null,null,null,null,null,null,null,"x",48,{"$f":"IF(Q1832<>\"\",ROUND($P$71*(AVERAGE(Q1832:U1832)-36),0),\"\")","v":10},"2013-08-28","2013-08-21","2013-08-14","2013-08-07","2013-07-31","2013-07-24","2013-07-17","2013-07-03","2013-06-26","2013-06-19","2013-06-12","2013-06-05","2013-05-29","2013-05-22","2013-05-15","2012-09-05","2012-08-29","2012-08-22","2012-08-15","2012-08-08","2012-08-01","2012-07-25","2012-07-18","2012-07-11","2012-06-27","2012-06-20","2012-06-13","2012-05-30","2012-05-23","2011-08-24","2011-08-17","2011-08-10","2011-08-03","2011-07-20"]
[null,"x",null,null,null,null,null,null,null,null,null,null,null,"x",null,null,48,45,50,46,51,38,57,47,52,51,49,57,45,48,50,50,50,45,42,47,43,48,42,50,52,52,48,46,52,51,50,56,47,44]
["RGL-066 1","2013-05-22",9,"Front",7,7,7,6,4,3,6,3,5]
["RGL-066 2","2013-06-05",10,"Front",8,8,8,6,5,6,5,6,5]
["RGL-066 3",41444,11,"Front",10,5,8,6,5,4,6,3,4]
["RGL-066 4",41458,12,"Front",8,5,6,3,6,4,7,4,4]
["RGL-066 5",41472,12,"Front",10,7,6,7,5,4,8,3,7]
["RGL-066 6",41486,10,"Front",7,5,7,8,4,5,5,4,6]
["RGL-066 7",41500,9,"Front",7,4,8,6,6,5,6,3,5]
["RGL-066 8",41514,8,"Front",7,6,7,5,5,4,5,5,4]
["RGL-066 9"]
["RGL-066 10"]
["RGL-066 11"]
[null,"x",null,null,null,null,null,null,null,null,null,null,null,"x"]
["RGL-066 12","2013-05-15",9,"Back",8,5,5,6,4,6,4,4,8]
["RGL-066 13","2013-05-29",10,"Back",6,4,5,6,5,5,5,4,5]
["RGL-066 14","2013-06-12",11,"Back",6,7,8,5,4,6,3,5,5]
["RGL-066 15","2013-06-26",11,"Back",5,7,6,7,5,6,6,6,4]
["RGL-066 16","2013-07-24",12,"Back",5,6,4,5,4,5,2,4,3]
["RGL-066 17","2013-08-07",10,"Back",4,6,5,6,4,7,4,4,6]
["RGL-066 18","2013-08-21",10,"Back",5,6,7,7,3,5,4,4,4]
["RGL-066 19"]
["RGL-066 20"]
["RGL-066 21"]
["RGL-066 22"]
["RGL-066 23"]
[]
["RGL-067","x",null,null,null,null,null,null,null,null,null,null,null,"x",{"$f":"Q1859","v":49},10,"Calc.","Calc.","Calc.","Calc.","Calc."]
[null,"x",null,null,null,null,null,null,null,null,null,null,null,"x",null,null,49,49,49,49,49]
["RGL-067 1"]
["RGL-067 2"]
["RGL-067 3"]
["RGL-067 4"]
["RGL-067 5"]
["RGL-067 6"]
["RGL-067 7"]
["RGL-067 8"]
["RGL-067 9"]
["RGL-067 10"]
["RGL-067 11"]
[null,"x",null,null,null,null,null,null,null,null,null,null,null,"x"]
["RGL-067 12"]
["RGL-067 13"]
["RGL-067 14"]
["RGL-067 15"]
["RGL-067 16"]
["RGL-067 17"]
["RGL-067 18"]
["RGL-067 19"]
["RGL-067 20"]
["RGL-067 21"]
["RGL-067 22"]
["RGL-067 23"]
[]
["RGL-068","x",null,null,null,null,null,null,null,null,null,null,null,"x",49,{"$f":"IF(Q1886<>\"\",ROUND($P$71*(AVERAGE(Q1886:U1886)-36),0),\"\")","v":2},"2013-07-17","Calc.","Calc.","Calc.","Calc.","Calc."]
[null,"x",null,null,null,null,null,null,null,null,null,null,null,"x",null,null,49,36,36,36,36,36]
["RGL-068 1","2013-07-17",0,"Front",6,6,6,4,5,4,7,3,8]
["RGL-068 2"]
["RGL-068 3"]
["RGL-068 4"]
["RGL-068 5"]
["RGL-068 6"]
["RGL-068 7"]
["RGL-068 8"]
["RGL-068 9"]
["RGL-068 10"]
["RGL-068 11"]
[null,"x",null,null,null,null,null,null,null,null,null,null,null,"x"]
["RGL-068 12"]
["RGL-068 13"]
["RGL-068 14"]
["RGL-068 15"]
["RGL-068 16"]
["RGL-068 17"]
["RGL-068 18"]
["RGL-068 19"]
["RGL-068 20"]
["RGL-068 21"]
["RGL-068 22"]
["RGL-068 23"]
[]
["RGL-069","x",null,null,null,null,null,null,null,null,null,null,null,"x",{"$f":"Q1913","v":46},8,"2011-07-20","2011-07-13","2011-07-06","2011-06-29","2011-06-15"]
[null,"x",null,null,null,null,null,null,null,null,null,null,null,"x",null,null,46,49,45,46,47]
["RGL-069 1"]
["RGL-069 2"]
["RGL-069 3"]
["RGL-069 4"]
["RGL-069 5"]
["RGL-069 6"]
["RGL-069 7"]
["RGL-069 8"]
["RGL-069 9"]
["RGL-069 10"]
["RGL-069 11"]
[null,"x",null,null,null,null,null,null,null,null,null,null,null,"x"]
["RGL-069 12"]
["RGL-069 13"]
["RGL-069 14"]
["RGL-069 15"]
["RGL-069 16"]
["RGL-069 17"]
["RGL-069 18"]
["RGL-069 19"]
["RGL-069 20"]
["RGL-069 21"]
["RGL-069 22"]
["RGL-069 23"]
[]
["RGL-070","x",null,null,null,null,null,null,null,null,null,null,null,"x",47,{"$f":"IF(Q73<>\"\",ROUND($P$71*(AVERAGE(Q73:U73)-36),0),\"\")","v":""}]
[null,"x",null,null,null,null,null,null,null,null,null,null,null,"x"]
["RGL-070 1"]
["RGL-070 2"]
["RGL-070 3"]
["RGL-070 4"]
["RGL-070 5"]
["RGL-070 6"]
["RGL-070 7"]
["RGL-070 8"]
["RGL-070 9"]
["RGL-070 10"]
["RGL-070 11"]
[null,"x",null,null,null,null,null,null,null,null,null,null,null,"x"]
["RGL-070 12"]
["RGL-070 13"]
["RGL-070 14"]
["RGL-070 15"]
["RGL-070 16"]
["RGL-070 17"]
["RGL-070 18"]
["RGL-070 19"]
["RGL-070 20"]
["RGL-070 21"]
["RGL-070 22"]
["RGL-070 23"]
[]
["RGL-071","x",null,null,null,null,null,null,null,null,null,null,null,"x",{"$f":"Q1967","v":0},{"$f":"IF(Q1967<>\"\",ROUND($P$71*(AVERAGE(Q1967:U1967)-36),0),\"\")","v":""}]
[null,"x",null,null,null,null,null,null,null,null,null,null,null,"x"]
["RGL-071 1"]
["RGL-071 2"]
["RGL-071 3"]
["RGL-071 4"]
["RGL-071 5"]
["RGL-071 6"]
["RGL-071 7"]
["RGL-071 8"]
["RGL-071 9"]
["RGL-071 10"]
["RGL-071 11"]
[null,"x",null,null,null,null,null,null,null,null,null,null,null,"x"]
["RGL-071 12"]
["RGL-071 13"]
["RGL-071 14"]
["RGL-071 15"]
["RGL-071 16"]
["RGL-071 17"]
["RGL-071 18"]
["RGL-071 19"]
["RGL-071 20"]
["RGL-071 21"]
["RGL-071 22"]
["RGL-071 23"]
[]
["RGL-072","x",null,null,null,null,null,null,null,null,null,null,null,"x",{"$f":"Q1994","v":0},{"$f":"IF(Q1994<>\"\",ROUND($P$71*(AVERAGE(Q1994:U1994)-36),0),\"\")","v":""}]
[null,"x",null,null,null,null,null,null,null,null,null,null,null,"x"]
["RGL-072 1"]
["RGL-072 2"]
["RGL-072 3"]
["RGL-072 4"]
["RGL-072 5"]
["RGL-072 6"]
["RGL-072 7"]
["RGL-072 8"]
["RGL-072 9"]
["RGL-072 10"]
["RGL-072 11"]
[null,"x",null,null,null,null,null,null,null,null,null,null,null,"x"]
["RGL-072 12"]
["RGL-072 13"]
["RGL-072 14"]
["RGL-072 15"]
["RGL-072 16"]
["RGL-072 17"]
["RGL-072 18"]
["RGL-072 19"]
["RGL-072 20"]
["RGL-072 21"]
["RGL-072 22"]
["RGL-072 23"]
[]
["RGL-073","x",null,null,null,null,null,null,null,null,null,null,null,"x",{"$f":"Q2021","v":0},{"$f":"IF(Q2021<>\"\",ROUND($P$71*(AVERAGE(Q2021:U2021)-36),0),\"\")","v":""}]
[null,"x",null,null,null,null,null,null,null,null,null,null,null,"x"]
["RGL-073 1"]
["RGL-073 2"]
["RGL-073 3"]
["RGL-073 4"]
["RGL-073 5"]
["RGL-073 6"]
["RGL-073 7"]
["RGL-073 8"]
["RGL-073 9"]
["RGL-073 10"]
["RGL-073 11"]
[null,"x",null,null,null,null,null,null,null,null,null,null,null,"x"]
["RGL-073 12"]
["RGL-073 13"]
["RGL-073 14"]
["RGL-073 15"]
["RGL-073 16"]
["RGL-073 17"]
["RGL-073 18"]
["RGL-073 19"]
["RGL-073 20"]
["RGL-073 21"]
["RGL-073 22"]
["RGL-073 23"]
[]
["RGL-074","x",null,null,null,null,null,null,null,null,null,null,null,"x",{"$f":"Q2048","v":0},{"$f":"IF(Q2048<>\"\",ROUND($P$71*(AVERAGE(Q2048:U2048)-36),0),\"\")","v":""}]
[null,"x",null,null,null,null,null,null,null,null,null,null,null,"x"]
["RGL-074 1"]
["RGL-074 2"]
["RGL-074 3"]
["RGL-074 4"]
["RGL-074 5"]
["RGL-074 6"]
["RGL-074 7"]
["RGL-074 8"]
["RGL-074 9"]
["RGL-074 10"]
["RGL-074 11"]
[null,"x",null,null,null,null,null,null,null,null,null,null,null,"x"]
["RGL-074 12"]
["RGL-074 13"]
["RGL-074 14"]
["RGL-074 15"]
["RGL-074 16"]
["RGL-074 17"]
["RGL-074 18"]
["RGL-074 19"]
["RGL-074 20"]
["RGL-074 21"]
["RGL-074 22"]
["RGL-074 23"]
[]
["RGL-075","x",null,null,null,null,null,null,null,null,null,null,null,"x",{"$f":"Q2075","v":0},{"$f":"IF(Q2075<>\"\",ROUND($P$71*(AVERAGE(Q2075:U2075)-36),0),\"\")","v":""}]
[null,"x",null,null,null,null,null,null,null,null,null,null,null,"x"]
["RGL-075 1"]
["RGL-075 2"]
["RGL-075 3"]
["RGL-075 4"]
["RGL-075 5"]
["RGL-075 6"]
["RGL-075 7"]
["RGL-075 8"]
["RGL-075 9"]
["RGL-075 10"]
["RGL-075 11"]
[null,"x",null,null,null,null,null,null,null,null,null,null,null,"x"]
["RGL-075 12"]
["RGL-075 13"]
["RGL-075 14"]
["RGL-075 15"]
["RGL-075 16"]
["RGL-075 17"]
["RGL-075 18"]
["RGL-075 19"]
["RGL-075 20"]
["RGL-075 21"]
["RGL-075 22"]
["RGL-075 23"]
[]
["RGL-076","x",null,null,null,null,null,null,null,null,null,null,null,"x",{"$f":"Q2102","v":0},{"$f":"IF(Q2102<>\"\",ROUND($P$71*(AVERAGE(Q2102:U2102)-36),0),\"\")","v":""}]
[null,"x",null,null,null,null,null,null,null,null,null,null,null,"x"]
["RGL-076 1"]
["RGL-076 2"]
["RGL-076 3"]
["RGL-076 4"]
["RGL-076 5"]
["RGL-076 6"]
["RGL-076 7"]
["RGL-076 8"]
["RGL-076 9"]
["RGL-076 10"]
["RGL-076 11"]
[null,"x",null,null,null,null,null,null,null,null,null,null,null,"x"]
["RGL-076 12"]
["RGL-076 13"]
["RGL-076 14"]
["RGL-076 15"]
["RGL-076 16"]
["RGL-076 17"]
["RGL-076 18"]
["RGL-076 19"]
["RGL-076 20"]
["RGL-076 21"]
["RGL-076 22"]
["RGL-076 23"]
[]
["RGL-077","x",null,null,null,null,null,null,null,null,null,null,null,"x",{"$f":"Q2129","v":0},{"$f":"IF(Q2129<>\"\",ROUND($P$71*(AVERAGE(Q2129:U2129)-36),0),\"\")","v":""}]
[null,"x",null,null,null,null,null,null,null,null,null,null,null,"x"]
["RGL-077 1"]
["RGL-077 2"]
["RGL-077 3"]
["RGL-077 4"]
["RGL-077 5"]
["RGL-077 6"]
["RGL-077 7"]
["RGL-077 8"]
["RGL-077 9"]
["RGL-077 10"]
["RGL-077 11"]
[null,"x",null,null,null,null,null,null,null,null,null,null,null,"x"]
["RGL-077 12"]
["RGL-077 13"]
["RGL-077 14"]
["RGL-077 15"]
["RGL-077 16"]
["RGL-077 17"]
["RGL-077 18"]
["RGL-077 19"]
["RGL-077 20"]
["RGL-077 21"]
["RGL-077 22"]
["RGL-077 23"]
[]
["RGL-078","x",null,null,null,null,null,null,null,null,null,null,null,"x",{"$f":"Q2156","v":0},{"$f":"IF(Q2156<>\"\",ROUND($P$71*(AVERAGE(Q2156:U2156)-36),0),\"\")","v":""}]
[null,"x",null,null,null,null,null,null,null,null,null,null,null,"x"]
["RGL-078 1"]
["RGL-078 2"]
["RGL-078 3"]
["RGL-078 4"]
["RGL-078 5"]
["RGL-078 6"]
["RGL-078 7"]
["RGL-078 8"]
["RGL-078 9"]
["RGL-078 10"]
["RGL-078 11"]
[null,"x",null,null,null,null,null,null,null,null,null,null,null,"x"]
["RGL-078 12"]
["RGL-078 13"]
["RGL-078 14"]
["RGL-078 15"]
["RGL-078 16"]
["RGL-078 17"]
["RGL-078 18"]
["RGL-078 19"]
["RGL-078 20"]
["RGL-078 21"]
["RGL-078 22"]
["RGL-078 23"]
[]
["RGL-079","x",null,null,null,null,null,null,null,null,null,null,null,"x",{"$f":"Q2183","v":0},{"$f":"IF(Q2183<>\"\",ROUND($P$71*(AVERAGE(Q2183:U2183)-36),0),\"\")","v":""}]
[null,"x",null,null,null,null,null,null,null,null,null,null,null,"x"]
["RGL-079 1"]
["RGL-079 2"]
["RGL-079 3"]
["RGL-079 4"]
["RGL-079 5"]
["RGL-079 6"]
["RGL-079 7"]
["RGL-079 8"]
["RGL-079 9"]
["RGL-079 10"]
["RGL-079 11"]
[null,"x",null,null,null,null,null,null,null,null,null,null,null,"x"]
["RGL-079 12"]
["RGL-079 13"]
["RGL-079 14"]
["RGL-079 15"]
["RGL-079 16"]
["RGL-079 17"]
["RGL-079 18"]
["RGL-079 19"]
["RGL-079 20"]
["RGL-079 21"]
["RGL-079 22"]
["RGL-079 23"]
[]
["RGL-080","x",null,null,null,null,null,null,null,null,null,null,null,"x",{"$f":"Q2210","v":0},{"$f":"IF(Q2210<>\"\",ROUND($P$71*(AVERAGE(Q2210:U2210)-36),0),\"\")","v":""}]
[null,"x",null,null,null,null,null,null,null,null,null,null,null,"x"]
["RGL-080 1"]
["RGL-080 2"]
["RGL-080 3"]
["RGL-080 4"]
["RGL-080 5"]
["RGL-080 6"]
["RGL-080 7"]
["RGL-080 8"]
["RGL-080 9"]
["RGL-080 10"]
["RGL-080 11"]
[null,"x",null,null,null,null,null,null,null,null,null,null,null,"x"]
["RGL-080 12"]
["RGL-080 13"]
["RGL-080 14"]
["RGL-080 15"]
["RGL-080 16"]
["RGL-080 17"]
["RGL-080 18"]
["RGL-080 19"]
["RGL-080 20"]
["RGL-080 21"]
["RGL-080 22"]
["RGL-080 23"]
[]
["RGL-081","x",null,null,null,null,null,null,null,null,null,null,null,"x",{"$f":"Q2237","v":0},{"$f":"IF(Q2237<>\"\",ROUND($P$71*(AVERAGE(Q2237:U2237)-36),0),\"\")","v":""}]
[null,"x",null,null,null,null,null,null,null,null,null,null,null,"x"]
["RGL-081 1"]
["RGL-081 2"]
["RGL-081 3"]
["RGL-081 4"]
["RGL-081 5"]
["RGL-081 6"]
["RGL-081 7"]
["RGL-081 8"]
["RGL-081 9"]
["RGL-081 10"]
["RGL-081 11"]
[null,"x",null,null,null,null,null,null,null,null,null,null,null,"x"]
["RGL-081 12"]
["RGL-081 13"]
["RGL-081 14"]
["RGL-081 15"]
["RGL-081 16"]
["RGL-081 17"]
["RGL-081 18"]
["RGL-081 19"]
["RGL-081 20"]
["RGL-081 21"]
["RGL-081 22"]
["RGL-081 23"]
[]
["RGL-082","x",null,null,null,null,null,null,null,null,null,null,null,"x",{"$f":"Q2264","v":0},{"$f":"IF(Q2264<>\"\",ROUND($P$71*(AVERAGE(Q2264:U2264)-36),0),\"\")","v":""}]
[null,"x",null,null,null,null,null,null,null,null,null,null,null,"x"]
["RGL-082 1"]
["RGL-082 2"]
["RGL-082 3"]
["RGL-082 4"]
["RGL-082 5"]
["RGL-082 6"]
["RGL-082 7"]
["RGL-082 8"]
["RGL-082 9"]
["RGL-082 10"]
["RGL-082 11"]
[null,"x",null,null,null,null,null,null,null,null,null,null,null,"x"]
["RGL-082 12"]
["RGL-082 13"]
["RGL-082 14"]
["RGL-082 15"]
["RGL-082 16"]
["RGL-082 17"]
["RGL-082 18"]
["RGL-082 19"]
["RGL-082 20"]
["RGL-082 21"]
["RGL-082 22"]
["RGL-082 23"]
[]
["RGL-083","x",null,null,null,null,null,null,null,null,null,null,null,"x",{"$f":"Q2291","v":0},{"$f":"IF(Q2291<>\"\",ROUND($P$71*(AVERAGE(Q2291:U2291)-36),0),\"\")","v":""}]
[null,"x",null,null,null,null,null,null,null,null,null,null,null,"x"]
["RGL-083 1"]
["RGL-083 2"]
["RGL-083 3"]
["RGL-083 4"]
["RGL-083 5"]
["RGL-083 6"]
["RGL-083 7"]
["RGL-083 8"]
["RGL-083 9"]
["RGL-083 10"]
["RGL-083 11"]
[null,"x",null,null,null,null,null,null,null,null,null,null,null,"x"]
["RGL-083 12"]
["RGL-083 13"]
["RGL-083 14"]
["RGL-083 15"]
["RGL-083 16"]
["RGL-083 17"]
["RGL-083 18"]
["RGL-083 19"]
["RGL-083 20"]
["RGL-083 21"]
["RGL-083 22"]
["RGL-083 23"]
[]
["RGL-084","x",null,null,null,null,null,null,null,null,null,null,null,"x",{"$f":"Q2318","v":0},{"$f":"IF(Q2318<>\"\",ROUND($P$71*(AVERAGE(Q2318:U2318)-36),0),\"\")","v":""}]
[null,"x",null,null,null,null,null,null,null,null,null,null,null,"x"]
["RGL-084 1"]
["RGL-084 2"]
["RGL-084 3"]
["RGL-084 4"]
["RGL-084 5"]
["RGL-084 6"]
["RGL-084 7"]
["RGL-084 8"]
["RGL-084 9"]
["RGL-084 10"]
["RGL-084 11"]
[null,"x",null,null,null,null,null,null,null,null,null,null,null,"x"]
["RGL-084 12"]
["RGL-084 13"]
["RGL-084 14"]
["RGL-084 15"]
["RGL-084 16"]
["RGL-084 17"]
["RGL-084 18"]
["RGL-084 19"]
["RGL-084 20"]
["RGL-084 21"]
["RGL-084 22"]
["RGL-084 23"]
[]
["RGL-085","x",null,null,null,null,null,null,null,null,null,null,null,"x",{"$f":"Q2345","v":0},{"$f":"IF(Q2345<>\"\",ROUND($P$71*(AVERAGE(Q2345:U2345)-36),0),\"\")","v":""}]
[null,"x",null,null,null,null,null,null,null,null,null,null,null,"x"]
["RGL-085 1"]
["RGL-085 2"]
["RGL-085 3"]
["RGL-085 4"]
["RGL-085 5"]
["RGL-085 6"]
["RGL-085 7"]
["RGL-085 8"]
["RGL-085 9"]
["RGL-085 10"]
["RGL-085 11"]
[null,"x",null,null,null,null,null,null,null,null,null,null,null,"x"]
["RGL-085 12"]
["RGL-085 13"]
["RGL-085 14"]
["RGL-085 15"]
["RGL-085 16"]
["RGL-085 17"]
["RGL-085 18"]
["RGL-085 19"]
["RGL-085 20"]
["RGL-085 21"]
["RGL-085 22"]
["RGL-085 23"]
[]
["RGL-086","x",null,null,null,null,null,null,null,null,null,null,null,"x",{"$f":"Q2372","v":0},{"$f":"IF(Q2372<>\"\",ROUND($P$71*(AVERAGE(Q2372:U2372)-36),0),\"\")","v":""}]
[null,"x",null,null,null,null,null,null,null,null,null,null,null,"x"]
["RGL-086 1"]
["RGL-086 2"]
["RGL-086 3"]
["RGL-086 4"]
["RGL-086 5"]
["RGL-086 6"]
["RGL-086 7"]
["RGL-086 8"]
["RGL-086 9"]
["RGL-086 10"]
["RGL-086 11"]
[null,"x",null,null,null,null,null,null,null,null,null,null,null,"x"]
["RGL-086 12"]
["RGL-086 13"]
["RGL-086 14"]
["RGL-086 15"]
["RGL-086 16"]
["RGL-086 17"]
["RGL-086 18"]
["RGL-086 19"]
["RGL-086 20"]
["RGL-086 21"]
["RGL-086 22"]
["RGL-086 23"]
[]
["RGL-087","x",null,null,null,null,null,null,null,null,null,null,null,"x",{"$f":"Q2399","v":0},{"$f":"IF(Q2399<>\"\",ROUND($P$71*(AVERAGE(Q2399:U2399)-36),0),\"\")","v":""}]
[null,"x",null,null,null,null,null,null,null,null,null,null,null,"x"]
["RGL-087 1"]
["RGL-087 2"]
["RGL-087 3"]
["RGL-087 4"]
["RGL-087 5"]
["RGL-087 6"]
["RGL-087 7"]
["RGL-087 8"]
["RGL-087 9"]
["RGL-087 10"]
["RGL-087 11"]
[null,"x",null,null,null,null,null,null,null,null,null,null,null,"x"]
["RGL-087 12"]
["RGL-087 13"]
["RGL-087 14"]
["RGL-087 15"]
["RGL-087 16"]
["RGL-087 17"]
["RGL-087 18"]
["RGL-087 19"]
["RGL-087 20"]
["RGL-087 21"]
["RGL-087 22"]
["RGL-087 23"]
[]
["RGL-088","x",null,null,null,null,null,null,null,null,null,null,null,"x",{"$f":"Q2426","v":0},{"$f":"IF(Q2426<>\"\",ROUND($P$71*(AVERAGE(Q2426:U2426)-36),0),\"\")","v":""}]
[null,"x",null,null,null,null,null,null,null,null,null,null,null,"x"]
["RGL-088 1"]
["RGL-088 2"]
["RGL-088 3"]
["RGL-088 4"]
["RGL-088 5"]
["RGL-088 6"]
["RGL-088 7"]
["RGL-088 8"]
["RGL-088 9"]
["RGL-088 10"]
["RGL-088 11"]
[null,"x",null,null,null,null,null,null,null,null,null,null,null,"x"]
["RGL-088 12"]
["RGL-088 13"]
["RGL-088 14"]
["RGL-088 15"]
["RGL-088 16"]
["RGL-088 17"]
["RGL-088 18"]
["RGL-088 19"]
["RGL-088 20"]
["RGL-088 21"]
["RGL-088 22"]
["RGL-088 23"]
[]
["RGL-089","x",null,null,null,null,null,null,null,null,null,null,null,"x",{"$f":"Q2453","v":0},{"$f":"IF(Q2453<>\"\",ROUND($P$71*(AVERAGE(Q2453:U2453)-36),0),\"\")","v":""}]
[null,"x",null,null,null,null,null,null,null,null,null,null,null,"x"]
["RGL-089 1"]
["RGL-089 2"]
["RGL-089 3"]
["RGL-089 4"]
["RGL-089 5"]
["RGL-089 6"]
["RGL-089 7"]
["RGL-089 8"]
["RGL-089 9"]
["RGL-089 10"]
["RGL-089 11"]
[null,"x",null,null,null,null,null,null,null,null,null,null,null,"x"]
["RGL-089 12"]
["RGL-089 13"]
["RGL-089 14"]
["RGL-089 15"]
["RGL-089 16"]
["RGL-089 17"]
["RGL-089 18"]
["RGL-089 19"]
["RGL-089 20"]
["RGL-089 21"]
["RGL-089 22"]
["RGL-089 23"]
[]
["RGL-090","x",null,null,null,null,null,null,null,null,null,null,null,"x",{"$f":"Q2480","v":0},{"$f":"IF(Q2480<>\"\",ROUND($P$71*(AVERAGE(Q2480:U2480)-36),0),\"\")","v":""}]
[null,"x",null,null,null,null,null,null,null,null,null,null,null,"x"]
["RGL-090 1"]
["RGL-090 2"]
["RGL-090 3"]
["RGL-090 4"]
["RGL-090 5"]
["RGL-090 6"]
["RGL-090 7"]
["RGL-090 8"]
["RGL-090 9"]
["RGL-090 10"]
["RGL-090 11"]
[null,"x",null,null,null,null,null,null,null,null,null,null,null,"x"]
["RGL-090 12"]
["RGL-090 13"]
["RGL-090 14"]
["RGL-090 15"]
["RGL-090 16"]
["RGL-090 17"]
["RGL-090 18"]
["RGL-090 19"]
["RGL-090 20"]
["RGL-090 21"]
["RGL-090 22"]
["RGL-090 23"]
[]
["RGL-091","x",null,null,null,null,null,null,null,null,null,null,null,"x",{"$f":"Q2507","v":0},{"$f":"IF(Q2507<>\"\",ROUND($P$71*(AVERAGE(Q2507:U2507)-36),0),\"\")","v":""}]
[null,"x",null,null,null,null,null,null,null,null,null,null,null,"x"]
["RGL-091 1"]
["RGL-091 2"]
["RGL-091 3"]
["RGL-091 4"]
["RGL-091 5"]
["RGL-091 6"]
["RGL-091 7"]
["RGL-091 8"]
["RGL-091 9"]
["RGL-091 10"]
["RGL-091 11"]
[null,"x",null,null,null,null,null,null,null,null,null,null,null,"x"]
["RGL-091 12"]
["RGL-091 13"]
["RGL-091 14"]
["RGL-091 15"]
["RGL-091 16"]
["RGL-091 17"]
["RGL-091 18"]
["RGL-091 19"]
["RGL-091 20"]
["RGL-091 21"]
["RGL-091 22"]
["RGL-091 23"]
[]
["RGL-092","x",null,null,null,null,null,null,null,null,null,null,null,"x",{"$f":"Q2534","v":0},{"$f":"IF(Q2534<>\"\",ROUND($P$71*(AVERAGE(Q2534:U2534)-36),0),\"\")","v":""}]
[null,"x",null,null,null,null,null,null,null,null,null,null,null,"x"]
["RGL-092 1"]
["RGL-092 2"]
["RGL-092 3"]
["RGL-092 4"]
["RGL-092 5"]
["RGL-092 6"]
["RGL-092 7"]
["RGL-092 8"]
["RGL-092 9"]
["RGL-092 10"]
["RGL-092 11"]
[null,"x",null,null,null,null,null,null,null,null,null,null,null,"x"]
["RGL-092 12"]
["RGL-092 13"]
["RGL-092 14"]
["RGL-092 15"]
["RGL-092 16"]
["RGL-092 17"]
["RGL-092 18"]
["RGL-092 19"]
["RGL-092 20"]
["RGL-092 21"]
["RGL-092 22"]
["RGL-092 23"]
[]
["RGL-093","x",null,null,null,null,null,null,null,null,null,null,null,"x",{"$f":"Q2561","v":0},{"$f":"IF(Q2561<>\"\",ROUND($P$71*(AVERAGE(Q2561:U2561)-36),0),\"\")","v":""}]
[null,"x",null,null,null,null,null,null,null,null,null,null,null,"x"]
["RGL-093 1"]
["RGL-093 2"]
["RGL-093 3"]
["RGL-093 4"]
["RGL-093 5"]
["RGL-093 6"]
["RGL-093 7"]
["RGL-093 8"]
["RGL-093 9"]
["RGL-093 10"]
["RGL-093 11"]
[null,"x",null,null,null,null,null,null,null,null,null,null,null,"x"]
["RGL-093 12"]
["RGL-093 13"]
["RGL-093 14"]
["RGL-093 15"]
["RGL-093 16"]
["RGL-093 17"]
["RGL-093 18"]
["RGL-093 19"]
["RGL-093 20"]
["RGL-093 21"]
["RGL-093 22"]
["RGL-093 23"]
[]
["RGL-094","x",null,null,null,null,null,null,null,null,null,null,null,"x",{"$f":"Q2588","v":0},{"$f":"IF(Q2588<>\"\",ROUND($P$71*(AVERAGE(Q2588:U2588)-36),0),\"\")","v":""}]
[null,"x",null,null,null,null,null,null,null,null,null,null,null,"x"]
["RGL-094 1"]
["RGL-094 2"]
["RGL-094 3"]
["RGL-094 4"]
["RGL-094 5"]
["RGL-094 6"]
["RGL-094 7"]
["RGL-094 8"]
["RGL-094 9"]
["RGL-094 10"]
["RGL-094 11"]
[null,"x",null,null,null,null,null,null,null,null,null,null,null,"x"]
["RGL-094 12"]
["RGL-094 13"]
["RGL-094 14"]
["RGL-094 15"]
["RGL-094 16"]
["RGL-094 17"]
["RGL-094 18"]
["RGL-094 19"]
["RGL-094 20"]
["RGL-094 21"]
["RGL-094 22"]
["RGL-094 23"]
[]
["RGL-095","x",null,null,null,null,null,null,null,null,null,null,null,"x",{"$f":"Q2615","v":0},{"$f":"IF(Q2615<>\"\",ROUND($P$71*(AVERAGE(Q2615:U2615)-36),0),\"\")","v":""}]
[null,"x",null,null,null,null,null,null,null,null,null,null,null,"x"]
["RGL-095 1"]
["RGL-095 2"]
["RGL-095 3"]
["RGL-095 4"]
["RGL-095 5"]
["RGL-095 6"]
["RGL-095 7"]
["RGL-095 8"]
["RGL-095 9"]
["RGL-095 10"]
["RGL-095 11"]
[null,"x",null,null,null,null,null,null,null,null,null,null,null,"x"]
["RGL-095 12"]
["RGL-095 13"]
["RGL-095 14"]
["RGL-095 15"]
["RGL-095 16"]
["RGL-095 17"]
["RGL-095 18"]
["RGL-095 19"]
["RGL-095 20"]
["RGL-095 21"]
["RGL-095 22"]
["RGL-095 23"]
[]
["RGL-096","x",null,null,null,null,null,null,null,null,null,null,null,"x",{"$f":"Q2642","v":0},{"$f":"IF(Q2642<>\"\",ROUND($P$71*(AVERAGE(Q2642:U2642)-36),0),\"\")","v":""}]
[null,"x",null,null,null,null,null,null,null,null,null,null,null,"x"]
["RGL-096 1"]
["RGL-096 2"]
["RGL-096 3"]
["RGL-096 4"]
["RGL-096 5"]
["RGL-096 6"]
["RGL-096 7"]
["RGL-096 8"]
["RGL-096 9"]
["RGL-096 10"]
["RGL-096 11"]
[null,"x",null,null,null,null,null,null,null,null,null,null,null,"x"]
["RGL-096 12"]
["RGL-096 13"]
["RGL-096 14"]
["RGL-096 15"]
["RGL-096 16"]
["RGL-096 17"]
["RGL-096 18"]
["RGL-096 19"]
["RGL-096 20"]
["RGL-096 21"]
["RGL-096 22"]
["RGL-096 23"]
[]
["RGL-097","x",null,null,null,null,null,null,null,null,null,null,null,"x",{"$f":"Q2669","v":0},{"$f":"IF(Q2669<>\"\",ROUND($P$71*(AVERAGE(Q2669:U2669)-36),0),\"\")","v":""}]
[null,"x",null,null,null,null,null,null,null,null,null,null,null,"x"]
["RGL-097 1"]
["RGL-097 2"]
["RGL-097 3"]
["RGL-097 4"]
["RGL-097 5"]
["RGL-097 6"]
["RGL-097 7"]
["RGL-097 8"]
["RGL-097 9"]
["RGL-097 10"]
["RGL-097 11"]
[null,"x",null,null,null,null,null,null,null,null,null,null,null,"x"]
["RGL-097 12"]
["RGL-097 13"]
["RGL-097 14"]
["RGL-097 15"]
["RGL-097 16"]
["RGL-097 17"]
["RGL-097 18"]
["RGL-097 19"]
["RGL-097 20"]
["RGL-097 21"]
["RGL-097 22"]
["RGL-097 23"]
[]
["RGL-098",null,null,null,null,null,null,null,null,null,null,null,null,null,{"$f":"Q2696","v":0},{"$f":"IF(Q2696<>\"\",ROUND($P$71*(AVERAGE(Q2696:U2696)-36),0),\"\")","v":""}]
[]
["RGL-098 1"]
["RGL-098 2"]
["RGL-098 3"]
["RGL-098 4"]
["RGL-098 5"]
["RGL-098 6"]
["RGL-098 7"]
["RGL-098 8"]
["RGL-098 9"]
["RGL-098 10"]
["RGL-098 11"]
[null,"x",null,null,null,null,null,null,null,null,null,null,null,"x"]
["RGL-098 12"]
["RGL-098 13"]
["RGL-098 14"]
["RGL-098 15"]
["RGL-098 16"]
["RGL-098 17"]
["RGL-098 18"]
["RGL-098 19"]
["RGL-098 20"]
["RGL-098 21"]
["RGL-098 22"]
["RGL-098 23"]
[]
["RGL-099","x",null,null,null,null,null,null,null,null,null,null,null,"x"]
[null,"x",null,null,null,null,null,null,null,null,null,null,null,"x"]
["RGL-099 1"]
["RGL-099 2"]
["RGL-099 3"]
["RGL-099 4"]
["RGL-099 5"]
["RGL-099 6"]
["RGL-099 7"]
["RGL-099 8"]
["RGL-099 9"]
["RGL-099 10"]
["RGL-099 11"]
[null,"x",null,null,null,null,null,null,null,null,null,null,null,"x"]
["RGL-099 12"]
["RGL-099 13"]
["RGL-099 14"]
["RGL-099 15"]
["RGL-099 16"]
["RGL-099 17"]
["RGL-099 18"]
["RGL-099 19"]
["RGL-099 20"]
["RGL-099 21"]
["RGL-099 22"]
["RGL-099 23"]
[]
["RGL-100","x",null,null,null,null,null,null,null,null,null,null,null,"x"]
[null,"x",null,null,null,null,null,null,null,null,null,null,null,"x"]
["RGL-100 1"]
["RGL-100 2"]
["RGL-100 3"]
["RGL-100 4"]
["RGL-100 5"]
["RGL-100 6"]
["RGL-100 7"]
["RGL-100 8"]
["RGL-100 9"]
["RGL-100 10"]
["RGL-100 11"]
[null,"x",null,null,null,null,null,null,null,null,null,null,null,"x"]
["RGL-100 12"]
["RGL-100 13"]
["RGL-100 14"]
["RGL-100 15"]
["RGL-100 16"]
["RGL-100 17"]
["RGL-100 18"]
["RGL-100 19"]
["RGL-100 20"]
["RGL-100 21"]
["RGL-100 22"]
["RGL-100 23"]

{"sheet":"SCORE ENTRY WORKSHEET","index":29,"n_rows":102,"n_cols":36,"rows_kept":102,"cut":false,"hidden":false,"merged":[[6,0,6,12],[7,0,7,12],[9,0,9,2],[27,0,27,12],[10,0,10,2],[11,0,11,2],[12,0,12,2],[13,0,13,2],[14,0,14,2]]}
[657564445,null,null,null,null,null,null,null,null,null,null,null,null,null,null,null,null,null,null,1]
[null,null,null,null,null,null,null,null,null,null,null,null,null,null,null,null,null,null,null,"Tee Times Loaded"]
[null,null,null,null,null,null,null,null,null,null,null,null,null,null,null,null,null,null,null,null,null,null,null,null,null,null,null,null,null,null,null,null,null,null,null,"4:00"]
[null,null,null,null,null,null,null,null,null,null,null,null,null,null,null,null,null,null,null,null,null,null,null,null,null,null,null,null,null,null,null,null,null,null,null,"4:08"]
[null,null,null,null,null,null,null,null,null,null,null,null,null,null,null,null,null,null,null,null,null,null,null,null,null,null,null,null,null,null,null,null,null,null,null,"4:16"]
[null,null,null,null,null,null,null,null,null,null,null,null,null,null,null,null,null,null,null,null,null,null,null,null,null,null,null,null,null,null,null,null,null,null,null,"4:24"]
[{"$f":"'COURSE & LEAGUE DETAILS'!$B$3","v":"Woods at Westminster"},null,null,null,null,null,null,null,null,null,null,null,null,null,null,null,null,null,null,null,null,null,null,null,null,null,null,null,null,null,null,null,null,null,null,"4:32"]
[{"$f":"'COURSE & LEAGUE DETAILS'!$B$2&\" - \"&N12&\" - \"&N14&\" - \"&TEXT(N13, \"MMM dd, yyyy\")","v":"Romano Golf League - Week 9 - FRONT - Aug 28, 2013"},null,null,null,null,null,null,null,null,null,null,null,null,null,null,null,null,null,null,null,null,null,null,null,null,null,null,null,null,null,null,null,null,null,null,"4:40"]
[null,null,null,null,null,null,null,null,null,null,null,null,null,null,null,null,null,null,null,null,null,null,null,null,null,null,null,null,null,null,null,null,null,null,null,"4:48"]
["HOLE",null,null,{"$f":"IF(LEFT($N$14)=\"F\",1,IF(LEFT($N$14)=\"B\",10,\"ERROR\"))","v":1},{"$f":"IF(LEFT($N$14)=\"F\",2,IF(LEFT($N$14)=\"B\",11,\"ERROR\"))","v":2},{"$f":"IF(LEFT($N$14)=\"F\",3,IF(LEFT($N$14)=\"B\",12,\"ERROR\"))","v":3},{"$f":"IF(LEFT($N$14)=\"F\",4,IF(LEFT($N$14)=\"B\",13,\"ERROR\"))","v":4},{"$f":"IF(LEFT($N$14)=\"F\",5,IF(LEFT($N$14)=\"B\",14,\"ERROR\"))","v":5},{"$f":"IF(LEFT($N$14)=\"F\",6,IF(LEFT($N$14)=\"B\",15,\"ERROR\"))","v":6},{"$f":"IF(LEFT($N$14)=\"F\",7,IF(LEFT($N$14)=\"B\",16,\"ERROR\"))","v":7},{"$f":"IF(LEFT($N$14)=\"F\",8,IF(LEFT($N$14)=\"B\",17,\"ERROR\"))","v":8},{"$f":"IF(LEFT($N$14)=\"F\",9,IF(LEFT($N$14)=\"B\",18,\"ERROR\"))","v":9},{"$f":"IF(LEFT($N$14)=\"F\",\"OUT\",IF(LEFT($N$14)=\"B\",\"IN\",\"ERROR\"))","v":"OUT"},null,null,null,null,null,null,null,null,null,null,null,null,null,null,null,null,null,null,null,null,null,null,"4:56"]
["WHITE",null,null,{"$f":"IF($D$10=1,'COURSE & LEAGUE DETAILS'!$B$6,IF($D$10=10,'COURSE & LEAGUE DETAILS'!$B$14,\"ERROR\"))","v":460},{"$f":"IF($D$10=1,'COURSE & LEAGUE DETAILS'!$C$6,IF($D$10=10,'COURSE & LEAGUE DETAILS'!$C$14,\"ERROR\"))","v":275},{"$f":"IF($D$10=1,'COURSE & LEAGUE DETAILS'!$D$6,IF($D$10=10,'COURSE & LEAGUE DETAILS'!$D$14,\"ERROR\"))","v":525},{"$f":"IF($D$10=1,'COURSE & LEAGUE DETAILS'!$E$6,IF($D$10=10,'COURSE & LEAGUE DETAILS'!$E$14,\"ERROR\"))","v":295},{"$f":"IF($D$10=1,'COURSE & LEAGUE DETAILS'!$F$6,IF($D$10=10,'COURSE & LEAGUE DETAILS'!$F$14,\"ERROR\"))","v":345},{"$f":"IF($D$10=1,'COURSE & LEAGUE DETAILS'!$G$6,IF($D$10=10,'COURSE & LEAGUE DETAILS'!$G$14,\"ERROR\"))","v":175},{"$f":"IF($D$10=1,'COURSE & LEAGUE DETAILS'!$H$6,IF($D$10=10,'COURSE & LEAGUE DETAILS'!$H$14,\"ERROR\"))","v":405},{"$f":"IF($D$10=1,'COURSE & LEAGUE DETAILS'!$I$6,IF($D$10=10,'COURSE & LEAGUE DETAILS'!$I$14,\"ERROR\"))","v":145},{"$f":"IF($D$10=1,'COURSE & LEAGUE DETAILS'!$J$6,IF($D$10=10,'COURSE & LEAGUE DETAILS'!$J$14,\"ERROR\"))","v":320},{"$f":"IF($D$10=1,'COURSE & LEAGUE DETAILS'!$K$6,IF($D$10=10,'COURSE & LEAGUE DETAILS'!$K$14,\"ERROR\"))","v":2945},null,null,null,null,null,null,null,null,null,null,null,null,null,null,null,null,null,null,null,null,null,null,"5:04"]
["MEN'S PAR    ",null,null,{"$f":"IF($D$10=1,'COURSE & LEAGUE DETAILS'!$B$7,IF($D$10=10,'COURSE & LEAGUE DETAILS'!$B$15,\"ERROR\"))","v":5},{"$f":"IF($D$10=1,'COURSE & LEAGUE DETAILS'!$C$7,IF($D$10=10,'COURSE & LEAGUE DETAILS'!$C$15,\"ERROR\"))","v":4},{"$f":"IF($D$10=1,'COURSE & LEAGUE DETAILS'!$D$7,IF($D$10=10,'COURSE & LEAGUE DETAILS'!$D$15,\"ERROR\"))","v":5},{"$f":"IF($D$10=1,'COURSE & LEAGUE DETAILS'!$E$7,IF($D$10=10,'COURSE & LEAGUE DETAILS'!$E$15,\"ERROR\"))","v":4},{"$f":"IF($D$10=1,'COURSE & LEAGUE DETAILS'!$F$7,IF($D$10=10,'COURSE & LEAGUE DETAILS'!$F$15,\"ERROR\"))","v":4},{"$f":"IF($D$10=1,'COURSE & LEAGUE DETAILS'!$G$7,IF($D$10=10,'COURSE & LEAGUE DETAILS'!$G$15,\"ERROR\"))","v":3},{"$f":"IF($D$10=1,'COURSE & LEAGUE DETAILS'!$H$7,IF($D$10=10,'COURSE & LEAGUE DETAILS'!$H$15,\"ERROR\"))","v":4},{"$f":"IF($D$10=1,'COURSE & LEAGUE DETAILS'!$I$7,IF($D$10=10,'COURSE & LEAGUE DETAILS'!$I$15,\"ERROR\"))","v":3},{"$f":"IF($D$10=1,'COURSE & LEAGUE DETAILS'!$J$7,IF($D$10=10,'COURSE & LEAGUE DETAILS'!$J$15,\"ERROR\"))","v":4},{"$f":"IF($D$10=1,'COURSE & LEAGUE DETAILS'!$K$7,IF($D$10=10,'COURSE & LEAGUE DETAILS'!$K$15,\"ERROR\"))","v":36},{"$f":"D30","v":"Week 9"},null,null,null,null,null,null,null,null,null,null,null,null,null,null,null,null,null,null,null,null,null,"5:12"]
["MEN'S HCP    ",null,null,{"$f":"IF($D$10=1,'COURSE & LEAGUE DETAILS'!$B$8,IF($D$10=10,'COURSE & LEAGUE DETAILS'!$B$16,\"ERROR\"))","v":5},{"$f":"IF($D$10=1,'COURSE & LEAGUE DETAILS'!$C$8,IF($D$10=10,'COURSE & LEAGUE DETAILS'!$C$16,\"ERROR\"))","v":7},{"$f":"IF($D$10=1,'COURSE & LEAGUE DETAILS'!$D$8,IF($D$10=10,'COURSE & LEAGUE DETAILS'!$D$16,\"ERROR\"))","v":3},{"$f":"IF($D$10=1,'COURSE & LEAGUE DETAILS'!$E$8,IF($D$10=10,'COURSE & LEAGUE DETAILS'!$E$16,\"ERROR\"))","v":9},{"$f":"IF($D$10=1,'COURSE & LEAGUE DETAILS'!$F$8,IF($D$10=10,'COURSE & LEAGUE DETAILS'!$F$16,\"ERROR\"))","v":11},{"$f":"IF($D$10=1,'COURSE & LEAGUE DETAILS'!$G$8,IF($D$10=10,'COURSE & LEAGUE DETAILS'!$G$16,\"ERROR\"))","v":17},{"$f":"IF($D$10=1,'COURSE & LEAGUE DETAILS'!$H$8,IF($D$10=10,'COURSE & LEAGUE DETAILS'!$H$16,\"ERROR\"))","v":1},{"$f":"IF($D$10=1,'COURSE & LEAGUE DETAILS'!$I$8,IF($D$10=10,'COURSE & LEAGUE DETAILS'!$I$16,\"ERROR\"))","v":15},{"$f":"IF($D$10=1,'COURSE & LEAGUE DETAILS'!$J$8,IF($D$10=10,'COURSE & LEAGUE DETAILS'!$J$16,\"ERROR\"))","v":13},null,{"$f":"HLOOKUP(N12,SCHEDULE!$C$11:$M$26,2,FALSE)","v":"2013-08-28"}]
["RED",null,null,{"$f":"IF($D$10=1,'COURSE & LEAGUE DETAILS'!$B$9,IF($D$10=10,'COURSE & LEAGUE DETAILS'!$B$17,\"ERROR\"))","v":375},{"$f":"IF($D$10=1,'COURSE & LEAGUE DETAILS'!$C$9,IF($D$10=10,'COURSE & LEAGUE DETAILS'!$C$17,\"ERROR\"))","v":250},{"$f":"IF($D$10=1,'COURSE & LEAGUE DETAILS'!$D$9,IF($D$10=10,'COURSE & LEAGUE DETAILS'!$D$17,\"ERROR\"))","v":475},{"$f":"IF($D$10=1,'COURSE & LEAGUE DETAILS'!$E$9,IF($D$10=10,'COURSE & LEAGUE DETAILS'!$E$17,\"ERROR\"))","v":255},{"$f":"IF($D$10=1,'COURSE & LEAGUE DETAILS'!$F$9,IF($D$10=10,'COURSE & LEAGUE DETAILS'!$F$17,\"ERROR\"))","v":325},{"$f":"IF($D$10=1,'COURSE & LEAGUE DETAILS'!$G$9,IF($D$10=10,'COURSE & LEAGUE DETAILS'!$G$17,\"ERROR\"))","v":155},{"$f":"IF($D$10=1,'COURSE & LEAGUE DETAILS'!$H$9,IF($D$10=10,'COURSE & LEAGUE DETAILS'!$H$17,\"ERROR\"))","v":375},{"$f":"IF($D$10=1,'COURSE & LEAGUE DETAILS'!$I$9,IF($D$10=10,'COURSE & LEAGUE DETAILS'!$I$17,\"ERROR\"))","v":130},{"$f":"IF($D$10=1,'COURSE & LEAGUE DETAILS'!$J$9,IF($D$10=10,'COURSE & LEAGUE DETAILS'!$J$17,\"ERROR\"))","v":290},{"$f":"IF($D$10=1,'COURSE & LEAGUE DETAILS'!$K$9,IF($D$10=10,'COURSE & LEAGUE DETAILS'!$K$17,\"ERROR\"))","v":2630},{"$f":"HLOOKUP(N12,SCHEDULE!$C$11:$M$26,3,FALSE)","v":"FRONT"}]
["WOMEN'S PAR    ",null,null,{"$f":"IF($D$10=1,'COURSE & LEAGUE DETAILS'!$B$10,IF($D$10=10,'COURSE & LEAGUE DETAILS'!$B$18,\"ERROR\"))","v":5},{"$f":"IF($D$10=1,'COURSE & LEAGUE DETAILS'!$C$10,IF($D$10=10,'COURSE & LEAGUE DETAILS'!$C$18,\"ERROR\"))","v":4},{"$f":"IF($D$10=1,'COURSE & LEAGUE DETAILS'!$D$10,IF($D$10=10,'COURSE & LEAGUE DETAILS'!$D$18,\"ERROR\"))","v":5},{"$f":"IF($D$10=1,'COURSE & LEAGUE DETAILS'!$E$10,IF($D$10=10,'COURSE & LEAGUE DETAILS'!$E$18,\"ERROR\"))","v":4},{"$f":"IF($D$10=1,'COURSE & LEAGUE DETAILS'!$F$10,IF($D$10=10,'COURSE & LEAGUE DETAILS'!$F$18,\"ERROR\"))","v":4},{"$f":"IF($D$10=1,'COURSE & LEAGUE DETAILS'!$G$10,IF($D$10=10,'COURSE & LEAGUE DETAILS'!$G$18,\"ERROR\"))","v":3},{"$f":"IF($D$10=1,'COURSE & LEAGUE DETAILS'!$H$10,IF($D$10=10,'COURSE & LEAGUE DETAILS'!$H$18,\"ERROR\"))","v":5},{"$f":"IF($D$10=1,'COURSE & LEAGUE DETAILS'!$I$10,IF($D$10=10,'COURSE & LEAGUE DETAILS'!$I$18,\"ERROR\"))","v":3},{"$f":"IF($D$10=1,'COURSE & LEAGUE DETAILS'!$J$10,IF($D$10=10,'COURSE & LEAGUE DETAILS'!$J$18,\"ERROR\"))","v":4},{"$f":"IF($D$10=1,'COURSE & LEAGUE DETAILS'!$K$10,IF($D$10=10,'COURSE & LEAGUE DETAILS'!$K$18,\"ERROR\"))","v":37},{"$f":"D32","v":"4:00"}]
["HCP","TEAM","WOMEN'S HCP",{"$f":"IF($D$10=1,'COURSE & LEAGUE DETAILS'!$B$11,IF($D$10=10,'COURSE & LEAGUE DETAILS'!$B$19,\"ERROR\"))","v":5},{"$f":"IF($D$10=1,'COURSE & LEAGUE DETAILS'!$C$11,IF($D$10=10,'COURSE & LEAGUE DETAILS'!$C$19,\"ERROR\"))","v":7},{"$f":"IF($D$10=1,'COURSE & LEAGUE DETAILS'!$D$11,IF($D$10=10,'COURSE & LEAGUE DETAILS'!$D$19,\"ERROR\"))","v":3},{"$f":"IF($D$10=1,'COURSE & LEAGUE DETAILS'!$E$11,IF($D$10=10,'COURSE & LEAGUE DETAILS'!$E$19,\"ERROR\"))","v":9},{"$f":"IF($D$10=1,'COURSE & LEAGUE DETAILS'!$F$11,IF($D$10=10,'COURSE & LEAGUE DETAILS'!$F$19,\"ERROR\"))","v":11},{"$f":"IF($D$10=1,'COURSE & LEAGUE DETAILS'!$G$11,IF($D$10=10,'COURSE & LEAGUE DETAILS'!$G$19,\"ERROR\"))","v":17},{"$f":"IF($D$10=1,'COURSE & LEAGUE DETAILS'!$H$11,IF($D$10=10,'COURSE & LEAGUE DETAILS'!$H$19,\"ERROR\"))","v":1},{"$f":"IF($D$10=1,'COURSE & LEAGUE DETAILS'!$I$11,IF($D$10=10,'COURSE & LEAGUE DETAILS'!$I$19,\"ERROR\"))","v":15},{"$f":"IF($D$10=1,'COURSE & LEAGUE DETAILS'!$J$11,IF($D$10=10,'COURSE & LEAGUE DETAILS'!$J$19,\"ERROR\"))","v":13},null,{"$f":"IF(LEN(N12)=6,VLOOKUP($N$15,SCHEDULE!$C$11:$M$26,RIGHT($N$12)+1,FALSE),VLOOKUP($N$15,SCHEDULE!$C$11:$M$26,RIGHT($N$12,2)+1,FALSE))","v":"4 v 16"},"Count Blanks"]
[null,null,null,{"$f":"IF($B18=\"DNP\",0,IF($B18=\"Course\",0,D43))","v":1},{"$f":"IF($B18=\"DNP\",0,IF($B18=\"Course\",0,E43))","v":1},1,1,1,0,1,1,1,{"$f":"IF(B18<>\"DNP\",SUM(D17:L17),\"\")","v":8}]
[{"$f":"IF(B18=\"DNP\",IF(B20=\"DNP\",\"ERROR\",A20),IF(B18=\"COURSE\",0,VLOOKUP(VLOOKUP(B18,'LEAGUE MEMBERSHIP'!E:G,3,FALSE),'INDIVIDUAL SCORES'!$A$74:$P$2799,16,FALSE)))","v":14},{"$f":"$N$18&\"A\"","v":"4A"},{"$f":"VLOOKUP(B18,'LEAGUE MEMBERSHIP'!$E$8:$H$110,2,FALSE)","v":"Peg Romano"},null,null,null,null,null,null,null,null,null,{"$f":"IF(SUM(D18:L18)=0,\"\",SUM(D18:L18))","v":""},{"$f":"IF(FIND(\"v\",$N$16)=3,LEFT($N$16,1),LEFT($N$16,2))","v":"4"},{"$f":"COUNTBLANK($D18:$L18)","v":9}]
[null,null,null,{"$f":"IF($B20=\"DNP\",0,IF($B20=\"Course\",0,D44))","v":1},{"$f":"IF($B20=\"DNP\",0,IF($B20=\"Course\",0,E44))","v":1},1,1,1,0,1,1,1,{"$f":"IF(B20<>\"DNP\",SUM(D19:L19),\"\")","v":8}]
[{"$f":"IF(B20=\"DNP\",IF(B18=\"DNP\",\"ERROR\",A18),IF(B20=\"COURSE\",0,VLOOKUP(VLOOKUP(B20,'LEAGUE MEMBERSHIP'!E:G,3,FALSE),'INDIVIDUAL SCORES'!$A$74:$P$2799,16,FALSE)))","v":14},{"$f":"$N$20&\"B\"","v":"4B"},{"$f":"VLOOKUP(B20,'LEAGUE MEMBERSHIP'!$E$8:$H$110,2,FALSE)","v":"Lynn Laroche"},null,null,null,null,null,null,null,null,null,{"$f":"IF(SUM(D20:L20)=0,\"\",SUM(D20:L20))","v":""},{"$f":"IF(FIND(\"v\",$N$16)=3,LEFT($N$16,1),LEFT($N$16,2))","v":"4"},{"$f":"COUNTBLANK($D20:$L20)","v":9}]
[null,null,{"$f":"IF(LEN(N18)=1,\"Team 0\"&N18,\"Team \"&N18)","v":"Team 04"},{"$f":"IF($B$24=\"Course\",IF($B$26=\"Course\",D56,D51),D51)","v":""},{"$f":"IF($B$24=\"Course\",IF($B$26=\"Course\",E56,E51),E51)","v":""},{"$f":"IF($B$24=\"Course\",IF($B$26=\"Course\",F56,F51),F51)","v":""},"","","","","","",{"$f":"SUM(D21:L21)","v":0}]
[null,null,{"$f":"IF(N24=\"COURSE\",\"Team 16\",IF(LEN(N24)=1,\"Team 0\"&N24,\"Team \"&N24))","v":"Team 16"},{"$f":"IF($B$18=\"Course\",IF($B$20=\"Course\",D65,D60),D60)","v":""},{"$f":"IF($B$18=\"Course\",IF($B$20=\"Course\",E65,E60),E60)","v":""},{"$f":"IF($B$18=\"Course\",IF($B$20=\"Course\",F65,F60),F60)","v":""},"","","","","","",{"$f":"SUM(D22:L22)","v":0}]
[null,null,null,{"$f":"IF($B24=\"DNP\",0,IF($B24=\"Course\",0,D46))","v":1},{"$f":"IF($B24=\"DNP\",0,IF($B24=\"Course\",0,E46))","v":1},1,0,0,0,1,0,0,{"$f":"IF(B24<>\"DNP\",SUM(D23:L23),\"\")","v":4}]
[{"$f":"IF(B24=\"DNP\",IF(B26=\"DNP\",\"ERROR\",A26),IF(B24=\"COURSE\",0,VLOOKUP(VLOOKUP(B24,'LEAGUE MEMBERSHIP'!E:G,3,FALSE),'INDIVIDUAL SCORES'!$A$74:$P$2799,16,FALSE)))","v":10},{"$f":"IF($N$24=\"COURSE\",\"COURSE\",$N$24&\"A\")","v":"16A"},{"$f":"VLOOKUP(B24,'LEAGUE MEMBERSHIP'!$E$8:$H$110,2,FALSE)","v":"Deb DeCarolis"},null,null,null,null,null,null,null,null,null,{"$f":"IF(SUM(D24:L24)=0,\"\",SUM(D24:L24))","v":""},{"$f":"IF(RIGHT($N$16,6)=\"COURSE\",\"COURSE\",IF(LEN($N$16)-FIND(\"v\",$N$16)=2,RIGHT($N$16,1),RIGHT($N$16,2)))","v":"16"},{"$f":"COUNTBLANK($D24:$L24)","v":9}]
[null,null,null,{"$f":"IF($B26=\"DNP\",0,IF($B26=\"Course\",0,D47))","v":0},0,0,0,0,0,0,0,0,{"$f":"IF(B26<>\"DNP\",SUM(D25:L25),\"\")","v":0}]
[{"$f":"IF(B26=\"DNP\",IF(B24=\"DNP\",\"ERROR\",A24),IF(B26=\"COURSE\",0,VLOOKUP(VLOOKUP(B26,'LEAGUE MEMBERSHIP'!E:G,3,FALSE),'INDIVIDUAL SCORES'!$A$74:$P$2799,16,FALSE)))","v":6},{"$f":"IF($N$24=\"COURSE\",\"COURSE\",$N$24&\"B\")","v":"16B"},{"$f":"VLOOKUP(B26,'LEAGUE MEMBERSHIP'!$E$8:$H$110,2,FALSE)","v":"Joey DeCarolis"},null,null,null,null,null,null,null,null,null,{"$f":"IF(SUM(D26:L26)=0,\"\",SUM(D26:L26))","v":""},{"$f":"IF(RIGHT($N$16,6)=\"COURSE\",\"COURSE\",IF(LEN($N$16)-FIND(\"v\",$N$16)=2,RIGHT($N$16,1),RIGHT($N$16,2)))","v":"16"},{"$f":"COUNTBLANK($D26:$L26)","v":9}]
[]
[{"$f":"CONCATENATE(\"TEE TIME: \",TEXT(N15,\"h:mm\"),\" PM\")","v":"TEE TIME: 4:00 PM"}]
[]
[null,null,null,"Week 9"]
[]
[null,null,null,"4:00"]
[null,null,null,null,null,"Not all scores entered.  If needed, enter \"Course\" or \"DNP\" for absent team / player."]
["Sub1",{"$f":"IF(ISERROR(VLOOKUP(A34,'LEAGUE MEMBERSHIP'!$E$8:$F$107,2,FALSE)),\"\",VLOOKUP(A34,'LEAGUE MEMBERSHIP'!$E$8:$F$107,2,FALSE))","v":"Becky Bartkus"},null,"Sub7",{"$f":"IF(ISERROR(VLOOKUP(D34,'LEAGUE MEMBERSHIP'!$E$8:$F$107,2,FALSE)),\"\",VLOOKUP(D34,'LEAGUE MEMBERSHIP'!$E$8:$F$107,2,FALSE))","v":"PJ Fontaine"},null,"Sub13",{"$f":"IF(ISERROR(VLOOKUP(G34,'LEAGUE MEMBERSHIP'!$E$8:$F$107,2,FALSE)),\"\",VLOOKUP(G34,'LEAGUE MEMBERSHIP'!$E$8:$F$107,2,FALSE))","v":"Tom Farias"},null,"Sub19",{"$f":"IF(ISERROR(VLOOKUP(J34,'LEAGUE MEMBERSHIP'!$E$8:$F$107,2,FALSE)),\"\",VLOOKUP(J34,'LEAGUE MEMBERSHIP'!$E$8:$F$107,2,FALSE))","v":"Audrey Henderson"},null,"Sub25",{"$f":"IF(ISERROR(VLOOKUP(M34,'LEAGUE MEMBERSHIP'!$E$8:$F$107,2,FALSE)),\"\",VLOOKUP(M34,'LEAGUE MEMBERSHIP'!$E$8:$F$107,2,FALSE))","v":"Brenda Louney"}]
["Sub2",{"$f":"IF(ISERROR(VLOOKUP(A35,'LEAGUE MEMBERSHIP'!$E$8:$F$107,2,FALSE)),\"\",VLOOKUP(A35,'LEAGUE MEMBERSHIP'!$E$8:$F$107,2,FALSE))","v":"P.J. Romano"},null,"Sub8",{"$f":"IF(ISERROR(VLOOKUP(D35,'LEAGUE MEMBERSHIP'!$E$8:$F$107,2,FALSE)),\"\",VLOOKUP(D35,'LEAGUE MEMBERSHIP'!$E$8:$F$107,2,FALSE))","v":"Yogi DiPasquale"},null,"Sub14",{"$f":"IF(ISERROR(VLOOKUP(G35,'LEAGUE MEMBERSHIP'!$E$8:$F$107,2,FALSE)),\"\",VLOOKUP(G35,'LEAGUE MEMBERSHIP'!$E$8:$F$107,2,FALSE))","v":"Jeff Erskine"},null,"Sub20",{"$f":"IF(ISERROR(VLOOKUP(J35,'LEAGUE MEMBERSHIP'!$E$8:$F$107,2,FALSE)),\"\",VLOOKUP(J35,'LEAGUE MEMBERSHIP'!$E$8:$F$107,2,FALSE))","v":"David St. Jean"},null,"Sub26",{"$f":"IF(ISERROR(VLOOKUP(M35,'LEAGUE MEMBERSHIP'!$E$8:$F$107,2,FALSE)),\"\",VLOOKUP(M35,'LEAGUE MEMBERSHIP'!$E$8:$F$107,2,FALSE))","v":"Mark Louney"}]
["Sub3",{"$f":"IF(ISERROR(VLOOKUP(A36,'LEAGUE MEMBERSHIP'!$E$8:$F$107,2,FALSE)),\"\",VLOOKUP(A36,'LEAGUE MEMBERSHIP'!$E$8:$F$107,2,FALSE))","v":"Mike Forbes"},null,"Sub9",{"$f":"IF(ISERROR(VLOOKUP(D36,'LEAGUE MEMBERSHIP'!$E$8:$F$107,2,FALSE)),\"\",VLOOKUP(D36,'LEAGUE MEMBERSHIP'!$E$8:$F$107,2,FALSE))","v":"Jon Friberg"},null,"Sub15",{"$f":"IF(ISERROR(VLOOKUP(G36,'LEAGUE MEMBERSHIP'!$E$8:$F$107,2,FALSE)),\"\",VLOOKUP(G36,'LEAGUE MEMBERSHIP'!$E$8:$F$107,2,FALSE))","v":"Jeff Richard"},null,"Sub21",{"$f":"IF(ISERROR(VLOOKUP(J36,'LEAGUE MEMBERSHIP'!$E$8:$F$107,2,FALSE)),\"\",VLOOKUP(J36,'LEAGUE MEMBERSHIP'!$E$8:$F$107,2,FALSE))","v":"Dennis St. Jean"},null,"Sub27",{"$f":"IF(ISERROR(VLOOKUP(M36,'LEAGUE MEMBERSHIP'!$E$8:$F$107,2,FALSE)),\"\",VLOOKUP(M36,'LEAGUE MEMBERSHIP'!$E$8:$F$107,2,FALSE))","v":"Victor Szewczyk"}]
["Sub4",{"$f":"IF(ISERROR(VLOOKUP(A37,'LEAGUE MEMBERSHIP'!$E$8:$F$107,2,FALSE)),\"\",VLOOKUP(A37,'LEAGUE MEMBERSHIP'!$E$8:$F$107,2,FALSE))","v":"Mike Romano"},null,"Sub10",{"$f":"IF(ISERROR(VLOOKUP(D37,'LEAGUE MEMBERSHIP'!$E$8:$F$107,2,FALSE)),\"\",VLOOKUP(D37,'LEAGUE MEMBERSHIP'!$E$8:$F$107,2,FALSE))","v":"Jim Hedlund"},null,"Sub16",{"$f":"IF(ISERROR(VLOOKUP(G37,'LEAGUE MEMBERSHIP'!$E$8:$F$107,2,FALSE)),\"\",VLOOKUP(G37,'LEAGUE MEMBERSHIP'!$E$8:$F$107,2,FALSE))","v":"Paul Stedman"},null,"Sub22",{"$f":"IF(ISERROR(VLOOKUP(J37,'LEAGUE MEMBERSHIP'!$E$8:$F$107,2,FALSE)),\"\",VLOOKUP(J37,'LEAGUE MEMBERSHIP'!$E$8:$F$107,2,FALSE))","v":"Joe Fratticelli"},null,"Sub28",{"$f":"IF(ISERROR(VLOOKUP(M37,'LEAGUE MEMBERSHIP'!$E$8:$F$107,2,FALSE)),\"\",VLOOKUP(M37,'LEAGUE MEMBERSHIP'!$E$8:$F$107,2,FALSE))","v":"Matt Lee"},null,{"$f":"IF(ISERROR(VLOOKUP(O36,'LEAGUE MEMBERSHIP'!$E$8:$F$107,2,FALSE)),\"\",VLOOKUP(O36,'LEAGUE MEMBERSHIP'!$E$8:$F$107,2,FALSE))","v":""}]
["Sub5",{"$f":"IF(ISERROR(VLOOKUP(A38,'LEAGUE MEMBERSHIP'!$E$8:$F$107,2,FALSE)),\"\",VLOOKUP(A38,'LEAGUE MEMBERSHIP'!$E$8:$F$107,2,FALSE))","v":"Jono Normandin"},null,"Sub11",{"$f":"IF(ISERROR(VLOOKUP(D38,'LEAGUE MEMBERSHIP'!$E$8:$F$107,2,FALSE)),\"\",VLOOKUP(D38,'LEAGUE MEMBERSHIP'!$E$8:$F$107,2,FALSE))","v":"Don Shank"},null,"Sub17",{"$f":"IF(ISERROR(VLOOKUP(G38,'LEAGUE MEMBERSHIP'!$E$8:$F$107,2,FALSE)),\"\",VLOOKUP(G38,'LEAGUE MEMBERSHIP'!$E$8:$F$107,2,FALSE))","v":"Deb Passios"},null,"Sub23",{"$f":"IF(ISERROR(VLOOKUP(J38,'LEAGUE MEMBERSHIP'!$E$8:$F$107,2,FALSE)),\"\",VLOOKUP(J38,'LEAGUE MEMBERSHIP'!$E$8:$F$107,2,FALSE))","v":"Pete Collette"},null,"Sub29",{"$f":"IF(ISERROR(VLOOKUP(M38,'LEAGUE MEMBERSHIP'!$E$8:$F$107,2,FALSE)),\"\",VLOOKUP(M38,'LEAGUE MEMBERSHIP'!$E$8:$F$107,2,FALSE))","v":"Jay Melansom"},null,{"$f":"IF(ISERROR(VLOOKUP(O37,'LEAGUE MEMBERSHIP'!$E$8:$F$107,2,FALSE)),\"\",VLOOKUP(O37,'LEAGUE MEMBERSHIP'!$E$8:$F$107,2,FALSE))","v":""}]
["Sub6",{"$f":"IF(ISERROR(VLOOKUP(A39,'LEAGUE MEMBERSHIP'!$E$8:$F$107,2,FALSE)),\"\",VLOOKUP(A39,'LEAGUE MEMBERSHIP'!$E$8:$F$107,2,FALSE))","v":"Scott Leavenworth"},null,"Sub12",{"$f":"IF(ISERROR(VLOOKUP(D39,'LEAGUE MEMBERSHIP'!$E$8:$F$107,2,FALSE)),\"\",VLOOKUP(D39,'LEAGUE MEMBERSHIP'!$E$8:$F$107,2,FALSE))","v":"Chris Barry"},null,"Sub18",{"$f":"IF(ISERROR(VLOOKUP(G39,'LEAGUE MEMBERSHIP'!$E$8:$F$107,2,FALSE)),\"\",VLOOKUP(G39,'LEAGUE MEMBERSHIP'!$E$8:$F$107,2,FALSE))","v":"Joe Pearson"},null,"Sub24",{"$f":"IF(ISERROR(VLOOKUP(J39,'LEAGUE MEMBERSHIP'!$E$8:$F$107,2,FALSE)),\"\",VLOOKUP(J39,'LEAGUE MEMBERSHIP'!$E$8:$F$107,2,FALSE))","v":"Shane McCarthy"},null,"Sub30",{"$f":"IF(ISERROR(VLOOKUP(M39,'LEAGUE MEMBERSHIP'!$E$8:$F$107,2,FALSE)),\"\",VLOOKUP(M39,'LEAGUE MEMBERSHIP'!$E$8:$F$107,2,FALSE))","v":""},null,{"$f":"IF(ISERROR(VLOOKUP(O38,'LEAGUE MEMBERSHIP'!$E$8:$F$107,2,FALSE)),\"\",VLOOKUP(O38,'LEAGUE MEMBERSHIP'!$E$8:$F$107,2,FALSE))","v":""}]
[null,null,null,null,null,null,null,null,null,null,null,null,null,null,null,{"$f":"IF(ISERROR(VLOOKUP(O39,'LEAGUE MEMBERSHIP'!$E$8:$F$107,2,FALSE)),\"\",VLOOKUP(O39,'LEAGUE MEMBERSHIP'!$E$8:$F$107,2,FALSE))","v":""}]
[null,null,"Men's Hcp. Rank",{"$f":"RANK(D13,$D$13:$L$13,1)","v":3},4,2,5,6,9,1,8,7]
[null,null,"Women's Hcp. Rank",{"$f":"RANK(D16,$D$16:$L$16,1)","v":3},4,2,5,6,9,1,8,7]
[{"$f":"MIN(A18:A26)","v":6},{"$f":"A18-$A$43","v":8},{"$f":"VLOOKUP(VLOOKUP(B18,'LEAGUE MEMBERSHIP'!E:G,3,FALSE),'LEAGUE MEMBERSHIP'!$A$8:$D$107,4,FALSE)","v":"F"},{"$f":"IF($C43=\"M\",IF($B43>=D$41,IF(D$12=3,1,IF($B43-9>=D$41,2,1)),0),IF($C43=\"F\",IF($B43>=D$42,IF(D$15=3,1,IF($B43-9>=D$42,2,1)),0),0))","v":1},{"$f":"IF($C43=\"M\",IF($B43>=E$41,IF(E$12=3,1,IF($B43-9>=E$41,2,1)),0),IF($C43=\"F\",IF($B43>=E$42,IF(E$15=3,1,IF($B43-9>=E$42,2,1)),0),0))","v":1},1,1,1,0,1,1,1]
[null,{"$f":"A20-$A$43","v":8},{"$f":"VLOOKUP(VLOOKUP(B20,'LEAGUE MEMBERSHIP'!E:G,3,FALSE),'LEAGUE MEMBERSHIP'!$A$8:$D$107,4,FALSE)","v":"F"},{"$f":"IF($C44=\"M\",IF($B44>=D$41,IF(D$12=3,1,IF($B44-9>=D$41,2,1)),0),IF($C44=\"F\",IF($B44>=D$42,IF(D$15=3,1,IF($B44-9>=D$42,2,1)),0),0))","v":1},1,1,1,1,0,1,1,1]
[]
[null,{"$f":"A24-$A$43","v":4},{"$f":"VLOOKUP(VLOOKUP(B24,'LEAGUE MEMBERSHIP'!E:G,3,FALSE),'LEAGUE MEMBERSHIP'!$A$8:$D$107,4,FALSE)","v":"F"},{"$f":"IF($C46=\"M\",IF($B46>=D$41,IF(D$12=3,1,IF($B46-9>=D$41,2,1)),0),IF($C46=\"F\",IF($B46>=D$42,IF(D$15=3,1,IF($B46-9>=D$42,2,1)),0),0))","v":1},{"$f":"IF($C46=\"M\",IF($B46>=E$41,IF(E$12=3,1,IF($B46-9>=E$41,2,1)),0),IF($C46=\"F\",IF($B46>=E$42,IF(E$15=3,1,IF($B46-9>=E$42,2,1)),0),0))","v":1},1,0,0,0,1,0,0]
[null,{"$f":"A26-$A$43","v":0},{"$f":"VLOOKUP(VLOOKUP(B26,'LEAGUE MEMBERSHIP'!E:G,3,FALSE),'LEAGUE MEMBERSHIP'!$A$8:$D$107,4,FALSE)","v":"M"},{"$f":"IF($C47=\"M\",IF($B47>=D$41,IF(D$12=3,1,IF($B47-9>=D$41,2,1)),0),IF($C47=\"F\",IF($B47>=D$42,IF(D$15=3,1,IF($B47-9>=D$42,2,1)),0),0))","v":0},0,0,0,0,0,0,0,0]
[null,null,"Player A",{"$f":"IF(D18<>\"\",D18-D17,\"\")","v":""},"","","","","","","",""]
[null,null,"Player B",{"$f":"IF(D20<>\"\",D20-D19,\"\")","v":""},"","","","","","","",""]
[null,null,"Score to Use",{"$f":"IF(D48<>\"\",IF(D49<>\"\",MIN(D48:D49),D48),D49)","v":""},{"$f":"IF(E48<>\"\",IF(E49<>\"\",MIN(E48:E49),E48),E49)","v":""},"","","","","","","",null,null,null,null,null,null,null,null,null,null,"The results of the 4:00 match have already been loaded"]
[null,null,"Versus Team",{"$f":"IF(D50<>\"\",IF(D59<>\"\",IF(D50<D59,1,IF(D50=D59,1/2,0)),\"\"),\"\")","v":""},"","","","","","","","",null,null,null,null,null,null,null,null,null,null,"Tee Times loaded so far:"]
[null,null,"Versus Course (Player A = M)",{"$f":"IF(D48<>\"\",IF($C43=\"M\",IF(D48<D$12,1,IF(D48=D$12,1/2,0)),\"\"),\"\")","v":""},{"$f":"IF(E48<>\"\",IF($C43=\"M\",IF(E48<E$12,1,IF(E48=E$12,1/2,0)),\"\"),\"\")","v":""},"","","","","","","",null,null,null,null,null,null,null,null,null,null,"Tee Times to be loaded:"]
[null,null,"Versus Course (Player B = M)",{"$f":"IF(D49<>\"\",IF($C44=\"M\",IF(D49<D$12,1,IF(D49=D$12,1/2,0)),\"\"),\"\")","v":""},{"$f":"IF(E49<>\"\",IF($C44=\"M\",IF(E49<E$12,1,IF(E49=E$12,1/2,0)),\"\"),\"\")","v":""},"","","","","","",""]
[null,null,"Versus Course (Player A = F)",{"$f":"IF(D48<>\"\",IF($C43=\"F\",IF(D48<D$15,1,IF(D48=D$15,1/2,0)),\"\"),\"\")","v":""},{"$f":"IF(E48<>\"\",IF($C43=\"F\",IF(E48<E$15,1,IF(E48=E$15,1/2,0)),\"\"),\"\")","v":""},"","","","","","",""]
[null,null,"Versus Course (Player B = F)",{"$f":"IF(D49<>\"\",IF($C44=\"F\",IF(D49<D$15,1,IF(D49=D$15,1/2,0)),\"\"),\"\")","v":""},{"$f":"IF(E49<>\"\",IF($C44=\"F\",IF(E49<E$15,1,IF(E49=E$15,1/2,0)),\"\"),\"\")","v":""},"","","","","","",""]
[null,null,"Score to Use Versus Course",{"$f":"MAX(D52:D55)","v":0},0,0,0,0,0,0,0,0]
[null,null,"Player A",{"$f":"IF(D24<>\"\",D24-D23,\"\")","v":""},"","","","","","","",""]
[null,null,"Player B",{"$f":"IF(D26<>\"\",D26-D25,\"\")","v":""},"","","","","","","",""]
[null,{"$f":"$N$18&\"A\"","v":"4A"},"Score to Use",{"$f":"IF(D57<>\"\",IF(D58<>\"\",MIN(D57:D58),D57),D58)","v":""},{"$f":"IF(E57<>\"\",IF(E58<>\"\",MIN(E57:E58),E57),E58)","v":""},"","","","","","",""]
[null,null,"Versus Team",{"$f":"IF(D59<>\"\",IF(D50<>\"\",IF(D59<D50,1,IF(D59=D50,1/2,0)),\"\"),\"\")","v":""},"","","","","","","",""]
[null,{"$f":"$N$20&\"B\"","v":"4B"},"Versus Course (Player A = M)",{"$f":"IF(D57<>\"\",IF($C46=\"M\",IF(D57<D$12,1,IF(D57=D$12,1/2,0)),\"\"),\"\")","v":""},"","","","","","","",""]
[null,null,"Versus Course (Player B = M)",{"$f":"IF(D58<>\"\",IF($C47=\"M\",IF(D58<D$12,1,IF(D58=D$12,1/2,0)),\"\"),\"\")","v":""},"","","","","","","",""]
[null,null,"Versus Course (Player A = F)",{"$f":"IF(D57<>\"\",IF($C46=\"F\",IF(D57<D$15,1,IF(D57=D$15,1/2,0)),\"\"),\"\")","v":""},"","","","","","","",""]
[null,null,"Versus Course (Player B = F)",{"$f":"IF(D58<>\"\",IF($C47=\"F\",IF(D58<D$15,1,IF(D58=D$15,1/2,0)),\"\"),\"\")","v":""},"","","","","","","",""]
[null,{"$f":"IF($N$24=\"COURSE\",\"COURSE\",$N$24&\"A\")","v":"16A"},"Score to Use Versus Course",{"$f":"MAX(D61:D64)","v":0},{"$f":"MAX(E61:E64)","v":0},0,0,0,0,0,0,0]
[]
[null,{"$f":"IF($N$24=\"COURSE\",\"COURSE\",$N$24&\"B\")","v":"16B"}]
[]
[]
["18B",18]
["DNP",{"$f":"70 + 3 + 59 - COUNTBLANK($A$34:$O$39)","v":101}]
["Course"]
[{"$f":"IF(B34=\"\",\"\",A34)","v":"Sub1"}]
["Sub2"]
["Sub3"]
["Sub4"]
["Sub5"]
["Sub6"]
[{"$f":"IF(E34=\"\",\"\",D34)","v":"Sub7"}]
["Sub8"]
["Sub9"]
["Sub10"]
["Sub11"]
["Sub12"]
[{"$f":"IF(H34=\"\",\"\",G34)","v":"Sub13"}]
["Sub14"]
["Sub15"]
["Sub16"]
["Sub17"]
["Sub18"]
[{"$f":"IF(K34=\"\",\"\",J34)","v":"Sub19"}]
["Sub20"]
["Sub21"]
["Sub22"]
["Sub23"]
["Sub24"]
[{"$f":"IF(N34=\"\",\"\",M34)","v":"Sub25"}]
["Sub26"]
["Sub27"]
["Sub28"]
["Sub29"]
[""]

{"sheet":"MATCH HISTORY 1","index":30,"n_rows":91,"n_cols":16,"rows_kept":91,"cut":false,"hidden":false,"merged":[[43,2,44,2],[14,2,14,12],[14,14,14,19],[54,2,54,12],[74,2,74,12]]}
[null,"12 v 3",{"$f":"A1&B1","v":"12 v 3"},null,null,null,null,null,null,null,null,"First Half",null,null,"First Half"]
[null,null,null,null,null,null,null,null,null,null,null,"Second Half",null,null,"Second Half"]
[]
[]
[]
[]
[]
[]
[]
[]
[]
[]
[]
[]
[null,null,{"$f":"IF($H$34=\"First Half\",IF(C55=\"\",\"\",C55),IF($H$34=\"Second Half\",IF(C75=\"\",\"\",C75),\"\"))","v":"Schedule - Second Half 2013"},null,null,null,null,null,null,null,null,null,null,null,"Team Members"]
[null,null,"Week",{"$f":"IF(SCHEDULE!D11=\"\",\"\",SCHEDULE!D11)","v":"Week 1"},{"$f":"IF(SCHEDULE!E11=\"\",\"\",SCHEDULE!E11)","v":"Week 2"},{"$f":"IF(SCHEDULE!F11=\"\",\"\",SCHEDULE!F11)","v":"Week 3"},{"$f":"IF(SCHEDULE!G11=\"\",\"\",SCHEDULE!G11)","v":"Week 4"},{"$f":"IF(SCHEDULE!H11=\"\",\"\",SCHEDULE!H11)","v":"Week 5"},{"$f":"IF(SCHEDULE!I11=\"\",\"\",SCHEDULE!I11)","v":"Week 6"},{"$f":"IF(SCHEDULE!J11=\"\",\"\",SCHEDULE!J11)","v":"Week 7"},{"$f":"IF(SCHEDULE!K11=\"\",\"\",SCHEDULE!K11)","v":"Week 8"},{"$f":"IF(SCHEDULE!L11=\"\",\"\",SCHEDULE!L11)","v":"Week 9"},{"$f":"IF(SCHEDULE!M11=\"\",\"\",SCHEDULE!M11)","v":""},null,"Team 1",{"$f":"VLOOKUP(O16,'LEAGUE MEMBERSHIP'!$I:$M,3,FALSE)&\" / \"&VLOOKUP(O16,'LEAGUE MEMBERSHIP'!$I:$M,5,FALSE)","v":"Lester Lockhart / Pete Normandin"}]
[null,null,"Date",{"$f":"IF($H$34=\"First Half\",IF(D57=\"\",\"\",D57),IF($H$34=\"Second Half\",IF(D77=\"\",\"\",D77),\"\"))","v":"2013-07-03"},"2013-07-10","2013-07-17","2013-07-24",{"$f":"IF($H$34=\"First Half\",IF(H57=\"\",\"\",H57),IF($H$34=\"Second Half\",IF(H77=\"\",\"\",H77),\"\"))","v":"2013-07-31"},"2013-08-07","2013-08-14","2013-08-21","2013-08-28","",null,"Team 2",{"$f":"VLOOKUP(O17,'LEAGUE MEMBERSHIP'!$I:$M,3,FALSE)&\" / \"&VLOOKUP(O17,'LEAGUE MEMBERSHIP'!$I:$M,5,FALSE)","v":"Dave Cormier / Adam Williamson"}]
[null,null,"Side",{"$f":"IF($H$34=\"First Half\",IF(D58=\"\",\"\",D58),IF($H$34=\"Second Half\",IF(D78=\"\",\"\",D78),\"\"))","v":"FRONT"},"BACK","FRONT","BACK",{"$f":"IF($H$34=\"First Half\",IF(H58=\"\",\"\",H58),IF($H$34=\"Second Half\",IF(H78=\"\",\"\",H78),\"\"))","v":"FRONT"},"BACK","FRONT","BACK",{"$f":"IF($H$34=\"First Half\",IF(L58=\"\",\"\",L58),IF($H$34=\"Second Half\",IF(L78=\"\",\"\",L78),\"\"))","v":"FRONT"},{"$f":"IF($H$34=\"First Half\",IF(M58=\"\",\"\",M58),IF($H$34=\"Second Half\",IF(M78=\"\",\"\",M78),\"\"))","v":""},null,"Team 3",{"$f":"VLOOKUP(O18,'LEAGUE MEMBERSHIP'!$I:$M,3,FALSE)&\" / \"&VLOOKUP(O18,'LEAGUE MEMBERSHIP'!$I:$M,5,FALSE)","v":"Pete Romano / Don Frigoletto"}]
[null,null,"Tee Time",null,null,null,null,null,null,null,null,null,null,null,"Team 4",{"$f":"VLOOKUP(O19,'LEAGUE MEMBERSHIP'!$I:$M,3,FALSE)&\" / \"&VLOOKUP(O19,'LEAGUE MEMBERSHIP'!$I:$M,5,FALSE)","v":"Peg Romano / Lynn Laroche"}]
[null,null,{"$f":"IF($H$34=\"First Half\",IF(C60=\"\",\"\",C60),IF($H$34=\"Second Half\",IF(C80=\"\",\"\",C80),\"\"))","v":"4:00"},"11 v 2","12 v 5","1 v 18","14 v 20",{"$f":"IF($H$34=\"First Half\",IF(H60=\"\",\"\",H60),IF($H$34=\"Second Half\",IF(H80=\"\",\"\",H80),\"\"))","v":"15 v 17"},"14 v 16","5 v 10","7 v 10","4 v 16","",null,"Team 5",{"$f":"VLOOKUP(O20,'LEAGUE MEMBERSHIP'!$I:$M,3,FALSE)&\" / \"&VLOOKUP(O20,'LEAGUE MEMBERSHIP'!$I:$M,5,FALSE)","v":"Dennis Normandin / Mark Normandin"}]
[null,null,{"$f":"IF($H$34=\"First Half\",IF(C61=\"\",\"\",C61),IF($H$34=\"Second Half\",IF(C81=\"\",\"\",C81),\"\"))","v":"4:08"},"16 v 7","18 v 20","14 v 9","3 v 6","5 v 6","13 v 17","11 v 17","8 v 9","8 v 20","",null,"Team 6",{"$f":"VLOOKUP(O21,'LEAGUE MEMBERSHIP'!$I:$M,3,FALSE)&\" / \"&VLOOKUP(O21,'LEAGUE MEMBERSHIP'!$I:$M,5,FALSE)","v":"Vance Butterfield / Bob Schleyer"}]
[null,null,{"$f":"IF($H$34=\"First Half\",IF(C62=\"\",\"\",C62),IF($H$34=\"Second Half\",IF(C82=\"\",\"\",C82),\"\"))","v":"4:16"},"17 v 8","16 v 9","16 v 20","2 v 7","1 v 16","4 v 9","1 v 14","6 v 20","1 v 12","",null,"Team 7",{"$f":"VLOOKUP(O22,'LEAGUE MEMBERSHIP'!$I:$M,3,FALSE)&\" / \"&VLOOKUP(O22,'LEAGUE MEMBERSHIP'!$I:$M,5,FALSE)","v":"Steve Scapparone / Dave Hyre"}]
[null,null,{"$f":"IF($H$34=\"First Half\",IF(C63=\"\",\"\",C63),IF($H$34=\"Second Half\",IF(C83=\"\",\"\",C83),\"\"))","v":"4:24"},"12 v 3","11 v 4","11 v 6","11 v 8","11 v 10","2 v 20","7 v 8","11 v 15","2 v 14","",null,"Team 8",{"$f":"VLOOKUP(O23,'LEAGUE MEMBERSHIP'!$I:$M,3,FALSE)&\" / \"&VLOOKUP(O23,'LEAGUE MEMBERSHIP'!$I:$M,5,FALSE)","v":"Mike Sunderland / Debbie Sunderland"}]
[null,null,{"$f":"IF($H$34=\"First Half\",IF(C64=\"\",\"\",C64),IF($H$34=\"Second Half\",IF(C84=\"\",\"\",C84),\"\"))","v":"4:32"},"14 v 5","14 v 7","3 v 4","13 v 10","2 v 9","5 v 8","13 v 15","5 v 19","5 v 17","",null,"Team 9",{"$f":"VLOOKUP(O24,'LEAGUE MEMBERSHIP'!$I:$M,3,FALSE)&\" / \"&VLOOKUP(O24,'LEAGUE MEMBERSHIP'!$I:$M,5,FALSE)","v":"Mike Doane / John Cassin"}]
[null,null,{"$f":"IF($H$34=\"First Half\",IF(C65=\"\",\"\",C65),IF($H$34=\"Second Half\",IF(C85=\"\",\"\",C85),\"\"))","v":"4:40"},"13 v 4","13 v 6","17 v 19","16 v 18","12 v 20","3 v 10","3 v 19","3 v 17","3 v 15","",null,"Team 10",{"$f":"VLOOKUP(O25,'LEAGUE MEMBERSHIP'!$I:$M,3,FALSE)&\" / \"&VLOOKUP(O25,'LEAGUE MEMBERSHIP'!$I:$M,5,FALSE)","v":"Ron Eckstrom / Beth Romano"}]
[null,null,{"$f":"IF($H$34=\"First Half\",IF(C66=\"\",\"\",C66),IF($H$34=\"Second Half\",IF(C86=\"\",\"\",C86),\"\"))","v":"4:48"},"1 v 20","2 v 3","15 v 10","1 v 17","3 v 8","11 v 19","6 v 9","4 v 18","9 v 10","",null,"Team 11",{"$f":"VLOOKUP(O26,'LEAGUE MEMBERSHIP'!$I:$M,3,FALSE)&\" / \"&VLOOKUP(O26,'LEAGUE MEMBERSHIP'!$I:$M,5,FALSE)","v":"Ray Henderson / Zachary Wallace"}]
[null,null,{"$f":"IF($H$34=\"First Half\",IF(C67=\"\",\"\",C67),IF($H$34=\"Second Half\",IF(C87=\"\",\"\",C87),\"\"))","v":"4:56"},"18 v 9","15 v 8","2 v 5","4 v 5","14 v 18","6 v 7","4 v 20","2 v 16","7 v 19","",null,"Team 12",{"$f":"VLOOKUP(O27,'LEAGUE MEMBERSHIP'!$I:$M,3,FALSE)&\" / \"&VLOOKUP(O27,'LEAGUE MEMBERSHIP'!$I:$M,5,FALSE)","v":"Sal Cuifetti / Paul LeBlanc"}]
[null,null,{"$f":"IF($H$34=\"First Half\",IF(C68=\"\",\"\",C68),IF($H$34=\"Second Half\",IF(C88=\"\",\"\",C88),\"\"))","v":"5:04"},"19 v 10","1 v 19","13 v 8","15 v 19","4 v 7","12 v 18","2 v 18","1 v 13","11 v 13","",null,"Team 13",{"$f":"VLOOKUP(O28,'LEAGUE MEMBERSHIP'!$I:$M,3,FALSE)&\" / \"&VLOOKUP(O28,'LEAGUE MEMBERSHIP'!$I:$M,5,FALSE)","v":"Kyle Currier / Walter Drake"}]
[null,null,{"$f":"IF($H$34=\"First Half\",IF(C69=\"\",\"\",C69),IF($H$34=\"Second Half\",IF(C89=\"\",\"\",C89),\"\"))","v":"5:12"},"15 v 6","17 v 10","12 v 7","12 v 9","13 v 19","1 v 15","12 v 16","12 v 14","6 v 18","",null,"Team 14",{"$f":"VLOOKUP(O29,'LEAGUE MEMBERSHIP'!$I:$M,3,FALSE)&\" / \"&VLOOKUP(O29,'LEAGUE MEMBERSHIP'!$I:$M,5,FALSE)","v":"Doug Cormier / Ralph Romano, Jr."}]
[null,null,"",{"$f":"IF($H$34=\"First Half\",IF(D70=\"\",\"\",D70),IF($H$34=\"Second Half\",IF(D90=\"\",\"\",D90),\"\"))","v":""},"","","","","","","","","",null,"Team 15",{"$f":"VLOOKUP(O30,'LEAGUE MEMBERSHIP'!$I:$M,3,FALSE)&\" / \"&VLOOKUP(O30,'LEAGUE MEMBERSHIP'!$I:$M,5,FALSE)","v":"Tim Hurley / John Elie"}]
[null,null,"Closest to Pin",{"$f":"IF($H$34=\"First Half\",IF(D71=\"\",\"\",D71),IF($H$34=\"Second Half\",IF(D91=\"\",\"\",D91),\"\"))","v":8},16,6,14,8,16,6,14,8,"",null,"Team 16",{"$f":"VLOOKUP(O31,'LEAGUE MEMBERSHIP'!$I:$M,3,FALSE)&\" / \"&VLOOKUP(O31,'LEAGUE MEMBERSHIP'!$I:$M,5,FALSE)","v":"Deb DeCarolis / Joey DeCarolis"}]
[null,null,null,{"$f":"D16","v":"Week 1"},{"$f":"E16","v":"Week 2"},"Week 3","Week 4","Week 5","Week 6","Week 7","Week 8","Week 9","",null,"Team 17",{"$f":"VLOOKUP(O32,'LEAGUE MEMBERSHIP'!$I:$M,3,FALSE)&\" / \"&VLOOKUP(O32,'LEAGUE MEMBERSHIP'!$I:$M,5,FALSE)","v":"Gary Bittner / Mike Dauphinais"}]
[null,null,null,null,null,null,null,null,null,null,null,null,null,null,"Team 18",{"$f":"VLOOKUP(O33,'LEAGUE MEMBERSHIP'!$I:$M,3,FALSE)&\" / \"&VLOOKUP(O33,'LEAGUE MEMBERSHIP'!$I:$M,5,FALSE)","v":"Norm Gamache / Michelle Bouvier"}]
[null,null,null,null,null,null,null,"Second Half",null,null,null,null,null,null,"Team 19",{"$f":"VLOOKUP(O34,'LEAGUE MEMBERSHIP'!$I:$M,3,FALSE)&\" / \"&VLOOKUP(O34,'LEAGUE MEMBERSHIP'!$I:$M,5,FALSE)","v":"Gary Leavenworth / Patty Leavenworth"}]
[null,null,null,null,null,null,null,null,null,null,null,null,null,null,"Team 20",{"$f":"VLOOKUP(O35,'LEAGUE MEMBERSHIP'!$I:$M,3,FALSE)&\" / \"&VLOOKUP(O35,'LEAGUE MEMBERSHIP'!$I:$M,5,FALSE)","v":"Paul Fontaine / Ralph Romano III"}]
[null,null,null,null,null,null,null,null,null,null,null,null,null,null,"Team 21",{"$f":"VLOOKUP(O36,'LEAGUE MEMBERSHIP'!$I:$M,3,FALSE)&\" / \"&VLOOKUP(O36,'LEAGUE MEMBERSHIP'!$I:$M,5,FALSE)","v":" / "}]
[null,null,null,null,null,null,null,null,null,null,null,null,null,null,"Team 22",{"$f":"VLOOKUP(O37,'LEAGUE MEMBERSHIP'!$I:$M,3,FALSE)&\" / \"&VLOOKUP(O37,'LEAGUE MEMBERSHIP'!$I:$M,5,FALSE)","v":" / "}]
[]
[]
[]
[]
[]
[]
[]
[]
[]
[null,null,null," "]
[]
[]
[]
[]
[]
[]
[]
[null,null,{"$f":"SCHEDULE!C51","v":"Schedule - First Half 2013"}]
[null,null,"Week",{"$f":"IF(SCHEDULE!D52<>\"\",SCHEDULE!D52,\"\")","v":"Week 1"},{"$f":"IF(SCHEDULE!E52<>\"\",SCHEDULE!E52,\"\")","v":"Week 2"},{"$f":"IF(SCHEDULE!F52<>\"\",SCHEDULE!F52,\"\")","v":"Week 3"},{"$f":"IF(SCHEDULE!G52<>\"\",SCHEDULE!G52,\"\")","v":"Week 4"},{"$f":"IF(SCHEDULE!H52<>\"\",SCHEDULE!H52,\"\")","v":"Week 5"},{"$f":"IF(SCHEDULE!I52<>\"\",SCHEDULE!I52,\"\")","v":"Week 6"},{"$f":"IF(SCHEDULE!J52<>\"\",SCHEDULE!J52,\"\")","v":"Week 7"},{"$f":"IF(SCHEDULE!K52<>\"\",SCHEDULE!K52,\"\")","v":"Week 8"},{"$f":"IF(SCHEDULE!L52<>\"\",SCHEDULE!L52,\"\")","v":"Week 9"},{"$f":"SCHEDULE!M11","v":""}]
[null,null,"Date",{"$f":"IF(SCHEDULE!D53<>\"\",SCHEDULE!D53,\"\")","v":"2013-04-24"},{"$f":"IF(SCHEDULE!E53<>\"\",SCHEDULE!E53,\"\")","v":"2013-05-01"},{"$f":"IF(SCHEDULE!F53<>\"\",SCHEDULE!F53,\"\")","v":"2013-05-08"},{"$f":"IF(SCHEDULE!G53<>\"\",SCHEDULE!G53,\"\")","v":"2013-05-15"},{"$f":"IF(SCHEDULE!H53<>\"\",SCHEDULE!H53,\"\")","v":"2013-05-22"},{"$f":"IF(SCHEDULE!I53<>\"\",SCHEDULE!I53,\"\")","v":"2013-05-29"},{"$f":"IF(SCHEDULE!J53<>\"\",SCHEDULE!J53,\"\")","v":"2013-06-05"},{"$f":"IF(SCHEDULE!K53<>\"\",SCHEDULE!K53,\"\")","v":"2013-06-12"},{"$f":"IF(SCHEDULE!L53<>\"\",SCHEDULE!L53,\"\")","v":"2013-06-19"},{"$f":"SCHEDULE!M12","v":""}]
[null,null,"Side",{"$f":"IF(SCHEDULE!D54<>\"\",SCHEDULE!D54,\"\")","v":"FRONT"},{"$f":"IF(SCHEDULE!E54<>\"\",SCHEDULE!E54,\"\")","v":"BACK"},{"$f":"IF(SCHEDULE!F54<>\"\",SCHEDULE!F54,\"\")","v":"FRONT"},{"$f":"IF(SCHEDULE!G54<>\"\",SCHEDULE!G54,\"\")","v":"BACK"},{"$f":"IF(SCHEDULE!H54<>\"\",SCHEDULE!H54,\"\")","v":"FRONT"},{"$f":"IF(SCHEDULE!I54<>\"\",SCHEDULE!I54,\"\")","v":"BACK"},{"$f":"IF(SCHEDULE!J54<>\"\",SCHEDULE!J54,\"\")","v":"FRONT"},{"$f":"IF(SCHEDULE!K54<>\"\",SCHEDULE!K54,\"\")","v":"BACK"},{"$f":"IF(SCHEDULE!L54<>\"\",SCHEDULE!L54,\"\")","v":"FRONT"},{"$f":"SCHEDULE!M13","v":""}]
[null,null,"Tee Time"]
[null,null,{"$f":"IF(SCHEDULE!C56<>\"\",SCHEDULE!C56,\"\")","v":"4:00"},{"$f":"IF(SCHEDULE!D56<>\"\",SCHEDULE!D56,\"\")","v":"4 v 14"},{"$f":"IF(SCHEDULE!E56<>\"\",SCHEDULE!E56,\"\")","v":"8 v 16"},{"$f":"IF(SCHEDULE!F56<>\"\",SCHEDULE!F56,\"\")","v":"9 v 15"},{"$f":"IF(SCHEDULE!G56<>\"\",SCHEDULE!G56,\"\")","v":"8 v 12"},{"$f":"IF(SCHEDULE!H56<>\"\",SCHEDULE!H56,\"\")","v":"20 v 13"},{"$f":"IF(SCHEDULE!I56<>\"\",SCHEDULE!I56,\"\")","v":"9 v 3"},{"$f":"IF(SCHEDULE!J56<>\"\",SCHEDULE!J56,\"\")","v":"16 v 13"},{"$f":"IF(SCHEDULE!K56<>\"\",SCHEDULE!K56,\"\")","v":"1 v 8"},{"$f":"IF(SCHEDULE!L56<>\"\",SCHEDULE!L56,\"\")","v":"18 v 5"},{"$f":"SCHEDULE!M16","v":""}]
[null,null,{"$f":"IF(SCHEDULE!C57<>\"\",SCHEDULE!C57,\"\")","v":"4:08"},{"$f":"IF(SCHEDULE!D57<>\"\",SCHEDULE!D57,\"\")","v":"5 v 15"},{"$f":"IF(SCHEDULE!E57<>\"\",SCHEDULE!E57,\"\")","v":"3 v 11"},{"$f":"IF(SCHEDULE!F57<>\"\",SCHEDULE!F57,\"\")","v":"5 v 11"},{"$f":"IF(SCHEDULE!G57<>\"\",SCHEDULE!G57,\"\")","v":"1 v 4"},{"$f":"IF(SCHEDULE!H57<>\"\",SCHEDULE!H57,\"\")","v":"6 v 4"},{"$f":"IF(SCHEDULE!I57<>\"\",SCHEDULE!I57,\"\")","v":"20 v 11"},{"$f":"IF(SCHEDULE!J57<>\"\",SCHEDULE!J57,\"\")","v":"20 v 3"},{"$f":"IF(SCHEDULE!K57<>\"\",SCHEDULE!K57,\"\")","v":"15 v 12"},{"$f":"IF(SCHEDULE!L57<>\"\",SCHEDULE!L57,\"\")","v":"15 v 2"},{"$f":"SCHEDULE!M17","v":""}]
[null,null,{"$f":"IF(SCHEDULE!C58<>\"\",SCHEDULE!C58,\"\")","v":"4:16"},{"$f":"IF(SCHEDULE!D58<>\"\",SCHEDULE!D58,\"\")","v":"1 v 11"},{"$f":"IF(SCHEDULE!E58<>\"\",SCHEDULE!E58,\"\")","v":"1 v 2"},{"$f":"IF(SCHEDULE!F58<>\"\",SCHEDULE!F58,\"\")","v":"1 v 3"},{"$f":"IF(SCHEDULE!G58<>\"\",SCHEDULE!G58,\"\")","v":"9 v 13"},{"$f":"IF(SCHEDULE!H58<>\"\",SCHEDULE!H58,\"\")","v":"1 v 5"},{"$f":"IF(SCHEDULE!I58<>\"\",SCHEDULE!I58,\"\")","v":"1 v 6"},{"$f":"IF(SCHEDULE!J58<>\"\",SCHEDULE!J58,\"\")","v":"8 v 6"},{"$f":"IF(SCHEDULE!K58<>\"\",SCHEDULE!K58,\"\")","v":"16 v 11"},{"$f":"IF(SCHEDULE!L58<>\"\",SCHEDULE!L58,\"\")","v":"20 v 7"},{"$f":"SCHEDULE!M18","v":""}]
[null,null,{"$f":"IF(SCHEDULE!C59<>\"\",SCHEDULE!C59,\"\")","v":"4:24"},{"$f":"IF(SCHEDULE!D59<>\"\",SCHEDULE!D59,\"\")","v":"3 v 13"},{"$f":"IF(SCHEDULE!E59<>\"\",SCHEDULE!E59,\"\")","v":"9 v 17"},{"$f":"IF(SCHEDULE!F59<>\"\",SCHEDULE!F59,\"\")","v":"6 v 12"},{"$f":"IF(SCHEDULE!G59<>\"\",SCHEDULE!G59,\"\")","v":"20 v 15"},{"$f":"IF(SCHEDULE!H59<>\"\",SCHEDULE!H59,\"\")","v":"18 v 15"},{"$f":"IF(SCHEDULE!I59<>\"\",SCHEDULE!I59,\"\")","v":"19 v 12"},{"$f":"IF(SCHEDULE!J59<>\"\",SCHEDULE!J59,\"\")","v":"9 v 5"},{"$f":"IF(SCHEDULE!K59<>\"\",SCHEDULE!K59,\"\")","v":"18 v 3"},{"$f":"IF(SCHEDULE!L59<>\"\",SCHEDULE!L59,\"\")","v":"16 v 3"},{"$f":"SCHEDULE!M19","v":""}]
[null,null,{"$f":"IF(SCHEDULE!C60<>\"\",SCHEDULE!C60,\"\")","v":"4:32"},{"$f":"IF(SCHEDULE!D60<>\"\",SCHEDULE!D60,\"\")","v":"7 v 17"},{"$f":"IF(SCHEDULE!E60<>\"\",SCHEDULE!E60,\"\")","v":"6 v 14"},{"$f":"IF(SCHEDULE!F60<>\"\",SCHEDULE!F60,\"\")","v":"20 v 17"},{"$f":"IF(SCHEDULE!G60<>\"\",SCHEDULE!G60,\"\")","v":"6 v 2"},{"$f":"IF(SCHEDULE!H60<>\"\",SCHEDULE!H60,\"\")","v":"9 v 11"},{"$f":"IF(SCHEDULE!I60<>\"\",SCHEDULE!I60,\"\")","v":"16 v 15"},{"$f":"IF(SCHEDULE!J60<>\"\",SCHEDULE!J60,\"\")","v":"17 v 12"},{"$f":"IF(SCHEDULE!K60<>\"\",SCHEDULE!K60,\"\")","v":"10 v 6"},{"$f":"IF(SCHEDULE!L60<>\"\",SCHEDULE!L60,\"\")","v":"13 v 12"},{"$f":"SCHEDULE!M20","v":""}]
[null,null,{"$f":"IF(SCHEDULE!C61<>\"\",SCHEDULE!C61,\"\")","v":"4:40"},{"$f":"IF(SCHEDULE!D61<>\"\",SCHEDULE!D61,\"\")","v":"8 v 18"},{"$f":"IF(SCHEDULE!E61<>\"\",SCHEDULE!E61,\"\")","v":"4 v 12"},{"$f":"IF(SCHEDULE!F61<>\"\",SCHEDULE!F61,\"\")","v":"4 v 2"},{"$f":"IF(SCHEDULE!G61<>\"\",SCHEDULE!G61,\"\")","v":"18 v 17"},{"$f":"IF(SCHEDULE!H61<>\"\",SCHEDULE!H61,\"\")","v":"10 v 12"},{"$f":"IF(SCHEDULE!I61<>\"\",SCHEDULE!I61,\"\")","v":"17 v 14"},{"$f":"IF(SCHEDULE!J61<>\"\",SCHEDULE!J61,\"\")","v":"18 v 11"},{"$f":"IF(SCHEDULE!K61<>\"\",SCHEDULE!K61,\"\")","v":"20 v 5"},{"$f":"IF(SCHEDULE!L61<>\"\",SCHEDULE!L61,\"\")","v":"14 v 11"},{"$f":"SCHEDULE!M21","v":""}]
[null,null,{"$f":"IF(SCHEDULE!C62<>\"\",SCHEDULE!C62,\"\")","v":"4:48"},{"$f":"IF(SCHEDULE!D62<>\"\",SCHEDULE!D62,\"\")","v":"9 v 19"},{"$f":"IF(SCHEDULE!E62<>\"\",SCHEDULE!E62,\"\")","v":"10 v 18"},{"$f":"IF(SCHEDULE!F62<>\"\",SCHEDULE!F62,\"\")","v":"10 v 16"},{"$f":"IF(SCHEDULE!G62<>\"\",SCHEDULE!G62,\"\")","v":"10 v 14"},{"$f":"IF(SCHEDULE!H62<>\"\",SCHEDULE!H62,\"\")","v":"19 v 14"},{"$f":"IF(SCHEDULE!I62<>\"\",SCHEDULE!I62,\"\")","v":"18 v 13"},{"$f":"IF(SCHEDULE!J62<>\"\",SCHEDULE!J62,\"\")","v":"1 v 7"},{"$f":"IF(SCHEDULE!K62<>\"\",SCHEDULE!K62,\"\")","v":"17 v 2"},{"$f":"IF(SCHEDULE!L62<>\"\",SCHEDULE!L62,\"\")","v":"17 v 4"},{"$f":"SCHEDULE!M22","v":""}]
[null,null,{"$f":"IF(SCHEDULE!C63<>\"\",SCHEDULE!C63,\"\")","v":"4:56"},{"$f":"IF(SCHEDULE!D63<>\"\",SCHEDULE!D63,\"\")","v":"2 v 12"},{"$f":"IF(SCHEDULE!E63<>\"\",SCHEDULE!E63,\"\")","v":"7 v 15"},{"$f":"IF(SCHEDULE!F63<>\"\",SCHEDULE!F63,\"\")","v":"19 v 18"},{"$f":"IF(SCHEDULE!G63<>\"\",SCHEDULE!G63,\"\")","v":"7 v 11"},{"$f":"IF(SCHEDULE!H63<>\"\",SCHEDULE!H63,\"\")","v":"7 v 3"},{"$f":"IF(SCHEDULE!I63<>\"\",SCHEDULE!I63,\"\")","v":"10 v 2"},{"$f":"IF(SCHEDULE!J63<>\"\",SCHEDULE!J63,\"\")","v":"19 v 2"},{"$f":"IF(SCHEDULE!K63<>\"\",SCHEDULE!K63,\"\")","v":"14 v 13"},{"$f":"IF(SCHEDULE!L63<>\"\",SCHEDULE!L63,\"\")","v":"19 v 6"},{"$f":"SCHEDULE!M23","v":""}]
[null,null,{"$f":"IF(SCHEDULE!C64<>\"\",SCHEDULE!C64,\"\")","v":"5:04"},{"$f":"IF(SCHEDULE!D64<>\"\",SCHEDULE!D64,\"\")","v":"6 v 16"},{"$f":"IF(SCHEDULE!E64<>\"\",SCHEDULE!E64,\"\")","v":"20 v 19"},{"$f":"IF(SCHEDULE!F64<>\"\",SCHEDULE!F64,\"\")","v":"8 v 14"},{"$f":"IF(SCHEDULE!G64<>\"\",SCHEDULE!G64,\"\")","v":"19 v 16"},{"$f":"IF(SCHEDULE!H64<>\"\",SCHEDULE!H64,\"\")","v":"17 v 16"},{"$f":"IF(SCHEDULE!I64<>\"\",SCHEDULE!I64,\"\")","v":"8 v 4"},{"$f":"IF(SCHEDULE!J64<>\"\",SCHEDULE!J64,\"\")","v":"15 v 14"},{"$f":"IF(SCHEDULE!K64<>\"\",SCHEDULE!K64,\"\")","v":"19 v 4"},{"$f":"IF(SCHEDULE!L64<>\"\",SCHEDULE!L64,\"\")","v":"1 v 9"},{"$f":"SCHEDULE!M24","v":""}]
[null,null,{"$f":"IF(SCHEDULE!C65<>\"\",SCHEDULE!C65,\"\")","v":"5:12"},{"$f":"IF(SCHEDULE!D65<>\"\",SCHEDULE!D65,\"\")","v":"10 v 20"},{"$f":"IF(SCHEDULE!E65<>\"\",SCHEDULE!E65,\"\")","v":"5 v 13"},{"$f":"IF(SCHEDULE!F65<>\"\",SCHEDULE!F65,\"\")","v":"7 v 13"},{"$f":"IF(SCHEDULE!G65<>\"\",SCHEDULE!G65,\"\")","v":"5 v 3"},{"$f":"IF(SCHEDULE!H65<>\"\",SCHEDULE!H65,\"\")","v":"8 v 2"},{"$f":"IF(SCHEDULE!I65<>\"\",SCHEDULE!I65,\"\")","v":"7 v 5"},{"$f":"IF(SCHEDULE!J65<>\"\",SCHEDULE!J65,\"\")","v":"10 v 4"},{"$f":"IF(SCHEDULE!K65<>\"\",SCHEDULE!K65,\"\")","v":"9 v 7"},{"$f":"IF(SCHEDULE!L65<>\"\",SCHEDULE!L65,\"\")","v":"10 v 8"},{"$f":"SCHEDULE!M25","v":""}]
[null,null,{"$f":"IF(SCHEDULE!C66<>\"\",SCHEDULE!C66,\"\")","v":""},{"$f":"IF(SCHEDULE!D66<>\"\",SCHEDULE!D66,\"\")","v":""},{"$f":"IF(SCHEDULE!E66<>\"\",SCHEDULE!E66,\"\")","v":""},{"$f":"IF(SCHEDULE!F66<>\"\",SCHEDULE!F66,\"\")","v":""},{"$f":"IF(SCHEDULE!G66<>\"\",SCHEDULE!G66,\"\")","v":""},{"$f":"IF(SCHEDULE!H66<>\"\",SCHEDULE!H66,\"\")","v":""},{"$f":"IF(SCHEDULE!I66<>\"\",SCHEDULE!I66,\"\")","v":""},{"$f":"IF(SCHEDULE!J66<>\"\",SCHEDULE!J66,\"\")","v":""},{"$f":"IF(SCHEDULE!K66<>\"\",SCHEDULE!K66,\"\")","v":""},{"$f":"IF(SCHEDULE!L66<>\"\",SCHEDULE!L66,\"\")","v":""},{"$f":"SCHEDULE!M26","v":""}]
[null,null,"Closest to Pin",{"$f":"IF(SCHEDULE!D67<>\"\",SCHEDULE!D67,\"\")","v":6},{"$f":"IF(SCHEDULE!E67<>\"\",SCHEDULE!E67,\"\")","v":14},{"$f":"IF(SCHEDULE!F67<>\"\",SCHEDULE!F67,\"\")","v":8},{"$f":"IF(SCHEDULE!G67<>\"\",SCHEDULE!G67,\"\")","v":16},{"$f":"IF(SCHEDULE!H67<>\"\",SCHEDULE!H67,\"\")","v":6},{"$f":"IF(SCHEDULE!I67<>\"\",SCHEDULE!I67,\"\")","v":14},{"$f":"IF(SCHEDULE!J67<>\"\",SCHEDULE!J67,\"\")","v":8},{"$f":"IF(SCHEDULE!K67<>\"\",SCHEDULE!K67,\"\")","v":16},{"$f":"IF(SCHEDULE!L67<>\"\",SCHEDULE!L67,\"\")","v":6},{"$f":"SCHEDULE!M27","v":""}]
[]
[]
[]
[null,null,{"$f":"SCHEDULE!C71","v":"Schedule - Second Half 2013"}]
[null,null,"Week",{"$f":"IF(SCHEDULE!D72<>\"\",SCHEDULE!D72,\"\")","v":"Week 1"},{"$f":"IF(SCHEDULE!E72<>\"\",SCHEDULE!E72,\"\")","v":"Week 2"},{"$f":"IF(SCHEDULE!F72<>\"\",SCHEDULE!F72,\"\")","v":"Week 3"},{"$f":"IF(SCHEDULE!G72<>\"\",SCHEDULE!G72,\"\")","v":"Week 4"},{"$f":"IF(SCHEDULE!H72<>\"\",SCHEDULE!H72,\"\")","v":"Week 5"},{"$f":"IF(SCHEDULE!I72<>\"\",SCHEDULE!I72,\"\")","v":"Week 6"},{"$f":"IF(SCHEDULE!J72<>\"\",SCHEDULE!J72,\"\")","v":"Week 7"},{"$f":"IF(SCHEDULE!K72<>\"\",SCHEDULE!K72,\"\")","v":"Week 8"},{"$f":"IF(SCHEDULE!L72<>\"\",SCHEDULE!L72,\"\")","v":"Week 9"},{"$f":"IF(SCHEDULE!M72<>\"\",SCHEDULE!M72,\"\")","v":""}]
[null,null,"Date",{"$f":"IF(SCHEDULE!D73<>\"\",SCHEDULE!D73,\"\")","v":"2013-07-03"},{"$f":"IF(SCHEDULE!E73<>\"\",SCHEDULE!E73,\"\")","v":"2013-07-10"},{"$f":"IF(SCHEDULE!F73<>\"\",SCHEDULE!F73,\"\")","v":"2013-07-17"},{"$f":"IF(SCHEDULE!G73<>\"\",SCHEDULE!G73,\"\")","v":"2013-07-24"},{"$f":"IF(SCHEDULE!H73<>\"\",SCHEDULE!H73,\"\")","v":"2013-07-31"},{"$f":"IF(SCHEDULE!I73<>\"\",SCHEDULE!I73,\"\")","v":"2013-08-07"},{"$f":"IF(SCHEDULE!J73<>\"\",SCHEDULE!J73,\"\")","v":"2013-08-14"},{"$f":"IF(SCHEDULE!K73<>\"\",SCHEDULE!K73,\"\")","v":"2013-08-21"},{"$f":"IF(SCHEDULE!L73<>\"\",SCHEDULE!L73,\"\")","v":"2013-08-28"},{"$f":"IF(SCHEDULE!M73<>\"\",SCHEDULE!M73,\"\")","v":""}]
[null,null,"Side",{"$f":"IF(SCHEDULE!D74<>\"\",SCHEDULE!D74,\"\")","v":"FRONT"},{"$f":"IF(SCHEDULE!E74<>\"\",SCHEDULE!E74,\"\")","v":"BACK"},{"$f":"IF(SCHEDULE!F74<>\"\",SCHEDULE!F74,\"\")","v":"FRONT"},{"$f":"IF(SCHEDULE!G74<>\"\",SCHEDULE!G74,\"\")","v":"BACK"},{"$f":"IF(SCHEDULE!H74<>\"\",SCHEDULE!H74,\"\")","v":"FRONT"},{"$f":"IF(SCHEDULE!I74<>\"\",SCHEDULE!I74,\"\")","v":"BACK"},{"$f":"IF(SCHEDULE!J74<>\"\",SCHEDULE!J74,\"\")","v":"FRONT"},{"$f":"IF(SCHEDULE!K74<>\"\",SCHEDULE!K74,\"\")","v":"BACK"},{"$f":"IF(SCHEDULE!L74<>\"\",SCHEDULE!L74,\"\")","v":"FRONT"},{"$f":"IF(SCHEDULE!M74<>\"\",SCHEDULE!M74,\"\")","v":""}]
[null,null,"Tee Time",{"$f":"IF(SCHEDULE!D14=\"\",\"\",SCHEDULE!D14)","v":""},{"$f":"IF(SCHEDULE!E14=\"\",\"\",SCHEDULE!E14)","v":""},{"$f":"IF(SCHEDULE!F14=\"\",\"\",SCHEDULE!F14)","v":""},{"$f":"IF(SCHEDULE!G14=\"\",\"\",SCHEDULE!G14)","v":""},{"$f":"IF(SCHEDULE!H14=\"\",\"\",SCHEDULE!H14)","v":""},{"$f":"IF(SCHEDULE!I14=\"\",\"\",SCHEDULE!I14)","v":""},{"$f":"IF(SCHEDULE!J14=\"\",\"\",SCHEDULE!J14)","v":""},{"$f":"IF(SCHEDULE!K14=\"\",\"\",SCHEDULE!K14)","v":""},{"$f":"IF(SCHEDULE!L14=\"\",\"\",SCHEDULE!L14)","v":""},{"$f":"IF(SCHEDULE!M14=\"\",\"\",SCHEDULE!M14)","v":""}]
[null,null,{"$f":"IF(SCHEDULE!C76<>\"\",SCHEDULE!C76,\"\")","v":"4:00"},{"$f":"IF(SCHEDULE!D76<>\"\",SCHEDULE!D76,\"\")","v":"11 v 2"},{"$f":"IF(SCHEDULE!E76<>\"\",SCHEDULE!E76,\"\")","v":"12 v 5"},{"$f":"IF(SCHEDULE!F76<>\"\",SCHEDULE!F76,\"\")","v":"1 v 18"},{"$f":"IF(SCHEDULE!G76<>\"\",SCHEDULE!G76,\"\")","v":"14 v 20"},{"$f":"IF(SCHEDULE!H76<>\"\",SCHEDULE!H76,\"\")","v":"15 v 17"},{"$f":"IF(SCHEDULE!I76<>\"\",SCHEDULE!I76,\"\")","v":"14 v 16"},{"$f":"IF(SCHEDULE!J76<>\"\",SCHEDULE!J76,\"\")","v":"5 v 10"},{"$f":"IF(SCHEDULE!K76<>\"\",SCHEDULE!K76,\"\")","v":"7 v 10"},{"$f":"IF(SCHEDULE!L76<>\"\",SCHEDULE!L76,\"\")","v":"4 v 16"}]
[null,null,{"$f":"IF(SCHEDULE!C77<>\"\",SCHEDULE!C77,\"\")","v":"4:08"},{"$f":"IF(SCHEDULE!D77<>\"\",SCHEDULE!D77,\"\")","v":"16 v 7"},{"$f":"IF(SCHEDULE!E77<>\"\",SCHEDULE!E77,\"\")","v":"18 v 20"},{"$f":"IF(SCHEDULE!F77<>\"\",SCHEDULE!F77,\"\")","v":"14 v 9"},{"$f":"IF(SCHEDULE!G77<>\"\",SCHEDULE!G77,\"\")","v":"3 v 6"},{"$f":"IF(SCHEDULE!H77<>\"\",SCHEDULE!H77,\"\")","v":"5 v 6"},{"$f":"IF(SCHEDULE!I77<>\"\",SCHEDULE!I77,\"\")","v":"13 v 17"},{"$f":"IF(SCHEDULE!J77<>\"\",SCHEDULE!J77,\"\")","v":"11 v 17"},{"$f":"IF(SCHEDULE!K77<>\"\",SCHEDULE!K77,\"\")","v":"8 v 9"},{"$f":"IF(SCHEDULE!L77<>\"\",SCHEDULE!L77,\"\")","v":"8 v 20"}]
[null,null,{"$f":"IF(SCHEDULE!C78<>\"\",SCHEDULE!C78,\"\")","v":"4:16"},{"$f":"IF(SCHEDULE!D78<>\"\",SCHEDULE!D78,\"\")","v":"17 v 8"},{"$f":"IF(SCHEDULE!E78<>\"\",SCHEDULE!E78,\"\")","v":"16 v 9"},{"$f":"IF(SCHEDULE!F78<>\"\",SCHEDULE!F78,\"\")","v":"16 v 20"},{"$f":"IF(SCHEDULE!G78<>\"\",SCHEDULE!G78,\"\")","v":"2 v 7"},{"$f":"IF(SCHEDULE!H78<>\"\",SCHEDULE!H78,\"\")","v":"1 v 16"},{"$f":"IF(SCHEDULE!I78<>\"\",SCHEDULE!I78,\"\")","v":"4 v 9"},{"$f":"IF(SCHEDULE!J78<>\"\",SCHEDULE!J78,\"\")","v":"1 v 14"},{"$f":"IF(SCHEDULE!K78<>\"\",SCHEDULE!K78,\"\")","v":"6 v 20"},{"$f":"IF(SCHEDULE!L78<>\"\",SCHEDULE!L78,\"\")","v":"1 v 12"}]
[null,null,{"$f":"IF(SCHEDULE!C79<>\"\",SCHEDULE!C79,\"\")","v":"4:24"},{"$f":"IF(SCHEDULE!D79<>\"\",SCHEDULE!D79,\"\")","v":"12 v 3"},{"$f":"IF(SCHEDULE!E79<>\"\",SCHEDULE!E79,\"\")","v":"11 v 4"},{"$f":"IF(SCHEDULE!F79<>\"\",SCHEDULE!F79,\"\")","v":"11 v 6"},{"$f":"IF(SCHEDULE!G79<>\"\",SCHEDULE!G79,\"\")","v":"11 v 8"},{"$f":"IF(SCHEDULE!H79<>\"\",SCHEDULE!H79,\"\")","v":"11 v 10"},{"$f":"IF(SCHEDULE!I79<>\"\",SCHEDULE!I79,\"\")","v":"2 v 20"},{"$f":"IF(SCHEDULE!J79<>\"\",SCHEDULE!J79,\"\")","v":"7 v 8"},{"$f":"IF(SCHEDULE!K79<>\"\",SCHEDULE!K79,\"\")","v":"11 v 15"},{"$f":"IF(SCHEDULE!L79<>\"\",SCHEDULE!L79,\"\")","v":"2 v 14"}]
[null,null,{"$f":"IF(SCHEDULE!C80<>\"\",SCHEDULE!C80,\"\")","v":"4:32"},{"$f":"IF(SCHEDULE!D80<>\"\",SCHEDULE!D80,\"\")","v":"14 v 5"},{"$f":"IF(SCHEDULE!E80<>\"\",SCHEDULE!E80,\"\")","v":"14 v 7"},{"$f":"IF(SCHEDULE!F80<>\"\",SCHEDULE!F80,\"\")","v":"3 v 4"},{"$f":"IF(SCHEDULE!G80<>\"\",SCHEDULE!G80,\"\")","v":"13 v 10"},{"$f":"IF(SCHEDULE!H80<>\"\",SCHEDULE!H80,\"\")","v":"2 v 9"},{"$f":"IF(SCHEDULE!I80<>\"\",SCHEDULE!I80,\"\")","v":"5 v 8"},{"$f":"IF(SCHEDULE!J80<>\"\",SCHEDULE!J80,\"\")","v":"13 v 15"},{"$f":"IF(SCHEDULE!K80<>\"\",SCHEDULE!K80,\"\")","v":"5 v 19"},{"$f":"IF(SCHEDULE!L80<>\"\",SCHEDULE!L80,\"\")","v":"5 v 17"}]
[null,null,{"$f":"IF(SCHEDULE!C81<>\"\",SCHEDULE!C81,\"\")","v":"4:40"},{"$f":"IF(SCHEDULE!D81<>\"\",SCHEDULE!D81,\"\")","v":"13 v 4"},{"$f":"IF(SCHEDULE!E81<>\"\",SCHEDULE!E81,\"\")","v":"13 v 6"},{"$f":"IF(SCHEDULE!F81<>\"\",SCHEDULE!F81,\"\")","v":"17 v 19"},{"$f":"IF(SCHEDULE!G81<>\"\",SCHEDULE!G81,\"\")","v":"16 v 18"},{"$f":"IF(SCHEDULE!H81<>\"\",SCHEDULE!H81,\"\")","v":"12 v 20"},{"$f":"IF(SCHEDULE!I81<>\"\",SCHEDULE!I81,\"\")","v":"3 v 10"},{"$f":"IF(SCHEDULE!J81<>\"\",SCHEDULE!J81,\"\")","v":"3 v 19"},{"$f":"IF(SCHEDULE!K81<>\"\",SCHEDULE!K81,\"\")","v":"3 v 17"},{"$f":"IF(SCHEDULE!L81<>\"\",SCHEDULE!L81,\"\")","v":"3 v 15"}]
[null,null,{"$f":"IF(SCHEDULE!C82<>\"\",SCHEDULE!C82,\"\")","v":"4:48"},{"$f":"IF(SCHEDULE!D82<>\"\",SCHEDULE!D82,\"\")","v":"1 v 20"},{"$f":"IF(SCHEDULE!E82<>\"\",SCHEDULE!E82,\"\")","v":"2 v 3"},{"$f":"IF(SCHEDULE!F82<>\"\",SCHEDULE!F82,\"\")","v":"15 v 10"},{"$f":"IF(SCHEDULE!G82<>\"\",SCHEDULE!G82,\"\")","v":"1 v 17"},{"$f":"IF(SCHEDULE!H82<>\"\",SCHEDULE!H82,\"\")","v":"3 v 8"},{"$f":"IF(SCHEDULE!I82<>\"\",SCHEDULE!I82,\"\")","v":"11 v 19"},{"$f":"IF(SCHEDULE!J82<>\"\",SCHEDULE!J82,\"\")","v":"6 v 9"},{"$f":"IF(SCHEDULE!K82<>\"\",SCHEDULE!K82,\"\")","v":"4 v 18"},{"$f":"IF(SCHEDULE!L82<>\"\",SCHEDULE!L82,\"\")","v":"9 v 10"}]
[null,null,{"$f":"IF(SCHEDULE!C83<>\"\",SCHEDULE!C83,\"\")","v":"4:56"},{"$f":"IF(SCHEDULE!D83<>\"\",SCHEDULE!D83,\"\")","v":"18 v 9"},{"$f":"IF(SCHEDULE!E83<>\"\",SCHEDULE!E83,\"\")","v":"15 v 8"},{"$f":"IF(SCHEDULE!F83<>\"\",SCHEDULE!F83,\"\")","v":"2 v 5"},{"$f":"IF(SCHEDULE!G83<>\"\",SCHEDULE!G83,\"\")","v":"4 v 5"},{"$f":"IF(SCHEDULE!H83<>\"\",SCHEDULE!H83,\"\")","v":"14 v 18"},{"$f":"IF(SCHEDULE!I83<>\"\",SCHEDULE!I83,\"\")","v":"6 v 7"},{"$f":"IF(SCHEDULE!J83<>\"\",SCHEDULE!J83,\"\")","v":"4 v 20"},{"$f":"IF(SCHEDULE!K83<>\"\",SCHEDULE!K83,\"\")","v":"2 v 16"},{"$f":"IF(SCHEDULE!L83<>\"\",SCHEDULE!L83,\"\")","v":"7 v 19"}]
[null,null,{"$f":"IF(SCHEDULE!C84<>\"\",SCHEDULE!C84,\"\")","v":"5:04"},{"$f":"IF(SCHEDULE!D84<>\"\",SCHEDULE!D84,\"\")","v":"19 v 10"},{"$f":"IF(SCHEDULE!E84<>\"\",SCHEDULE!E84,\"\")","v":"1 v 19"},{"$f":"IF(SCHEDULE!F84<>\"\",SCHEDULE!F84,\"\")","v":"13 v 8"},{"$f":"IF(SCHEDULE!G84<>\"\",SCHEDULE!G84,\"\")","v":"15 v 19"},{"$f":"IF(SCHEDULE!H84<>\"\",SCHEDULE!H84,\"\")","v":"4 v 7"},{"$f":"IF(SCHEDULE!I84<>\"\",SCHEDULE!I84,\"\")","v":"12 v 18"},{"$f":"IF(SCHEDULE!J84<>\"\",SCHEDULE!J84,\"\")","v":"2 v 18"},{"$f":"IF(SCHEDULE!K84<>\"\",SCHEDULE!K84,\"\")","v":"1 v 13"},{"$f":"IF(SCHEDULE!L84<>\"\",SCHEDULE!L84,\"\")","v":"11 v 13"}]
[null,null,{"$f":"IF(SCHEDULE!C85<>\"\",SCHEDULE!C85,\"\")","v":"5:12"},{"$f":"IF(SCHEDULE!D85<>\"\",SCHEDULE!D85,\"\")","v":"15 v 6"},{"$f":"IF(SCHEDULE!E85<>\"\",SCHEDULE!E85,\"\")","v":"17 v 10"},{"$f":"IF(SCHEDULE!F85<>\"\",SCHEDULE!F85,\"\")","v":"12 v 7"},{"$f":"IF(SCHEDULE!G85<>\"\",SCHEDULE!G85,\"\")","v":"12 v 9"},{"$f":"IF(SCHEDULE!H85<>\"\",SCHEDULE!H85,\"\")","v":"13 v 19"},{"$f":"IF(SCHEDULE!I85<>\"\",SCHEDULE!I85,\"\")","v":"1 v 15"},{"$f":"IF(SCHEDULE!J85<>\"\",SCHEDULE!J85,\"\")","v":"12 v 16"},{"$f":"IF(SCHEDULE!K85<>\"\",SCHEDULE!K85,\"\")","v":"12 v 14"},{"$f":"IF(SCHEDULE!L85<>\"\",SCHEDULE!L85,\"\")","v":"6 v 18"}]
[null,null,{"$f":"IF(SCHEDULE!C86<>\"\",SCHEDULE!C86,\"\")","v":""},{"$f":"IF(SCHEDULE!D86<>\"\",SCHEDULE!D86,\"\")","v":""},{"$f":"IF(SCHEDULE!E86<>\"\",SCHEDULE!E86,\"\")","v":""},{"$f":"IF(SCHEDULE!F86<>\"\",SCHEDULE!F86,\"\")","v":""},{"$f":"IF(SCHEDULE!G86<>\"\",SCHEDULE!G86,\"\")","v":""},{"$f":"IF(SCHEDULE!H86<>\"\",SCHEDULE!H86,\"\")","v":""},{"$f":"IF(SCHEDULE!I86<>\"\",SCHEDULE!I86,\"\")","v":""},{"$f":"IF(SCHEDULE!J86<>\"\",SCHEDULE!J86,\"\")","v":""},{"$f":"IF(SCHEDULE!K86<>\"\",SCHEDULE!K86,\"\")","v":""}]
[null,null,"Closest to Pin",{"$f":"IF(SCHEDULE!D87<>\"\",SCHEDULE!D87,\"\")","v":8},{"$f":"IF(SCHEDULE!E87<>\"\",SCHEDULE!E87,\"\")","v":16},{"$f":"IF(SCHEDULE!F87<>\"\",SCHEDULE!F87,\"\")","v":6},{"$f":"IF(SCHEDULE!G87<>\"\",SCHEDULE!G87,\"\")","v":14},{"$f":"IF(SCHEDULE!H87<>\"\",SCHEDULE!H87,\"\")","v":8},{"$f":"IF(SCHEDULE!I87<>\"\",SCHEDULE!I87,\"\")","v":16},{"$f":"IF(SCHEDULE!J87<>\"\",SCHEDULE!J87,\"\")","v":6},{"$f":"IF(SCHEDULE!K87<>\"\",SCHEDULE!K87,\"\")","v":14},{"$f":"IF(SCHEDULE!L87<>\"\",SCHEDULE!L87,\"\")","v":8},{"$f":"IF(SCHEDULE!M47<>\"\",SCHEDULE!M47,\"\")","v":""}]

{"sheet":"MATCH HISTORY 2","index":31,"n_rows":414,"n_cols":78,"rows_kept":414,"cut":false,"hidden":false,"merged":[[6,0,6,2],[7,0,7,2],[8,0,8,2],[21,0,21,12],[0,0,0,12],[1,0,1,12],[2,0,2,12],[3,0,3,2],[4,0,4,2],[5,0,5,2]]}
[{"$f":"'COURSE & LEAGUE DETAILS'!$B$3","v":"Woods at Westminster"},null,null,null,null,null,null,null,null,null,null,null,null,null,null,null,null,null,null,{"$f":"IF(ISERROR(VLOOKUP($K$24,$A$75:$BZ$600,54,FALSE)),\"No Data Available\",VLOOKUP($K$24,$A$75:$BZ$600,54,FALSE))","v":"No Data Available"}]
[{"$f":"IF(LEFT(N9,2)=\"No\",'COURSE & LEAGUE DETAILS'!$B$2&\" - \"&N6&\" - \"&TEXT(N9,\"mmm dd, yyyy\"),'COURSE & LEAGUE DETAILS'!$B$2&\" - \"&N6&\" - \"&TEXT(N9,\"mmm dd, yyyy\")&\" - \"&N8&\" Side\")","v":{"$error":"#VALUE!"}}]
[]
["HOLE",null,null,{"$f":"IF(LEFT($N$8)=\"F\",1,IF(LEFT($N$8)=\"B\",10,\"ERROR\"))","v":1},{"$f":"IF(LEFT($N$8)=\"F\",2,IF(LEFT($N$8)=\"B\",11,\"ERROR\"))","v":2},{"$f":"IF(LEFT($N$8)=\"F\",3,IF(LEFT($N$8)=\"B\",12,\"ERROR\"))","v":3},{"$f":"IF(LEFT($N$8)=\"F\",4,IF(LEFT($N$8)=\"B\",13,\"ERROR\"))","v":4},{"$f":"IF(LEFT($N$8)=\"F\",5,IF(LEFT($N$8)=\"B\",14,\"ERROR\"))","v":5},{"$f":"IF(LEFT($N$8)=\"F\",6,IF(LEFT($N$8)=\"B\",15,\"ERROR\"))","v":6},{"$f":"IF(LEFT($N$8)=\"F\",7,IF(LEFT($N$8)=\"B\",16,\"ERROR\"))","v":7},{"$f":"IF(LEFT($N$8)=\"F\",8,IF(LEFT($N$8)=\"B\",17,\"ERROR\"))","v":8},{"$f":"IF(LEFT($N$8)=\"F\",9,IF(LEFT($N$8)=\"B\",18,\"ERROR\"))","v":9},{"$f":"IF(LEFT($N$8)=\"F\",\"OUT\",IF(LEFT($N$8)=\"B\",\"IN\",\"ERROR\"))","v":"OUT"}]
["WHITE",null,null,{"$f":"IF($D$4=1,'COURSE & LEAGUE DETAILS'!$B$6,IF($D$4=10,'COURSE & LEAGUE DETAILS'!$B$14,\"ERROR\"))","v":460},{"$f":"IF($D$4=1,'COURSE & LEAGUE DETAILS'!$C$6,IF($D$4=10,'COURSE & LEAGUE DETAILS'!$C$14,\"ERROR\"))","v":275},{"$f":"IF($D$4=1,'COURSE & LEAGUE DETAILS'!$D$6,IF($D$4=10,'COURSE & LEAGUE DETAILS'!$D$14,\"ERROR\"))","v":525},{"$f":"IF($D$4=1,'COURSE & LEAGUE DETAILS'!$E$6,IF($D$4=10,'COURSE & LEAGUE DETAILS'!$E$14,\"ERROR\"))","v":295},{"$f":"IF($D$4=1,'COURSE & LEAGUE DETAILS'!$F$6,IF($D$4=10,'COURSE & LEAGUE DETAILS'!$F$14,\"ERROR\"))","v":345},{"$f":"IF($D$4=1,'COURSE & LEAGUE DETAILS'!$G$6,IF($D$4=10,'COURSE & LEAGUE DETAILS'!$G$14,\"ERROR\"))","v":175},{"$f":"IF($D$4=1,'COURSE & LEAGUE DETAILS'!$H$6,IF($D$4=10,'COURSE & LEAGUE DETAILS'!$H$14,\"ERROR\"))","v":405},{"$f":"IF($D$4=1,'COURSE & LEAGUE DETAILS'!$I$6,IF($D$4=10,'COURSE & LEAGUE DETAILS'!$I$14,\"ERROR\"))","v":145},{"$f":"IF($D$4=1,'COURSE & LEAGUE DETAILS'!$J$6,IF($D$4=10,'COURSE & LEAGUE DETAILS'!$J$14,\"ERROR\"))","v":320},{"$f":"IF($D$4=1,'COURSE & LEAGUE DETAILS'!$K$6,IF($D$4=10,'COURSE & LEAGUE DETAILS'!$K$14,\"ERROR\"))","v":2945}]
["MEN'S PAR    ",null,null,{"$f":"IF($D$4=1,'COURSE & LEAGUE DETAILS'!$B$7,IF($D$4=10,'COURSE & LEAGUE DETAILS'!$B$15,\"ERROR\"))","v":5},{"$f":"IF($D$4=1,'COURSE & LEAGUE DETAILS'!$C$7,IF($D$4=10,'COURSE & LEAGUE DETAILS'!$C$15,\"ERROR\"))","v":4},{"$f":"IF($D$4=1,'COURSE & LEAGUE DETAILS'!$D$7,IF($D$4=10,'COURSE & LEAGUE DETAILS'!$D$15,\"ERROR\"))","v":5},{"$f":"IF($D$4=1,'COURSE & LEAGUE DETAILS'!$E$7,IF($D$4=10,'COURSE & LEAGUE DETAILS'!$E$15,\"ERROR\"))","v":4},{"$f":"IF($D$4=1,'COURSE & LEAGUE DETAILS'!$F$7,IF($D$4=10,'COURSE & LEAGUE DETAILS'!$F$15,\"ERROR\"))","v":4},{"$f":"IF($D$4=1,'COURSE & LEAGUE DETAILS'!$G$7,IF($D$4=10,'COURSE & LEAGUE DETAILS'!$G$15,\"ERROR\"))","v":3},{"$f":"IF($D$4=1,'COURSE & LEAGUE DETAILS'!$H$7,IF($D$4=10,'COURSE & LEAGUE DETAILS'!$H$15,\"ERROR\"))","v":4},{"$f":"IF($D$4=1,'COURSE & LEAGUE DETAILS'!$I$7,IF($D$4=10,'COURSE & LEAGUE DETAILS'!$I$15,\"ERROR\"))","v":3},{"$f":"IF($D$4=1,'COURSE & LEAGUE DETAILS'!$J$7,IF($D$4=10,'COURSE & LEAGUE DETAILS'!$J$15,\"ERROR\"))","v":4},{"$f":"IF($D$4=1,'COURSE & LEAGUE DETAILS'!$K$7,IF($D$4=10,'COURSE & LEAGUE DETAILS'!$K$15,\"ERROR\"))","v":36},{"$f":"IF(ISERROR(VLOOKUP($K$24,$A$75:$BC$600,2,FALSE)),\"Team \"&LEFT(RIGHT($K$24,LEN($K$24)-5),FIND(\"v\",RIGHT($K$24,LEN($K$24)-5)))&\" Team\"&RIGHT(LEFT(RIGHT($K$24,LEN($K$24)-5),FIND(\"v\",RIGHT($K$24,LEN($K$24)))),LEN(LEFT(RIGHT($K$24,LEN($K$24)-5),FIND(\"v\",RIGHT($K$24,LEN($K$24)))))-FIND(\"v\",LEFT(RIGHT($K$24,LEN($K$24)-5),FIND(\"v\",RIGHT($K$24,LEN($K$24)))))),VLOOKUP($K$24,$A$75:$BC$600,2,FALSE))","v":{"$error":"#VALUE!"}}]
["MEN'S HCP    ",null,null,{"$f":"IF($D$4=1,'COURSE & LEAGUE DETAILS'!$B$8,IF($D$4=10,'COURSE & LEAGUE DETAILS'!$B$16,\"ERROR\"))","v":5},{"$f":"IF($D$4=1,'COURSE & LEAGUE DETAILS'!$C$8,IF($D$4=10,'COURSE & LEAGUE DETAILS'!$C$16,\"ERROR\"))","v":7},{"$f":"IF($D$4=1,'COURSE & LEAGUE DETAILS'!$D$8,IF($D$4=10,'COURSE & LEAGUE DETAILS'!$D$16,\"ERROR\"))","v":3},{"$f":"IF($D$4=1,'COURSE & LEAGUE DETAILS'!$E$8,IF($D$4=10,'COURSE & LEAGUE DETAILS'!$E$16,\"ERROR\"))","v":9},{"$f":"IF($D$4=1,'COURSE & LEAGUE DETAILS'!$F$8,IF($D$4=10,'COURSE & LEAGUE DETAILS'!$F$16,\"ERROR\"))","v":11},{"$f":"IF($D$4=1,'COURSE & LEAGUE DETAILS'!$G$8,IF($D$4=10,'COURSE & LEAGUE DETAILS'!$G$16,\"ERROR\"))","v":17},{"$f":"IF($D$4=1,'COURSE & LEAGUE DETAILS'!$H$8,IF($D$4=10,'COURSE & LEAGUE DETAILS'!$H$16,\"ERROR\"))","v":1},{"$f":"IF($D$4=1,'COURSE & LEAGUE DETAILS'!$I$8,IF($D$4=10,'COURSE & LEAGUE DETAILS'!$I$16,\"ERROR\"))","v":15},{"$f":"IF($D$4=1,'COURSE & LEAGUE DETAILS'!$J$8,IF($D$4=10,'COURSE & LEAGUE DETAILS'!$J$16,\"ERROR\"))","v":13},null,{"$f":"LEFT(K24,5)","v":"12 v "}]
["RED",null,null,{"$f":"IF($D$4=1,'COURSE & LEAGUE DETAILS'!$B$9,IF($D$4=10,'COURSE & LEAGUE DETAILS'!$B$17,\"ERROR\"))","v":375},{"$f":"IF($D$4=1,'COURSE & LEAGUE DETAILS'!$C$9,IF($D$4=10,'COURSE & LEAGUE DETAILS'!$C$17,\"ERROR\"))","v":250},{"$f":"IF($D$4=1,'COURSE & LEAGUE DETAILS'!$D$9,IF($D$4=10,'COURSE & LEAGUE DETAILS'!$D$17,\"ERROR\"))","v":475},{"$f":"IF($D$4=1,'COURSE & LEAGUE DETAILS'!$E$9,IF($D$4=10,'COURSE & LEAGUE DETAILS'!$E$17,\"ERROR\"))","v":255},{"$f":"IF($D$4=1,'COURSE & LEAGUE DETAILS'!$F$9,IF($D$4=10,'COURSE & LEAGUE DETAILS'!$F$17,\"ERROR\"))","v":325},{"$f":"IF($D$4=1,'COURSE & LEAGUE DETAILS'!$G$9,IF($D$4=10,'COURSE & LEAGUE DETAILS'!$G$17,\"ERROR\"))","v":155},{"$f":"IF($D$4=1,'COURSE & LEAGUE DETAILS'!$H$9,IF($D$4=10,'COURSE & LEAGUE DETAILS'!$H$17,\"ERROR\"))","v":375},{"$f":"IF($D$4=1,'COURSE & LEAGUE DETAILS'!$I$9,IF($D$4=10,'COURSE & LEAGUE DETAILS'!$I$17,\"ERROR\"))","v":130},{"$f":"IF($D$4=1,'COURSE & LEAGUE DETAILS'!$J$9,IF($D$4=10,'COURSE & LEAGUE DETAILS'!$J$17,\"ERROR\"))","v":290},{"$f":"IF($D$4=1,'COURSE & LEAGUE DETAILS'!$K$9,IF($D$4=10,'COURSE & LEAGUE DETAILS'!$K$17,\"ERROR\"))","v":2630},{"$f":"IF(ISERROR(VLOOKUP($K$24,$A$75:$BC$600,55,FALSE)),\"FRONT\",VLOOKUP($K$24,$A$75:$BC$600,55,FALSE))","v":"FRONT"}]
["WOMEN'S PAR    ",null,null,{"$f":"IF($D$4=1,'COURSE & LEAGUE DETAILS'!$B$10,IF($D$4=10,'COURSE & LEAGUE DETAILS'!$B$18,\"ERROR\"))","v":5},{"$f":"IF($D$4=1,'COURSE & LEAGUE DETAILS'!$C$10,IF($D$4=10,'COURSE & LEAGUE DETAILS'!$C$18,\"ERROR\"))","v":4},{"$f":"IF($D$4=1,'COURSE & LEAGUE DETAILS'!$D$10,IF($D$4=10,'COURSE & LEAGUE DETAILS'!$D$18,\"ERROR\"))","v":5},{"$f":"IF($D$4=1,'COURSE & LEAGUE DETAILS'!$E$10,IF($D$4=10,'COURSE & LEAGUE DETAILS'!$E$18,\"ERROR\"))","v":4},{"$f":"IF($D$4=1,'COURSE & LEAGUE DETAILS'!$F$10,IF($D$4=10,'COURSE & LEAGUE DETAILS'!$F$18,\"ERROR\"))","v":4},{"$f":"IF($D$4=1,'COURSE & LEAGUE DETAILS'!$G$10,IF($D$4=10,'COURSE & LEAGUE DETAILS'!$G$18,\"ERROR\"))","v":3},{"$f":"IF($D$4=1,'COURSE & LEAGUE DETAILS'!$H$10,IF($D$4=10,'COURSE & LEAGUE DETAILS'!$H$18,\"ERROR\"))","v":5},{"$f":"IF($D$4=1,'COURSE & LEAGUE DETAILS'!$I$10,IF($D$4=10,'COURSE & LEAGUE DETAILS'!$I$18,\"ERROR\"))","v":3},{"$f":"IF($D$4=1,'COURSE & LEAGUE DETAILS'!$J$10,IF($D$4=10,'COURSE & LEAGUE DETAILS'!$J$18,\"ERROR\"))","v":4},{"$f":"IF($D$4=1,'COURSE & LEAGUE DETAILS'!$K$10,IF($D$4=10,'COURSE & LEAGUE DETAILS'!$K$18,\"ERROR\"))","v":37},{"$f":"IF(ISERROR(VLOOKUP($K$24,$A$75:$BZ$600,74,FALSE)),\"No Data Available\",VLOOKUP($K$24,$A$75:$BZ$600,74,FALSE))","v":"No Data Available"}]
["HCP","TEAM","WOMEN'S HCP",{"$f":"IF($D$4=1,'COURSE & LEAGUE DETAILS'!$B$11,IF($D$4=10,'COURSE & LEAGUE DETAILS'!$B$19,\"ERROR\"))","v":5},{"$f":"IF($D$4=1,'COURSE & LEAGUE DETAILS'!$C$11,IF($D$4=10,'COURSE & LEAGUE DETAILS'!$C$19,\"ERROR\"))","v":7},{"$f":"IF($D$4=1,'COURSE & LEAGUE DETAILS'!$D$11,IF($D$4=10,'COURSE & LEAGUE DETAILS'!$D$19,\"ERROR\"))","v":3},{"$f":"IF($D$4=1,'COURSE & LEAGUE DETAILS'!$E$11,IF($D$4=10,'COURSE & LEAGUE DETAILS'!$E$19,\"ERROR\"))","v":9},{"$f":"IF($D$4=1,'COURSE & LEAGUE DETAILS'!$F$11,IF($D$4=10,'COURSE & LEAGUE DETAILS'!$F$19,\"ERROR\"))","v":11},{"$f":"IF($D$4=1,'COURSE & LEAGUE DETAILS'!$G$11,IF($D$4=10,'COURSE & LEAGUE DETAILS'!$G$19,\"ERROR\"))","v":17},{"$f":"IF($D$4=1,'COURSE & LEAGUE DETAILS'!$H$11,IF($D$4=10,'COURSE & LEAGUE DETAILS'!$H$19,\"ERROR\"))","v":1},{"$f":"IF($D$4=1,'COURSE & LEAGUE DETAILS'!$I$11,IF($D$4=10,'COURSE & LEAGUE DETAILS'!$I$19,\"ERROR\"))","v":15},{"$f":"IF($D$4=1,'COURSE & LEAGUE DETAILS'!$J$11,IF($D$4=10,'COURSE & LEAGUE DETAILS'!$J$19,\"ERROR\"))","v":13},null,{"$f":"IF(ISERROR(VLOOKUP($K$24,$A$75:$BZ$600,3,FALSE)),\"4:00\",VLOOKUP($K$24,$A$75:$BZ$600,3,FALSE))","v":"4:00"}]
[null,null,null,{"$f":"IF(ISERROR(D37),\"\",IF($B12=\"DNP\",0,IF($B12=\"Course\",0,D37)))","v":0},{"$f":"IF(ISERROR(E37),\"\",IF($B12=\"DNP\",0,IF($B12=\"Course\",0,E37)))","v":0},{"$f":"IF(ISERROR(F37),\"\",IF($B12=\"DNP\",0,IF($B12=\"Course\",0,F37)))","v":0},0,0,0,0,0,0,{"$f":"IF(B12<>\"DNP\",SUM(D11:L11),\"\")","v":0}]
[{"$f":"IF(ISERROR(VLOOKUP($K$24,$A$75:$BZ$600,6,FALSE)),\"\",VLOOKUP($K$24,$A$75:$BZ$600,6,FALSE))","v":""},{"$f":"IF(ISERROR(VLOOKUP($K$24,$A$75:$BZ$600,7,FALSE)),\"\",VLOOKUP($K$24,$A$75:$BZ$600,7,FALSE))","v":""},{"$f":"IF(ISERROR(VLOOKUP($K$24,$A$75:$BZ$600,8,FALSE)),\"\",VLOOKUP($K$24,$A$75:$BZ$600,8,FALSE))","v":""},{"$f":"IF(ISERROR(VLOOKUP($K$24,$A$75:$BZ$600,9,FALSE)),\"\",VLOOKUP($K$24,$A$75:$BZ$600,9,FALSE))","v":""},{"$f":"IF(ISERROR(VLOOKUP($K$24,$A$75:$BZ$600,10,FALSE)),\"\",VLOOKUP($K$24,$A$75:$BZ$600,10,FALSE))","v":""},{"$f":"IF(ISERROR(VLOOKUP($K$24,$A$75:$BZ$600,11,FALSE)),\"\",VLOOKUP($K$24,$A$75:$BZ$600,11,FALSE))","v":""},{"$f":"IF(ISERROR(VLOOKUP($K$24,$A$75:$BZ$600,12,FALSE)),\"\",VLOOKUP($K$24,$A$75:$BZ$600,12,FALSE))","v":""},{"$f":"IF(ISERROR(VLOOKUP($K$24,$A$75:$BZ$600,13,FALSE)),\"\",VLOOKUP($K$24,$A$75:$BZ$600,13,FALSE))","v":""},{"$f":"IF(ISERROR(VLOOKUP($K$24,$A$75:$BZ$600,14,FALSE)),\"\",VLOOKUP($K$24,$A$75:$BZ$600,14,FALSE))","v":""},{"$f":"IF(ISERROR(VLOOKUP($K$24,$A$75:$BZ$600,15,FALSE)),\"\",VLOOKUP($K$24,$A$75:$BZ$600,15,FALSE))","v":""},{"$f":"IF(ISERROR(VLOOKUP($K$24,$A$75:$BZ$600,16,FALSE)),\"\",VLOOKUP($K$24,$A$75:$BZ$600,16,FALSE))","v":""},{"$f":"IF(ISERROR(VLOOKUP($K$24,$A$75:$BZ$600,17,FALSE)),\"\",VLOOKUP($K$24,$A$75:$BZ$600,17,FALSE))","v":""},{"$f":"SUM(D12:L12)","v":0}]
[null,null,null,{"$f":"IF(ISERROR(D38),\"\",IF($B14=\"DNP\",0,IF($B14=\"Course\",0,D38)))","v":0},0,0,0,0,0,0,0,0,{"$f":"IF(B14<>\"DNP\",SUM(D13:L13),\"\")","v":0}]
[{"$f":"IF(ISERROR(VLOOKUP($K$24,$A$75:$BZ$600,18,FALSE)),\"\",VLOOKUP($K$24,$A$75:$BZ$600,18,FALSE))","v":""},{"$f":"IF(ISERROR(VLOOKUP($K$24,$A$75:$BZ$600,19,FALSE)),\"\",VLOOKUP($K$24,$A$75:$BZ$600,19,FALSE))","v":""},{"$f":"IF(ISERROR(VLOOKUP($K$24,$A$75:$BZ$600,20,FALSE)),\"\",VLOOKUP($K$24,$A$75:$BZ$600,20,FALSE))","v":""},{"$f":"IF(ISERROR(VLOOKUP($K$24,$A$75:$BZ$600,21,FALSE)),\"\",VLOOKUP($K$24,$A$75:$BZ$600,21,FALSE))","v":""},{"$f":"IF(ISERROR(VLOOKUP($K$24,$A$75:$BZ$600,22,FALSE)),\"\",VLOOKUP($K$24,$A$75:$BZ$600,22,FALSE))","v":""},{"$f":"IF(ISERROR(VLOOKUP($K$24,$A$75:$BZ$600,23,FALSE)),\"\",VLOOKUP($K$24,$A$75:$BZ$600,23,FALSE))","v":""},{"$f":"IF(ISERROR(VLOOKUP($K$24,$A$75:$BZ$600,24,FALSE)),\"\",VLOOKUP($K$24,$A$75:$BZ$600,24,FALSE))","v":""},{"$f":"IF(ISERROR(VLOOKUP($K$24,$A$75:$BZ$600,25,FALSE)),\"\",VLOOKUP($K$24,$A$75:$BZ$600,25,FALSE))","v":""},{"$f":"IF(ISERROR(VLOOKUP($K$24,$A$75:$BZ$600,26,FALSE)),\"\",VLOOKUP($K$24,$A$75:$BZ$600,26,FALSE))","v":""},{"$f":"IF(ISERROR(VLOOKUP($K$24,$A$75:$BZ$600,27,FALSE)),\"\",VLOOKUP($K$24,$A$75:$BZ$600,27,FALSE))","v":""},{"$f":"IF(ISERROR(VLOOKUP($K$24,$A$75:$BZ$600,28,FALSE)),\"\",VLOOKUP($K$24,$A$75:$BZ$600,28,FALSE))","v":""},{"$f":"IF(ISERROR(VLOOKUP($K$24,$A$75:$BZ$600,29,FALSE)),\"\",VLOOKUP($K$24,$A$75:$BZ$600,29,FALSE))","v":""},{"$f":"SUM(D14:L14)","v":0}]
[null,null,{"$f":"IF(ISERROR(VLOOKUP($K$24,$A$75:$BZ$600,4,FALSE)),\"\",VLOOKUP($K$24,$A$75:$BZ$600,4,FALSE))","v":""},{"$f":"IF(ISERROR(VLOOKUP($K$24,$A$75:$BZ$600,56,FALSE)),\"\",VLOOKUP($K$24,$A$75:$BZ$600,56,FALSE))","v":""},{"$f":"IF(ISERROR(VLOOKUP($K$24,$A$75:$BZ$600,57,FALSE)),\"\",VLOOKUP($K$24,$A$75:$BZ$600,57,FALSE))","v":""},{"$f":"IF(ISERROR(VLOOKUP($K$24,$A$75:$BZ$600,58,FALSE)),\"\",VLOOKUP($K$24,$A$75:$BZ$600,58,FALSE))","v":""},{"$f":"IF(ISERROR(VLOOKUP($K$24,$A$75:$BZ$600,59,FALSE)),\"\",VLOOKUP($K$24,$A$75:$BZ$600,59,FALSE))","v":""},{"$f":"IF(ISERROR(VLOOKUP($K$24,$A$75:$BZ$600,60,FALSE)),\"\",VLOOKUP($K$24,$A$75:$BZ$600,60,FALSE))","v":""},{"$f":"IF(ISERROR(VLOOKUP($K$24,$A$75:$BZ$600,61,FALSE)),\"\",VLOOKUP($K$24,$A$75:$BZ$600,61,FALSE))","v":""},{"$f":"IF(ISERROR(VLOOKUP($K$24,$A$75:$BZ$600,62,FALSE)),\"\",VLOOKUP($K$24,$A$75:$BZ$600,62,FALSE))","v":""},{"$f":"IF(ISERROR(VLOOKUP($K$24,$A$75:$BZ$600,63,FALSE)),\"\",VLOOKUP($K$24,$A$75:$BZ$600,63,FALSE))","v":""},{"$f":"IF(ISERROR(VLOOKUP($K$24,$A$75:$BZ$600,64,FALSE)),\"\",VLOOKUP($K$24,$A$75:$BZ$600,64,FALSE))","v":""},{"$f":"SUM(D15:L15)","v":0}]
[null,null,{"$f":"IF(ISERROR(VLOOKUP($K$24,$A$75:$BZ$600,5,FALSE)),\"\",VLOOKUP($K$24,$A$75:$BZ$600,5,FALSE))","v":""},{"$f":"IF(ISERROR(VLOOKUP($K$24,$A$75:$BZ$600,65,FALSE)),\"\",VLOOKUP($K$24,$A$75:$BZ$600,65,FALSE))","v":""},{"$f":"IF(ISERROR(VLOOKUP($K$24,$A$75:$BZ$600,66,FALSE)),\"\",VLOOKUP($K$24,$A$75:$BZ$600,66,FALSE))","v":""},{"$f":"IF(ISERROR(VLOOKUP($K$24,$A$75:$BZ$600,67,FALSE)),\"\",VLOOKUP($K$24,$A$75:$BZ$600,67,FALSE))","v":""},{"$f":"IF(ISERROR(VLOOKUP($K$24,$A$75:$BZ$600,68,FALSE)),\"\",VLOOKUP($K$24,$A$75:$BZ$600,68,FALSE))","v":""},{"$f":"IF(ISERROR(VLOOKUP($K$24,$A$75:$BZ$600,69,FALSE)),\"\",VLOOKUP($K$24,$A$75:$BZ$600,69,FALSE))","v":""},{"$f":"IF(ISERROR(VLOOKUP($K$24,$A$75:$BZ$600,70,FALSE)),\"\",VLOOKUP($K$24,$A$75:$BZ$600,70,FALSE))","v":""},{"$f":"IF(ISERROR(VLOOKUP($K$24,$A$75:$BZ$600,71,FALSE)),\"\",VLOOKUP($K$24,$A$75:$BZ$600,71,FALSE))","v":""},{"$f":"IF(ISERROR(VLOOKUP($K$24,$A$75:$BZ$600,72,FALSE)),\"\",VLOOKUP($K$24,$A$75:$BZ$600,72,FALSE))","v":""},{"$f":"IF(ISERROR(VLOOKUP($K$24,$A$75:$BZ$600,73,FALSE)),\"\",VLOOKUP($K$24,$A$75:$BZ$600,73,FALSE))","v":""},{"$f":"SUM(D16:L16)","v":0}]
[null,null,null,{"$f":"IF(ISERROR(D40),\"\",IF($B18=\"DNP\",0,IF($B18=\"Course\",0,D40)))","v":0},{"$f":"IF(ISERROR(E40),\"\",IF($B18=\"DNP\",0,IF($B18=\"Course\",0,E40)))","v":0},0,0,0,0,0,0,0,{"$f":"IF(B18<>\"DNP\",SUM(D17:L17),\"\")","v":0}]
[{"$f":"IF(ISERROR(VLOOKUP($K$24,$A$75:$BZ$600,30,FALSE)),\"\",VLOOKUP($K$24,$A$75:$BZ$600,30,FALSE))","v":""},{"$f":"IF(ISERROR(VLOOKUP($K$24,$A$75:$BZ$600,31,FALSE)),\"\",VLOOKUP($K$24,$A$75:$BZ$600,31,FALSE))","v":""},{"$f":"IF(ISERROR(VLOOKUP($K$24,$A$75:$BZ$600,32,FALSE)),\"\",VLOOKUP($K$24,$A$75:$BZ$600,32,FALSE))","v":""},{"$f":"IF(ISERROR(VLOOKUP($K$24,$A$75:$BZ$600,33,FALSE)),\"\",VLOOKUP($K$24,$A$75:$BZ$600,33,FALSE))","v":""},{"$f":"IF(ISERROR(VLOOKUP($K$24,$A$75:$BZ$600,34,FALSE)),\"\",VLOOKUP($K$24,$A$75:$BZ$600,34,FALSE))","v":""},{"$f":"IF(ISERROR(VLOOKUP($K$24,$A$75:$BZ$600,35,FALSE)),\"\",VLOOKUP($K$24,$A$75:$BZ$600,35,FALSE))","v":""},{"$f":"IF(ISERROR(VLOOKUP($K$24,$A$75:$BZ$600,36,FALSE)),\"\",VLOOKUP($K$24,$A$75:$BZ$600,36,FALSE))","v":""},{"$f":"IF(ISERROR(VLOOKUP($K$24,$A$75:$BZ$600,37,FALSE)),\"\",VLOOKUP($K$24,$A$75:$BZ$600,37,FALSE))","v":""},{"$f":"IF(ISERROR(VLOOKUP($K$24,$A$75:$BZ$600,38,FALSE)),\"\",VLOOKUP($K$24,$A$75:$BZ$600,38,FALSE))","v":""},{"$f":"IF(ISERROR(VLOOKUP($K$24,$A$75:$BZ$600,39,FALSE)),\"\",VLOOKUP($K$24,$A$75:$BZ$600,39,FALSE))","v":""},{"$f":"IF(ISERROR(VLOOKUP($K$24,$A$75:$BZ$600,40,FALSE)),\"\",VLOOKUP($K$24,$A$75:$BZ$600,40,FALSE))","v":""},{"$f":"IF(ISERROR(VLOOKUP($K$24,$A$75:$BZ$600,41,FALSE)),\"\",VLOOKUP($K$24,$A$75:$BZ$600,41,FALSE))","v":""},{"$f":"SUM(D18:L18)","v":0}]
[null,null,null,{"$f":"IF(ISERROR(D41),\"\",IF($B20=\"DNP\",0,IF($B20=\"Course\",0,D41)))","v":0},{"$f":"IF(ISERROR(E41),\"\",IF($B20=\"DNP\",0,IF($B20=\"Course\",0,E41)))","v":0},0,0,0,0,0,0,0,{"$f":"IF(B20<>\"DNP\",SUM(D19:L19),\"\")","v":0}]
[{"$f":"IF(ISERROR(VLOOKUP($K$24,$A$75:$BZ$600,42,FALSE)),\"\",VLOOKUP($K$24,$A$75:$BZ$600,42,FALSE))","v":""},{"$f":"IF(ISERROR(VLOOKUP($K$24,$A$75:$BZ$600,43,FALSE)),\"\",VLOOKUP($K$24,$A$75:$BZ$600,43,FALSE))","v":""},{"$f":"IF(ISERROR(VLOOKUP($K$24,$A$75:$BZ$600,44,FALSE)),\"\",VLOOKUP($K$24,$A$75:$BZ$600,44,FALSE))","v":""},{"$f":"IF(ISERROR(VLOOKUP($K$24,$A$75:$BZ$600,45,FALSE)),\"\",VLOOKUP($K$24,$A$75:$BZ$600,45,FALSE))","v":""},{"$f":"IF(ISERROR(VLOOKUP($K$24,$A$75:$BZ$600,46,FALSE)),\"\",VLOOKUP($K$24,$A$75:$BZ$600,46,FALSE))","v":""},{"$f":"IF(ISERROR(VLOOKUP($K$24,$A$75:$BZ$600,47,FALSE)),\"\",VLOOKUP($K$24,$A$75:$BZ$600,47,FALSE))","v":""},{"$f":"IF(ISERROR(VLOOKUP($K$24,$A$75:$BZ$600,48,FALSE)),\"\",VLOOKUP($K$24,$A$75:$BZ$600,48,FALSE))","v":""},{"$f":"IF(ISERROR(VLOOKUP($K$24,$A$75:$BZ$600,49,FALSE)),\"\",VLOOKUP($K$24,$A$75:$BZ$600,49,FALSE))","v":""},{"$f":"IF(ISERROR(VLOOKUP($K$24,$A$75:$BZ$600,50,FALSE)),\"\",VLOOKUP($K$24,$A$75:$BZ$600,50,FALSE))","v":""},{"$f":"IF(ISERROR(VLOOKUP($K$24,$A$75:$BZ$600,51,FALSE)),\"\",VLOOKUP($K$24,$A$75:$BZ$600,51,FALSE))","v":""},{"$f":"IF(ISERROR(VLOOKUP($K$24,$A$75:$BZ$600,52,FALSE)),\"\",VLOOKUP($K$24,$A$75:$BZ$600,52,FALSE))","v":""},{"$f":"IF(ISERROR(VLOOKUP($K$24,$A$75:$BZ$600,53,FALSE)),\"\",VLOOKUP($K$24,$A$75:$BZ$600,53,FALSE))","v":""},{"$f":"SUM(D20:L20)","v":0}]
[]
[{"$f":"CONCATENATE(\"TEE TIME: \",TEXT(N10,\"h:mm\"),\" PM\")","v":"TEE TIME: 4:00 PM"}]
[]
[null,null,null,null,null,null,null,null,null,null,{"$f":"'MATCH HISTORY 1'!C1","v":"12 v 3"}]
[]
[]
[]
[]
[]
[]
[]
[]
[]
[]
[null,null,"Men's Hcp. Rank",{"$f":"RANK(D7,$D$7:$L$7,1)","v":3},4,2,5,6,9,1,8,7]
[null,null,"Women's Hcp. Rank",{"$f":"RANK(D10,$D$10:$L$10,1)","v":3},4,2,5,6,9,1,8,7]
[{"$f":"MIN(A12:A20)","v":0},{"$f":"A12-$A$37","v":{"$error":"#VALUE!"}},{"$f":"IF(ISERROR(VLOOKUP($K$24,$A$75:$BZ$600,75,FALSE)),\"\",VLOOKUP($K$24,$A$75:$BZ$600,75,FALSE))","v":""},{"$f":"IF($C37=\"M\",IF($B37>=D$35,IF(D$6=3,1,IF($B37-9>=D$35,2,1)),0),IF($C37=\"F\",IF($B37>=D$36,IF(D$6=3,1,IF($B37-9>=D$36,2,1)),0),0))","v":0},0,0,0,0,0,0,0,0]
[null,{"$f":"A14-$A$37","v":{"$error":"#VALUE!"}},{"$f":"IF(ISERROR(VLOOKUP($K$24,$A$75:$BZ$600,76,FALSE)),\"\",VLOOKUP($K$24,$A$75:$BZ$600,76,FALSE))","v":""},0,0,0,0,0,0,0,0,0]
[]
[null,{"$f":"A18-$A$37","v":{"$error":"#VALUE!"}},{"$f":"IF(ISERROR(VLOOKUP($K$24,$A$75:$BZ$600,77,FALSE)),\"\",VLOOKUP($K$24,$A$75:$BZ$600,77,FALSE))","v":""},{"$f":"IF($C40=\"M\",IF($B40>=D$35,IF(D$6=3,1,IF($B40-9>=D$35,2,1)),0),IF($C40=\"F\",IF($B40>=D$36,IF(D$6=3,1,IF($B40-9>=D$36,2,1)),0),0))","v":0},0,0,0,0,0,0,0,0]
[null,{"$f":"A20-$A$37","v":{"$error":"#VALUE!"}},{"$f":"IF(ISERROR(VLOOKUP($K$24,$A$75:$BZ$600,78,FALSE)),\"\",VLOOKUP($K$24,$A$75:$BZ$600,78,FALSE))","v":""},0,0,0,0,0,0,0,0,0]
[]
[]
[]
[]
[]
[]
[]
[]
[]
[]
[]
[]
[]
[]
[]
[]
[]
[]
[]
[null,"B"]
[]
[]
[]
[]
[]
[]
[]
[]
[]
[{"$f":"'SCORE ENTRY WORKSHEET'!N13&'SCORE ENTRY WORKSHEET'!N16","v":"415144 v 16"},{"$f":"IF('SCORE ENTRY WORKSHEET'!N12<>\"\",'SCORE ENTRY WORKSHEET'!N12,\"\")","v":"Week 9"},{"$f":"IF('SCORE ENTRY WORKSHEET'!N15<>\"\",'SCORE ENTRY WORKSHEET'!N15,\"\")","v":"4:00"},{"$f":"IF('SCORE ENTRY WORKSHEET'!C21<>\"\",'SCORE ENTRY WORKSHEET'!C21,\"\")","v":"Team 04"},{"$f":"IF('SCORE ENTRY WORKSHEET'!C22<>\"\",'SCORE ENTRY WORKSHEET'!C22,\"\")","v":"Team 16"},{"$f":"IF('SCORE ENTRY WORKSHEET'!A18<>\"\",'SCORE ENTRY WORKSHEET'!A18,\"\")","v":14},{"$f":"IF('SCORE ENTRY WORKSHEET'!B18<>\"\",'SCORE ENTRY WORKSHEET'!B18,\"\")","v":"4A"},{"$f":"IF('SCORE ENTRY WORKSHEET'!C18<>\"\",'SCORE ENTRY WORKSHEET'!C18,\"\")","v":"Peg Romano"},{"$f":"IF('SCORE ENTRY WORKSHEET'!D18<>\"\",'SCORE ENTRY WORKSHEET'!D18,\"\")","v":""},{"$f":"IF('SCORE ENTRY WORKSHEET'!E18<>\"\",'SCORE ENTRY WORKSHEET'!E18,\"\")","v":""},{"$f":"IF('SCORE ENTRY WORKSHEET'!F18<>\"\",'SCORE ENTRY WORKSHEET'!F18,\"\")","v":""},{"$f":"IF('SCORE ENTRY WORKSHEET'!G18<>\"\",'SCORE ENTRY WORKSHEET'!G18,\"\")","v":""},{"$f":"IF('SCORE ENTRY WORKSHEET'!H18<>\"\",'SCORE ENTRY WORKSHEET'!H18,\"\")","v":""},{"$f":"IF('SCORE ENTRY WORKSHEET'!I18<>\"\",'SCORE ENTRY WORKSHEET'!I18,\"\")","v":""},{"$f":"IF('SCORE ENTRY WORKSHEET'!J18<>\"\",'SCORE ENTRY WORKSHEET'!J18,\"\")","v":""},{"$f":"IF('SCORE ENTRY WORKSHEET'!K18<>\"\",'SCORE ENTRY WORKSHEET'!K18,\"\")","v":""},{"$f":"IF('SCORE ENTRY WORKSHEET'!L18<>\"\",'SCORE ENTRY WORKSHEET'!L18,\"\")","v":""},{"$f":"IF('SCORE ENTRY WORKSHEET'!A20<>\"\",'SCORE ENTRY WORKSHEET'!A20,\"\")","v":14},{"$f":"IF('SCORE ENTRY WORKSHEET'!B20<>\"\",'SCORE ENTRY WORKSHEET'!B20,\"\")","v":"4B"},{"$f":"IF('SCORE ENTRY WORKSHEET'!C20<>\"\",'SCORE ENTRY WORKSHEET'!C20,\"\")","v":"Lynn Laroche"},{"$f":"IF('SCORE ENTRY WORKSHEET'!D20<>\"\",'SCORE ENTRY WORKSHEET'!D20,\"\")","v":""},{"$f":"IF('SCORE ENTRY WORKSHEET'!E20<>\"\",'SCORE ENTRY WORKSHEET'!E20,\"\")","v":""},{"$f":"IF('SCORE ENTRY WORKSHEET'!F20<>\"\",'SCORE ENTRY WORKSHEET'!F20,\"\")","v":""},{"$f":"IF('SCORE ENTRY WORKSHEET'!G20<>\"\",'SCORE ENTRY WORKSHEET'!G20,\"\")","v":""},{"$f":"IF('SCORE ENTRY WORKSHEET'!H20<>\"\",'SCORE ENTRY WORKSHEET'!H20,\"\")","v":""},{"$f":"IF('SCORE ENTRY WORKSHEET'!I20<>\"\",'SCORE ENTRY WORKSHEET'!I20,\"\")","v":""},{"$f":"IF('SCORE ENTRY WORKSHEET'!J20<>\"\",'SCORE ENTRY WORKSHEET'!J20,\"\")","v":""},{"$f":"IF('SCORE ENTRY WORKSHEET'!K20<>\"\",'SCORE ENTRY WORKSHEET'!K20,\"\")","v":""},{"$f":"IF('SCORE ENTRY WORKSHEET'!L20<>\"\",'SCORE ENTRY WORKSHEET'!L20,\"\")","v":""},{"$f":"IF('SCORE ENTRY WORKSHEET'!A24<>\"\",'SCORE ENTRY WORKSHEET'!A24,\"\")","v":10},{"$f":"IF('SCORE ENTRY WORKSHEET'!B24<>\"\",'SCORE ENTRY WORKSHEET'!B24,\"\")","v":"16A"},{"$f":"IF('SCORE ENTRY WORKSHEET'!C24<>\"\",'SCORE ENTRY WORKSHEET'!C24,\"\")","v":"Deb DeCarolis"},{"$f":"IF('SCORE ENTRY WORKSHEET'!D24<>\"\",'SCORE ENTRY WORKSHEET'!D24,\"\")","v":""},{"$f":"IF('SCORE ENTRY WORKSHEET'!E24<>\"\",'SCORE ENTRY WORKSHEET'!E24,\"\")","v":""},{"$f":"IF('SCORE ENTRY WORKSHEET'!F24<>\"\",'SCORE ENTRY WORKSHEET'!F24,\"\")","v":""},{"$f":"IF('SCORE ENTRY WORKSHEET'!G24<>\"\",'SCORE ENTRY WORKSHEET'!G24,\"\")","v":""},{"$f":"IF('SCORE ENTRY WORKSHEET'!H24<>\"\",'SCORE ENTRY WORKSHEET'!H24,\"\")","v":""},{"$f":"IF('SCORE ENTRY WORKSHEET'!I24<>\"\",'SCORE ENTRY WORKSHEET'!I24,\"\")","v":""},{"$f":"IF('SCORE ENTRY WORKSHEET'!J24<>\"\",'SCORE ENTRY WORKSHEET'!J24,\"\")","v":""},{"$f":"IF('SCORE ENTRY WORKSHEET'!K24<>\"\",'SCORE ENTRY WORKSHEET'!K24,\"\")","v":""},{"$f":"IF('SCORE ENTRY WORKSHEET'!L24<>\"\",'SCORE ENTRY WORKSHEET'!L24,\"\")","v":""},{"$f":"IF('SCORE ENTRY WORKSHEET'!A26<>\"\",'SCORE ENTRY WORKSHEET'!A26,\"\")","v":6},{"$f":"IF('SCORE ENTRY WORKSHEET'!B26<>\"\",'SCORE ENTRY WORKSHEET'!B26,\"\")","v":"16B"},{"$f":"IF('SCORE ENTRY WORKSHEET'!C26<>\"\",'SCORE ENTRY WORKSHEET'!C26,\"\")","v":"Joey DeCarolis"},{"$f":"IF('SCORE ENTRY WORKSHEET'!D26<>\"\",'SCORE ENTRY WORKSHEET'!D26,\"\")","v":""},{"$f":"IF('SCORE ENTRY WORKSHEET'!E26<>\"\",'SCORE ENTRY WORKSHEET'!E26,\"\")","v":""},{"$f":"IF('SCORE ENTRY WORKSHEET'!F26<>\"\",'SCORE ENTRY WORKSHEET'!F26,\"\")","v":""},{"$f":"IF('SCORE ENTRY WORKSHEET'!G26<>\"\",'SCORE ENTRY WORKSHEET'!G26,\"\")","v":""},{"$f":"IF('SCORE ENTRY WORKSHEET'!H26<>\"\",'SCORE ENTRY WORKSHEET'!H26,\"\")","v":""},{"$f":"IF('SCORE ENTRY WORKSHEET'!I26<>\"\",'SCORE ENTRY WORKSHEET'!I26,\"\")","v":""},{"$f":"IF('SCORE ENTRY WORKSHEET'!J26<>\"\",'SCORE ENTRY WORKSHEET'!J26,\"\")","v":""},{"$f":"IF('SCORE ENTRY WORKSHEET'!K26<>\"\",'SCORE ENTRY WORKSHEET'!K26,\"\")","v":""},{"$f":"IF('SCORE ENTRY WORKSHEET'!L26<>\"\",'SCORE ENTRY WORKSHEET'!L26,\"\")","v":""},{"$f":"IF('MATCH RESULTS'!B6<>\"\",'MATCH RESULTS'!B6,\"\")","v":"Team 04 and Team 16 tie, 0.0 - 0.0"},{"$f":"IF('SCORE ENTRY WORKSHEET'!N14<>\"\",'SCORE ENTRY WORKSHEET'!N14,\"\")","v":"FRONT"},{"$f":"IF('SCORE ENTRY WORKSHEET'!D21<>\"\",'SCORE ENTRY WORKSHEET'!D21,\"\")","v":""},{"$f":"IF('SCORE ENTRY WORKSHEET'!E21<>\"\",'SCORE ENTRY WORKSHEET'!E21,\"\")","v":""},{"$f":"IF('SCORE ENTRY WORKSHEET'!F21<>\"\",'SCORE ENTRY WORKSHEET'!F21,\"\")","v":""},{"$f":"IF('SCORE ENTRY WORKSHEET'!G21<>\"\",'SCORE ENTRY WORKSHEET'!G21,\"\")","v":""},{"$f":"IF('SCORE ENTRY WORKSHEET'!H21<>\"\",'SCORE ENTRY WORKSHEET'!H21,\"\")","v":""},{"$f":"IF('SCORE ENTRY WORKSHEET'!I21<>\"\",'SCORE ENTRY WORKSHEET'!I21,\"\")","v":""},{"$f":"IF('SCORE ENTRY WORKSHEET'!J21<>\"\",'SCORE ENTRY WORKSHEET'!J21,\"\")","v":""},{"$f":"IF('SCORE ENTRY WORKSHEET'!K21<>\"\",'SCORE ENTRY WORKSHEET'!K21,\"\")","v":""},{"$f":"IF('SCORE ENTRY WORKSHEET'!L21<>\"\",'SCORE ENTRY WORKSHEET'!L21,\"\")","v":""},{"$f":"IF('SCORE ENTRY WORKSHEET'!D22<>\"\",'SCORE ENTRY WORKSHEET'!D22,\"\")","v":""},{"$f":"IF('SCORE ENTRY WORKSHEET'!E22<>\"\",'SCORE ENTRY WORKSHEET'!E22,\"\")","v":""},{"$f":"IF('SCORE ENTRY WORKSHEET'!F22<>\"\",'SCORE ENTRY WORKSHEET'!F22,\"\")","v":""},{"$f":"IF('SCORE ENTRY WORKSHEET'!G22<>\"\",'SCORE ENTRY WORKSHEET'!G22,\"\")","v":""},{"$f":"IF('SCORE ENTRY WORKSHEET'!H22<>\"\",'SCORE ENTRY WORKSHEET'!H22,\"\")","v":""},{"$f":"IF('SCORE ENTRY WORKSHEET'!I22<>\"\",'SCORE ENTRY WORKSHEET'!I22,\"\")","v":""},{"$f":"IF('SCORE ENTRY WORKSHEET'!J22<>\"\",'SCORE ENTRY WORKSHEET'!J22,\"\")","v":""},{"$f":"IF('SCORE ENTRY WORKSHEET'!K22<>\"\",'SCORE ENTRY WORKSHEET'!K22,\"\")","v":""},{"$f":"IF('SCORE ENTRY WORKSHEET'!L22<>\"\",'SCORE ENTRY WORKSHEET'!L22,\"\")","v":""},{"$f":"IF('SCORE ENTRY WORKSHEET'!N13<>\"\",'SCORE ENTRY WORKSHEET'!N13,\"\")","v":41514},{"$f":"'SCORE ENTRY WORKSHEET'!C43","v":"F"},{"$f":"'SCORE ENTRY WORKSHEET'!C44","v":"F"},{"$f":"'SCORE ENTRY WORKSHEET'!C46","v":"F"},{"$f":"'SCORE ENTRY WORKSHEET'!C47","v":"M"}]
[]
[1,null,"Match History"]
[1]
["410242 v 12","Week 1","4:00","Team 02","Team 12",10,"2A","David St. Jean",9,6,10,6,4,4,8,5,5,7,"2B","Dennis St. Jean",7,6,7,5,4,4,7,4,6,14,"12A","Sal Cuifetti",7,6,6,7,5,6,6,4,5,10,"12B","Paul LeBlanc",5,6,6,6,4,3,8,3,3,"Team 12 def. Team 02, 7.5 - 1.5","FRONT",0,0,0,1,0.5,0,0,0,0,1,1,1,0,0.5,1,1,1,1,41024,"M","M","M","M"]
["410241 v 11","Week 1","4:08","Team 01","Team 11",11,"DNP","Partner Did Not Play","","","","","","","","","",11,"1B","Pete Normandin",6,6,8,7,8,6,6,6,4,4,"11A","Ray Henderson",8,4,6,5,4,3,5,4,4,17,"11B","Audrey Henderson",8,6,8,5,5,5,8,4,7,"Team 11 def. Team 01, 6.5 - 2.5","FRONT",1,0,0,0,0,0,0.5,0,1,0,1,1,1,1,1,0.5,1,0,41024,0,"M","M","F"]
["410245 v 15","Week 1","4:16","Team 05","Team 15",19,"Sub12","Jim Hedlund",7,5,7,5,8,6,8,4,7,7,"5B","Mark Normandin",8,8,7,6,4,5,6,4,6,6,"15A","Tim Hurley",8,5,6,5,5,4,6,4,4,15,"15B","John Elie",6,7,8,7,4,5,5,4,4,"Team 15 def. Team 05, 5.0 - 4.0","FRONT",0.5,1,1,1,0,0,0,0.5,0,0.5,0,0,0,1,1,1,0.5,1,41024,"M","M","M","M"]
["4102410 v 20","Week 1","4:24","Team 10","Team 20",3,"10A","Ron Eckstrom",5,7,6,5,3,3,6,3,6,14,"10B","Beth Romano",9,6,8,6,5,5,8,3,4,3,"20A","Paul Fontaine",6,5,5,4,3,3,4,3,4,8,"20B","Ralph Romano III",8,5,6,8,5,5,6,4,7,"Team 20 def. Team 10, 5.0 - 4.0","FRONT",1,0,0,0,0.5,0.5,0,1,1,0,1,1,1,0.5,0.5,1,0,0,41024,"M","F","M","M"]
["410248 v 18","Week 1","4:32","Team 08","Team 18",8,"8A","Mike Sunderland",5,4,7,5,3,4,6,3,3,10,"8B","Debbie Sunderland",8,8,8,4,4,3,8,3,6,10,"18A","Norm Gamache",8,5,7,6,4,4,6,4,3,10,"DNP","Partner Did Not Play","","","","","","","","","","Team 08 def. Team 18, 6.5 - 2.5","FRONT",1,1,0,1,1,1,0,1,0.5,0,0,1,0,0,0,1,0,0.5,41024,"M","F","M",0]
["410246 v 16","Week 1","4:40","Team 06","Team 16","ERROR","DNP","Partner Did Not Play","","","","","","","","","","ERROR","DNP","Partner Did Not Play","","","","","","","","","","ERROR","DNP","Partner Did Not Play","","","","","","","","","","ERROR","DNP","Partner Did Not Play","","","","","","","","","","Team 06 and Team 16 tie, 0.0 - 0.0","FRONT","","","","","","","","","","","","","","","","","","",41024,0,0,0,0]
["410247 v 17","Week 1","4:48","Team 07","Team 17",11,"7A","Steve Scapparone",7,5,7,5,4,5,5,5,7,11,"7B","Dave Hyre",8,8,5,6,5,4,7,6,4,10,"17A","Gary Bittner",5,6,8,5,5,5,6,3,7,7,"17B","Mike Dauphinais",5,5,7,6,6,4,7,4,5,"Team 07 def. Team 17, 6.0 - 3.0","FRONT",0,1,1,0.5,1,0.5,1,0,1,1,0,0,0.5,0,0.5,0,1,0,41024,"M","M","M","M"]
["410244 v 14","Week 1","4:56","Team 04","Team 14",14,"4A","Peg Romano",7,7,9,7,7,4,8,5,6,16,"4B","Lynn Laroche",9,8,10,6,6,4,6,5,7,5,"14A","Doug Cormier",6,4,6,5,4,4,6,4,4,5,"DNP","Partner Did Not Play","","","","","","","","","","Team 14 def. Team 04, 5.5 - 3.5","FRONT",0.5,0,0,0.5,0,1,1,0.5,0,0.5,1,1,0.5,1,0,0,0.5,1,41024,"F","F","M",0]
["410249 v 19","Week 1","5:04","Team 09","Team 19",9,"DNP","Partner Did Not Play","","","","","","","","","",9,"9B","John Cassin",5,5,7,5,4,4,4,3,7,7,"19A","Gary Leavenworth",5,4,6,5,4,4,5,3,3,11,"19B","Patty Leavenworth",7,5,8,6,8,4,6,6,6,"Team 19 def. Team 09, 5.0 - 4.0","FRONT",0.5,0,0.5,0.5,0.5,0.5,1,0.5,0,0.5,1,0.5,0.5,0.5,0.5,0,0.5,1,41024,0,"M","M","F"]
["410243 v 13","Week 1","5:12","Team 03","Team 13",16,"3A","Pete Romano",7,5,8,5,7,4,7,5,5,9,"3B","Don Frigoletto",6,5,6,6,5,3,6,4,3,8,"13A","Dave Cormier",8,7,8,5,3,4,6,3,4,16,"13B","Deb Passios",7,6,8,5,8,4,8,5,6,"Team 03 def. Team 13, 6.0 - 3.0","FRONT",0.5,1,1,0.5,0,1,1,0,1,0.5,0,0,0.5,1,0,0,1,0,41024,"M","M","M","F"]
["410311 v 2","Week 2","4:00","Team 01","Team 02",10,"1A","Lester Lockhart",4,5,5,5,5,5,5,5,5,11,"1B","Pete Normandin",7,5,6,7,6,5,5,5,6,13,"2A","David St. Jean",6,7,5,7,4,5,6,4,5,8,"2B","Dennis St. Jean",7,5,4,6,3,5,4,5,5,"Team 02 def. Team 01, 5.5 - 3.5","BACK",1,0.5,0,1,0,0.5,0,0,0.5,0,0.5,1,0,1,0.5,1,1,0.5,41031,"M","M","M","M"]
["410319 v 17","Week 2","4:08","Team 09","Team 17",9,"DNP","Partner Did Not Play","","","","","","","","","",9,"9B","John Cassin",6,6,4,6,3,6,3,4,5,10,"17A","Gary Bittner",7,5,3,5,3,4,6,4,5,8,"17B","Mike Dauphinais",4,5,3,5,4,4,3,4,6,"Team 17 def. Team 09, 7.0 - 2.0","BACK",0,0,0,0,0.5,0,0.5,0.5,0.5,1,1,1,1,0.5,1,0.5,0.5,0.5,41031,0,"M","M","M"]
["410317 v 15","Week 2","4:16","Team 07","Team 15",11,"7A","Steve Scapparone",7,5,5,7,5,7,5,6,4,13,"7B","Dave Hyre",7,5,5,5,3,5,4,3,5,6,"15A","Tim Hurley",7,5,4,6,5,4,4,4,4,15,"15B","John Elie",8,4,4,6,3,4,5,8,8,"Team 07 and Team 15 tie, 4.5 - 4.5","BACK",1,0,0,1,0,0,0.5,1,1,0,1,1,0,1,1,0.5,0,0,41031,"M","M","M","M"]
["410315 v 13","Week 2","4:24","Team 05","Team 13",10,"5A","Dennis Normandin",5,4,6,6,4,6,6,5,4,9,"5B","Mark Normandin",6,6,4,5,4,6,3,5,6,8,"13A","Dave Cormier",7,4,4,7,6,4,5,7,5,16,"13B","Deb Passios",7,8,7,8,5,6,5,4,6,"Team 05 def. Team 13, 5.5 - 3.5","BACK",1,0.5,0.5,1,0.5,0,1,0,1,0,0.5,0.5,0,0.5,1,0,1,0,41031,"M","M","M","F"]
["410318 v 16","Week 2","4:32","Team 08","Team 16",7,"8A","Mike Sunderland",5,4,4,5,4,5,5,6,6,11,"8B","Debbie Sunderland",6,8,6,5,3,5,6,5,5,0,"Course","Course","","","","","","","","","",0,"Course","Course","","","","","","","","","","Team 08 def. Team 16, 6.5 - 0.0","BACK",1,1,1,1,1,0.5,0,0.5,0.5,"","","","","","","","","",41031,"M","F",0,0]
["410313 v 11","Week 2","4:40","Team 03","Team 11",16,"3A","Pete Romano",7,7,7,7,5,6,4,4,7,9,"3B","Don Frigoletto",6,4,5,5,4,5,6,5,6,6,"11A","Ray Henderson",4,4,7,5,4,5,6,3,4,17,"11B","Audrey Henderson",6,8,7,7,6,8,6,5,7,"Team 03 def. Team 11, 5.0 - 4.0","BACK",0,0.5,1,1,0.5,0.5,1,0.5,0,1,0.5,0,0,0.5,0.5,0,0.5,1,41031,"M","M","M","F"]
["410314 v 12","Week 2","4:48","Team 04","Team 12",14,"4A","Peg Romano",7,8,8,7,4,8,6,6,7,14,"Sub4","Mike Romano",6,8,8,9,4,6,5,6,8,13,"12A","Sal Cuifetti",7,6,7,6,4,5,6,4,4,10,"12B","Paul LeBlanc",7,4,6,7,6,5,5,3,5,"Team 12 def. Team 04, 7.0 - 2.0","BACK",1,0,0,0,0.5,0,0.5,0,0,0,1,1,1,0.5,1,0.5,1,1,41031,"F","M","M","M"]
["4103120 v 19","Week 2","4:56","Team 20","Team 19",3,"20A","Paul Fontaine",5,5,6,4,3,5,3,4,4,9,"20B","Ralph Romano III",5,4,6,5,3,5,3,4,5,5,"19A","Gary Leavenworth",6,5,5,5,5,3,4,4,4,12,"19B","Patty Leavenworth",7,8,5,6,6,5,6,4,5,"Team 20 and Team 19 tie, 4.5 - 4.5","BACK",1,1,0,0.5,1,0,1,0,0,0,0,1,0.5,0,1,0,1,1,41031,"M","M","M","F"]
["410316 v 14","Week 2","5:04","Team 06","Team 14",9,"6A","Vance Butterfield",7,4,5,6,4,4,5,5,7,10,"6B","Bob Schleyer",6,5,5,6,5,7,6,5,6,5,"14A","Doug Cormier",4,4,5,5,4,5,4,3,5,12,"Sub17","Jeff Erskine",6,6,5,4,3,5,4,4,6,"Team 14 def. Team 06, 7.0 - 2.0","BACK",0,0.5,0.5,0,0,0.5,0,0,0.5,1,0.5,0.5,1,1,0.5,1,1,0.5,41031,"M","M","M","M"]
["4103110 v 18","Week 2","5:12","Team 10","Team 18",3,"10A","Ron Eckstrom",4,6,6,5,2,3,5,4,4,13,"10B","Beth Romano",5,6,4,5,4,5,6,6,4,11,"18A","Norm Gamache",6,5,8,7,5,6,4,6,6,11,"DNP","Partner Did Not Play","","","","","","","","","","Team 10 def. Team 18, 7.5 - 1.5","BACK",1,0.5,1,1,1,1,0,1,1,0,0.5,0,0,0,0,1,0,0,41031,"M","F","M",0]
["410386 v 12","Week 3","4:00","Team 06","Team 12",11,"DNP","Partner Did Not Play","","","","","","","","","",11,"6B","Bob Schleyer",6,3,6,6,4,4,6,4,4,12,"12A","Sal Cuifetti",8,6,7,5,5,4,8,5,5,9,"12B","Paul LeBlanc",6,4,6,5,5,3,4,3,6,"Team 06 and Team 12 tie, 4.5 - 4.5","FRONT",0.5,1,1,0,1,0,0,0,1,0.5,0,0,1,0,1,1,1,0,41038,0,"M","M","M"]
["4103820 v 17","Week 3","4:08","Team 20","Team 17",3,"20A","Paul Fontaine",8,4,5,4,4,4,5,5,4,8,"20B","Ralph Romano III",8,5,7,5,5,3,6,3,6,9,"17A","Gary Bittner",7,5,10,6,3,4,6,2,6,7,"17B","Mike Dauphinais",9,4,7,4,5,4,4,5,5,"Team 17 def. Team 20, 5.5 - 3.5","FRONT",0,0,1,0.5,0,1,0,0,1,1,1,0,0.5,1,0,1,1,0,41038,"M","M","M","M"]
["410384 v 2","Week 3","4:16","Team 04","Team 02",15,"4A","Peg Romano",9,5,9,5,7,4,8,4,5,17,"4B","Lynn Laroche",8,6,10,5,6,5,7,5,6,13,"2A","David St. Jean",7,6,5,4,5,4,5,3,5,9,"2B","Dennis St. Jean",7,4,5,5,6,3,5,4,4,"Team 02 def. Team 04, 7.5 - 1.5","FRONT",0,0.5,0,0.5,0.5,0,0,0,0,1,0.5,1,0.5,0.5,1,1,1,1,41038,"F","F","M","M"]
["410385 v 11","Week 3","4:24","Team 05","Team 11",11,"5A","Dennis Normandin",7,6,7,5,6,5,7,5,5,9,"5B","Mark Normandin",7,6,5,4,4,4,6,4,4,6,"11A","Ray Henderson",5,4,6,4,4,4,6,3,4,18,"11B","Audrey Henderson",10,8,10,8,8,5,7,3,6,"Team 11 def. Team 05, 5.5 - 3.5","FRONT",0,0,1,0.5,0.5,0.5,0.5,0,0.5,1,1,0,0.5,0.5,0.5,0.5,1,0.5,41038,"M","M","M","F"]
["410381 v 3","Week 3","4:32","Team 01","Team 03",9,"1A","Lester Lockhart",6,5,7,4,4,3,6,6,3,13,"1B","Pete Normandin",8,5,6,4,5,4,7,3,5,16,"3A","Pete Romano",9,7,8,7,6,5,6,4,8,8,"3B","Don Frigoletto",9,6,8,6,4,4,7,5,5,"Team 01 def. Team 03, 7.5 - 1.5","FRONT",1,1,1,1,0.5,1,0.5,0.5,1,0,0,0,0,0.5,0,0.5,0.5,0,41038,"M","M","M","M"]
["410388 v 14","Week 3","4:40","Team 08","Team 14",7,"8A","Mike Sunderland",7,5,6,5,5,4,6,3,4,11,"8B","Debbie Sunderland",5,5,8,4,3,4,9,4,5,4,"14A","Doug Cormier",6,4,7,4,4,4,6,3,4,13,"14B","Gary Candelet",8,8,5,7,4,4,7,4,5,"Team 08 def. Team 14, 5.5 - 3.5","FRONT",1,0.5,0,1,1,0,1,0.5,0.5,0,0.5,1,0,0,1,0,0.5,0.5,41038,"M","F","M","M"]
["4103810 v 16","Week 3","4:48","Team 10","Team 16",3,"10A","Ron Eckstrom",5,5,5,4,5,3,6,3,4,20,"Sub12","Jim Hedlund",7,6,7,8,6,5,8,3,4,0,"Course","Course","","","","","","","","","",0,"Course","Course","","","","","","","","","","Team 10 def. Team 16, 6.0 - 0.0","FRONT",1,0.5,1,0.5,0.5,0.5,0,1,1,"","","","","","","","","",41038,"M","M",0,0]
["4103819 v 18","Week 3","4:56","Team 19","Team 18",5,"19A","Gary Leavenworth",7,4,4,4,5,4,8,3,4,13,"19B","Patty Leavenworth",10,4,8,7,5,5,8,4,4,11,"18A","Norm Gamache",10,5,7,6,4,4,5,5,5,12,"18B","Joe Pearson",10,7,10,8,4,4,4,5,6,"Team 19 def. Team 18, 6.5 - 2.5","FRONT",1,1,1,1,0,0.5,0,1,1,0,0,0,0,1,0.5,1,0,0,41038,"M","F","M","M"]
["410387 v 13","Week 3","5:04","Team 07","Team 13",11,"7A","Steve Scapparone",7,6,8,5,4,5,6,4,8,11,"7B","Dave Hyre",8,4,7,5,4,4,5,3,5,9,"13A","Dave Cormier",8,6,6,5,5,5,7,4,4,17,"13B","Deb Passios",10,7,8,6,6,3,7,6,5,"Team 07 def. Team 13, 6.0 - 3.0","FRONT",1,1,0.5,0.5,1,0,1,1,0,0,0,0.5,0.5,0,1,0,0,1,41038,"M","M","M","F"]
["410389 v 15","Week 3","5:12","Team 09","Team 15",0,"Course","Course","","","","","","","","","",0,"Course","Course","","","","","","","","","",7,"15A","Tim Hurley",5,5,8,5,5,6,4,3,5,15,"15B","John Elie",8,5,6,6,6,3,7,3,7,"Team 15 def. Team 09, 7.5 - 0.0","FRONT","","","","","","","","","",1,1,1,0.5,0.5,1,1,1,0.5,41038,0,0,"M","M"]
["410457 v 11","Week 4","4:00","Team 07","Team 11",11,"7A","Steve Scapparone",6,6,5,7,5,6,3,5,4,8,"7B","Dave Hyre",4,7,5,6,4,6,3,5,4,5,"11A","Ray Henderson",7,4,5,5,3,4,4,3,6,18,"11B","Audrey Henderson",6,7,6,6,6,6,6,5,5,"Team 11 def. Team 07, 5.5 - 3.5","BACK",1,0,0.5,0,0,0,1,0,1,0,1,0.5,1,1,1,0,1,0,41045,"M","M","M","F"]
["410458 v 12","Week 4","4:08","Team 08","Team 12",8,"8A","Mike Sunderland",8,5,6,5,4,6,4,3,6,11,"8B","Debbie Sunderland",6,7,4,7,4,6,4,5,4,13,"12A","Sal Cuifetti",7,7,5,5,6,4,5,6,8,8,"12B","Paul LeBlanc",5,4,3,6,4,4,3,3,5,"Team 12 def. Team 08, 6.5 - 2.5","BACK",0.5,0,0,0,0.5,0,0,0.5,1,0.5,1,1,1,0.5,1,1,0.5,0,41045,"M","F","M","M"]
["410451 v 4","Week 4","4:16","Team 01","Team 04",9,"1A","Lester Lockhart",6,5,7,5,6,4,4,4,5,12,"1B","Pete Normandin",7,4,6,9,5,5,5,5,6,16,"4A","Peg Romano",6,6,5,7,6,7,6,5,6,18,"4B","Lynn Laroche",8,6,5,7,6,7,5,5,6,"Team 01 def. Team 04, 5.0 - 4.0","BACK",0,1,0,1,0.5,1,0.5,0.5,0.5,1,0,1,0,0.5,0,0.5,0.5,0.5,41045,"M","M","F","F"]
["410455 v 3","Week 4","4:24","Team 05","Team 03",12,"5A","Dennis Normandin",7,6,8,5,4,6,3,5,5,9,"5B","Mark Normandin",7,6,4,6,4,5,5,4,4,16,"3A","Pete Romano",6,7,5,7,5,6,5,6,6,9,"3B","Don Frigoletto",8,7,4,6,4,6,4,3,6,"Team 05 def. Team 03, 5.0 - 4.0","BACK",0,0.5,0.5,1,0.5,0.5,1,0,1,1,0.5,0.5,0,0.5,0.5,0,1,0,41045,"M","M","M","M"]
["4104518 v 17","Week 4","4:32","Team 18","Team 17",11,"18A","Norm Gamache",9,5,6,10,5,5,4,4,5,13,"18B","Joe Pearson",7,6,4,6,6,6,4,4,5,9,"17A","Gary Bittner",6,6,5,6,4,5,4,4,7,7,"17B","Mike Dauphinais",5,4,4,5,4,6,4,4,5,"Team 17 def. Team 18, 5.0 - 4.0","BACK",0,0,1,0.5,0,0.5,0.5,0.5,1,1,1,0,0.5,1,0.5,0.5,0.5,0,41045,"M","M","M","M"]
["4104520 v 15","Week 4","4:40","Team 20","Team 15",3,"20A","Paul Fontaine",7,3,5,6,3,4,6,4,5,8,"20B","Ralph Romano III",9,6,5,7,3,7,6,4,6,7,"15A","Tim Hurley",7,5,4,5,3,4,3,5,7,14,"15B","John Elie",10,7,6,8,6,8,3,4,7,"Team 15 def. Team 20, 6.5 - 2.5","BACK",0,1,0,0,0.5,0.5,0,0,0.5,1,0,1,1,0.5,0.5,1,1,0.5,41045,"M","M","M","M"]
["4104510 v 14","Week 4","4:48","Team 10","Team 14",3,"10A","Ron Eckstrom",5,4,4,5,3,6,3,5,4,3,"DNP","Partner Did Not Play","","","","","","","","","",4,"14A","Doug Cormier",6,5,5,6,4,5,4,5,5,14,"14B","Gary Candelet",9,5,6,7,4,5,3,5,6,"Team 14 def. Team 10, 5.0 - 4.0","BACK",1,0.5,1,0.5,0.5,0,0,0,0.5,0,0.5,0,0.5,0.5,1,1,1,0.5,41045,"M",0,"M","M"]
["410459 v 13","Week 4","4:56","Team 09","Team 13",8,"DNP","Partner Did Not Play","","","","","","","","","",8,"9B","John Cassin",4,6,6,6,5,6,3,4,6,16,"Sub4","Mike Romano",9,6,6,6,6,6,6,6,8,16,"13B","Deb Passios",8,8,5,6,5,5,5,6,6,"Team 13 def. Team 09, 6.0 - 3.0","BACK",1,0,0,0,0,0,1,1,0,0,1,1,1,1,1,0,0,1,41045,0,"M","M","F"]
["4104519 v 16","Week 4","5:04","Team 19","Team 16",4,"19A","Gary Leavenworth",5,5,6,7,3,4,4,4,3,13,"19B","Patty Leavenworth",5,5,5,10,5,5,5,5,5,18,"Sub6","Scott Leavenworth",8,5,6,8,4,6,6,4,6,8,"16B","Joey DeCarolis",5,4,4,5,3,5,3,4,4,"Team 16 def. Team 19, 6.5 - 2.5","BACK",0.5,0,0,0,0.5,1,0,0,0.5,0.5,1,1,1,0.5,0,1,1,0.5,41045,"M","F","M","M"]
["410456 v 2","Week 4","5:12","Team 06","Team 02",9,"6A","Vance Butterfield",6,6,5,5,3,4,3,4,6,9,"6B","Bob Schleyer",6,6,5,6,4,6,4,5,6,12,"2A","David St. Jean",7,6,5,10,4,8,4,4,5,8,"2B","Dennis St. Jean",5,5,5,7,3,4,3,5,4,"Team 02 def. Team 06, 6.0 - 3.0","BACK",0,0,0,1,0.5,0.5,0.5,0.5,0,1,1,1,0,0.5,0.5,0.5,0.5,1,41045,"M","M","M","M"]
["4105220 v 13","Week 5","4:00","Team 20","Team 13",4,"20A","Paul Fontaine",6,5,6,4,5,3,5,3,4,10,"20B","Ralph Romano III",9,4,7,8,6,4,7,3,8,9,"13A","Dave Cormier",9,4,6,5,5,6,5,3,3,16,"13B","Deb Passios",9,6,10,8,6,5,8,6,6,"Team 13 def. Team 20, 5.0 - 4.0","FRONT",1,0.5,0,0.5,0.5,1,0,0.5,0,0,0.5,1,0.5,0.5,0,1,0.5,1,41052,"M","M","M","F"]
["410521 v 5","Week 5","4:08","Team 01","Team 05",8,"1A","Lester Lockhart",7,6,9,7,4,3,6,5,5,13,"1B","Pete Normandin",7,6,9,7,6,4,7,4,8,12,"5A","Dennis Normandin",7,7,7,6,6,5,6,4,6,9,"5B","Mark Normandin",6,5,5,4,4,3,6,4,4,"Team 05 def. Team 01, 6.5 - 2.5","FRONT",0.5,0.5,0,0,0.5,0.5,0,0.5,0,0.5,0.5,1,1,0.5,0.5,1,0.5,1,41052,"M","M","M","M"]
["410528 v 2","Week 5","4:16","Team 08","Team 02",7,"8A","Mike Sunderland",4,6,8,5,5,2,5,6,3,10,"8B","Debbie Sunderland",8,6,6,5,3,3,8,3,4,12,"2A","David St. Jean",8,4,7,3,6,4,6,3,5,8,"2B","Dennis St. Jean",8,5,7,4,5,5,7,3,3,"Team 08 def. Team 02, 5.5 - 3.5","FRONT",1,0,1,0,1,1,0.5,0.5,0.5,0,1,0,1,0,0,0.5,0.5,0.5,41052,"M","F","M","M"]
["410529 v 11","Week 5","4:24","Team 09","Team 11",9,"DNP","Partner Did Not Play","","","","","","","","","",9,"9B","John Cassin",7,4,6,5,4,6,6,5,5,5,"11A","Ray Henderson",5,5,5,7,4,4,6,4,5,18,"11B","Audrey Henderson",10,6,9,6,6,3,7,4,6,"Team 11 def. Team 09, 5.5 - 3.5","FRONT",0,1,0.5,0.5,0.5,0,0.5,0,0.5,1,0,0.5,0.5,0.5,1,0.5,1,0.5,41052,0,"M","M","F"]
["4105218 v 15","Week 5","4:32","Team 18","Team 15",12,"18A","Norm Gamache",6,4,8,4,4,4,7,4,8,14,"18B","Joe Pearson",9,5,4,5,5,4,7,6,4,7,"15A","Tim Hurley",6,4,9,4,5,3,5,3,5,14,"15B","John Elie",8,8,7,5,5,6,7,4,7,"Team 18 def. Team 15, 5.5 - 3.5","FRONT",1,1,1,1,0.5,0,0,0,1,0,0,0,0,0.5,1,1,1,0,41052,"M","M","M","M"]
["4105219 v 14","Week 5","4:40","Team 19","Team 14",4,"19A","Gary Leavenworth",6,6,7,5,5,4,6,5,4,14,"19B","Patty Leavenworth",6,7,8,8,5,5,8,4,5,4,"14A","Doug Cormier",6,6,6,5,5,4,5,4,4,13,"14B","Gary Candelet",7,6,6,5,7,4,5,3,6,"Team 14 def. Team 19, 6.5 - 2.5","FRONT",1,0,0,0,1,0,0,0,0.5,0,1,1,1,0,1,1,1,0.5,41052,"M","F","M","M"]
["4105217 v 16","Week 5","4:48","Team 17","Team 16",9,"17A","Gary Bittner",7,5,6,4,4,4,8,4,5,7,"17B","Mike Dauphinais",7,3,7,5,5,4,6,3,4,11,"16A","Deb DeCarolis",9,5,7,5,5,4,7,4,6,7,"16B","Joey DeCarolis",6,5,4,4,8,4,5,3,5,"Team 17 and Team 16 tie, 4.5 - 4.5","FRONT",0,1,0,0.5,1,0.5,0,0.5,1,1,0,1,0.5,0,0.5,1,0.5,0,41052,"M","M","F","M"]
["410526 v 4","Week 5","4:56","Team 06","Team 04",0,"Course","Course","","","","","","","","","",0,"Course","Course","","","","","","","","","",16,"4A","Peg Romano",8,6,7,5,5,4,7,4,5,17,"4B","Lynn Laroche",8,8,8,6,6,4,6,5,5,"Team 04 def. Team 06, 6.0 - 0.0","FRONT","","","","","","","","","",0,0.5,0.5,1,1,0.5,1,0.5,1,41052,0,0,"F","F"]
["410527 v 3","Week 5","5:04","Team 07","Team 03",11,"7A","Steve Scapparone",10,6,10,5,4,3,5,5,5,8,"7B","Dave Hyre",6,5,6,6,5,4,7,4,3,16,"3A","Pete Romano",9,5,10,7,4,7,7,6,6,9,"3B","Don Frigoletto",6,5,6,7,5,4,8,3,5,"Team 07 def. Team 03, 5.0 - 4.0","FRONT",0.5,0,0.5,1,0,1,1,0,1,0.5,1,0.5,0,1,0,0,1,0,41052,"M","M","M","M"]
["4105210 v 12","Week 5","5:12","Team 10","Team 12",3,"10A","Ron Eckstrom",6,7,5,5,6,5,7,3,4,10,"Sub17","Jeff Erskine",9,5,5,6,4,4,6,3,5,13,"12A","Sal Cuifetti",9,4,7,8,4,4,8,5,8,6,"12B","Paul LeBlanc",7,6,6,5,5,3,5,3,4,"Team 12 def. Team 10, 5.5 - 3.5","FRONT",0.5,0,1,0.5,0.5,0,0,0.5,0.5,0.5,1,0,0.5,0.5,1,1,0.5,0.5,41052,"M","M","M","M"]
["410591 v 6","Week 6","4:00","Team 01","Team 06",8,"1A","Lester Lockhart",8,4,6,5,6,5,4,5,5,14,"1B","Pete Normandin",6,5,8,8,3,7,5,5,6,8,"6A","Vance Butterfield",7,3,6,5,4,4,3,4,6,9,"6B","Bob Schleyer",5,5,6,6,3,5,4,6,6,"Team 06 def. Team 01, 6.5 - 2.5","BACK",0.5,0,0.5,0.5,0.5,0,0,0,0.5,0.5,1,0.5,0.5,0.5,1,1,1,0.5,41059,"M","M","M","M"]
["4105920 v 11","Week 6","4:08","Team 20","Team 11",4,"20A","Paul Fontaine",3,4,5,5,4,4,3,5,4,11,"20B","Ralph Romano III",5,5,5,10,3,8,4,4,5,5,"11A","Ray Henderson",4,4,4,6,4,5,4,5,4,18,"11B","Audrey Henderson",7,7,8,6,6,6,5,6,7,"Team 20 def. Team 11, 6.0 - 3.0","BACK",1,0.5,0.5,0,1,1,1,1,0,0,0.5,0.5,1,0,0,0,0,1,41059,"M","M","M","F"]
["410598 v 4","Week 6","4:16","Team 08","Team 04",6,"8A","Mike Sunderland",5,5,7,5,3,4,4,4,4,10,"8B","Debbie Sunderland",4,6,6,5,6,6,3,4,6,16,"4A","Peg Romano",7,6,8,8,4,7,6,6,6,17,"4B","Lynn Laroche",8,7,7,8,5,8,4,7,6,"Team 08 def. Team 04, 7.0 - 2.0","BACK",1,0,1,1,0.5,1,0.5,1,1,0,1,0,0,0.5,0,0.5,0,0,41059,"M","F","F","F"]
["410599 v 3","Week 6","4:24","Team 09","Team 03",14,"9A","Mike Doane",9,8,7,9,4,8,5,5,8,8,"9B","John Cassin",5,5,6,7,4,3,5,4,5,16,"3A","Pete Romano",8,5,8,7,3,5,4,7,6,10,"3B","Don Frigoletto",5,6,4,5,4,6,4,5,4,"Team 03 def. Team 09, 6.5 - 2.5","BACK",0.5,0,0,0,0,1,0,1,0,0.5,1,1,1,1,0,1,0,1,41059,"M","M","M","M"]
["410597 v 5","Week 6","4:32","Team 07","Team 05",12,"7A","Steve Scapparone",7,6,6,7,2,4,4,4,7,8,"7B","Dave Hyre",5,5,4,7,6,4,4,5,5,12,"5A","Dennis Normandin",6,4,4,5,6,5,6,5,6,8,"5B","Mark Normandin",5,5,6,4,6,8,5,4,4,"Team 05 def. Team 07, 5.0 - 4.0","BACK",0.5,0,0,0,1,1,1,0.5,0,0.5,1,1,1,0,0,0,0.5,1,41059,"M","M","M","M"]
["4105917 v 14","Week 6","4:40","Team 17","Team 14",9,"17A","Gary Bittner",6,6,6,5,3,5,3,5,5,6,"17B","Mike Dauphinais",6,5,4,7,3,4,3,3,4,0,"Course","Course","","","","","","","","","",0,"Course","Course","","","","","","","","","","Team 17 def. Team 14, 8.0 - 0.0","BACK",0.5,0.5,1,1,1,1,1,1,1,"","","","","","","","","",41059,"M","M",0,0]
["4105910 v 2","Week 6","4:48","Team 10","Team 02",5,"10A","Ron Eckstrom",5,5,5,4,4,4,2,3,4,10,"Sub17","Jeff Erskine",5,6,6,7,5,5,3,5,3,11,"2A","David St. Jean",6,6,6,5,5,5,3,4,4,7,"2B","Dennis St. Jean",5,4,5,5,4,5,4,3,5,"Team 10 def. Team 02, 5.5 - 3.5","BACK",1,0,0.5,0.5,0.5,0.5,1,0.5,1,0,1,0.5,0.5,0.5,0.5,0,0.5,0,41059,"M","M","M","M"]
["4105918 v 13","Week 6","4:56","Team 18","Team 13",12,"18A","Norm Gamache",7,4,6,4,6,3,4,4,6,13,"18B","Joe Pearson",9,8,6,7,4,4,4,4,4,9,"13A","Dave Cormier",6,5,4,6,4,5,4,4,4,17,"13B","Deb Passios",7,6,8,5,6,5,5,6,6,"Team 18 def. Team 13, 6.0 - 3.0","BACK",0.5,1,0,1,0.5,1,0.5,0.5,1,0.5,0,1,0,0.5,0,0.5,0.5,0,41059,"M","M","M","F"]
["4105916 v 15","Week 6","5:04","Team 16","Team 15",12,"16A","Deb DeCarolis",7,6,5,6,4,5,5,4,4,6,"16B","Joey DeCarolis",5,6,4,6,4,5,4,5,6,7,"15A","Tim Hurley",5,8,5,4,4,5,3,4,6,14,"15B","John Elie",8,4,6,7,3,6,5,4,4,"Team 15 def. Team 16, 6.0 - 3.0","BACK",0.5,0,1,0,0,1,0,0,0.5,0.5,1,0,1,1,0,1,1,0.5,41059,"F","M","M","M"]
["4105919 v 12","Week 6","5:12","Team 19","Team 12",5,"Sub19","Gary Leavenworth",5,5,4,8,5,4,3,4,4,14,"19B","Patty Leavenworth",6,6,7,5,5,4,5,6,4,13,"12A","Sal Cuifetti",9,6,6,6,4,7,4,6,7,6,"12B","Paul LeBlanc",6,3,5,6,3,4,3,3,4,"Team 19 def. Team 12, 5.0 - 4.0","BACK",1,0,1,1,0,1,0.5,0,0.5,0,1,0,0,1,0,0.5,1,0.5,41059,"M","F","M","M"]
["4107317 v 2","Week 8","4:00","Team 17","Team 02",8,"17A","Gary Bittner",8,7,4,5,6,4,3,4,5,5,"17B","Mike Dauphinais",6,5,5,8,4,5,3,3,7,9,"2A","David St. Jean",5,4,6,6,5,6,4,4,3,6,"2B","Dennis St. Jean",4,5,4,5,5,6,4,3,4,"Team 17 def. Team 02, 5.0 - 4.0","BACK",0,0,0.5,1,1,1,1,0.5,0,1,1,0.5,0,0,0,0,0.5,1,41073,"M","M","M","M"]
["4107316 v 11","Week 8","4:08","Team 16","Team 11",12,"16A","Deb DeCarolis",5,5,6,5,5,5,5,7,5,6,"16B","Joey DeCarolis",5,4,4,5,3,5,4,4,7,4,"11A","Ray Henderson",4,4,5,6,4,4,4,3,5,16,"Sub19","Jeff Richard",8,5,8,7,4,8,6,7,8,"Team 16 def. Team 11, 5.5 - 3.5","BACK",0.5,0.5,1,1,0.5,0.5,0.5,0,1,0.5,0.5,0,0,0.5,0.5,0.5,1,0,41073,"F","M","M","M"]
["4107320 v 5","Week 8","4:16","Team 20","Team 05",4,"20A","Paul Fontaine",4,4,5,4,3,4,4,3,6,11,"20B","Ralph Romano III",5,8,5,6,4,5,3,5,5,11,"5A","Dennis Normandin",7,7,7,7,3,5,6,4,6,7,"5B","Mark Normandin",6,6,5,6,3,4,3,4,5,"Team 20 def. Team 05, 6.5 - 2.5","BACK",1,1,1,1,0.5,0.5,0.5,0.5,0.5,0,0,0,0,0.5,0.5,0.5,0.5,0.5,41073,"M","M","M","M"]
["410731 v 8","Week 8","4:24","Team 01","Team 08",9,"1A","Lester Lockhart",6,4,5,6,5,8,4,5,4,13,"1B","Pete Normandin",5,5,5,6,4,6,5,5,7,7,"8A","Mike Sunderland",6,4,5,6,4,6,5,5,4,9,"8B","Debbie Sunderland",8,7,6,6,4,6,5,5,5,"Team 01 def. Team 08, 7.5 - 1.5","BACK",1,0.5,1,1,0.5,1,1,0.5,1,0,0.5,0,0,0.5,0,0,0.5,0,41073,"M","M","M","F"]
["4107315 v 12","Week 8","4:32","Team 15","Team 12",6,"15A","Tim Hurley",6,5,5,6,3,3,4,4,5,13,"15B","John Elie",8,5,8,6,5,6,6,8,6,14,"12A","Sal Cuifetti",7,6,5,7,6,6,3,5,5,4,"12B","Paul LeBlanc",5,4,5,4,4,4,6,5,4,"Team 12 def. Team 15, 6.0 - 3.0","BACK",0,0.5,0,0,1,1,0,0.5,0,1,0.5,1,1,0,0,1,0.5,1,41073,"M","M","M","M"]
["410739 v 7","Week 8","4:40","Team 09","Team 07",16,"9A","Mike Doane",8,8,8,10,5,7,6,7,8,7,"9B","John Cassin",5,4,4,5,3,4,4,5,4,11,"7A","Steve Scapparone",6,6,3,6,4,6,2,7,5,7,"7B","Dave Hyre",8,6,5,4,4,6,6,4,4,"Team 07 def. Team 09, 5.0 - 4.0","BACK",0.5,1,0,0,1,1,0,0,0.5,0.5,0,1,1,0,0,1,1,0.5,41073,"M","M","M","M"]
["4107314 v 13","Week 8","4:48","Team 14","Team 13",5,"14A","Doug Cormier",5,4,4,5,4,4,4,3,4,12,"14B","Gary Candelet",7,4,6,6,3,5,5,5,5,0,"Course","Course","","","","","","","","","",0,"Course","Course","","","","","","","","","","Team 14 def. Team 13, 7.5 - 0.0","BACK",1,1,1,1,1,0.5,0,1,1,"","","","","","","","","",41073,"M","M",0,0]
["4107319 v 4","Week 8","4:56","Team 19","Team 04",0,"Sub20","Paul Stedman",7,4,3,6,3,4,4,4,4,13,"19B","Patty Leavenworth",8,5,5,8,5,8,4,6,5,16,"4A","Peg Romano",8,6,6,7,4,6,4,6,5,18,"4B","Lynn Laroche",8,8,8,10,4,5,4,3,5,"Team 04 def. Team 19, 5.5 - 3.5","BACK",0.5,1,1,0,0.5,0,0.5,0,0,0.5,0,0,1,0.5,1,0.5,1,1,41073,"M","F","F","F"]
["4107310 v 6","Week 8","5:04","Team 10","Team 06",4,"10A","Ron Eckstrom",5,5,5,6,3,5,3,4,4,12,"10B","Beth Romano",7,6,8,8,6,6,6,7,5,7,"6A","Vance Butterfield",7,5,5,6,3,5,4,5,5,9,"6B","Bob Schleyer",6,5,6,4,3,4,3,5,5,"Team 06 def. Team 10, 5.5 - 3.5","BACK",0.5,0,0.5,0,0.5,0,0.5,1,0.5,0.5,1,0.5,1,0.5,1,0.5,0,0.5,41073,"M","F","M","M"]
["4107318 v 3","Week 8","5:12","Team 18","Team 03",11,"18A","Norm Gamache",5,5,4,5,4,4,5,5,5,12,"18B","Joe Pearson",5,4,7,5,4,5,5,8,5,16,"3A","Pete Romano",6,7,7,6,3,6,4,6,6,10,"3B","Don Frigoletto",9,5,5,10,4,7,6,5,6,"Team 18 def. Team 03, 6.0 - 3.0","BACK",0.5,1,1,1,0,1,0,0.5,1,0.5,0,0,0,1,0,1,0.5,0,41073,"M","M","M","M"]
["410801 v 9","Week 9","4:00","Team 01","Team 09",9,"1A","Lester Lockhart",5,4,6,8,5,5,6,4,5,12,"1B","Pete Normandin",6,5,6,6,4,6,8,3,6,18,"9A","Mike Doane",9,8,9,8,5,4,8,4,4,6,"9B","John Cassin",9,5,5,6,4,3,5,3,4,"Team 01 def. Team 09, 5.5 - 3.5","FRONT",1,1,0.5,1,1,0,0.5,0.5,0,0,0,0.5,0,0,1,0.5,0.5,1,41080,"M","M","M","M"]
["4108020 v 7","Week 9","4:08","Team 20","Team 07",3,"20A","Paul Fontaine",10,5,7,4,3,4,5,4,3,12,"20B","Ralph Romano III",8,8,9,6,4,3,6,4,5,9,"Sub17","Jeff Erskine",8,7,6,7,4,4,4,4,7,8,"7B","Dave Hyre",7,4,7,8,4,3,8,4,6,"Team 20 and Team 07 tie, 4.5 - 4.5","FRONT",0,0,0,1,0.5,1,0,1,1,1,1,1,0,0.5,0,1,0,0,41080,"M","M","M","M"]
["4108010 v 8","Week 9","4:16","Team 10","Team 08",17,"Sub19","Jeff Richard",7,8,7,6,6,6,6,6,6,13,"10B","Beth Romano",10,7,8,6,7,3,8,6,4,7,"8A","Mike Sunderland",6,4,5,6,4,4,6,3,4,9,"8B","Debbie Sunderland",6,6,9,6,5,4,5,3,6,"Team 08 def. Team 10, 5.5 - 3.5","FRONT",0.5,0,0,1,0,1,0.5,0,0.5,0.5,1,1,0,1,0,0.5,1,0.5,41080,"M","F","M","F"]
["4108018 v 5","Week 9","4:24","Team 18","Team 05",9,"18A","Norm Gamache",9,6,10,5,4,5,7,3,4,12,"18B","Joe Pearson",5,6,7,8,4,4,6,6,4,12,"5A","Dennis Normandin",7,5,6,8,6,5,5,5,6,6,"5B","Mark Normandin",5,6,5,5,4,4,4,3,6,"Team 18 and Team 05 tie, 4.5 - 4.5","FRONT",1,0,0,0.5,1,0.5,0,0.5,1,0,1,1,0.5,0,0.5,1,0.5,0,41080,"M","M","M","M"]
["4108014 v 11","Week 9","4:32","Team 14","Team 11",0,"Course","Course","","","","","","","","","",0,"Course","Course","","","","","","","","","",4,"11A","Ray Henderson",5,4,6,4,5,3,5,4,4,0,"Sub21","Zack Henderson",6,7,8,4,5,4,8,4,5,"Team 11 def. Team 14, 4.5 - 0.0","FRONT","","","","","","","","","",1,1,0.5,0.5,0,0.5,0.5,0,0.5,41080,0,0,"M","M"]
["4108015 v 2","Week 9","4:40","Team 15","Team 02",0,"Course","Course","","","","","","","","","",0,"Course","Course","","","","","","","","","",8,"2A","David St. Jean",7,5,9,5,3,4,5,4,4,5,"2B","Dennis St. Jean",7,6,5,6,5,5,6,4,6,"Team 02 def. Team 15, 5.0 - 0.0","FRONT","","","","","","","","","",0,0.5,1,0.5,1,0,0.5,0.5,1,41080,0,0,"M","M"]
["4108017 v 4","Week 9","4:48","Team 17","Team 04",8,"17A","Gary Bittner",5,6,6,4,4,5,5,5,8,6,"17B","Mike Dauphinais",6,3,5,3,5,4,6,4,3,15,"4A","Peg Romano",8,6,10,6,7,4,7,3,5,17,"4B","Lynn Laroche",8,7,9,5,7,5,8,4,5,"Team 17 def. Team 04, 7.0 - 2.0","FRONT",1,1,1,1,1,0,1,0,1,0,0,0,0,0,1,0,1,0,41080,"M","M","F","F"]
["4108013 v 12","Week 9","4:56","Team 13","Team 12",9,"13A","Dave Cormier",7,5,7,6,6,4,6,3,7,17,"13B","Deb Passios",9,7,7,8,8,4,8,3,7,14,"12A","Sal Cuifetti",8,4,6,8,4,4,7,5,7,3,"12B","Paul LeBlanc",6,4,7,4,4,3,6,4,6,"Team 12 def. Team 13, 6.0 - 3.0","FRONT",0.5,0,0,0,0,0.5,0.5,1,0.5,0.5,1,1,1,1,0.5,0.5,0,0.5,41080,"M","F","M","M"]
["4108019 v 6","Week 9","5:04","Team 19","Team 06",0,"Sub20","Paul Stedman",8,4,8,7,4,3,6,4,5,13,"19B","Patty Leavenworth",7,7,9,6,6,4,6,5,7,7,"6A","Vance Butterfield",6,5,5,5,5,3,4,2,6,8,"6B","Bob Schleyer",10,6,8,5,6,5,5,3,5,"Team 06 def. Team 19, 7.0 - 2.0","FRONT",0.5,0.5,0,0,0.5,0.5,0,0,0,0.5,0.5,1,1,0.5,0.5,1,1,1,41080,"M","F","M","M"]
["4108016 v 3","Week 9","5:12","Team 16","Team 03",11,"16A","Deb DeCarolis",8,6,8,5,5,5,6,4,5,5,"16B","Joey DeCarolis",5,5,7,5,5,5,8,4,4,15,"3A","Pete Romano",10,5,10,6,7,5,8,5,8,11,"3B","Don Frigoletto",7,6,8,5,6,5,6,5,5,"Team 16 def. Team 03, 5.0 - 4.0","FRONT",1,0,0.5,0.5,1,0,0.5,0.5,1,0,1,0.5,0.5,0,1,0.5,0.5,0,41080,"F","M","M","M"]
["4108720 v 9","Week 10","4:00","Team 20","Team 09",4,"20A","Paul Fontaine",4,4,4,5,2,5,3,4,4,12,"20B","Ralph Romano III",6,4,7,7,4,4,3,4,5,19,"9A","Mike Doane",8,8,8,6,6,7,3,8,7,6,"9B","John Cassin",6,4,6,6,4,4,5,4,6,"Team 20 def. Team 09, 7.0 - 2.0","BACK",1,1,1,0,1,1,0,1,1,0,0,0,1,0,0,1,0,0,41087,"M","M","M","M"]
["4108713 v 2","Week 10","4:08","Team 13","Team 02",9,"13A","Dave Cormier",4,6,6,6,5,4,3,4,4,18,"13B","Deb Passios",8,7,8,7,4,7,6,7,6,8,"2A","David St. Jean",6,5,5,6,3,4,3,5,6,6,"2B","Dennis St. Jean",5,6,6,6,3,6,3,4,4,"Team 13 def. Team 02, 5.0 - 4.0","BACK",1,0.5,0,0.5,0.5,0.5,0.5,0.5,1,0,0.5,1,0.5,0.5,0.5,0.5,0.5,0,41087,"M","F","M","M"]
["4108712 v 11","Week 10","4:16","Team 12","Team 11",14,"12A","Sal Cuifetti",7,5,6,6,3,7,6,5,5,4,"12B","Paul LeBlanc",6,5,4,6,3,4,4,4,4,4,"11A","Ray Henderson",4,5,5,5,3,4,3,3,4,18,"11B","Audrey Henderson",7,7,5,8,5,6,4,5,7,"Team 11 def. Team 12, 5.0 - 4.0","BACK",0,1,0,0.5,1,0.5,0,0,1,1,0,1,0.5,0,0.5,1,1,0,41087,"M","M","M","F"]
["410871 v 10","Week 10","4:24","Team 01","Team 10",10,"1A","Lester Lockhart",4,5,4,6,5,4,3,4,5,13,"1B","Pete Normandin",5,6,5,7,5,6,6,7,5,4,"10A","Ron Eckstrom",6,4,4,7,4,5,3,3,4,14,"10B","Beth Romano",6,4,7,6,6,6,6,6,4,"Team 01 and Team 10 tie, 4.5 - 4.5","BACK",1,0,1,0.5,0.5,1,0.5,0,0,0,1,0,0.5,0.5,0,0.5,1,1,41087,"M","M","M","F"]
["4108717 v 6","Week 10","4:32","Team 17","Team 06",8,"17A","Gary Bittner",6,5,4,6,5,5,4,4,6,5,"17B","Mike Dauphinais",6,5,5,5,3,3,3,4,4,6,"6A","Vance Butterfield",7,6,6,5,5,5,3,4,5,8,"6B","Bob Schleyer",7,4,5,6,4,5,4,4,4,"Team 17 def. Team 06, 5.5 - 3.5","BACK",1,0,1,0.5,1,1,0.5,0.5,0,0,1,0,0.5,0,0,0.5,0.5,1,41087,"M","M","M","M"]
["4108718 v 7","Week 10","4:40","Team 18","Team 07",10,"18A","Norm Gamache",6,4,6,5,3,3,4,4,5,10,"18B","Joe Pearson",7,6,6,6,4,5,3,5,7,10,"7A","Steve Scapparone",8,5,4,5,4,4,5,5,6,8,"7B","Dave Hyre",5,5,6,6,3,5,3,4,4,"Team 18 and Team 07 tie, 4.5 - 4.5","BACK",0,1,0,0.5,0.5,1,0.5,0.5,0.5,1,0,1,0.5,0.5,0,0.5,0.5,0.5,41087,"M","M","M","M"]
["4108714 v 3","Week 10","4:48","Team 14","Team 03",4,"14A","Doug Cormier",5,5,5,6,5,4,5,5,4,16,"Sub4","Mike Romano",5,8,5,6,6,6,6,5,7,16,"3A","Pete Romano",6,6,5,8,4,5,5,6,5,11,"3B","Don Frigoletto",4,5,4,6,5,5,5,4,5,"Team 03 def. Team 14, 7.0 - 2.0","BACK",0.5,0,0,1,0,0.5,0,0,0,0.5,1,1,0,1,0.5,1,1,1,41087,"M","M","M","M"]
["4108715 v 4","Week 10","4:56","Team 15","Team 04",0,"Course","Course","","","","","","","","","",0,"Course","Course","","","","","","","","","",15,"4A","Peg Romano",7,6,6,6,6,4,5,6,5,17,"4B","Lynn Laroche",7,6,6,5,4,5,3,4,5,"Team 04 def. Team 15, 6.5 - 0.0","BACK","","","","","","","","","",0,0.5,0.5,1,0.5,1,1,1,1,41087,0,0,"F","F"]
["4108716 v 5","Week 10","5:04","Team 16","Team 05",11,"16A","Deb DeCarolis",9,5,4,7,4,7,4,6,6,6,"16B","Joey DeCarolis",6,5,6,5,5,5,4,4,3,8,"Sub5","Jono Normandin",5,5,4,6,4,6,3,3,5,6,"5B","Mark Normandin",6,4,4,8,4,5,5,4,5,"Team 05 def. Team 16, 5.0 - 4.0","BACK",0,0.5,1,0.5,0.5,0.5,0,0,1,1,0.5,0,0.5,0.5,0.5,1,1,0,41087,"F","M","M","M"]
["4108719 v 8","Week 10","5:12","Team 19","Team 08",3,"Sub20","Paul Stedman",7,5,3,5,4,6,4,4,4,14,"19B","Patty Leavenworth",6,5,5,5,5,6,5,5,4,6,"8A","Mike Sunderland",5,5,7,5,3,6,3,4,5,10,"8B","Debbie Sunderland",7,6,4,6,5,6,3,4,6,"Team 08 def. Team 19, 5.0 - 4.0","BACK",0.5,1,0.5,0.5,0,0.5,0,0,1,0.5,0,0.5,0.5,1,0.5,1,1,0,41087,"M","F","M","F"]
["411011 v 20","Week 1","4:00","Team 01","Team 20",9,"1A","Lester Lockhart",6,5,6,4,5,3,7,4,6,13,"1B","Pete Normandin",7,5,6,6,4,4,6,3,5,2,"20A","Paul Fontaine",6,5,5,4,4,3,5,4,3,11,"20B","Ralph Romano III",10,7,7,7,7,4,6,3,6,"Team 01 def. Team 20, 7.0 - 2.0","FRONT",1,1,1,1,1,0.5,1,0.5,0,0,0,0,0,0,0.5,0,0.5,1,41101,"M","M","M","M"]
["4110114 v 5","Week 1","4:08","Team 14","Team 05",0,"Course","Course","","","","","","","","","",0,"Course","Course","","","","","","","","","",12,"5A","Dennis Normandin",7,6,6,5,6,3,7,5,5,6,"5B","Mark Normandin",6,4,5,4,4,5,6,3,5,"Team 05 def. Team 14, 6.5 - 0.0","FRONT","","","","","","","","","",0.5,1,1,1,1,1,0,0.5,0.5,41101,0,0,"M","M"]
["4110111 v 2","Week 1","4:16","Team 11","Team 02",3,"11A","Ray Henderson",7,5,6,6,4,3,5,4,4,8,"Sub11","Jon Friberg",6,7,7,4,4,3,6,2,5,7,"2A","David St. Jean",6,7,6,7,3,4,7,2,4,6,"2B","Dennis St. Jean",5,6,5,4,6,4,5,3,6,"Team 02 def. Team 11, 5.0 - 4.0","FRONT",0,1,0,1,0,1,0,0.5,0.5,1,0,1,0,1,0,1,0.5,0.5,41101,"M","M","M","M"]
["4110117 v 8","Week 1","4:24","Team 17","Team 08",8,"17A","Gary Bittner",7,6,5,4,5,2,5,3,6,4,"17B","Mike Dauphinais",7,5,5,5,4,4,7,5,6,0,"Course","Course","","","","","","","","","",0,"Course","Course","","","","","","","","","","Team 17 def. Team 08, 5.5 - 0.0","FRONT",0,0.5,1,1,0.5,1,0.5,1,0,"","","","","","","","","",41101,"M","M",0,0]
["4110112 v 3","Week 1","4:32","Team 12","Team 03",14,"12A","Sal Cuifetti",10,6,7,8,3,4,6,3,4,4,"12B","Paul LeBlanc",6,5,5,4,4,3,4,3,5,15,"3A","Pete Romano",9,6,8,5,5,4,8,6,8,10,"3B","Don Frigoletto",7,7,8,6,5,4,6,3,4,"Team 12 def. Team 03, 7.0 - 2.0","FRONT",0.5,0.5,1,0.5,1,0.5,1,1,1,0.5,0.5,0,0.5,0,0.5,0,0,0,41101,"M","M","M","M"]
["4110115 v 6","Week 1","4:40","Team 15","Team 06",6,"15A","Tim Hurley",7,7,7,6,5,3,5,3,4,15,"15B","John Elie",8,6,8,8,6,6,5,4,6,6,"6A","Vance Butterfield",8,4,7,6,6,5,7,3,5,8,"6B","Bob Schleyer",7,6,6,7,5,5,6,4,4,"Team 15 and Team 06 tie, 4.5 - 4.5","FRONT",0.5,0,0,0.5,0.5,1,1,0.5,0.5,0.5,1,1,0.5,0.5,0,0,0.5,0.5,41101,"M","M","M","M"]
["4110113 v 4","Week 1","4:48","Team 13","Team 04",17,"Sub4","Mike Romano",7,6,5,5,5,5,8,4,3,18,"13B","Deb Passios",7,8,8,6,6,4,8,3,5,14,"4A","Peg Romano",6,8,7,6,6,6,8,5,5,15,"4B","Lynn Laroche",8,7,7,6,7,4,8,3,6,"Team 13 def. Team 04, 7.0 - 2.0","FRONT",0.5,1,1,1,1,0.5,0.5,0.5,1,0.5,0,0,0,0,0.5,0.5,0.5,0,41101,"M","F","F","F"]
["4110119 v 10","Week 1","4:56","Team 19","Team 10",4,"19A","Paul Stedman",6,4,7,4,4,4,5,3,2,13,"19B","Patty Leavenworth",10,8,7,6,4,4,8,4,7,4,"10A","Ron Eckstrom",5,4,6,3,6,3,5,3,5,14,"10B","Beth Romano",8,7,7,6,4,3,8,4,6,"Team 10 def. Team 19, 5.5 - 3.5","FRONT",0,0.5,0.5,0,0.5,0,0.5,0.5,1,1,0.5,0.5,1,0.5,1,0.5,0.5,0,41101,"M","F","M","F"]
["4110118 v 9","Week 1","5:04","Team 18","Team 09",8,"18A","Norm Gamache",10,5,8,6,5,4,8,5,4,11,"18B","Joe Pearson",8,5,8,4,6,5,7,6,8,20,"9A","Mike Doane",9,8,8,8,6,4,8,4,5,6,"9B","John Cassin",5,5,5,6,5,5,4,4,4,"Team 09 def. Team 18, 6.0 - 3.0","FRONT",0,1,0,1,0.5,0,0,0,0.5,1,0,1,0,0.5,1,1,1,0.5,41101,"M","M","M","M"]
["4110116 v 7","Week 1","5:12","Team 16","Team 07",11,"16A","Deb DeCarolis",6,5,8,5,5,3,7,5,6,7,"16B","Joey DeCarolis",6,5,7,3,4,4,6,4,5,9,"7A","Steve Scapparone",8,6,10,7,5,4,6,5,4,8,"7B","Dave Hyre",8,4,6,7,5,5,5,4,4,"Team 16 def. Team 07, 5.0 - 4.0","FRONT",1,0.5,0,1,1,1,0,0.5,0,0,0.5,1,0,0,0,1,0.5,1,41101,"F","M","M","M"]
["4110816 v 9","Week 2","4:00","Team 16","Team 09",11,"16A","Deb DeCarolis",4,5,4,7,4,5,3,5,5,7,"16B","Joey DeCarolis",7,8,4,6,3,5,5,5,6,21,"9A","Mike Doane",7,8,7,7,6,6,6,5,7,5,"9B","John Cassin",6,4,6,7,5,5,3,4,5,"Team 16 def. Team 09, 6.0 - 3.0","BACK",1,0.5,1,0.5,1,0.5,0.5,0,1,0,0.5,0,0.5,0,0.5,0.5,1,0,41108,"F","M","M","M"]
["4110818 v 20","Week 2","4:08","Team 18","Team 20",9,"18A","Norm Gamache",6,5,8,8,5,4,5,3,4,12,"18B","Joe Pearson",8,7,6,8,5,5,4,7,4,2,"20A","Paul Fontaine",4,6,3,6,5,5,3,3,5,11,"20B","Ralph Romano III",6,5,4,8,3,5,3,5,5,"Team 20 def. Team 18, 5.5 - 3.5","BACK",0,0.5,0,0,0,1,0,1,1,1,0.5,1,1,1,0,1,0,0,41108,"M","M","M","M"]
["4110812 v 5","Week 2","4:16","Team 12","Team 05",13,"12A","Sal Cuifetti",7,5,5,8,4,6,5,4,4,3,"12B","Paul LeBlanc",8,5,5,5,5,4,3,6,4,12,"5A","Dennis Normandin",8,6,7,6,4,6,4,6,8,6,"5B","Mark Normandin",7,3,5,5,4,4,5,4,4,"Team 12 def. Team 05, 5.0 - 4.0","BACK",0.5,0,1,0,0.5,0.5,0.5,1,1,0.5,1,0,1,0.5,0.5,0.5,0,0,41108,"M","M","M","M"]
["4110811 v 4","Week 2","4:24","Team 11","Team 04",0,"Course","Course","","","","","","","","","",0,"Course","Course","","","","","","","","","",15,"4A","Peg Romano",8,6,7,5,5,6,4,6,5,15,"4B","Lynn Laroche",7,8,6,7,5,7,4,5,5,"Team 04 def. Team 11, 4.5 - 0.0","BACK","","","","","","","","","",0,0.5,0.5,1,0,0.5,0.5,0.5,1,41108,0,0,"F","F"]
["4110815 v 8","Week 2","4:32","Team 15","Team 08",6,"15A","Tim Hurley",6,5,4,7,5,5,4,4,4,16,"15B","John Elie",5,6,5,6,4,5,4,3,5,6,"8A","Mike Sunderland",6,7,5,5,4,4,3,5,5,10,"8B","Debbie Sunderland",6,5,5,7,5,4,5,4,6,"Team 15 def. Team 08, 6.0 - 3.0","BACK",1,0,0.5,0.5,1,0.5,0.5,1,1,0,1,0.5,0.5,0,0.5,0.5,0,0,41108,"M","M","M","F"]
["4110817 v 10","Week 2","4:40","Team 17","Team 10",7,"17A","Gary Bittner",5,4,5,4,4,8,2,5,5,5,"17B","Mike Dauphinais",5,4,4,7,3,4,5,4,4,4,"10A","Ron Eckstrom",4,5,3,4,3,5,4,3,3,14,"10B","Beth Romano",6,7,4,5,4,5,4,5,5,"Team 17 def. Team 10, 5.0 - 4.0","BACK",0.5,1,0,1,0.5,0.5,1,0,0.5,0.5,0,1,0,0.5,0.5,0,1,0.5,41108,"M","M","M","F"]
["411081 v 19","Week 2","4:48","Team 01","Team 19",8,"1A","Lester Lockhart",7,6,6,5,3,6,4,3,4,11,"1B","Pete Normandin",6,6,5,6,4,6,5,4,5,4,"19A","Paul Stedman",6,8,4,4,3,4,5,3,6,13,"19B","Patty Leavenworth",5,8,6,7,6,7,3,5,5,"Team 19 def. Team 01, 5.0 - 4.0","BACK",0,1,0.5,0.5,0.5,0,0,0.5,1,1,0,0.5,0.5,0.5,1,1,0.5,0,41108,"M","M","M","F"]
["4110814 v 7","Week 2","4:56","Team 14","Team 07",5,"14A","Doug Cormier",6,5,5,5,4,4,3,4,5,10,"14B","Gary Candelet",6,6,5,6,4,5,6,4,6,11,"7A","Steve Scapparone",5,4,5,6,4,4,6,5,6,8,"7B","Dave Hyre",5,8,7,6,3,5,3,3,5,"Team 07 def. Team 14, 7.5 - 1.5","BACK",0,0,0.5,0.5,0,0,0.5,0,0,1,1,0.5,0.5,1,1,0.5,1,1,41108,"M","M","M","M"]
["411082 v 3","Week 2","5:04","Team 02","Team 03",17,"Sub19","Jeff Richard",5,8,8,7,5,6,5,8,5,6,"2B","Dennis St. Jean",5,5,5,7,4,4,4,4,4,16,"3A","Pete Romano",6,5,5,8,4,5,3,5,6,11,"3B","Don Frigoletto",5,6,5,8,4,5,4,5,6,"Team 03 def. Team 02, 5.5 - 3.5","BACK",0.5,0,0,1,0,0.5,0,0.5,1,0.5,1,1,0,1,0.5,1,0.5,0,41108,"M","M","M","M"]
["4110813 v 6","Week 2","5:12","Team 13","Team 06",8,"13A","Dave Cormier",5,7,5,5,3,4,3,4,5,18,"13B","Deb Passios",5,8,5,7,6,8,5,5,6,7,"6A","Vance Butterfield",4,5,4,6,3,4,4,4,5,8,"6B","Bob Schleyer",7,5,5,5,5,4,3,6,5,"Team 13 and Team 06 tie, 4.5 - 4.5","BACK",1,0,0.5,0.5,0.5,0.5,0.5,0.5,0.5,0,1,0.5,0.5,0.5,0.5,0.5,0.5,0.5,41108,"M","F","M","M"]
["4111511 v 6","Week 3","4:00","Team 11","Team 06",3,"11A","Ray Henderson",8,4,5,5,4,3,4,3,3,7,"Sub11","Jon Friberg",7,6,6,5,3,4,6,3,4,7,"6A","Vance Butterfield",5,4,7,4,4,4,5,4,5,7,"DNP","Partner Did Not Play","","","","","","","","","","Team 11 def. Team 06, 5.5 - 3.5","FRONT",0,0,1,0,1,1,0.5,1,1,1,1,0,1,0,0,0.5,0,0,41115,"M","M","M",0]
["4111516 v 20","Week 3","4:08","Team 16","Team 20",10,"16A","Deb DeCarolis",7,6,5,7,4,4,7,3,5,7,"16B","Joey DeCarolis",8,8,8,4,6,4,4,4,5,3,"20A","Paul Fontaine",4,5,4,4,4,4,5,4,4,10,"20B","Ralph Romano III",5,7,7,6,4,3,7,3,6,"Team 20 def. Team 16, 5.0 - 4.0","FRONT",0,0.5,0.5,0.5,0.5,0,1,0.5,0.5,1,0.5,0.5,0.5,0.5,1,0,0.5,0.5,41115,"F","M","M","M"]
["411151 v 18","Week 3","4:16","Team 01","Team 18",7,"1A","Lester Lockhart",7,5,5,6,8,4,5,3,4,10,"1B","Pete Normandin",5,6,9,5,4,4,6,4,5,9,"18A","Norm Gamache",9,6,6,6,4,4,6,4,6,12,"18B","Joe Pearson",8,7,6,8,5,3,8,5,5,"Team 01 def. Team 18, 6.5 - 2.5","FRONT",1,1,0.5,1,0.5,0,0.5,1,1,0,0,0.5,0,0.5,1,0.5,0,0,41115,"M","M","M","M"]
["4111512 v 7","Week 3","4:24","Team 12","Team 07",12,"12A","Sal Cuifetti",8,5,7,6,5,5,7,4,8,5,"12B","Paul LeBlanc",6,4,9,6,5,5,8,3,5,9,"7A","Steve Scapparone",7,6,6,6,5,4,6,3,5,8,"7B","Dave Hyre",8,6,10,3,5,4,7,5,8,"Team 07 def. Team 12, 5.5 - 3.5","FRONT",0.5,1,0,0,1,0,0,0.5,0.5,0.5,0,1,1,0,1,1,0.5,0.5,41115,"M","M","M","M"]
["4111513 v 8","Week 3","4:32","Team 13","Team 08",7,"13A","Dave Cormier",8,5,6,6,4,3,6,3,5,17,"13B","Deb Passios",8,7,9,8,5,5,8,4,6,6,"8A","Mike Sunderland",7,4,5,4,5,4,5,4,5,10,"8B","Debbie Sunderland",9,5,7,6,6,4,6,3,5,"Team 08 def. Team 13, 5.0 - 4.0","FRONT",0.5,0,0,0,1,1,0.5,0.5,0.5,0.5,1,1,1,0,0,0.5,0.5,0.5,41115,"M","F","M","F"]
["411152 v 5","Week 3","4:40","Team 02","Team 05",7,"2A","David St. Jean",5,5,6,8,5,4,6,4,5,6,"2B","Dennis St. Jean",6,6,5,6,5,4,5,4,4,12,"5A","Dennis Normandin",7,5,8,5,5,3,6,1,6,5,"5B","Mark Normandin",5,7,6,4,6,4,4,4,4,"Team 05 def. Team 02, 6.5 - 2.5","FRONT",0.5,0,1,0,0,0,0.5,0,0.5,0.5,1,0,1,1,1,0.5,1,0.5,41115,"M","M","M","M"]
["4111514 v 9","Week 3","4:48","Team 14","Team 09",5,"14A","Doug Cormier",7,4,6,5,5,4,5,4,5,5,"DNP","Partner Did Not Play","","","","","","","","","",20,"9A","Mike Doane",8,7,7,6,6,6,8,5,6,6,"9B","John Cassin",7,7,5,6,5,4,5,5,5,"Team 09 def. Team 14, 6.5 - 2.5","FRONT",0,1,0,0,0,0.5,0,0.5,0.5,1,0,1,1,1,0.5,1,0.5,0.5,41115,"M",0,"M","M"]
["4111517 v 19","Week 3","4:56","Team 17","Team 19",7,"17A","Gary Bittner",5,5,5,4,5,4,6,5,6,5,"17B","Mike Dauphinais",6,4,6,4,4,3,7,3,5,5,"19A","Paul Stedman",5,5,4,4,5,3,6,3,4,14,"19B","Patty Leavenworth",7,5,7,4,5,4,8,4,6,"Team 19 def. Team 17, 5.0 - 4.0","FRONT",0.5,0.5,0.5,0,0.5,0.5,1,0.5,0,0.5,0.5,0.5,1,0.5,0.5,0,0.5,1,41115,"M","M","M","F"]
["411153 v 4","Week 3","5:04","Team 03","Team 04",15,"3A","Pete Romano",7,5,7,5,5,4,8,5,6,11,"3B","Don Frigoletto",6,4,6,4,4,5,7,4,5,14,"4A","Peg Romano",9,7,6,6,6,5,8,4,5,14,"4B","Lynn Laroche",9,5,9,5,5,5,8,5,7,"Team 03 def. Team 04, 6.5 - 2.5","FRONT",1,1,0,1,1,1,0.5,0.5,0.5,0,0,1,0,0,0,0.5,0.5,0.5,41115,"M","M","F","F"]
["4111515 v 10","Week 3","5:12","Team 15","Team 10",6,"15A","Tim Hurley",7,5,5,6,4,3,4,5,6,13,"15B","John Elie",10,4,8,5,4,4,8,4,5,17,"Sub19","Jeff Richard",10,8,8,5,4,6,5,4,6,14,"10B","Beth Romano",6,6,6,8,5,5,7,4,7,"Team 15 and Team 10 tie, 4.5 - 4.5","FRONT",0,1,0.5,0.5,0.5,1,0,0,1,1,0,0.5,0.5,0.5,0,1,1,0,41115,"M","M","M","F"]
["4112211 v 8","Week 4","4:00","Team 11","Team 08",3,"11A","Ray Henderson",5,4,6,6,4,6,3,4,5,2,"Sub20","Zack Henderson",7,6,7,7,3,5,6,5,7,6,"8A","Mike Sunderland",4,5,5,7,3,6,3,4,6,11,"8B","Debbie Sunderland",5,4,3,6,4,7,4,5,5,"Team 08 def. Team 11, 6.0 - 3.0","BACK",0,0,0,0,0.5,1,0.5,0.5,0.5,1,1,1,1,0.5,0,0.5,0.5,0.5,41122,"M","M","M","F"]
["411224 v 5","Week 4","4:08","Team 04","Team 05",15,"4A","Peg Romano",8,6,7,7,4,6,6,6,6,15,"4B","Lynn Laroche",5,6,6,6,4,5,6,5,6,12,"5A","Dennis Normandin",6,6,4,6,3,6,3,5,4,5,"5B","Mark Normandin",4,6,4,5,4,5,4,4,4,"Team 05 def. Team 04, 5.0 - 4.0","BACK",0.5,1,0,0.5,0.5,1,0,0.5,0,0.5,0,1,0.5,0.5,0,1,0.5,1,41122,"F","F","M","M"]
["4112212 v 9","Week 4","4:16","Team 12","Team 09",12,"12A","Sal Cuifetti",7,8,6,6,5,6,3,5,6,6,"12B","Paul LeBlanc",5,4,5,6,5,4,6,6,4,19,"9A","Mike Doane",9,7,5,8,6,7,6,5,8,7,"9B","John Cassin",6,6,5,8,4,4,3,4,5,"Team 12 and Team 09 tie, 4.5 - 4.5","BACK",1,1,0,1,0,0.5,0.5,0,0.5,0,0,1,0,1,0.5,0.5,1,0.5,41122,"M","M","M","M"]
["4112213 v 10","Week 4","4:24","Team 13","Team 10",7,"13A","Dave Cormier",5,4,5,6,4,4,6,4,4,18,"13B","Deb Passios",6,7,5,7,5,7,5,4,5,2,"10A","Ron Eckstrom",4,4,4,6,3,6,3,4,6,13,"10B","Beth Romano",5,8,5,6,5,6,4,5,5,"Team 13 def. Team 10, 5.5 - 3.5","BACK",0,1,1,0.5,0,1,0,1,1,1,0,0,0.5,1,0,1,0,0,41122,"M","F","M","F"]
["4112214 v 20","Week 4","4:32","Team 14","Team 20",5,"14A","Doug Cormier",4,4,4,5,5,4,5,3,5,10,"14B","Gary Candelet",5,5,4,6,4,5,5,3,4,3,"20A","Paul Fontaine",5,4,4,5,3,4,5,4,5,11,"20B","Ralph Romano III",6,6,6,7,4,5,4,5,5,"Team 14 def. Team 20, 6.0 - 3.0","BACK",1,0.5,1,1,0,0.5,0,1,1,0,0.5,0,0,1,0.5,1,0,0,41122,"M","M","M","M"]
["4112216 v 18","Week 4","4:40","Team 16","Team 18",10,"16A","Deb DeCarolis",6,5,4,6,4,5,4,4,5,9,"16B","Joey DeCarolis",5,7,6,6,4,4,4,4,6,11,"18A","Norm Gamache",9,7,4,6,6,6,3,3,5,14,"18B","Joe Pearson",5,5,4,8,3,4,5,3,6,"Team 18 def. Team 16, 8.0 - 1.0","BACK",0,0.5,0,0,0,0.5,0,0,0,1,0.5,1,1,1,0.5,1,1,1,41122,"F","M","M","M"]
["411222 v 7","Week 4","4:48","Team 02","Team 07",7,"2A","David St. Jean",4,5,5,5,4,4,4,3,4,7,"2B","Dennis St. Jean",5,5,4,5,5,4,5,6,5,9,"7A","Steve Scapparone",8,5,7,5,5,6,5,4,5,10,"7B","Dave Hyre",6,4,7,7,5,4,3,6,4,"Team 02 and Team 07 tie, 4.5 - 4.5","BACK",1,0,1,0,1,0.5,0,1,0,0,1,0,1,0,0.5,1,0,1,41122,"M","M","M","M"]
["411221 v 17","Week 4","4:56","Team 01","Team 17",7,"1A","Lester Lockhart",8,5,5,5,4,8,3,5,5,10,"1B","Pete Normandin",7,6,4,5,4,5,4,6,6,9,"Sub17","Jeff Erskine",5,5,4,4,5,4,3,6,6,4,"17B","Mike Dauphinais",5,4,6,5,3,4,3,5,5,"Team 17 def. Team 01, 6.0 - 3.0","BACK",0,0,0.5,0,0,0.5,0.5,0.5,1,1,1,0.5,1,1,0.5,0.5,0.5,0,41122,"M","M","M","M"]
["411223 v 6","Week 4","5:04","Team 03","Team 06",15,"3A","Pete Romano",6,5,5,7,6,5,5,5,6,9,"3B","Don Frigoletto",9,5,4,5,6,6,6,5,6,7,"Sub5","Jono Normandin",6,5,4,7,4,4,3,4,5,8,"6B","Bob Schleyer",5,5,4,6,5,6,5,4,5,"Team 06 def. Team 03, 5.0 - 4.0","BACK",0.5,1,0.5,1,0,0.5,0,0.5,0,0.5,0,0.5,0,1,0.5,1,0.5,1,41122,"M","M","M","M"]
["4112215 v 19","Week 4","5:12","Team 15","Team 19",17,"Sub19","Jeff Richard",8,5,5,7,5,7,6,7,6,12,"15B","John Elie",7,8,5,6,4,4,4,6,4,6,"Sub2","P.J. Romano",5,5,4,6,4,5,6,4,3,13,"19B","Patty Leavenworth",6,7,5,6,5,5,3,3,6,"Team 19 def. Team 15, 5.0 - 4.0","BACK",0,1,0.5,0.5,0.5,1,0,0,0.5,1,0,0.5,0.5,0.5,0,1,1,0.5,41122,"M","M","M","F"]
["411295 v 6","Week 5","4:00","Team 05","Team 06",11,"5A","Dennis Normandin",5,6,7,8,5,4,6,4,4,5,"5B","Mark Normandin",5,4,6,4,4,4,6,4,7,7,"Sub5","Jono Normandin",8,6,6,5,4,3,5,3,4,9,"6B","Bob Schleyer",6,5,7,8,4,4,8,4,6,"Team 06 def. Team 05, 5.5 - 3.5","FRONT",1,0.5,0,1,0.5,0,0,0,0.5,0,0.5,1,0,0.5,1,1,1,0.5,41129,"M","M","M","M"]
["411294 v 7","Week 5","4:08","Team 04","Team 07",15,"4A","Peg Romano",7,4,9,5,5,4,7,4,5,13,"4B","Lynn Laroche",9,5,9,5,4,5,7,3,5,0,"Course","Course","","","","","","","","","",0,"Course","Course","","","","","","","","","","Team 04 def. Team 07, 6.0 - 0.0","FRONT",0.5,1,0,1,1,0.5,0.5,1,0.5,"","","","","","","","","",41129,"F","F",0,0]
["411291 v 16","Week 5","4:16","Team 01","Team 16",7,"1A","Lester Lockhart",7,6,5,6,4,3,5,2,6,10,"1B","Pete Normandin",5,5,7,7,6,5,7,4,6,9,"16A","Deb DeCarolis",8,5,7,4,6,3,6,4,4,8,"16B","Joey DeCarolis",6,5,9,7,4,3,5,4,4,"Team 01 and Team 16 tie, 4.5 - 4.5","FRONT",1,0.5,1,0,0.5,0.5,0,1,0,0,0.5,0,1,0.5,0.5,1,0,1,41129,"M","M","F","M"]
["4112912 v 20","Week 5","4:24","Team 12","Team 20",12,"12A","Sal Cuifetti",8,8,5,7,4,3,6,6,3,6,"12B","Paul LeBlanc",6,6,8,8,4,3,4,3,4,2,"20A","Paul Fontaine",6,5,6,5,4,3,5,4,5,10,"20B","Ralph Romano III",6,6,7,5,5,3,6,4,6,"Team 12 def. Team 20, 6.5 - 2.5","FRONT",0.5,0.5,1,0,1,1,1,0.5,1,0.5,0.5,0,1,0,0,0,0.5,0,41129,"M","M","M","M"]
["4112914 v 18","Week 5","4:32","Team 14","Team 18",4,"14A","Doug Cormier",5,4,5,5,4,3,4,4,4,9,"14B","Gary Candelet",8,6,7,6,5,4,6,4,5,10,"18A","Norm Gamache",9,5,6,5,6,5,5,5,5,12,"18B","Joe Pearson",8,6,9,4,5,6,7,4,6,"Team 14 def. Team 18, 5.0 - 4.0","FRONT",1,0.5,0.5,0,0.5,1,0.5,0,1,0,0.5,0.5,1,0.5,0,0.5,1,0,41129,"M","M","M","M"]
["4112915 v 17","Week 5","4:40","Team 15","Team 17",17,"Sub19","Jeff Richard",7,6,6,8,6,6,7,6,4,12,"15B","John Elie",10,7,8,6,4,4,8,5,4,7,"17A","Gary Bittner",5,7,6,5,6,4,5,5,5,4,"17B","Mike Dauphinais",6,6,4,3,4,4,4,4,3,"Team 17 def. Team 15, 5.0 - 4.0","FRONT",0,1,0.5,0,1,0.5,0,0.5,0.5,1,0,0.5,1,0,0.5,1,0.5,0.5,41129,"M","M","M","M"]
["411293 v 8","Week 5","4:48","Team 03","Team 08",12,"3A","Pete Romano",7,4,7,6,6,6,6,4,5,9,"3B","Don Frigoletto",6,4,6,5,4,4,6,4,5,6,"8A","Mike Sunderland",6,4,6,5,4,4,4,3,5,9,"8B","Debbie Sunderland",7,4,8,4,5,5,8,4,5,"Team 03 and Team 08 tie, 4.5 - 4.5","FRONT",1,1,1,0,0.5,0.5,0,0,0.5,0,0,0,1,0.5,0.5,1,1,0.5,41129,"M","M","M","F"]
["4112911 v 10","Week 5","4:56","Team 11","Team 10",4,"11A","Ray Henderson",5,5,6,5,4,3,5,3,5,17,"11B","Audrey Henderson",8,6,7,4,8,6,7,2,5,2,"10A","Ron Eckstrom",6,5,7,6,4,3,5,5,4,12,"10B","Beth Romano",6,6,8,5,4,4,8,3,5,"Team 11 def. Team 10, 6.5 - 2.5","FRONT",0.5,1,1,1,0,0.5,1,1,0.5,0.5,0,0,0,1,0.5,0,0,0.5,41129,"M","F","M","F"]
["411292 v 9","Week 5","5:04","Team 02","Team 09",7,"2A","David St. Jean",6,6,10,6,4,4,7,4,4,6,"2B","Dennis St. Jean",6,4,6,6,5,4,5,4,4,0,"Course","Course","","","","","","","","","",0,"Course","Course","","","","","","","","","","Team 02 def. Team 09, 4.5 - 0.0","FRONT",0.5,1,0.5,0,1,0,0.5,0,1,"","","","","","","","","",41129,"M","M",0,0]
["4112913 v 19","Week 5","5:12","Team 13","Team 19",7,"13A","Dave Cormier",6,5,7,6,4,3,6,3,3,16,"13B","Deb Passios",9,6,8,5,5,4,8,5,5,5,"19A","Paul Stedman",4,5,6,4,3,4,5,4,5,12,"19B","Patty Leavenworth",10,8,7,5,5,4,8,5,5,"Team 13 def. Team 19, 5.0 - 4.0","FRONT",0,0.5,0.5,0.5,0,1,0.5,1,1,1,0.5,0.5,0.5,1,0,0.5,0,0,41129,"M","F","M","F"]
["411365 v 8","Week 6","4:00","Team 05","Team 08",7,"Sub5","Jono Normandin",7,5,6,5,3,5,5,4,4,5,"5B","Mark Normandin",5,4,5,6,4,5,3,3,4,5,"8A","Mike Sunderland",5,6,5,5,4,7,4,4,5,9,"8B","Debbie Sunderland",6,6,5,5,5,5,6,5,6,"Team 05 def. Team 08, 6.5 - 2.5","BACK",0.5,1,0,0.5,1,0.5,1,1,1,0.5,0,1,0.5,0,0.5,0,0,0,41136,"M","M","M","F"]
["4113614 v 16","Week 6","4:08","Team 14","Team 16",4,"14A","Doug Cormier",6,4,4,5,4,4,3,3,4,9,"14B","Gary Candelet",6,6,6,6,4,6,4,6,5,8,"16A","Deb DeCarolis",5,4,4,5,5,6,5,4,4,9,"16B","Joey DeCarolis",7,6,6,6,3,5,6,7,6,"Team 16 def. Team 14, 5.5 - 3.5","BACK",0,0,0,0,0,1,1,1,0.5,1,1,1,1,1,0,0,0,0.5,41136,"M","M","F","M"]
["411362 v 20","Week 6","4:16","Team 02","Team 20",7,"2A","David St. Jean",8,5,7,3,4,6,6,6,8,6,"2B","Dennis St. Jean",6,5,4,5,4,6,4,5,6,3,"20A","Paul Fontaine",3,4,4,4,4,4,4,3,5,10,"20B","Ralph Romano III",7,5,6,6,4,5,3,3,6,"Team 20 def. Team 02, 6.5 - 2.5","BACK",0,0,0.5,1,0.5,0,0,0,0.5,1,1,0.5,0,0.5,1,1,1,0.5,41136,"M","M","M","M"]
["411361 v 15","Week 6","4:24","Team 01","Team 15",8,"1A","Lester Lockhart",7,5,5,5,4,4,4,5,5,10,"1B","Pete Normandin",6,5,6,6,4,6,4,4,7,0,"Course","Course","","","","","","","","","",0,"Course","Course","","","","","","","","","","Team 01 def. Team 15, 6.0 - 0.0","BACK",0.5,0.5,0.5,1,0.5,1,0.5,1,0.5,"","","","","","","","","",41136,"M","M",0,0]
["4113613 v 17","Week 6","4:32","Team 13","Team 17",5,"13A","Dave Cormier",6,4,5,6,4,4,6,3,4,15,"13B","Deb Passios",8,6,7,7,4,5,4,6,8,7,"17A","Gary Bittner",7,5,6,6,4,6,4,6,5,4,"17B","Mike Dauphinais",5,5,5,6,3,4,3,4,4,"Team 13 def. Team 17, 5.0 - 4.0","BACK",0,1,0.5,0,0.5,0.5,0.5,1,1,1,0,0.5,1,0.5,0.5,0.5,0,0,41136,"M","F","M","M"]
["4113611 v 19","Week 6","4:40","Team 11","Team 19",4,"11A","Ray Henderson",5,5,4,7,4,4,3,3,4,15,"11B","Audrey Henderson",7,5,8,6,3,6,5,5,6,4,"19A","Paul Stedman",5,6,6,5,3,4,3,4,4,13,"19B","Patty Leavenworth",7,5,5,7,3,3,5,6,4,"Team 11 and Team 19 tie, 4.5 - 4.5","BACK",0.5,1,0.5,0.5,0.5,0,0.5,1,0,0.5,0,0.5,0.5,0.5,1,0.5,0,1,41136,"M","F","M","F"]
["411363 v 10","Week 6","4:48","Team 03","Team 10",13,"3A","Pete Romano",7,5,6,7,4,5,6,5,6,9,"3B","Don Frigoletto",9,5,3,8,4,5,6,5,6,3,"10A","Ron Eckstrom",5,4,4,4,3,4,3,5,5,11,"10B","Beth Romano",5,8,6,6,5,6,5,5,7,"Team 10 def. Team 03, 5.0 - 4.0","BACK",0,0.5,1,0,0.5,0.5,0,0.5,1,1,0.5,0,1,0.5,0.5,1,0.5,0,41136,"M","M","M","F"]
["4113612 v 18","Week 6","4:56","Team 12","Team 18",12,"12A","Sal Cuifetti",8,4,6,6,6,5,3,5,4,7,"12B","Paul LeBlanc",5,7,3,5,3,4,3,4,5,12,"18A","Norm Gamache",8,6,5,5,4,6,5,4,4,13,"18B","Joe Pearson",7,7,8,7,6,6,3,5,6,"Team 12 def. Team 18, 6.5 - 2.5","BACK",1,1,1,0,1,1,0.5,0.5,0.5,0,0,0,1,0,0,0.5,0.5,0.5,41136,"M","M","M","M"]
["411364 v 9","Week 6","5:04","Team 04","Team 09",15,"4A","Peg Romano",6,8,7,6,5,5,6,5,6,6,"Sub2","P.J. Romano",6,5,6,5,3,4,4,5,5,19,"9A","Mike Doane",6,5,8,10,4,7,6,6,7,8,"9B","John Cassin",6,4,5,6,3,4,4,4,5,"Team 09 def. Team 04, 6.5 - 2.5","BACK",0,0,0,0.5,0.5,0.5,0.5,0.5,0,1,1,1,0.5,0.5,0.5,0.5,0.5,1,41136,"F","M","M","M"]
["411366 v 7","Week 6","5:12","Team 06","Team 07",6,"6A","Vance Butterfield",5,4,4,5,4,4,4,4,6,9,"6B","Bob Schleyer",5,5,5,6,4,5,5,5,5,0,"Course","Course","","","","","","","","","",0,"Course","Course","","","","","","","","","","Team 06 def. Team 07, 6.5 - 0.0","BACK",1,1,1,1,0.5,1,0,0.5,0.5,"","","","","","","","","",41136,"M","M",0,0]
["411437 v 8","Week 7","4:00","Team 07","Team 08",0,"Course","Course","","","","","","","","","",0,"Course","Course","","","","","","","","","",6,"8A","Mike Sunderland",5,5,5,6,5,3,5,3,5,10,"8B","Debbie Sunderland",7,5,7,5,4,5,7,3,5,"Team 08 def. Team 07, 6.5 - 0.0","FRONT","","","","","","","","","",1,0.5,1,0.5,1,0.5,0.5,1,0.5,41143,0,0,"M","F"]
["4114311 v 17","Week 7","4:08","Team 11","Team 17",4,"11A","Ray Henderson",4,5,6,4,5,3,5,3,6,15,"11B","Audrey Henderson",9,5,9,7,5,5,7,6,8,8,"17A","Gary Bittner",5,5,5,4,4,5,8,4,5,8,"DNP","Partner Did Not Play","","","","","","","","","","Team 11 def. Team 17, 5.0 - 4.0","FRONT",0.5,0.5,0,0.5,0.5,1,1,1,0,0.5,0.5,1,0.5,0.5,0,0,0,1,41143,"M","F","M",0]
["411435 v 10","Week 7","4:16","Team 05","Team 10",10,"5A","Dennis Normandin",8,5,6,5,5,4,6,3,5,4,"5B","Mark Normandin",6,6,7,6,4,3,7,4,5,3,"10A","Ron Eckstrom",6,6,5,4,4,4,4,5,3,11,"10B","Beth Romano",10,7,9,6,6,5,7,6,8,"Team 05 def. Team 10, 5.0 - 4.0","FRONT",0.5,1,0.5,0.5,0.5,1,0,1,0,0.5,0,0.5,0.5,0.5,0,1,0,1,41143,"M","M","M","F"]
["411434 v 20","Week 7","4:24","Team 04","Team 20",14,"4A","Peg Romano",10,7,9,7,7,4,8,5,6,14,"4B","Lynn Laroche",8,5,8,6,6,5,8,4,6,2,"20A","Paul Fontaine",5,3,5,5,4,2,4,4,5,8,"20B","Ralph Romano III",4,5,6,6,5,4,8,3,3,"Team 20 def. Team 04, 8.0 - 1.0","FRONT",0,0,0,0.5,0,0,0,0.5,0,1,1,1,0.5,1,1,1,0.5,1,41143,"F","F","M","M"]
["411431 v 14","Week 7","4:32","Team 01","Team 14",19,"Sub12","Jim Hedlund",8,5,6,8,7,5,6,4,7,10,"1B","Pete Normandin",8,7,6,7,4,5,7,4,5,3,"14A","Doug Cormier",6,5,5,5,4,4,5,4,4,9,"14B","Gary Candelet",6,5,5,6,5,4,8,4,4,"Team 01 def. Team 14, 5.5 - 3.5","FRONT",0,1,0.5,0,1,0.5,1,1,0.5,1,0,0.5,1,0,0.5,0,0,0.5,41143,"M","M","M","M"]
["411436 v 9","Week 7","4:40","Team 06","Team 09",6,"6A","Vance Butterfield",8,7,7,4,4,3,5,3,5,9,"6B","Bob Schleyer",8,5,6,5,4,4,7,4,7,19,"9A","Mike Doane",8,8,9,8,7,3,8,6,6,7,"9B","John Cassin",6,5,5,5,4,3,7,4,5,"Team 06 def. Team 09, 5.0 - 4.0","FRONT",0,0.5,0.5,1,0.5,0,1,1,0.5,1,0.5,0.5,0,0.5,1,0,0,0.5,41143,"M","M","M","M"]
["4114312 v 16","Week 7","4:48","Team 12","Team 16",12,"12A","Sal Cuifetti",10,5,8,7,7,4,8,5,4,7,"12B","Paul LeBlanc",7,4,5,3,4,5,4,3,8,7,"16A","Deb DeCarolis",7,4,8,4,4,4,5,5,4,10,"16B","Joey DeCarolis",7,5,7,3,4,2,4,3,4,"Team 16 def. Team 12, 5.5 - 3.5","FRONT",0,0.5,1,0.5,0.5,0,0,0.5,0.5,1,0.5,0,0.5,0.5,1,1,0.5,0.5,41143,"M","M","F","M"]
["411433 v 19","Week 7","4:56","Team 03","Team 19",11,"3A","Pete Romano",5,6,9,6,6,4,8,4,6,10,"3B","Don Frigoletto",9,5,8,4,6,4,6,4,4,3,"19A","Paul Stedman",5,4,5,4,3,4,7,5,4,11,"19B","Patty Leavenworth",9,6,7,4,6,4,7,6,5,"Team 03 def. Team 19, 5.5 - 3.5","FRONT",1,0.5,0,0.5,0,0.5,1,1,1,0,0.5,1,0.5,1,0.5,0,0,0,41143,"M","M","M","F"]
["4114313 v 15","Week 7","5:04","Team 13","Team 15",5,"13A","Dave Cormier",8,5,6,6,4,4,8,4,6,15,"13B","Deb Passios",9,6,9,5,7,4,8,4,7,12,"DNP","Partner Did Not Play","","","","","","","","","",12,"15B","John Elie",8,5,9,6,6,4,6,4,7,"Team 13 def. Team 15, 5.5 - 3.5","FRONT",0,0,1,1,1,1,0,1,0.5,1,1,0,0,0,0,1,0,0.5,41143,"M","F",0,"M"]
["411432 v 18","Week 7","5:12","Team 02","Team 18",9,"2A","David St. Jean",8,5,6,6,4,3,5,6,4,6,"2B","Dennis St. Jean",6,4,5,5,5,3,4,5,5,6,"Sub21","Gary Leavenworth",7,4,7,3,4,3,6,3,3,13,"18B","Joe Pearson",5,6,7,7,5,3,6,4,3,"Team 18 def. Team 02, 5.5 - 3.5","FRONT",0,0.5,1,0,0.5,0.5,1,0,0,1,0.5,0,1,0.5,0.5,0,1,1,41143,"M","M","M","M"]
["411506 v 20","Week 8","4:00","Team 06","Team 20",9,"DNP","Partner Did Not Play","","","","","","","","","",9,"6B","Bob Schleyer",9,5,4,6,4,5,3,6,4,16,"Sub4","Mike Romano",5,7,6,4,4,5,4,4,6,8,"20B","Ralph Romano III",7,5,5,7,4,6,4,4,5,"Team 20 def. Team 06, 5.5 - 3.5","BACK",0,0.5,1,0,0,0,1,0,1,1,0.5,0,1,1,1,0,1,0,41150,0,"M","M","M"]
["4115012 v 14","Week 8","4:08","Team 12","Team 14",13,"12A","Sal Cuifetti",5,8,5,5,3,7,3,5,7,7,"12B","Paul LeBlanc",6,6,5,4,3,5,5,4,4,3,"14A","Doug Cormier",5,4,4,5,3,4,5,3,4,3,"DNP","Partner Did Not Play","","","","","","","","","","Team 12 def. Team 14, 5.5 - 3.5","BACK",1,0,0.5,1,1,0,1,0,1,0,1,0.5,0,0,1,0,1,0,41150,"M","M","M",0]
["411502 v 16","Week 8","4:16","Team 02","Team 16",9,"2A","David St. Jean",7,3,4,9,4,5,4,4,6,6,"2B","Dennis St. Jean",4,4,5,9,4,6,3,5,4,7,"16A","Deb DeCarolis",6,8,5,7,4,6,6,4,4,9,"16B","Joey DeCarolis",5,5,3,5,5,4,4,3,4,"Team 16 def. Team 02, 6.0 - 3.0","BACK",0.5,1,0,0,0.5,0,1,0,0,0.5,0,1,1,0.5,1,0,1,1,41150,"M","M","F","M"]
["411501 v 13","Week 8","4:24","Team 01","Team 13",8,"1A","Lester Lockhart",6,4,5,6,4,4,4,5,5,11,"1B","Pete Normandin",6,5,4,6,4,5,3,7,5,7,"13A","Dave Cormier",5,4,5,4,3,4,5,4,5,16,"13B","Deb Passios",6,8,7,7,5,7,6,5,5,"Team 13 def. Team 01, 5.0 - 4.0","BACK",0.5,0.5,1,0,0,0.5,1,0,0.5,0.5,0.5,0,1,1,0.5,0,1,0.5,41150,"M","M","M","F"]
["411507 v 10","Week 8","4:32","Team 07","Team 10",0,"Course","Course","","","","","","","","","",0,"Course","Course","","","","","","","","","",3,"10A","Ron Eckstrom",5,4,4,4,5,5,2,3,4,14,"10B","Beth Romano",7,6,5,7,4,6,5,4,4,"Team 10 def. Team 07, 7.0 - 0.0","BACK","","","","","","","","","",1,0.5,1,1,0.5,0,1,1,1,41150,0,0,"M","F"]
["411504 v 18","Week 8","4:40","Team 04","Team 18",16,"4A","Peg Romano",8,6,4,6,5,6,4,4,4,14,"4B","Lynn Laroche",6,6,8,6,4,5,5,6,5,16,"Sub19","Jeff Richard",7,4,7,8,5,4,6,6,6,12,"18B","Joe Pearson",5,6,5,5,3,5,6,6,4,"Team 04 and Team 18 tie, 4.5 - 4.5","BACK",0.5,0,1,0.5,0,0,1,1,0.5,0.5,1,0,0.5,1,1,0,0,0.5,41150,"F","F","M","M"]
["411503 v 17","Week 8","4:48","Team 03","Team 17",12,"3A","Pete Romano",5,6,6,6,4,6,5,5,4,10,"3B","Don Frigoletto",5,5,6,5,6,5,4,5,7,8,"17A","Gary Bittner",4,5,4,7,3,5,5,3,6,3,"17B","Mike Dauphinais",6,4,7,7,4,5,4,5,5,"Team 03 and Team 17 tie, 4.5 - 4.5","BACK",0,0.5,0,1,0.5,1,0.5,0,1,1,0.5,1,0,0.5,0,0.5,1,0,41150,"M","M","M","M"]
["411505 v 19","Week 8","4:56","Team 05","Team 19",10,"5A","Dennis Normandin",5,4,4,8,5,5,5,4,4,6,"5B","Mark Normandin",6,4,4,3,4,3,4,6,5,5,"Sub21","Gary Leavenworth",5,5,6,6,5,3,3,4,4,12,"19B","Patty Leavenworth",7,5,6,7,6,8,3,4,6,"Team 05 def. Team 19, 6.5 - 2.5","BACK",1,1,1,1,1,0.5,0,0,1,0,0,0,0,0,0.5,1,1,0,41150,"M","M","M","F"]
["4115011 v 15","Week 8","5:04","Team 11","Team 15",4,"11A","Ray Henderson",4,5,4,6,3,4,3,5,4,5,"Sub20","Zack Henderson",10,5,8,6,4,8,5,4,5,12,"DNP","Partner Did Not Play","","","","","","","","","",12,"15B","John Elie",6,5,8,6,4,5,4,5,7,"Team 11 def. Team 15, 5.5 - 3.5","BACK",1,0,1,0,0.5,0.5,1,0.5,1,0,1,0,1,0.5,0.5,0,0.5,0,41150,"M","M",0,"M"]
["411508 v 9","Week 8","5:12","Team 08","Team 09",5,"8A","Mike Sunderland",5,5,5,6,3,4,4,5,4,10,"8B","Debbie Sunderland",6,8,4,6,4,4,3,2,5,19,"9A","Mike Doane",8,6,7,7,5,8,6,6,6,7,"9B","John Cassin",6,5,4,5,4,7,4,5,6,"Team 08 def. Team 09, 6.5 - 2.5","BACK",1,0,1,0,1,1,1,1,0.5,0,1,0,1,0,0,0,0,0.5,41150,"M","F","M","M"]
["411575 v 17","Week 9","4:00","Team 05","Team 17",8,"5A","Dennis Normandin",6,5,10,6,4,5,5,4,4,5,"5B","Mark Normandin",8,4,5,4,5,4,6,3,6,8,"17A","Gary Bittner",6,6,7,4,5,4,6,4,6,4,"17B","Mike Dauphinais",8,3,5,5,5,4,5,4,4,"Team 05 def. Team 17, 5.5 - 3.5","FRONT",0.5,0,0.5,0.5,1,0.5,1,1,0.5,0.5,1,0.5,0.5,0,0.5,0,0,0.5,41157,"M","M","M","M"]
["4115711 v 13","Week 9","4:08","Team 11","Team 13",4,"11A","Ray Henderson",6,5,6,5,5,3,5,3,4,16,"11B","Audrey Henderson",8,6,6,6,4,4,8,4,6,6,"13A","Dave Cormier",6,5,5,4,4,5,5,3,4,14,"Sub4","Mike Romano",7,6,5,6,4,6,5,4,5,"Team 13 def. Team 11, 5.0 - 4.0","FRONT",0.5,0.5,0.5,0,0.5,1,0,0.5,0.5,0.5,0.5,0.5,1,0.5,0,1,0.5,0.5,41157,"M","F","M","M"]
["411571 v 12","Week 9","4:16","Team 01","Team 12",7,"1A","Lester Lockhart",6,5,5,5,6,6,7,3,4,10,"1B","Pete Normandin",7,5,7,5,6,4,8,5,6,12,"12A","Sal Cuifetti",7,6,7,5,5,4,7,4,4,6,"12B","Paul LeBlanc",5,5,8,5,4,4,5,3,4,"Team 12 def. Team 01, 5.5 - 3.5","FRONT",0,1,1,0,0,0.5,0,0.5,0.5,1,0,0,1,1,0.5,1,0.5,0.5,41157,"M","M","M","M"]
["411578 v 20","Week 9","4:24","Team 08","Team 20",5,"8A","Mike Sunderland",5,5,6,7,4,3,4,3,6,8,"8B","Debbie Sunderland",7,6,7,6,6,4,6,3,4,2,"20A","Paul Fontaine",5,4,5,4,4,4,5,4,4,8,"20B","Ralph Romano III",7,5,9,5,6,4,6,4,4,"Team 08 def. Team 20, 5.5 - 3.5","FRONT",1,0,0.5,0,0.5,1,1,1,0.5,0,1,0.5,1,0.5,0,0,0,0.5,41157,"M","F","M","M"]
["411579 v 10","Week 9","4:32","Team 09","Team 10",19,"9A","Mike Doane",10,7,8,7,7,4,5,5,7,7,"9B","John Cassin",6,6,6,6,6,5,8,4,4,3,"10A","Ron Eckstrom",5,4,4,4,4,4,5,3,4,13,"10B","Beth Romano",7,6,6,7,5,4,8,4,4,"Team 10 def. Team 09, 7.0 - 2.0","FRONT",0.5,0,0,0,0,0.5,1,0,0,0.5,1,1,1,1,0.5,0,1,1,41157,"M","M","M","F"]
["411573 v 15","Week 9","4:40","Team 03","Team 15",12,"3A","Pete Romano",7,5,6,7,6,6,8,4,4,10,"3B","Don Frigoletto",7,5,5,6,4,4,6,4,5,7,"15A","Tim Hurley",7,5,9,5,4,6,6,2,6,13,"15B","John Elie",10,8,10,6,5,6,7,4,5,"Team 03 def. Team 15, 6.5 - 2.5","FRONT",1,1,1,0,0.5,1,1,0,1,0,0,0,1,0.5,0,0,1,0,41157,"M","M","M","M"]
["411577 v 19","Week 9","4:48","Team 07","Team 19",0,"Course","Course","","","","","","","","","",0,"Course","Course","","","","","","","","","",5,"19A","Gary Leavenworth",7,5,4,5,4,4,6,4,4,12,"19B","Patty Leavenworth",6,5,8,5,5,4,7,4,5,"Team 19 def. Team 07, 5.5 - 0.0","FRONT","","","","","","","","","",1,0.5,1,0.5,0.5,0.5,0.5,0.5,0.5,41157,0,0,"M","F"]
["411574 v 16","Week 9","4:56","Team 04","Team 16",14,"4A","Peg Romano",6,6,9,5,5,5,8,4,6,14,"4B","Lynn Laroche",8,5,8,5,5,4,8,4,6,8,"16A","Deb DeCarolis",7,8,7,5,5,4,7,2,5,7,"16B","Joey DeCarolis",4,6,6,5,4,4,6,3,5,"Team 16 def. Team 04, 5.5 - 3.5","FRONT",0,1,0,1,0.5,0.5,0,0,0.5,1,0,1,0,0.5,0.5,1,1,0.5,41157,"F","F","F","M"]
["411572 v 14","Week 9","5:04","Team 02","Team 14",9,"2A","David St. Jean",8,6,6,5,5,3,5,5,3,6,"2B","Dennis St. Jean",6,6,7,7,4,3,6,3,4,2,"14A","Doug Cormier",5,5,5,5,4,3,5,5,4,8,"Sub17","Jeff Erskine",6,6,5,5,4,3,6,4,7,"Team 02 def. Team 14, 5.0 - 4.0","FRONT",0.5,0.5,0,0.5,0,0.5,1,1,1,0.5,0.5,1,0.5,1,0.5,0,0,0,41157,"M","M","M","M"]
["411576 v 18","Week 9","5:12","Team 06","Team 18",6,"6A","Vance Butterfield",5,5,7,5,4,3,5,4,3,9,"6B","Bob Schleyer",7,6,6,5,5,4,4,4,7,11,"18A","Norm Gamache",8,4,5,4,4,5,6,4,5,10,"18B","Joe Pearson",7,8,8,6,5,4,6,4,5,"Team 06 def. Team 18, 5.0 - 4.0","FRONT",1,0,0,0,0.5,1,1,0.5,1,0,1,1,1,0.5,0,0,0.5,0,41157,"M","M","M","M"]
["413958 v 16","Week 2","4:00","Team 08","Team 16",5,"8A","Mike Sunderland",5,4,3,8,4,5,4,3,5,9,"8B","Debbie Sunderland",5,7,6,6,5,4,4,6,5,17,"Sub27","Joe Fratticelli",8,7,6,5,5,4,3,3,5,6,"16B","Joey DeCarolis",9,5,4,7,5,5,5,4,6,"Team 16 def. Team 08, 5.5 - 3.5","BACK",1,1,1,0,0.5,0,0,0,0,0,0,0,1,0.5,1,1,1,1,41395,"M","F","M","M"]
["413953 v 11","Week 2","4:08","Team 03","Team 11",12,"3A","Pete Romano",6,6,5,6,4,4,6,6,4,9,"3B","Don Frigoletto",9,7,8,9,6,6,4,5,6,8,"DNP","Partner Did Not Play","","","","","","","","","",8,"11B","Zachary Wallace",7,5,4,7,6,7,4,4,6,"Team 03 def. Team 11, 6.0 - 3.0","BACK",1,0,0.5,1,1,1,0.5,0,1,0,1,0.5,0,0,0,0.5,1,0,41395,"M","M",0,"M"]
["413951 v 2","Week 2","4:16","Team 01","Team 02",6,"Sub5","Jono Normandin",5,4,5,5,5,4,5,4,4,11,"1B","Pete Normandin",6,6,6,7,3,8,4,6,7,6,"2A","Dave Cormier",5,6,5,8,5,6,4,8,5,12,"Sub4","Mike Romano",6,8,6,8,5,7,4,4,7,"Team 01 def. Team 02, 7.0 - 2.0","BACK",0.5,1,0.5,1,1,1,0.5,0.5,1,0.5,0,0.5,0,0,0,0.5,0.5,0,41395,"M","M","M","M"]
["413959 v 17","Week 2","4:24","Team 09","Team 17",20,"9A","Mike Doane",8,5,6,7,6,7,6,4,8,8,"9B","John Cassin",4,3,6,5,3,5,4,4,4,8,"17A","Gary Bittner",7,8,8,6,6,4,2,4,5,4,"17B","Mike Dauphinais",6,7,4,5,6,3,4,4,4,"Team 09 def. Team 17, 6.5 - 2.5","BACK",1,1,0.5,1,1,0,0,1,1,0,0,0.5,0,0,1,1,0,0,41395,"M","M","M","M"]
["413956 v 14","Week 2","4:32","Team 06","Team 14",0,"Course","Course","","","","","","","","","",0,"Course","Course","","","","","","","","","",2,"14A","Doug Cormier",5,5,5,5,3,4,4,5,4,15,"14B","Ralph Romano, Jr.",8,6,8,7,6,6,4,6,6,"Team 14 def. Team 06, 4.5 - 0.0","BACK","","","","","","","","","",0.5,0.5,0,1,0.5,0.5,0.5,0,1,41395,0,0,"M","M"]
["413954 v 12","Week 2","4:40","Team 04","Team 12",14,"4A","Peg Romano",6,5,5,6,4,6,6,6,6,13,"4B","Lynn Laroche",5,6,6,5,5,5,5,4,5,12,"12A","Sal Cuifetti",9,6,5,6,5,6,6,6,6,5,"12B","Paul LeBlanc",10,4,6,4,5,4,3,4,4,"Team 04 def. Team 12, 5.5 - 3.5","BACK",1,0.5,0.5,0.5,1,0.5,0,1,0.5,0,0.5,0.5,0.5,0,0.5,1,0,0.5,41395,"F","F","M","M"]
["4139510 v 18","Week 2","4:48","Team 10","Team 18",3,"10A","Ron Eckstrom",5,5,4,5,3,5,3,4,4,14,"10B","Beth Romano",7,5,5,6,4,7,4,4,6,10,"18A","Norm Gamache",5,4,4,9,4,3,4,4,4,18,"18B","Michelle Bouvier",7,8,6,8,6,5,6,5,6,"Team 18 def. Team 10, 5.0 - 4.0","BACK",0,0.5,0,1,1,0,1,0.5,0,1,0.5,1,0,0,1,0,0.5,1,41395,"M","F","M","F"]
["413957 v 15","Week 2","4:56","Team 07","Team 15",0,"Course","Course","","","","","","","","","",0,"Course","Course","","","","","","","","","",8,"15A","Tim Hurley",7,7,4,7,4,5,6,3,6,14,"15B","John Elie",7,4,7,6,4,8,6,6,5,"Team 15 def. Team 07, 6.5 - 0.0","BACK","","","","","","","","","",0.5,1,1,1,0.5,0.5,0,1,1,41395,0,0,"M","M"]
["4139520 v 19","Week 2","5:04","Team 20","Team 19",2,"20A","Paul Fontaine",6,5,4,6,3,5,4,3,4,9,"20B","Ralph Romano III",7,4,7,8,4,6,3,5,5,5,"19A","Gary Leavenworth",4,5,4,6,4,4,5,4,6,12,"19B","Patty Leavenworth",7,8,6,8,4,5,6,7,4,"Team 19 def. Team 20, 5.0 - 4.0","BACK",0,1,0.5,0,0.5,0,1,1,0,1,0,0.5,1,0.5,1,0,0,1,41395,"M","M","M","F"]
["413955 v 13","Week 2","5:12","Team 05","Team 13",8,"5A","Dennis Normandin",5,6,4,7,3,6,3,4,6,6,"5B","Mark Normandin",5,4,3,4,3,5,3,6,5,14,"13A","Kyle Currier",6,5,5,6,5,5,3,6,5,13,"13B","Walter Drake",6,6,5,6,4,5,4,8,7,"Team 05 def. Team 13, 5.5 - 3.5","BACK",0.5,0.5,1,1,1,0,0.5,1,0,0.5,0.5,0,0,0,1,0.5,0,1,41395,"M","M","M","M"]
["414098 v 12","Week 4","4:00","Team 08","Team 12",5,"8A","Mike Sunderland",8,7,7,5,4,4,3,5,4,9,"8B","Debbie Sunderland",6,5,7,4,3,5,4,7,5,12,"12A","Sal Cuifetti",6,8,7,6,4,5,6,8,4,5,"12B","Paul LeBlanc",7,5,7,6,4,6,4,7,3,"Team 08 def. Team 12, 6.5 - 2.5","BACK",0.5,1,0.5,1,1,0.5,1,1,0,0.5,0,0.5,0,0,0.5,0,0,1,41409,"M","F","M","M"]
["414091 v 4","Week 4","4:08","Team 01","Team 04",7,"1A","Lester Lockhart",6,5,4,6,5,5,3,5,5,12,"1B","Pete Normandin",6,6,8,9,4,5,4,4,8,14,"4A","Peg Romano",7,5,4,7,5,6,4,4,5,12,"4B","Lynn Laroche",6,6,4,6,4,5,6,5,5,"Team 04 def. Team 01, 6.5 - 2.5","BACK",0.5,0,0,0,0.5,0.5,1,0,0,0.5,1,1,1,0.5,0.5,0,1,1,41409,"M","M","F","F"]
["414099 v 13","Week 4","4:16","Team 09","Team 13",19,"9A","Mike Doane",10,8,7,10,3,7,6,5,6,6,"9B","John Cassin",8,4,5,7,4,5,4,3,5,13,"13A","Kyle Currier",6,4,5,5,3,5,5,6,5,13,"13B","Walter Drake",6,8,8,6,4,7,6,3,5,"Team 13 def. Team 09, 6.5 - 2.5","BACK",0,0,0,0,1,0,1,0,0.5,1,1,1,1,0,1,0,1,0.5,41409,"M","M","M","M"]
["4140920 v 15","Week 4","4:24","Team 20","Team 15",2,"20A","Paul Fontaine",8,4,4,4,4,4,4,5,4,9,"20B","Ralph Romano III",6,6,4,6,4,3,4,6,4,0,"Course","Course","","","","","","","","","",0,"Course","Course","","","","","","","","","","Team 20 def. Team 15, 6.0 - 0.0","BACK",0.5,0.5,1,1,0.5,1,0.5,0,1,"","","","","","","","","",41409,"M","M",0,0]
["414096 v 2","Week 4","4:32","Team 06","Team 02",10,"DNP","Partner Did Not Play","","","","","","","","","",10,"6B","Bob Schleyer",8,5,5,6,3,4,4,5,6,7,"2A","Dave Cormier",5,5,5,7,3,5,3,5,5,1,"2B","Adam Williamson",6,4,5,8,2,4,3,3,4,"Team 02 def. Team 06, 5.0 - 4.0","BACK",0,0.5,0.5,1,0.5,1,0.5,0,0,1,0.5,0.5,0,0.5,0,0.5,1,1,41409,0,"M","M","M"]
["4140918 v 17","Week 4","4:40","Team 18","Team 17",8,"18A","Norm Gamache",5,4,4,5,4,6,5,5,7,18,"18B","Michelle Bouvier",8,8,7,10,6,8,4,5,6,9,"17A","Gary Bittner",6,5,6,5,5,6,2,6,4,5,"17B","Mike Dauphinais",6,4,4,5,4,5,5,4,4,"Team 17 def. Team 18, 5.5 - 3.5","BACK",1,0.5,0.5,0.5,0.5,0,0,0.5,0,0,0.5,0.5,0.5,0.5,1,1,0.5,1,41409,"M","F","M","M"]
["4140910 v 14","Week 4","4:48","Team 10","Team 14",11,"Sub4","Mike Romano",8,4,5,10,5,8,5,5,8,13,"10B","Beth Romano",4,6,6,5,6,6,5,4,4,3,"14A","Doug Cormier",5,4,5,5,3,4,4,4,4,17,"14B","Ralph Romano, Jr.",10,5,8,9,5,6,6,7,6,"Team 10 def. Team 14, 6.0 - 3.0","BACK",1,0.5,1,1,0,0,0.5,1,1,0,0.5,0,0,1,1,0.5,0,0,41409,"M","F","M","M"]
["414097 v 11","Week 4","4:56","Team 07","Team 11",0,"Course","Course","","","","","","","","","",0,"Course","Course","","","","","","","","","",3,"11A","Ray Henderson",4,5,5,5,3,5,3,5,5,9,"11B","Zachary Wallace",5,5,5,10,5,8,6,6,5,"Team 11 def. Team 07, 4.5 - 0.0","BACK","","","","","","","","","",1,0.5,0.5,1,0.5,0,0.5,0,0.5,41409,0,0,"M","M"]
["4140919 v 16","Week 4","5:04","Team 19","Team 16",4,"19A","Gary Leavenworth",10,3,5,6,3,6,5,6,5,12,"Sub20","Joe Pearson",6,8,7,6,6,4,3,4,5,9,"16A","Deb DeCarolis",8,5,5,6,4,6,4,4,8,7,"16B","Joey DeCarolis",5,5,4,4,3,5,4,3,4,"Team 16 def. Team 19, 5.0 - 4.0","BACK",0,1,0,0,0.5,1,1,0.5,0,1,0,1,1,0.5,0,0,0.5,1,41409,"M","M","F","M"]
["414095 v 3","Week 4","5:12","Team 05","Team 03",8,"5A","Dennis Normandin",5,6,7,6,2,5,4,4,4,5,"5B","Mark Normandin",5,6,3,5,4,6,4,5,6,12,"3A","Pete Romano",6,5,6,8,4,5,6,3,4,12,"3B","Don Frigoletto",6,4,4,7,5,6,4,5,5,"Team 05 and Team 03 tie, 4.5 - 4.5","BACK",1,0,0.5,1,1,0,0.5,0,0.5,0,1,0.5,0,0,1,0.5,1,0.5,41409,"M","M","M","M"]
["4141620 v 13","Week 5","4:00","Team 20","Team 13",2,"20A","Paul Fontaine",6,5,4,4,4,4,5,4,4,8,"20B","Ralph Romano III",5,6,5,8,4,3,8,4,6,12,"13A","Kyle Currier",6,6,5,6,5,5,4,4,5,13,"13B","Walter Drake",10,5,6,6,5,5,8,6,7,"Team 20 def. Team 13, 5.0 - 4.0","FRONT",1,0,0.5,1,1,1,0,0,0.5,0,1,0.5,0,0,0,1,1,0.5,41416,"M","M","M","M"]
["414166 v 4","Week 5","4:08","Team 06","Team 04",4,"6A","Vance Butterfield",6,5,6,4,4,4,4,2,4,9,"6B","Bob Schleyer",7,6,7,5,5,3,6,4,4,13,"4A","Peg Romano",8,8,8,4,7,4,8,5,5,12,"4B","Lynn Laroche",10,6,8,6,6,6,7,5,4,"Team 06 def. Team 04, 6.0 - 3.0","FRONT",1,0.5,1,0,1,0.5,1,1,0,0,0.5,0,1,0,0.5,0,0,1,41416,"M","M","F","F"]
["414161 v 5","Week 5","4:16","Team 01","Team 05",7,"1A","Lester Lockhart",6,4,10,5,6,5,4,3,4,12,"1B","Pete Normandin",6,7,8,6,4,5,8,4,5,8,"5A","Dennis Normandin",6,7,8,6,6,6,8,3,4,5,"5B","Mark Normandin",4,6,6,5,5,5,4,4,4,"Team 01 def. Team 05, 5.0 - 4.0","FRONT",0,1,0,0.5,1,0.5,1,0.5,0.5,1,0,1,0.5,0,0.5,0,0.5,0.5,41416,"M","M","M","M"]
["4141618 v 15","Week 5","4:24","Team 18","Team 15",8,"18A","Norm Gamache",10,5,6,4,5,5,8,3,4,19,"18B","Michelle Bouvier",10,8,10,8,8,6,8,4,4,9,"15A","Tim Hurley",6,6,7,5,5,4,5,4,4,15,"15B","John Elie",10,5,7,6,5,5,8,3,4,"Team 15 def. Team 18, 6.5 - 2.5","FRONT",0,0,0.5,1,0,0,0,0.5,0.5,1,1,0.5,0,1,1,1,0.5,0.5,41416,"M","F","M","M"]
["414169 v 11","Week 5","4:32","Team 09","Team 11",19,"9A","Mike Doane",10,6,9,6,8,4,5,3,5,7,"9B","John Cassin",9,5,4,5,5,4,5,3,5,3,"11A","Ray Henderson",5,4,8,5,4,4,4,2,4,10,"11B","Zachary Wallace",9,4,6,5,4,4,4,4,4,"Team 11 def. Team 09, 5.0 - 4.0","FRONT",0,0,1,0.5,0,1,0.5,0.5,0.5,1,1,0,0.5,1,0,0.5,0.5,0.5,41416,"M","M","M","M"]
["4141610 v 12","Week 5","4:40","Team 10","Team 12",1,"10A","Ron Eckstrom",5,4,8,4,4,3,4,3,4,12,"10B","Beth Romano",7,5,7,6,5,4,5,5,5,13,"12A","Sal Cuifetti",8,5,8,4,5,4,5,5,6,7,"12B","Paul LeBlanc",5,8,7,4,4,3,4,3,4,"Team 12 def. Team 10, 5.5 - 3.5","FRONT",0,0.5,1,0,0,0.5,0.5,0.5,0.5,1,0.5,0,1,1,0.5,0.5,0.5,0.5,41416,"M","F","M","M"]
["4141619 v 14","Week 5","4:48","Team 19","Team 14",6,"19A","Gary Leavenworth",6,5,6,5,5,3,6,3,5,12,"19B","Patty Leavenworth",9,5,8,5,6,4,5,4,5,3,"14A","Doug Cormier",5,6,6,4,5,3,5,3,4,17,"14B","Ralph Romano, Jr.",9,7,7,7,8,4,6,4,5,"Team 19 def. Team 14, 5.0 - 4.0","FRONT",0.5,1,0.5,0.5,0.5,0.5,0.5,0.5,0.5,0.5,0,0.5,0.5,0.5,0.5,0.5,0.5,0.5,41416,"M","F","M","M"]
["414167 v 3","Week 5","4:56","Team 07","Team 03",0,"Course","Course","","","","","","","","","",0,"Course","Course","","","","","","","","","",11,"3A","Pete Romano",10,5,7,8,5,6,8,4,4,11,"3B","Don Frigoletto",5,4,6,6,3,6,8,4,4,"Team 03 def. Team 07, 5.5 - 0.0","FRONT","","","","","","","","","",1,1,1,0,1,0,0,0.5,1,41416,0,0,"M","M"]
["4141617 v 16","Week 5","5:04","Team 17","Team 16",8,"17A","Gary Bittner",7,5,7,5,4,4,6,3,5,5,"17B","Mike Dauphinais",4,4,5,5,5,3,7,3,4,9,"16A","Deb DeCarolis",7,7,7,6,4,3,6,3,5,4,"16B","Joey DeCarolis",4,5,5,5,4,4,6,3,4,"Team 17 def. Team 16, 5.0 - 4.0","FRONT",0.5,1,0.5,0.5,0.5,0.5,0.5,0.5,0.5,0.5,0,0.5,0.5,0.5,0.5,0.5,0.5,0.5,41416,"M","M","F","M"]
["414168 v 2","Week 5","5:12","Team 08","Team 02",5,"8A","Mike Sunderland",6,4,7,4,4,3,5,3,5,8,"8B","Debbie Sunderland",7,4,7,5,6,5,5,3,4,7,"2A","Dave Cormier",8,5,7,5,5,3,5,3,5,1,"2B","Adam Williamson",6,5,6,4,4,3,4,3,4,"Team 08 def. Team 02, 6.0 - 3.0","FRONT",1,1,0.5,0.5,0.5,0.5,0.5,0.5,1,0,0,0.5,0.5,0.5,0.5,0.5,0.5,0,41416,"M","F","M","M"]
["414239 v 3","Week 6","4:00","Team 09","Team 03",18,"9A","Mike Doane",8,6,7,7,6,7,4,8,8,7,"9B","John Cassin",8,7,4,7,4,5,6,5,4,11,"3A","Pete Romano",5,7,7,6,4,5,6,4,6,11,"3B","Don Frigoletto",6,5,7,5,4,6,5,4,6,"Team 09 and Team 03 tie, 4.5 - 4.5","BACK",0,0.5,1,0,0.5,0.5,1,0,1,1,0.5,0,1,0.5,0.5,0,1,0,41423,"M","M","M","M"]
["4142320 v 11","Week 6","4:08","Team 20","Team 11",3,"20A","Paul Fontaine",4,4,6,7,5,3,2,4,4,9,"20B","Ralph Romano III",9,5,5,6,4,7,5,5,6,3,"11A","Ray Henderson",4,5,5,5,3,5,3,4,4,10,"11B","Zachary Wallace",5,6,5,6,5,4,3,4,5,"Team 20 and Team 11 tie, 4.5 - 4.5","BACK",0.5,1,0.5,0.5,0,0.5,1,0,0.5,0.5,0,0.5,0.5,1,0.5,0,1,0.5,41423,"M","M","M","M"]
["414231 v 6","Week 6","4:16","Team 01","Team 06",7,"1A","Lester Lockhart",7,5,4,7,4,4,4,5,7,12,"1B","Pete Normandin",10,4,4,5,5,7,5,5,6,4,"6A","Vance Butterfield",5,5,5,5,3,5,6,6,4,9,"6B","Bob Schleyer",8,4,5,6,5,6,4,4,5,"Team 01 and Team 06 tie, 4.5 - 4.5","BACK",0,0.5,1,1,0,1,0.5,0.5,0,1,0.5,0,0,1,0,0.5,0.5,1,41423,"M","M","M","M"]
["4142319 v 12","Week 6","4:24","Team 19","Team 12",6,"19A","Gary Leavenworth",6,4,4,6,4,5,3,4,4,13,"19B","Patty Leavenworth",5,4,5,8,6,7,5,6,3,12,"12A","Sal Cuifetti",6,8,5,6,5,6,4,6,5,6,"12B","Paul LeBlanc",6,5,4,7,4,3,3,4,4,"Team 19 def. Team 12, 5.0 - 4.0","BACK",1,1,0.5,0,0.5,0,0.5,0.5,1,0,0,0.5,1,0.5,1,0.5,0.5,0,41423,"M","F","M","M"]
["4142316 v 15","Week 6","4:32","Team 16","Team 15",10,"16A","Deb DeCarolis",6,4,5,6,5,5,5,4,5,4,"16B","Joey DeCarolis",6,5,6,5,4,4,3,4,5,9,"15A","Tim Hurley",6,5,5,4,4,5,4,5,3,15,"15B","John Elie",7,7,5,9,3,6,6,4,7,"Team 15 def. Team 16, 5.0 - 4.0","BACK",0.5,1,0.5,0,0,1,1,0,0,0.5,0,0.5,1,1,0,0,1,1,41423,"F","M","M","M"]
["4142317 v 14","Week 6","4:40","Team 17","Team 14",8,"17A","Gary Bittner",5,5,6,7,4,3,4,4,5,5,"17B","Mike Dauphinais",6,4,5,6,3,6,5,4,5,3,"14A","Doug Cormier",7,4,4,6,6,4,3,4,4,18,"14B","Ralph Romano, Jr.",7,6,7,9,5,5,4,4,7,"Team 17 and Team 14 tie, 4.5 - 4.5","BACK",1,0.5,0,1,1,0.5,0,0,0.5,0,0.5,1,0,0,0.5,1,1,0.5,41423,"M","M","M","M"]
["4142318 v 13","Week 6","4:48","Team 18","Team 13",16,"Sub17","Jeff Richard",7,6,4,6,5,8,3,4,6,20,"18B","Michelle Bouvier",8,8,8,10,6,8,4,5,8,10,"13A","Kyle Currier",7,6,4,6,4,4,5,6,6,14,"13B","Walter Drake",8,7,6,7,5,5,5,5,6,"Team 18 def. Team 13, 6.5 - 2.5","BACK",1,1,1,1,0,0,1,1,0.5,0,0,0,0,1,1,0,0,0.5,41423,"M","F","M","M"]
["4142310 v 2","Week 6","4:56","Team 10","Team 02",2,"10A","Ron Eckstrom",8,6,3,7,4,3,4,4,4,10,"10B","Beth Romano",6,7,4,5,4,5,4,4,4,7,"2A","Dave Cormier",4,5,5,7,4,4,4,2,6,1,"2B","Adam Williamson",4,4,3,6,3,4,4,4,4,"Team 10 and Team 02 tie, 4.5 - 4.5","BACK",0,0,0.5,1,0.5,0.5,1,0,1,1,1,0.5,0,0.5,0.5,0,1,0,41423,"M","F","M","M"]
["414238 v 4","Week 6","5:04","Team 08","Team 04",0,"Course","Course","","","","","","","","","",0,"Course","Course","","","","","","","","","",12,"4A","Peg Romano",5,5,6,4,2,7,4,5,4,12,"4B","Lynn Laroche",6,6,7,7,5,6,5,6,6,"Team 04 def. Team 08, 6.0 - 0.0","BACK","","","","","","","","","",1,1,0,1,1,0,0.5,0.5,1,41423,0,0,"F","F"]
["414237 v 5","Week 6","5:12","Team 07","Team 05",0,"Course","Course","","","","","","","","","",0,"Course","Course","","","","","","","","","",9,"5A","Dennis Normandin",6,5,6,7,3,5,3,4,6,5,"5B","Mark Normandin",5,6,5,6,5,5,3,5,4,"Team 05 def. Team 07, 7.0 - 0.0","BACK","","","","","","","","","",1,0.5,0.5,0.5,1,0.5,1,1,1,41423,0,0,"M","M"]
["4143016 v 13","Week 7","4:00","Team 16","Team 13",10,"16A","Deb DeCarolis",8,8,8,6,5,6,5,6,5,5,"16B","Joey DeCarolis",10,6,6,5,4,3,4,3,6,9,"13A","Kyle Currier",7,4,6,5,4,4,7,3,4,13,"13B","Walter Drake",6,4,7,7,6,5,6,6,7,"Team 13 def. Team 16, 5.5 - 3.5","FRONT",0,0,0,0.5,0.5,1,1,0.5,0,1,1,1,0.5,0.5,0,0,0.5,1,41430,"F","M","M","M"]
["4143020 v 3","Week 7","4:08","Team 20","Team 03",3,"20A","Paul Fontaine",5,4,6,6,3,4,4,3,4,10,"20B","Ralph Romano III",6,5,5,5,5,3,5,4,7,12,"3A","Pete Romano",8,6,8,7,7,4,7,5,7,18,"Sub6","Scott Leavenworth",8,8,10,8,8,6,7,6,5,"Team 20 def. Team 03, 8.0 - 1.0","FRONT",1,1,1,1,1,0.5,1,1,0.5,0,0,0,0,0,0.5,0,0,0.5,41430,"M","M","M","M"]
["414308 v 6","Week 7","4:16","Team 08","Team 06",5,"8A","Mike Sunderland",4,6,4,7,5,4,5,5,3,8,"8B","Debbie Sunderland",5,6,9,5,5,3,6,3,5,5,"6A","Vance Butterfield",7,5,6,5,4,5,8,3,5,9,"6B","Bob Schleyer",7,5,6,7,5,3,7,4,3,"Team 08 def. Team 06, 5.0 - 4.0","FRONT",1,0,1,0.5,0,0.5,1,0.5,0.5,0,1,0,0.5,1,0.5,0,0.5,0.5,41430,"M","F","M","M"]
["414309 v 5","Week 7","4:24","Team 09","Team 05",19,"9A","Mike Doane",10,5,10,6,6,4,8,4,7,8,"9B","John Cassin",8,6,8,8,4,4,7,4,6,9,"5A","Dennis Normandin",7,6,7,6,4,4,8,4,3,5,"5B","Mark Normandin",8,6,5,6,4,4,7,3,3,"Team 09 def. Team 05, 5.0 - 4.0","FRONT",0,1,0,1,0.5,1,1,0.5,0,1,0,1,0,0.5,0,0,0.5,1,41430,"M","M","M","M"]
["4143017 v 12","Week 7","4:32","Team 17","Team 12",8,"17A","Gary Bittner",5,8,7,7,4,4,4,5,6,5,"17B","Mike Dauphinais",8,4,5,4,4,2,6,5,6,13,"12A","Sal Cuifetti",10,5,9,5,6,5,6,5,6,6,"12B","Paul LeBlanc",6,6,6,5,5,4,5,5,3,"Team 17 def. Team 12, 6.0 - 3.0","FRONT",1,0.5,1,0.5,1,1,1,0,0,0,0.5,0,0.5,0,0,0,1,1,41430,"M","M","M","M"]
["4143018 v 11","Week 7","4:40","Team 18","Team 11",0,"Course","Course","","","","","","","","","",0,"Course","Course","","","","","","","","","",3,"11A","Ray Henderson",5,5,6,5,5,3,5,3,4,9,"11B","Zachary Wallace",4,7,5,5,5,4,5,6,5,"Team 11 def. Team 18, 5.0 - 0.0","FRONT","","","","","","","","","",1,0,1,0.5,0.5,0.5,0.5,0.5,0.5,41430,0,0,"M","M"]
["414301 v 7","Week 7","4:48","Team 01","Team 07",8,"1A","Lester Lockhart",6,3,7,5,5,4,6,6,6,13,"1B","Pete Normandin",8,5,10,8,6,4,4,6,6,0,"Course","Course","","","","","","","","","",0,"Course","Course","","","","","","","","","","Team 01 def. Team 07, 4.0 - 0.0","FRONT",0.5,1,0,0.5,0.5,0.5,1,0,0,"","","","","","","","","",41430,"M","M",0,0]
["4143019 v 2","Week 7","4:56","Team 19","Team 02",6,"19A","Gary Leavenworth",5,5,7,5,5,4,5,4,3,12,"19B","Patty Leavenworth",9,5,10,8,4,5,8,6,5,7,"2A","Dave Cormier",6,5,5,6,6,4,6,4,3,1,"2B","Adam Williamson",7,5,6,7,4,3,6,4,3,"Team 19 def. Team 02, 5.5 - 3.5","FRONT",1,0.5,0,1,1,0,1,0.5,0.5,0,0.5,1,0,0,1,0,0.5,0.5,41430,"M","F","M","M"]
["4143015 v 14","Week 7","5:04","Team 15","Team 14",8,"15A","Tim Hurley",7,6,7,5,5,3,8,4,5,15,"15B","John Elie",6,6,8,8,5,5,8,3,4,4,"14A","Doug Cormier",6,5,6,4,4,4,5,4,4,17,"14B","Ralph Romano, Jr.",5,7,9,8,8,6,7,3,5,"Team 14 def. Team 15, 5.0 - 4.0","FRONT",0,0.5,0.5,0,0.5,1,0,0.5,1,1,0.5,0.5,1,0.5,0,1,0.5,0,41430,"M","M","M","M"]
["4143010 v 4","Week 7","5:12","Team 10","Team 04",12,"Sub4","Mike Romano",6,7,10,8,4,4,6,4,3,9,"10B","Beth Romano",6,6,7,7,7,4,6,6,4,11,"4A","Peg Romano",6,7,7,4,7,6,7,4,5,12,"4B","Lynn Laroche",7,6,8,8,6,5,7,4,5,"Team 10 def. Team 04, 6.0 - 3.0","FRONT",1,0.5,0,0,1,1,1,0.5,1,0,0.5,1,1,0,0,0,0.5,0,41430,"M","F","F","F"]
["414371 v 8","Week 8","4:00","Team 01","Team 08",8,"1A","Lester Lockhart",5,5,4,5,4,6,5,5,5,14,"1B","Pete Normandin",6,6,6,6,4,4,4,5,7,6,"8A","Mike Sunderland",6,4,4,6,3,6,3,4,5,9,"8B","Debbie Sunderland",7,7,6,4,4,6,3,5,4,"Team 08 def. Team 01, 5.0 - 4.0","BACK",1,0,0.5,0,0.5,1,0,0.5,0.5,0,1,0.5,1,0.5,0,1,0.5,0.5,41437,"M","M","M","F"]
["4143715 v 12","Week 8","4:08","Team 15","Team 12",15,"DNP","Partner Did Not Play","","","","","","","","","",15,"15B","John Elie",6,4,6,7,4,8,3,7,6,14,"12A","Sal Cuifetti",6,5,6,9,5,5,5,7,6,6,"12B","Paul LeBlanc",10,5,4,6,4,5,3,5,4,"Team 12 def. Team 15, 5.0 - 4.0","BACK",0.5,1,0,0.5,1,0,1,0,0,0.5,0,1,0.5,0,1,0,1,1,41437,0,"M","M","M"]
["4143716 v 11","Week 8","4:16","Team 16","Team 11",11,"16A","Deb DeCarolis",6,7,8,5,4,6,3,5,5,6,"16B","Joey DeCarolis",6,6,5,6,4,8,4,5,6,3,"11A","Ray Henderson",7,5,4,4,4,6,3,4,5,9,"11B","Zachary Wallace",6,4,5,4,4,5,3,5,6,"Team 11 def. Team 16, 5.5 - 3.5","BACK",0.5,0,0,0,1,0,0.5,0.5,1,0.5,1,1,1,0,1,0.5,0.5,0,41437,"F","M","M","M"]
["4143718 v 3","Week 8","4:24","Team 18","Team 03",21,"DNP","Partner Did Not Play","","","","","","","","","",21,"18B","Michelle Bouvier",8,8,7,9,6,7,6,6,6,13,"3A","Pete Romano",9,5,6,8,6,6,5,6,6,11,"3B","Don Frigoletto",6,6,4,5,4,6,4,6,5,"Team 03 def. Team 18, 7.0 - 2.0","BACK",0,0,0,0,0,0.5,0,1,0.5,1,1,1,1,1,0.5,1,0,0.5,41437,0,"F","M","M"]
["4143710 v 6","Week 8","4:32","Team 10","Team 06",2,"10A","Ron Eckstrom",5,4,4,7,4,4,4,4,4,9,"10B","Beth Romano",6,7,5,6,6,6,4,5,6,6,"6A","Vance Butterfield",6,6,6,5,3,4,4,4,3,9,"6B","Bob Schleyer",5,5,5,6,5,4,3,5,5,"Team 06 def. Team 10, 7.5 - 1.5","BACK",0,0.5,0.5,0,0,0,0,0.5,0,1,0.5,0.5,1,1,1,1,0.5,1,41437,"M","F","M","M"]
["4143720 v 5","Week 8","4:40","Team 20","Team 05",3,"20A","Paul Fontaine",7,3,4,4,4,4,3,4,4,4,"Sub8","PJ Fontaine",4,3,6,5,4,4,2,6,4,9,"5A","Dennis Normandin",7,4,6,5,3,5,3,4,6,6,"5B","Mark Normandin",6,6,5,5,5,4,4,4,6,"Team 20 def. Team 05, 6.0 - 3.0","BACK",1,0.5,1,0.5,0,0.5,1,0.5,1,0,0.5,0,0.5,1,0.5,0,0.5,0,41437,"M","M","M","M"]
["4143717 v 2","Week 8","4:48","Team 17","Team 02",9,"17A","Gary Bittner",7,4,5,6,4,5,3,4,5,5,"17B","Mike Dauphinais",7,5,4,8,3,4,4,4,5,8,"2A","Dave Cormier",6,4,5,4,5,7,4,3,3,3,"2B","Adam Williamson",4,5,4,4,3,5,3,5,4,"Team 02 def. Team 17, 6.0 - 3.0","BACK",0,0.5,0.5,0,0.5,1,0.5,0,0,1,0.5,0.5,1,0.5,0,0.5,1,1,41437,"M","M","M","M"]
["4143714 v 13","Week 8","4:56","Team 14","Team 13",4,"14A","Doug Cormier",5,4,5,5,4,4,3,4,5,6,"Sub26","Pete Collette",7,6,4,6,5,6,5,5,7,8,"13A","Kyle Currier",6,4,6,5,6,5,5,5,7,14,"13B","Walter Drake",6,7,6,6,5,4,4,8,7,"Team 14 and Team 13 tie, 4.5 - 4.5","BACK",0.5,0.5,1,0,0.5,0,0.5,1,0.5,0.5,0.5,0,1,0.5,1,0.5,0,0.5,41437,"M","M","M","M"]
["4143719 v 4","Week 8","5:04","Team 19","Team 04",6,"19A","Gary Leavenworth",7,4,6,6,5,4,5,3,4,13,"19B","Patty Leavenworth",5,6,6,9,6,6,5,7,6,11,"4A","Peg Romano",5,6,5,7,4,7,5,7,5,13,"4B","Lynn Laroche",8,7,6,7,5,7,5,5,6,"Team 19 def. Team 04, 5.0 - 4.0","BACK",0.5,1,0,0.5,0,1,0.5,1,0.5,0.5,0,1,0.5,1,0,0.5,0,0.5,41437,"M","F","F","F"]
["414379 v 7","Week 8","5:12","Team 09","Team 07",19,"9A","Mike Doane",8,8,5,6,6,5,6,8,4,8,"9B","John Cassin",7,5,6,5,5,5,5,4,4,0,"Course","Course","","","","","","","","","",0,"Course","Course","","","","","","","","","","Team 09 def. Team 07, 5.5 - 0.0","BACK",0,0.5,1,1,0,1,0,1,1,"","","","","","","","","",41437,"M","M",0,0]
["4144418 v 5","Week 9","4:00","Team 18","Team 05",0,"Course","Course","","","","","","","","","",0,"Course","Course","","","","","","","","","",9,"5A","Dennis Normandin",6,7,6,6,5,4,6,3,4,7,"5B","Mark Normandin",8,7,7,4,4,5,6,3,3,"Team 05 def. Team 18, 5.5 - 0.0","FRONT","","","","","","","","","",0.5,0,0.5,1,1,0.5,0,1,1,41444,0,0,"M","M"]
["4144415 v 2","Week 9","4:08","Team 15","Team 02",9,"15A","Tim Hurley",6,6,6,8,4,4,6,5,8,13,"15B","John Elie",10,8,10,8,5,4,7,6,8,6,"2A","Dave Cormier",7,6,7,7,4,4,7,3,5,3,"2B","Adam Williamson",5,4,5,4,5,4,4,4,5,"Team 02 def. Team 15, 6.0 - 3.0","FRONT",0.5,0,0.5,0,1,1,0,0,0,0.5,1,0.5,1,0,0,1,1,1,41444,"M","M","M","M"]
["4144420 v 7","Week 9","4:16","Team 20","Team 07",3,"20A","Paul Fontaine",5,4,4,4,4,2,5,3,4,9,"20B","Ralph Romano III",7,6,5,3,6,3,6,3,4,0,"Course","Course","","","","","","","","","",0,"Course","Course","","","","","","","","","","Team 20 def. Team 07, 7.5 - 0.0","FRONT",1,0.5,1,1,0.5,1,0.5,1,1,"","","","","","","","","",41444,"M","M",0,0]
["4144416 v 3","Week 9","4:24","Team 16","Team 03",11,"16A","Deb DeCarolis",10,5,8,6,5,4,6,3,4,6,"16B","Joey DeCarolis",7,6,5,7,4,3,5,3,4,14,"3A","Pete Romano",8,6,9,6,8,4,8,4,6,11,"3B","Don Frigoletto",8,5,8,7,6,3,6,6,5,"Team 16 def. Team 03, 6.0 - 3.0","FRONT",0.5,0.5,1,0.5,1,0.5,0.5,0.5,1,0.5,0.5,0,0.5,0,0.5,0.5,0.5,0,41444,"F","M","M","M"]
["4144413 v 12","Week 9","4:32","Team 13","Team 12",8,"13A","Kyle Currier",8,4,5,5,4,4,6,4,3,15,"13B","Walter Drake",7,5,6,7,6,6,8,5,8,14,"12A","Sal Cuifetti",7,5,9,6,5,3,6,3,7,7,"12B","Paul LeBlanc",7,5,7,7,6,4,7,5,3,"Team 12 def. Team 13, 5.0 - 4.0","FRONT",0.5,0.5,1,0.5,0.5,0,0.5,0,0.5,0.5,0.5,0,0.5,0.5,1,0.5,1,0.5,41444,"M","M","M","M"]
["4144414 v 11","Week 9","4:40","Team 14","Team 11",4,"14A","Doug Cormier",7,6,6,6,4,3,5,5,5,17,"14B","Ralph Romano, Jr.",8,7,9,8,6,4,8,4,4,3,"11A","Ray Henderson",7,4,6,7,4,4,5,5,4,15,"Sub21","Audrey Henderson",9,8,10,6,6,3,8,3,5,"Team 11 def. Team 14, 5.0 - 4.0","FRONT",1,0,0.5,0,0.5,0,1,0,1,0,1,0.5,1,0.5,1,0,1,0,41444,"M","M","M","F"]
["4144417 v 4","Week 9","4:48","Team 17","Team 04",8,"17A","Gary Bittner",6,6,7,6,4,3,7,3,5,17,"Sub12","Jim Hedlund",5,6,8,8,5,6,6,5,6,11,"4A","Peg Romano",7,7,7,7,7,4,5,3,5,15,"4B","Lynn Laroche",8,8,7,5,6,4,6,4,6,"Team 17 def. Team 04, 5.0 - 4.0","FRONT",1,1,0,0,1,1,0,0.5,0.5,0,0,1,1,0,0,1,0.5,0.5,41444,"M","M","F","F"]
["4144419 v 6","Week 9","4:56","Team 19","Team 06",6,"19A","Gary Leavenworth",6,7,7,4,5,3,6,2,5,15,"19B","Patty Leavenworth",10,6,10,6,6,4,5,3,5,5,"6A","Vance Butterfield",6,6,7,6,4,3,6,4,4,8,"6B","Bob Schleyer",7,5,7,5,4,5,4,4,4,"Team 19 and Team 06 tie, 4.5 - 4.5","FRONT",0.5,0.5,0,1,0,0.5,0.5,1,0.5,0.5,0.5,1,0,1,0.5,0.5,0,0.5,41444,"M","F","M","M"]
["414441 v 9","Week 9","5:04","Team 01","Team 09",8,"1A","Lester Lockhart",6,5,7,5,5,3,5,4,8,13,"1B","Pete Normandin",7,5,9,6,4,4,7,4,4,18,"9A","Mike Doane",8,5,10,8,7,6,8,3,7,10,"9B","John Cassin",7,6,5,5,6,5,8,3,3,"Team 01 def. Team 09, 5.0 - 4.0","FRONT",1,0.5,0,0.5,1,1,1,0,0,0,0.5,1,0.5,0,0,0,1,1,41444,"M","M","M","M"]
["4144410 v 8","Week 9","5:12","Team 10","Team 08",3,"10A","Ron Eckstrom",5,4,6,4,4,4,5,4,4,10,"10B","Beth Romano",9,7,8,5,8,4,7,5,6,5,"8A","Mike Sunderland",8,6,8,5,4,4,5,4,5,8,"8B","Debbie Sunderland",7,5,6,4,5,3,5,2,5,"Team 08 def. Team 10, 6.0 - 3.0","FRONT",1,0.5,0,0,0.5,0,0,0,1,0,0.5,1,1,0.5,1,1,1,0,41444,"M","F","M","F"]
["4145116 v 5","Week 10","4:00","Team 16","Team 05",11,"16A","Deb DeCarolis",5,7,6,7,5,6,6,6,4,7,"16B","Joey DeCarolis",5,6,4,6,4,7,5,4,6,9,"5A","Dennis Normandin",7,6,8,10,4,6,4,6,5,7,"5B","Mark Normandin",4,5,4,5,4,6,5,4,4,"Team 05 def. Team 16, 6.0 - 3.0","BACK",0.5,0,0.5,0,0.5,0.5,0,0.5,0.5,0.5,1,0.5,1,0.5,0.5,1,0.5,0.5,41451,"F","M","M","M"]
["4145115 v 4","Week 10","4:08","Team 15","Team 04",9,"15A","Tim Hurley",6,5,4,6,3,6,6,5,7,16,"15B","John Elie",7,6,5,7,3,4,3,5,5,12,"4A","Peg Romano",6,4,4,6,5,5,3,5,6,16,"4B","Lynn Laroche",5,8,5,5,5,8,6,4,6,"Team 04 def. Team 15, 5.0 - 4.0","BACK",0,0,0.5,0,1,1,0.5,0,1,1,1,0.5,1,0,0,0.5,1,0,41451,"M","M","F","F"]
["4145112 v 11","Week 10","4:16","Team 12","Team 11",13,"12A","Sal Cuifetti",6,5,6,4,6,8,6,4,7,7,"12B","Paul LeBlanc",7,7,5,5,4,4,3,4,3,4,"11A","Ray Henderson",6,3,5,5,3,4,4,4,4,8,"11B","Zachary Wallace",8,3,4,6,3,5,5,4,5,"Team 12 def. Team 11, 5.5 - 3.5","BACK",1,0,0,1,0,0.5,1,1,1,0,1,1,0,1,0.5,0,0,0,41451,"M","M","M","M"]
["4145120 v 9","Week 10","4:24","Team 20","Team 09",2,"20A","Paul Fontaine",5,4,5,7,4,4,3,3,4,8,"20B","Ralph Romano III",5,4,6,5,5,5,4,4,7,18,"9A","Mike Doane",8,8,8,8,6,8,6,8,8,10,"9B","John Cassin",6,6,6,5,4,6,4,4,5,"Team 20 def. Team 09, 6.0 - 3.0","BACK",1,1,0.5,0.5,0,1,1,0.5,0.5,0,0,0.5,0.5,1,0,0,0.5,0.5,41451,"M","M","M","M"]
["4145113 v 2","Week 10","4:32","Team 13","Team 02",8,"13A","Kyle Currier",5,5,6,4,6,4,4,4,5,8,"DNP","Partner Did Not Play","","","","","","","","","",7,"2A","Dave Cormier",6,4,5,6,4,5,2,4,5,3,"2B","Adam Williamson",5,4,3,7,4,5,3,5,4,"Team 13 and Team 02 tie, 4.5 - 4.5","BACK",1,0.5,0,1,0,1,0,0.5,0.5,0,0.5,1,0,1,0,1,0.5,0.5,41451,"M",0,"M","M"]
["414511 v 10","Week 10","4:40","Team 01","Team 10",9,"1A","Lester Lockhart",6,3,5,5,5,6,5,4,7,13,"1B","Pete Normandin",5,6,5,7,5,5,4,4,5,3,"10A","Ron Eckstrom",5,4,4,4,3,6,3,3,4,12,"10B","Beth Romano",6,6,5,7,5,6,5,4,6,"Team 01 def. Team 10, 6.0 - 3.0","BACK",1,1,0.5,0.5,0,1,0.5,0.5,1,0,0,0.5,0.5,1,0,0.5,0.5,0,41451,"M","M","M","F"]
["4145118 v 7","Week 10","4:48","Team 18","Team 07",8,"18A","Norm Gamache",7,6,4,5,4,6,3,4,5,21,"18B","Michelle Bouvier",8,8,8,9,6,8,5,6,4,0,"Course","Course","","","","","","","","","",0,"Course","Course","","","","","","","","","","Team 18 def. Team 07, 5.0 - 0.0","BACK",0,0,1,1,0.5,0,0.5,1,1,"","","","","","","","","",41451,"M","F",0,0]
["4145117 v 6","Week 10","4:56","Team 17","Team 06",8,"17A","Gary Bittner",8,5,4,5,3,7,3,6,4,5,"17B","Mike Dauphinais",6,5,4,7,4,5,3,5,5,8,"DNP","Partner Did Not Play","","","","","","","","","",8,"6B","Bob Schleyer",4,5,4,5,5,3,4,6,5,"Team 17 def. Team 06, 5.5 - 3.5","BACK",0,0.5,0.5,0.5,1,0,1,1,1,1,0.5,0.5,0.5,0,1,0,0,0,41451,"M","M",0,"M"]
["4145119 v 8","Week 10","5:04","Team 19","Team 08",6,"19A","Gary Leavenworth",4,5,5,6,4,6,4,5,5,15,"19B","Patty Leavenworth",4,6,5,6,5,7,3,4,5,7,"8A","Mike Sunderland",5,5,5,4,4,4,4,4,5,8,"8B","Debbie Sunderland",5,6,4,5,5,5,3,4,4,"Team 19 def. Team 08, 5.0 - 4.0","BACK",1,0.5,0.5,0,0.5,0,1,1,0.5,0,0.5,0.5,1,0.5,1,0,0,0.5,41451,"M","F","M","F"]
["4145114 v 3","Week 10","5:12","Team 14","Team 03",5,"14A","Doug Cormier",4,5,5,5,5,4,4,4,6,17,"14B","Ralph Romano, Jr.",6,5,5,7,5,6,4,5,6,16,"3A","Pete Romano",8,6,6,6,5,6,4,5,6,10,"3B","Don Frigoletto",4,6,4,9,3,6,4,7,4,"Team 03 def. Team 14, 6.0 - 3.0","BACK",0,1,0,0,0,1,0.5,0.5,0,1,0,1,1,1,0,0.5,0.5,1,41451,"M","M","M","M"]
["4145811 v 2","Week 1","4:00","Team 11","Team 02",2,"Sub27","Shane McCarthy",9,5,7,7,4,5,4,5,5,6,"11B","Zachary Wallace",6,4,9,7,6,4,7,5,4,6,"2A","Dave Cormier",8,6,6,5,5,5,4,4,5,12,"Sub4","Mike Romano",8,7,10,8,5,4,7,4,4,"Team 02 def. Team 11, 6.5 - 2.5","FRONT",1,1,0,0,0.5,0,0,0,0,0,0,1,1,0.5,1,1,1,1,41458,"M","M","M","M"]
["4145816 v 7","Week 1","4:08","Team 16","Team 07",12,"16A","Deb DeCarolis",8,5,6,3,6,4,7,4,4,8,"16B","Joey DeCarolis",7,5,5,5,5,2,5,4,7,0,"Course","Course","","","","","","","","","",0,"Course","Course","","","","","","","","","","Team 16 def. Team 07, 6.0 - 0.0","FRONT",0,0.5,1,1,0.5,1,0.5,0.5,1,"","","","","","","","","",41458,"F","M",0,0]
["4145817 v 8","Week 1","4:16","Team 17","Team 08",8,"17A","Gary Bittner",7,5,6,5,5,3,7,4,7,6,"17B","Mike Dauphinais",5,3,8,5,6,4,8,4,5,5,"8A","Mike Sunderland",5,4,6,5,5,3,6,4,4,7,"8B","Debbie Sunderland",8,5,7,4,4,4,8,3,5,"Team 08 def. Team 17, 5.5 - 3.5","FRONT",0.5,1,1,0,0,0.5,0.5,0,0,0.5,0,0,1,1,0.5,0.5,1,1,41458,"M","M","M","F"]
["4145812 v 3","Week 1","4:24","Team 12","Team 03",14,"12A","Sal Cuifetti",7,6,9,7,6,4,8,6,6,7,"12B","Paul LeBlanc",9,4,7,6,4,4,8,6,7,16,"3A","Pete Romano",10,7,9,7,7,6,7,4,6,10,"3B","Don Frigoletto",5,6,6,4,6,5,6,4,5,"Team 03 def. Team 12, 5.5 - 3.5","FRONT",0,1,0,0,1,1,0,0,0.5,1,0,1,1,0,0,1,1,0.5,41458,"M","M","M","M"]
["4145814 v 5","Week 1","4:32","Team 14","Team 05",5,"14A","Doug Cormier",6,5,6,4,6,4,5,3,6,15,"14B","Ralph Romano, Jr.",10,5,10,6,7,5,8,5,7,10,"5A","Dennis Normandin",7,5,7,7,5,5,7,5,5,7,"5B","Mark Normandin",5,4,7,7,5,3,6,4,6,"Team 05 def. Team 14, 5.5 - 3.5","FRONT",0,0.5,0.5,1,0,0,0.5,1,0,1,0.5,0.5,0,1,1,0.5,0,1,41458,"M","M","M","M"]
["4145813 v 4","Week 1","4:40","Team 13","Team 04",0,"Course","Course","","","","","","","","","",0,"Course","Course","","","","","","","","","",10,"4A","Peg Romano",8,6,9,7,5,4,8,4,4,6,"Sub2","P.J. Romano",10,5,5,5,7,2,6,4,6,"Team 04 def. Team 13, 5.0 - 0.0","FRONT","","","","","","","","","",0,0.5,1,0.5,0.5,1,0,0.5,1,41458,0,0,"F","M"]
["414581 v 20","Week 1","4:48","Team 01","Team 20",8,"1A","Lester Lockhart",7,5,6,7,6,5,6,5,4,12,"1B","Pete Normandin",10,6,10,8,5,4,8,4,6,1,"20A","Paul Fontaine",7,5,5,5,4,3,6,4,4,9,"20B","Ralph Romano III",6,6,5,5,6,4,6,3,5,"Team 20 def. Team 01, 5.5 - 3.5","FRONT",0,1,0,0,0.5,0.5,0.5,0,1,1,0,1,1,0.5,0.5,0.5,1,0,41458,"M","M","M","M"]
["4145818 v 9","Week 1","4:56","Team 18","Team 09",7,"18A","Norm Gamache",6,4,7,7,5,3,5,3,7,7,"DNP","Partner Did Not Play","","","","","","","","","",20,"9A","Mike Doane",10,8,10,8,7,6,8,6,8,10,"9B","John Cassin",9,5,6,6,6,3,5,4,5,"Team 18 and Team 09 tie, 4.5 - 4.5","FRONT",1,1,0,0,1,0.5,0,1,0,0,0,1,1,0,0.5,1,0,1,41458,"M",0,"M","M"]
["4145819 v 10","Week 1","5:04","Team 19","Team 10",6,"19A","Gary Leavenworth",6,4,7,5,6,4,7,3,4,14,"19B","Patty Leavenworth",8,7,8,6,6,5,9,3,6,3,"10A","Ron Eckstrom",6,6,6,6,3,3,7,4,3,12,"10B","Beth Romano",7,6,9,5,6,4,9,5,5,"Team 19 and Team 10 tie, 4.5 - 4.5","FRONT",1,1,0.5,0,0,0,1,1,0,0,0,0.5,1,1,1,0,0,1,41458,"M","F","M","F"]
["4145815 v 6","Week 1","5:12","Team 15","Team 06",9,"15A","Tim Hurley",6,7,6,5,6,3,7,4,5,14,"15B","John Elie",7,6,10,5,4,4,8,4,6,6,"6A","Vance Butterfield",9,5,7,7,4,3,4,3,4,6,"DNP","Partner Did Not Play","","","","","","","","","","Team 15 def. Team 06, 5.5 - 3.5","FRONT",1,0.5,1,1,1,0.5,0,0.5,0,0,0.5,0,0,0,0.5,1,0.5,1,41458,"M","M","M",0]
["414721 v 18","Week 3","4:00","Team 01","Team 18",9,"1A","Lester Lockhart",6,7,8,5,4,3,5,6,4,13,"1B","Pete Normandin",6,5,8,6,5,3,7,5,8,8,"18A","Norm Gamache",9,7,7,5,5,4,7,5,4,22,"18B","Michelle Bouvier",10,8,10,7,5,5,8,6,8,"Team 01 def. Team 18, 6.5 - 2.5","FRONT",1,1,0.5,0.5,0.5,1,1,0.5,0.5,0,0,0.5,0.5,0.5,0,0,0.5,0.5,41472,"M","M","M","F"]
["4147214 v 9","Week 3","4:08","Team 14","Team 09",6,"14A","Doug Cormier",7,5,5,6,5,4,5,4,5,6,"DNP","Partner Did Not Play","","","","","","","","","",22,"9A","Mike Doane",10,6,10,6,6,4,8,4,7,10,"9B","John Cassin",6,6,6,6,6,5,8,4,5,"Team 09 def. Team 14, 7.0 - 2.0","FRONT",0,0,0.5,0,0,0,1,0,0.5,1,1,0.5,1,1,1,0,1,0.5,41472,"M",0,"M","M"]
["4147216 v 20","Week 3","4:16","Team 16","Team 20",12,"16A","Deb DeCarolis",10,7,6,7,5,4,8,3,7,8,"16B","Joey DeCarolis",5,5,7,5,6,4,5,4,5,0,"Sub29","Mark Louney",6,6,6,4,5,4,7,3,8,8,"20B","Ralph Romano III",7,7,6,5,4,4,7,4,6,"Team 16 def. Team 20, 7.5 - 1.5","FRONT",1,1,1,0.5,0,1,1,1,1,0,0,0,0.5,1,0,0,0,0,41472,"F","M","M","M"]
["4147211 v 6","Week 3","4:24","Team 11","Team 06",4,"11A","Ray Henderson",6,6,6,4,4,4,5,3,4,7,"11B","Zachary Wallace",7,3,8,6,4,4,7,3,3,7,"6A","Vance Butterfield",4,5,7,7,4,3,5,4,3,7,"6B","Bob Schleyer",6,3,6,5,4,4,5,3,5,"Team 06 def. Team 11, 6.0 - 3.0","FRONT",0,0.5,0,1,0.5,0,0,0.5,0.5,1,0.5,1,0,0.5,1,1,0.5,0.5,41472,"M","M","M","M"]
["414723 v 4","Week 3","4:32","Team 03","Team 04",18,"3A","Pete Romano",8,6,8,5,6,6,8,4,7,10,"3B","Don Frigoletto",6,5,5,5,5,4,5,3,5,12,"4A","Peg Romano",9,8,9,5,5,4,8,4,5,6,"Sub2","P.J. Romano",7,5,6,5,5,4,7,3,4,"Team 03 def. Team 04, 5.5 - 3.5","FRONT",1,1,1,0.5,0,0.5,1,0.5,0,0,0,0,0.5,1,0.5,0,0.5,1,41472,"M","M","F","M"]
["4147217 v 19","Week 3","4:40","Team 17","Team 19",9,"17A","Gary Bittner",7,8,6,4,4,3,5,3,4,7,"17B","Mike Dauphinais",5,4,6,4,5,5,5,3,5,7,"19A","Gary Leavenworth",5,3,5,5,5,4,6,4,5,15,"19B","Patty Leavenworth",8,8,6,4,7,5,6,4,5,"Team 17 def. Team 19, 5.0 - 4.0","FRONT",0.5,0,0.5,0,1,1,1,0.5,0.5,0.5,1,0.5,1,0,0,0,0.5,0.5,41472,"M","M","M","F"]
["4147215 v 10","Week 3","4:48","Team 15","Team 10",10,"15A","Tim Hurley",8,6,5,4,5,4,6,3,4,14,"15B","John Elie",9,7,9,8,5,4,8,4,3,4,"10A","Ron Eckstrom",6,6,6,4,4,4,4,3,6,14,"10B","Beth Romano",9,8,10,6,5,4,8,4,7,"Team 15 def. Team 10, 5.5 - 3.5","FRONT",0,1,1,1,0.5,0.5,0,0.5,1,1,0,0,0,0.5,0.5,1,0.5,0,41472,"M","M","M","F"]
["414722 v 5","Week 3","4:56","Team 02","Team 05",7,"2A","Dave Cormier",8,5,6,4,4,3,5,3,6,7,"DNP","Partner Did Not Play","","","","","","","","","",11,"5A","Dennis Normandin",7,6,7,4,5,6,6,5,5,7,"5B","Mark Normandin",6,5,6,5,6,4,6,4,3,"Team 02 def. Team 05, 5.0 - 4.0","FRONT",0,0.5,0.5,0.5,1,1,0.5,1,0,1,0.5,0.5,0.5,0,0,0.5,0,1,41472,"M",0,"M","M"]
["4147213 v 8","Week 3","5:04","Team 13","Team 08",8,"13A","Kyle Currier",6,8,7,4,3,3,6,3,4,16,"13B","Walter Drake",6,5,8,6,4,4,8,6,5,6,"8A","Mike Sunderland",5,4,5,7,5,3,6,3,5,7,"8B","Debbie Sunderland",7,4,9,3,5,4,7,3,5,"Team 13 def. Team 08, 5.0 - 4.0","FRONT",0.5,0.5,0,0,1,0.5,1,0.5,1,0.5,0.5,1,1,0,0.5,0,0.5,0,41472,"M","M","M","F"]
["4147212 v 7","Week 3","5:12","Team 12","Team 07",15,"12A","Sal Cuifetti",6,6,6,5,3,5,7,5,4,9,"12B","Paul LeBlanc",5,4,6,5,4,4,5,4,3,0,"Course","Course","","","","","","","","","",0,"Course","Course","","","","","","","","","","Team 12 def. Team 07, 7.5 - 0.0","FRONT",1,1,1,1,1,0.5,0.5,0.5,1,"","","","","","","","","",41472,"M","M",0,0]
["4147914 v 20","Week 4","4:00","Team 14","Team 20",6,"14A","Doug Cormier",7,5,5,5,3,4,3,5,4,16,"14B","Ralph Romano, Jr.",7,8,7,6,5,7,4,6,6,2,"20A","Paul Fontaine",5,5,4,5,3,4,4,6,3,8,"20B","Ralph Romano III",5,4,4,7,4,5,3,3,4,"Team 20 def. Team 14, 6.0 - 3.0","BACK",0,0,0,1,0.5,0.5,0.5,0,0.5,1,1,1,0,0.5,0.5,0.5,1,0.5,41479,"M","M","M","M"]
["414793 v 6","Week 4","4:08","Team 03","Team 06",17,"3A","Pete Romano",6,6,6,7,3,5,4,5,8,9,"3B","Don Frigoletto",6,6,4,6,4,5,5,4,6,7,"6A","Vance Butterfield",6,5,6,5,4,5,4,5,5,0,"Sub15","Tom Farias",7,4,5,6,4,4,3,5,5,"Team 03 def. Team 06, 6.0 - 3.0","BACK",1,0.5,1,0,1,1,0.5,1,0,0,0.5,0,1,0,0,0.5,0,1,41479,"M","M","M","M"]
["414792 v 7","Week 4","4:16","Team 02","Team 07",7,"2A","Dave Cormier",4,4,6,6,3,5,3,5,4,3,"2B","Adam Williamson",6,4,5,5,3,3,4,3,5,0,"Course","Course","","","","","","","","","",0,"Course","Course","","","","","","","","","","Team 02 def. Team 07, 7.0 - 0.0","BACK",1,1,0,1,0.5,1,0.5,1,1,"","","","","","","","","",41479,"M","M",0,0]
["4147911 v 8","Week 4","4:24","Team 11","Team 08",5,"11A","Ray Henderson",5,6,4,5,3,5,3,4,4,8,"11B","Zachary Wallace",6,6,5,5,6,4,5,4,4,6,"8A","Mike Sunderland",7,6,4,5,3,5,6,5,4,7,"8B","Debbie Sunderland",8,7,5,6,4,5,6,4,5,"Team 11 def. Team 08, 6.5 - 2.5","BACK",1,0.5,0.5,1,0.5,1,1,0.5,0.5,0,0.5,0.5,0,0.5,0,0,0.5,0.5,41479,"M","M","M","F"]
["4147913 v 10","Week 4","4:32","Team 13","Team 10",15,"DNP","Partner Did Not Play","","","","","","","","","",15,"13B","Walter Drake",6,6,6,7,6,5,3,5,5,4,"10A","Ron Eckstrom",5,5,5,5,3,3,3,4,6,16,"10B","Beth Romano",6,6,7,9,4,7,4,7,4,"Team 10 def. Team 13, 6.0 - 3.0","BACK",0,0,0.5,0.5,0,0,1,0.5,0.5,1,1,0.5,0.5,1,1,0,0.5,0.5,41479,0,"M","M","F"]
["4147916 v 18","Week 4","4:40","Team 16","Team 18",12,"16A","Deb DeCarolis",5,6,4,5,4,5,2,4,3,8,"16B","Joey DeCarolis",5,5,4,6,3,3,4,5,6,9,"18A","Norm Gamache",8,6,5,6,4,5,6,5,5,23,"18B","Michelle Bouvier",7,8,7,7,6,8,6,8,8,"Team 16 def. Team 18, 9.0 - 0.0","BACK",1,1,1,1,1,1,1,1,1,0,0,0,0,0,0,0,0,0,41479,"F","M","M","F"]
["414791 v 17","Week 4","4:48","Team 01","Team 17",9,"1A","Lester Lockhart",6,6,4,7,3,4,5,4,6,12,"1B","Pete Normandin",6,8,3,6,4,5,5,5,4,8,"17A","Gary Bittner",6,7,4,7,3,4,4,4,6,7,"17B","Mike Dauphinais",8,5,4,6,5,6,5,4,4,"Team 01 def. Team 17, 5.5 - 3.5","BACK",1,0,1,1,0.5,0.5,0,0.5,1,0,1,0,0,0.5,0.5,1,0.5,0,41479,"M","M","M","M"]
["414794 v 5","Week 4","4:56","Team 04","Team 05",13,"4A","Peg Romano",8,8,7,6,4,7,6,5,7,7,"Sub2","P.J. Romano",5,4,4,6,4,4,4,5,4,11,"5A","Dennis Normandin",7,6,5,7,4,4,3,4,6,7,"5B","Mark Normandin",6,6,4,5,2,6,3,4,4,"Team 05 def. Team 04, 5.0 - 4.0","BACK",1,1,0.5,0.5,0,0.5,0,0,0.5,0,0,0.5,0.5,1,0.5,1,1,0.5,41479,"F","M","M","M"]
["4147915 v 19","Week 4","5:04","Team 15","Team 19",10,"15A","Tim Hurley",6,5,5,7,6,4,4,6,5,15,"15B","John Elie",8,4,8,5,3,7,3,7,5,7,"19A","Gary Leavenworth",5,7,3,7,4,3,4,4,5,14,"19B","Patty Leavenworth",5,4,6,6,5,6,3,4,7,"Team 19 def. Team 15, 5.0 - 4.0","BACK",0,0.5,0,1,1,0,0.5,0,1,1,0.5,1,0,0,1,0.5,1,0,41479,"M","M","M","F"]
["4147912 v 9","Week 4","5:12","Team 12","Team 09",13,"12A","Sal Cuifetti",5,5,7,9,4,4,6,6,6,13,"DNP","Partner Did Not Play","","","","","","","","","",22,"9A","Mike Doane",6,7,8,10,5,7,6,7,6,10,"9B","John Cassin",5,6,4,4,4,5,3,5,5,"Team 09 def. Team 12, 6.0 - 3.0","BACK",0.5,1,0,0,0.5,1,0,0,0,0.5,0,1,1,0.5,0,1,1,1,41479,"M",0,"M","M"]
["4148615 v 17","Week 5","4:00","Team 15","Team 17",10,"15A","Tim Hurley",7,5,6,6,6,4,4,4,5,15,"15B","John Elie",7,5,6,8,4,6,8,6,5,8,"17A","Gary Bittner",5,4,6,6,3,3,6,4,6,7,"17B","Mike Dauphinais",5,5,5,4,3,4,4,4,5,"Team 17 def. Team 15, 5.0 - 4.0","FRONT",0,0.5,0.5,0,0.5,0,1,0.5,1,1,0.5,0.5,1,0.5,1,0,0.5,0,41486,"M","M","M","M"]
["414865 v 6","Week 5","4:08","Team 05","Team 06",12,"5A","Dennis Normandin",6,4,9,5,5,5,5,6,5,6,"5B","Mark Normandin",6,4,7,4,5,4,7,6,4,6,"6A","Vance Butterfield",5,5,7,4,5,4,5,4,7,6,"6B","Bob Schleyer",6,5,7,5,5,5,5,4,6,"Team 05 def. Team 06, 6.0 - 3.0","FRONT",0.5,1,0.5,0.5,1,0.5,1,0,1,0.5,0,0.5,0.5,0,0.5,0,1,0,41486,"M","M","M","M"]
["414861 v 16","Week 5","4:16","Team 01","Team 16",9,"1A","Lester Lockhart",6,5,8,5,4,4,7,3,5,12,"1B","Pete Normandin",6,5,5,5,8,5,7,6,6,10,"16A","Deb DeCarolis",7,5,7,8,4,5,5,4,6,7,"16B","Joey DeCarolis",8,5,5,4,5,4,5,5,4,"Team 01 def. Team 16, 5.5 - 3.5","FRONT",1,1,1,0.5,0.5,0.5,0,1,0,0,0,0,0.5,0.5,0.5,1,0,1,41486,"M","M","F","M"]
["4148611 v 10","Week 5","4:24","Team 11","Team 10",4,"11A","Ray Henderson",4,5,6,4,3,4,4,5,4,8,"11B","Zachary Wallace",6,5,9,6,6,4,8,4,5,4,"10A","Ron Eckstrom",6,4,5,5,5,3,4,4,5,16,"10B","Beth Romano",10,6,8,6,6,5,9,6,4,"Team 11 and Team 10 tie, 4.5 - 4.5","FRONT",1,0.5,0,1,1,0,0.5,0.5,0,0,0.5,1,0,0,1,0.5,0.5,1,41486,"M","M","M","F"]
["414862 v 9","Week 5","4:32","Team 02","Team 09",7,"2A","Dave Cormier",6,5,6,6,4,5,5,4,3,3,"2B","Adam Williamson",5,4,6,4,4,3,5,3,4,23,"9A","Mike Doane",10,7,9,8,7,5,8,5,7,9,"9B","John Cassin",7,5,7,5,4,3,5,4,4,"Team 02 def. Team 09, 6.0 - 3.0","FRONT",1,0.5,1,0.5,0,0.5,0.5,1,1,0,0.5,0,0.5,1,0.5,0.5,0,0,41486,"M","M","M","M"]
["4148612 v 20","Week 5","4:40","Team 12","Team 20",13,"12A","Sal Cuifetti",7,7,6,7,7,4,7,5,3,9,"12B","Paul LeBlanc",7,6,6,6,3,4,5,6,3,2,"20A","Paul Fontaine",5,4,4,3,4,3,4,3,4,7,"20B","Ralph Romano III",6,4,6,5,6,4,8,6,4,"Team 20 def. Team 12, 5.5 - 3.5","FRONT",0,0,0.5,0,1,0.5,0.5,0,1,1,1,0.5,1,0,0.5,0.5,1,0,41486,"M","M","M","M"]
["414863 v 8","Week 5","4:48","Team 03","Team 08",16,"3A","Pete Romano",7,5,7,6,5,4,7,5,5,9,"3B","Don Frigoletto",8,8,9,4,4,3,8,4,5,6,"8A","Mike Sunderland",6,5,5,4,4,4,4,3,6,8,"8B","Debbie Sunderland",6,5,8,4,6,4,7,3,5,"Team 03 and Team 08 tie, 4.5 - 4.5","FRONT",0.5,1,0,0.5,0.5,1,0,0,1,0.5,0,1,0.5,0.5,0,1,1,0,41486,"M","M","M","F"]
["4148614 v 18","Week 5","4:56","Team 14","Team 18",7,"14A","Doug Cormier",5,4,5,5,4,4,5,3,5,17,"14B","Ralph Romano, Jr.",8,8,6,6,6,6,8,6,7,10,"18A","Norm Gamache",7,5,6,6,6,4,7,3,5,23,"18B","Michelle Bouvier",8,8,10,6,5,4,8,4,8,"Team 14 and Team 18 tie, 4.5 - 4.5","FRONT",1,1,0.5,0,0,0,1,0.5,0.5,0,0,0.5,1,1,1,0,0.5,0.5,41486,"M","M","M","F"]
["414864 v 7","Week 5","5:04","Team 04","Team 07",14,"4A","Peg Romano",7,6,8,6,5,5,7,4,6,15,"4B","Lynn Laroche",8,6,8,6,5,5,7,4,5,0,"Course","Course","","","","","","","","","",0,"Course","Course","","","","","","","","","","Team 04 def. Team 07, 4.0 - 0.0","FRONT",0.5,0.5,0,0.5,1,0,0.5,0.5,0.5,"","","","","","","","","",41486,"F","F",0,0]
["4148613 v 19","Week 5","5:12","Team 13","Team 19",14,"DNP","Partner Did Not Play","","","","","","","","","",14,"13B","Walter Drake",8,5,9,6,6,4,8,6,6,6,"19A","Gary Leavenworth",8,6,8,5,4,4,8,4,4,12,"19B","Patty Leavenworth",7,5,8,4,5,5,8,5,6,"Team 19 def. Team 13, 7.5 - 1.5","FRONT",0,0.5,0,0,0,0.5,0.5,0,0,1,0.5,1,1,1,0.5,0.5,1,1,41486,0,"M","M","F"]
["4149314 v 16","Week 6","4:00","Team 14","Team 16",5,"14A","Doug Cormier",4,4,4,6,4,4,2,4,4,17,"14B","Ralph Romano, Jr.",5,7,8,8,5,5,4,5,8,10,"16A","Deb DeCarolis",4,6,5,6,4,7,4,4,6,7,"16B","Joey DeCarolis",8,4,4,5,4,5,3,4,8,"Team 14 def. Team 16, 5.5 - 3.5","BACK",0.5,0.5,0.5,0,0.5,1,1,0.5,1,0.5,0.5,0.5,1,0.5,0,0,0.5,0,41493,"M","M","F","M"]
["4149313 v 17","Week 6","4:08","Team 13","Team 17",7,"13A","Kyle Currier",6,7,5,5,4,5,4,5,6,14,"13B","Walter Drake",8,6,8,6,5,7,6,4,6,7,"17A","Gary Bittner",5,4,5,6,5,4,3,4,6,6,"17B","Mike Dauphinais",5,6,4,7,3,4,4,4,4,"Team 17 def. Team 13, 7.0 - 2.0","BACK",0,0,0,1,0,0,0,1,0,1,1,1,0,1,1,1,0,1,41493,"M","M","M","M"]
["414934 v 9","Week 6","4:16","Team 04","Team 09",14,"4A","Peg Romano",6,6,6,6,5,7,6,5,6,15,"4B","Lynn Laroche",8,7,5,6,6,6,4,4,6,24,"9A","Mike Doane",9,7,8,8,4,5,6,6,6,8,"9B","John Cassin",7,3,4,6,3,5,4,5,6,"Team 09 def. Team 04, 5.0 - 4.0","BACK",1,0,0.5,1,0,0,0.5,1,0,0,1,0.5,0,1,1,0.5,0,1,41493,"F","F","M","M"]
["414932 v 20","Week 6","4:24","Team 02","Team 20",6,"2A","Dave Cormier",5,6,5,6,4,4,5,4,5,2,"2B","Adam Williamson",5,4,4,7,3,4,4,3,5,2,"20A","Paul Fontaine",3,5,4,4,3,4,3,3,3,8,"20B","Ralph Romano III",5,4,4,6,4,6,4,5,7,"Team 20 def. Team 02, 7.5 - 1.5","BACK",0,0,0,0,0.5,0.5,0,0.5,0,1,1,1,1,0.5,0.5,1,0.5,1,41493,"M","M","M","M"]
["414935 v 8","Week 6","4:32","Team 05","Team 08",12,"5A","Dennis Normandin",5,5,4,8,4,4,4,4,5,6,"5B","Mark Normandin",7,4,6,5,4,5,4,5,3,0,"Course","Course","","","","","","","","","",0,"Course","Course","","","","","","","","","","Team 05 def. Team 08, 8.0 - 0.0","BACK",1,1,1,1,0.5,1,0.5,1,1,"","","","","","","","","",41493,"M","M",0,0]
["414933 v 10","Week 6","4:40","Team 03","Team 10",15,"3A","Pete Romano",7,8,8,8,6,7,4,5,5,9,"3B","Don Frigoletto",9,5,6,10,3,4,3,6,6,4,"10A","Ron Eckstrom",5,5,4,7,3,4,3,5,4,16,"10B","Beth Romano",8,6,7,7,5,6,6,5,6,"Team 10 def. Team 03, 5.5 - 3.5","BACK",0,0.5,0,0,0.5,0.5,0.5,0.5,1,1,0.5,1,1,0.5,0.5,0.5,0.5,0,41493,"M","M","M","F"]
["4149311 v 19","Week 6","4:48","Team 11","Team 19",0,"Sub28","Matt Lee",5,4,5,8,5,6,3,3,4,9,"11B","Zachary Wallace",7,4,4,6,5,5,3,5,4,7,"19A","Gary Leavenworth",6,6,5,6,3,4,6,4,4,12,"19B","Patty Leavenworth",8,7,4,7,6,6,6,3,5,"Team 19 def. Team 11, 5.0 - 4.0","BACK",0.5,1,0.5,0.5,0,0,1,0,0.5,0.5,0,0.5,0.5,1,1,0,1,0.5,41493,"M","M","M","F"]
["414936 v 7","Week 6","4:56","Team 06","Team 07",7,"6A","Vance Butterfield",5,5,5,6,5,4,4,4,5,6,"6B","Bob Schleyer",7,7,5,7,5,5,5,3,6,0,"Course","Course","","","","","","","","","",0,"Course","Course","","","","","","","","","","Team 06 def. Team 07, 5.0 - 0.0","BACK",1,0.5,0.5,0.5,0,1,0,1,0.5,"","","","","","","","","",41493,"M","M",0,0]
["4149312 v 18","Week 6","5:04","Team 12","Team 18",13,"12A","Sal Cuifetti",7,6,8,10,6,8,5,5,4,9,"12B","Paul LeBlanc",5,5,5,5,6,5,3,4,5,10,"18A","Norm Gamache",6,4,5,5,4,6,3,5,7,22,"18B","Michelle Bouvier",8,8,8,9,6,7,5,7,8,"Team 12 def. Team 18, 5.5 - 3.5","BACK",1,0,0.5,0.5,0,1,0.5,1,1,0,1,0.5,0.5,1,0,0.5,0,0,41493,"M","M","M","F"]
["414931 v 15","Week 6","5:12","Team 01","Team 15",9,"1A","Lester Lockhart",6,7,5,6,4,5,5,5,5,13,"1B","Pete Normandin",7,5,4,8,5,5,5,7,8,9,"15A","Tim Hurley",4,5,4,8,4,4,4,4,3,13,"15B","John Elie",9,6,4,7,4,5,5,6,7,"Team 15 def. Team 01, 7.0 - 2.0","BACK",0,0.5,0.5,0.5,0.5,0,0,0,0,1,0.5,0.5,0.5,0.5,1,1,1,1,41493,"M","M","M","M"]
["415005 v 10","Week 7","4:00","Team 05","Team 10",10,"5A","Dennis Normandin",6,6,6,4,4,3,8,3,4,7,"5B","Mark Normandin",6,5,6,5,5,4,5,5,8,4,"10A","Ron Eckstrom",6,5,5,5,3,4,6,3,3,17,"10B","Beth Romano",5,5,7,8,4,4,7,2,5,"Team 10 def. Team 05, 5.5 - 3.5","FRONT",0,0,0.5,1,0.5,0.5,1,0,0,1,1,0.5,0,0.5,0.5,0,1,1,41500,"M","M","M","F"]
["4150011 v 17","Week 7","4:08","Team 11","Team 17",4,"11A","Ray Henderson",6,5,6,5,5,5,5,4,5,9,"11B","Zachary Wallace",7,5,6,6,6,6,7,3,4,6,"DNP","Partner Did Not Play","","","","","","","","","",6,"17B","Mike Dauphinais",5,6,6,4,5,4,7,4,4,"Team 11 and Team 17 tie, 4.5 - 4.5","FRONT",0,1,0.5,0,0.5,0,1,1,0.5,1,0,0.5,1,0.5,1,0,0,0.5,41500,"M","M",0,"M"]
["415001 v 14","Week 7","4:16","Team 01","Team 14",8,"Sub14","Jeff Erskine",8,7,6,4,4,3,7,4,5,14,"1B","Pete Normandin",8,4,8,5,5,4,8,4,7,4,"14A","Doug Cormier",5,6,7,5,5,4,7,5,3,4,"DNP","Partner Did Not Play","","","","","","","","","","Team 01 def. Team 14, 7.0 - 2.0","FRONT",0,1,1,1,1,1,1,1,0,1,0,0,0,0,0,0,0,1,41500,"M","M","M",0]
["415007 v 8","Week 7","4:24","Team 07","Team 08",0,"Course","Course","","","","","","","","","",0,"Course","Course","","","","","","","","","",5,"8A","Mike Sunderland",6,6,5,5,5,5,6,4,6,9,"8B","Debbie Sunderland",8,6,6,6,4,3,8,4,5,"Team 08 def. Team 07, 5.0 - 0.0","FRONT","","","","","","","","","",0.5,0,1,0.5,1,1,0,0.5,0.5,41500,0,0,"M","F"]
["4150013 v 15","Week 7","4:32","Team 13","Team 15",7,"13A","Kyle Currier",5,4,8,5,5,4,6,6,5,15,"13B","Walter Drake",7,6,10,8,6,5,5,6,5,8,"15A","Tim Hurley",8,7,5,4,5,4,4,5,3,14,"15B","John Elie",6,8,7,4,6,4,5,3,7,"Team 15 def. Team 13, 6.5 - 2.5","FRONT",0.5,1,0,0,0.5,0.5,0,0,0,0.5,0,1,1,0.5,0.5,1,1,1,41500,"M","M","M","M"]
["415003 v 19","Week 7","4:40","Team 03","Team 19",16,"3A","Pete Romano",8,6,7,5,8,3,7,4,5,4,"Sub7","PJ Fontaine",7,3,5,4,4,4,5,3,4,7,"19A","Gary Leavenworth",6,4,7,4,3,5,5,3,4,13,"19B","Patty Leavenworth",8,6,6,4,8,5,7,4,5,"Team 19 def. Team 03, 5.5 - 3.5","FRONT",0,1,0.5,0,0,1,0,0.5,0.5,1,0,0.5,1,1,0,1,0.5,0.5,41500,"M","M","M","F"]
["415006 v 9","Week 7","4:48","Team 06","Team 09",7,"6A","Vance Butterfield",5,4,7,5,5,3,5,5,5,7,"6B","Bob Schleyer",6,8,9,5,4,4,7,4,8,22,"9A","Mike Doane",10,8,10,8,6,6,8,4,8,8,"9B","John Cassin",7,5,6,7,6,4,6,3,4,"Team 06 def. Team 09, 5.0 - 4.0","FRONT",1,1,0,1,0.5,1,0.5,0,0,0,0,1,0,0.5,0,0.5,1,1,41500,"M","M","M","M"]
["415004 v 20","Week 7","4:56","Team 04","Team 20",16,"4A","Peg Romano",9,8,7,7,5,4,7,6,5,14,"4B","Lynn Laroche",9,7,7,5,6,4,8,5,7,1,"20A","Paul Fontaine",5,4,6,5,5,4,5,5,3,8,"20B","Ralph Romano III",8,3,8,6,6,3,7,5,4,"Team 04 def. Team 20, 5.0 - 4.0","FRONT",0,0,1,1,1,0.5,0.5,1,0,1,1,0,0,0,0.5,0.5,0,1,41500,"F","F","M","M"]
["415002 v 18","Week 7","5:04","Team 02","Team 18",6,"2A","Dave Cormier",8,4,7,5,5,4,4,3,5,2,"2B","Adam Williamson",6,4,6,5,5,3,5,4,5,10,"18A","Norm Gamache",7,5,7,5,4,5,7,3,4,23,"18B","Michelle Bouvier",10,8,10,7,7,5,6,5,7,"Team 18 def. Team 02, 5.0 - 4.0","FRONT",0.5,1,0.5,0,0,1,1,0,0,0.5,0,0.5,1,1,0,0,1,1,41500,"M","M","M","F"]
["4150012 v 16","Week 7","5:12","Team 12","Team 16",14,"12A","Sal Cuifetti",8,6,6,5,5,5,5,4,5,7,"12B","Paul LeBlanc",6,6,5,7,4,3,4,4,4,9,"16A","Deb DeCarolis",7,4,8,6,6,5,6,3,5,7,"16B","Joey DeCarolis",6,3,5,5,4,3,7,4,5,"Team 12 def. Team 16, 5.0 - 4.0","FRONT",0.5,0,0.5,1,0.5,0.5,1,0,1,0.5,1,0.5,0,0.5,0.5,0,1,0,41500,"M","M","F","M"]
["415077 v 10","Week 8","4:00","Team 07","Team 10",0,"Course","Course","","","","","","","","","",0,"Course","Course","","","","","","","","","",4,"10A","Ron Eckstrom",5,5,4,4,4,6,3,4,4,16,"10B","Beth Romano",5,6,6,6,6,5,5,4,6,"Team 10 def. Team 07, 7.0 - 0.0","BACK","","","","","","","","","",1,0.5,1,1,0,1,0.5,1,1,41507,0,0,"M","F"]
["415078 v 9","Week 8","4:08","Team 08","Team 09",6,"8A","Mike Sunderland",5,3,6,6,3,3,3,3,4,10,"8B","Debbie Sunderland",4,6,6,6,4,6,6,5,4,22,"9A","Mike Doane",8,8,7,10,6,5,6,7,8,0,"Sub29","Jay Melansom",5,4,5,5,5,4,4,4,4,"Team 08 def. Team 09, 8.0 - 1.0","BACK",1,1,0.5,0.5,1,1,1,1,1,0,0,0.5,0.5,0,0,0,0,0,41507,"M","F","M","M"]
["415076 v 20","Week 8","4:16","Team 06","Team 20",6,"6A","Vance Butterfield",6,5,4,5,4,6,3,4,4,9,"6B","Bob Schleyer",5,6,5,6,3,5,4,5,6,2,"20A","Paul Fontaine",5,5,5,4,3,4,3,3,6,8,"20B","Ralph Romano III",7,6,6,5,4,4,5,5,6,"Team 06 def. Team 20, 5.0 - 4.0","BACK",1,0.5,1,0.5,0.5,0,0.5,0,1,0,0.5,0,0.5,0.5,1,0.5,1,0,41507,"M","M","M","M"]
["4150711 v 15","Week 8","4:24","Team 11","Team 15",4,"11A","Ray Henderson",7,5,4,5,3,4,4,4,4,9,"11B","Zachary Wallace",7,6,6,7,4,7,6,8,6,7,"15A","Tim Hurley",6,5,5,6,4,5,5,4,5,14,"15B","John Elie",7,6,8,8,5,6,4,7,6,"Team 11 def. Team 15, 5.0 - 4.0","BACK",0,0.5,1,0.5,1,1,0,0.5,0.5,1,0.5,0,0.5,0,0,1,0.5,0.5,41507,"M","M","M","M"]
["415075 v 19","Week 8","4:32","Team 05","Team 19",9,"5A","Dennis Normandin",6,4,7,6,3,7,6,6,6,3,"Sub11","Don Shank",6,4,4,5,5,4,3,4,7,6,"19A","Gary Leavenworth",5,4,6,7,5,4,3,3,5,14,"Sub15","Jeff Richard",9,5,4,8,6,6,6,6,4,"Team 19 def. Team 05, 5.0 - 4.0","BACK",0,1,0,1,1,0.5,0.5,0,0,1,0,1,0,0,0.5,0.5,1,1,41507,"M","M","M","M"]
["415073 v 17","Week 8","4:40","Team 03","Team 17",14,"3A","Pete Romano",7,5,5,6,4,6,6,7,6,10,"3B","Don Frigoletto",5,4,4,8,3,6,4,6,7,7,"17A","Gary Bittner",4,5,4,5,4,5,3,4,4,5,"17B","Mike Dauphinais",4,4,3,5,4,3,3,6,5,"Team 17 def. Team 03, 6.0 - 3.0","BACK",0.5,1,0.5,0,1,0,0,0,0,0.5,0,0.5,1,0,1,1,1,1,41507,"M","M","M","M"]
["415074 v 18","Week 8","4:48","Team 04","Team 18",16,"4A","Peg Romano",5,5,5,6,4,5,4,5,6,14,"4B","Lynn Laroche",6,6,5,7,5,6,5,6,4,10,"18A","Norm Gamache",4,5,5,4,6,3,3,6,5,23,"18B","Michelle Bouvier",8,7,6,8,5,8,5,8,8,"Team 04 and Team 18 tie, 4.5 - 4.5","BACK",0.5,1,0.5,0,0.5,0,0,1,1,0.5,0,0.5,1,0.5,1,1,0,0,41507,"F","F","M","F"]
["415072 v 16","Week 8","4:56","Team 02","Team 16",6,"2A","Dave Cormier",6,5,5,8,4,4,4,3,4,14,"Sub4","Mike Romano",10,3,5,7,6,7,6,4,3,10,"16A","Deb DeCarolis",5,6,7,7,3,5,4,4,4,6,"16B","Joey DeCarolis",6,5,4,8,3,7,3,4,4,"Team 02 def. Team 16, 5.0 - 4.0","BACK",0,1,0.5,0.5,0,1,0,1,1,1,0,0.5,0.5,1,0,1,0,0,41507,"M","M","F","M"]
["415071 v 13","Week 8","5:04","Team 01","Team 13",13,"DNP","Partner Did Not Play","","","","","","","","","",13,"1B","Pete Normandin",5,5,6,6,5,4,4,6,6,15,"DNP","Partner Did Not Play","","","","","","","","","",15,"13B","Walter Drake",8,5,5,8,6,6,6,6,5,"Team 01 def. Team 13, 6.0 - 3.0","BACK",1,0.5,0,1,1,1,1,0.5,0,0,0.5,1,0,0,0,0,0.5,1,41507,0,"M",0,"M"]
["4150712 v 14","Week 8","5:12","Team 12","Team 14",13,"12A","Sal Cuifetti",6,7,7,8,3,6,5,4,5,8,"12B","Paul LeBlanc",6,5,4,6,4,2,4,4,6,5,"14A","Doug Cormier",6,5,5,5,3,4,4,5,4,17,"14B","Ralph Romano, Jr.",8,7,6,8,6,7,6,8,8,"Team 12 def. Team 14, 7.0 - 2.0","BACK",1,0.5,1,0.5,1,1,0.5,1,0.5,0,0.5,0,0.5,0,0,0.5,0,0.5,41507,"M","M","M","M"]
["415144 v 16","Week 9","4:00","Team 04","Team 16",14,"4A","Peg Romano",8,8,8,5,5,4,7,4,7,14,"4B","Lynn Laroche",7,5,5,8,5,4,8,5,6,8,"16A","Deb DeCarolis",7,6,7,5,5,4,5,5,4,6,"16B","Joey DeCarolis",6,5,7,5,5,3,4,3,4,"Team 04 def. Team 16, 5.0 - 4.0","FRONT",0.5,1,1,1,1,0,0,0.5,0,0.5,0,0,0,0,1,1,0.5,1,41514,"F","F","F","M"]
["415148 v 20","Week 9","4:08","Team 08","Team 20",5,"8A","Mike Sunderland",6,5,6,4,4,3,8,2,5,10,"8B","Debbie Sunderland",7,5,6,7,6,3,5,4,6,1,"20A","Paul Fontaine",8,4,5,4,4,4,6,4,3,8,"20B","Ralph Romano III",6,7,8,4,6,3,8,3,4,"Team 08 def. Team 20, 5.0 - 4.0","FRONT",0.5,0.5,0.5,0,0.5,1,1,1,0,0.5,0.5,0.5,1,0.5,0,0,0,1,41514,"M","F","M","M"]
["415141 v 12","Week 9","4:16","Team 01","Team 12",12,"DNP","Partner Did Not Play","","","","","","","","","",12,"1B","Pete Normandin",8,4,8,6,7,3,6,4,7,13,"12A","Sal Cuifetti",7,6,6,6,5,4,4,6,4,5,"12B","Paul LeBlanc",6,4,7,5,5,3,8,6,5,"Team 12 def. Team 01, 6.0 - 3.0","FRONT",0,1,0,0.5,0,0.5,0,1,0,1,0,1,0.5,1,0.5,1,0,1,41514,0,"M","M","M"]
["415142 v 14","Week 9","4:24","Team 02","Team 14",6,"2A","Dave Cormier",7,4,7,6,5,3,5,3,4,3,"2B","Adam Williamson",4,4,5,4,5,3,6,3,3,4,"14A","Doug Cormier",5,4,6,5,5,4,6,3,5,15,"Sub4","Mike Romano",5,7,6,5,5,4,8,5,6,"Team 14 def. Team 02, 5.0 - 4.0","FRONT",0,0.5,0,0.5,0,0.5,1,0.5,1,1,0.5,1,0.5,1,0.5,0,0.5,0,41514,"M","M","M","M"]
["415145 v 17","Week 9","4:32","Team 05","Team 17",9,"5A","Dennis Normandin",5,5,6,6,6,4,6,3,5,4,"Sub7","PJ Fontaine",6,4,6,4,4,2,5,3,4,5,"17A","Gary Bittner",5,4,6,5,5,4,6,4,4,5,"17B","Mike Dauphinais",7,6,8,5,4,4,6,4,3,"Team 05 def. Team 17, 6.5 - 2.5","FRONT",1,0.5,1,1,0.5,1,0.5,1,0,0,0.5,0,0,0.5,0,0.5,0,1,41514,"M","M","M","M"]
["415143 v 15","Week 9","4:40","Team 03","Team 15",13,"3A","Pete Romano",8,6,8,8,7,5,8,6,4,10,"3B","Don Frigoletto",5,5,9,4,5,4,5,4,3,7,"15A","Tim Hurley",8,4,6,4,3,4,4,4,6,14,"15B","John Elie",10,8,10,7,7,5,6,4,4,"Team 15 def. Team 03, 5.5 - 3.5","FRONT",1,0,0,0.5,0,0.5,0.5,0.5,0.5,0,1,1,0.5,1,0.5,0.5,0.5,0.5,41514,"M","M","M","M"]
["415149 v 10","Week 9","4:48","Team 09","Team 10",22,"9A","Mike Doane",10,5,9,8,8,6,8,6,8,8,"9B","John Cassin",10,5,7,5,5,3,5,4,6,3,"10A","Ron Eckstrom",7,4,5,4,3,3,5,3,5,14,"10B","Beth Romano",8,4,7,5,5,3,7,4,8,"Team 10 def. Team 09, 7.0 - 2.0","FRONT",0,0.5,0,0.5,0,0,1,0,0,1,0.5,1,0.5,1,1,0,1,1,41514,"M","M","M","F"]
["415147 v 19","Week 9","4:56","Team 07","Team 19",0,"Course","Course","","","","","","","","","",0,"Course","Course","","","","","","","","","",6,"19A","Gary Leavenworth",7,5,7,5,4,4,6,4,2,12,"19B","Patty Leavenworth",8,5,10,5,5,4,7,5,5,"Team 19 def. Team 07, 4.0 - 0.0","FRONT","","","","","","","","","",0,0.5,0,0.5,1,0.5,0.5,0,1,41514,0,0,"M","F"]
["4151411 v 13","Week 9","5:04","Team 11","Team 13",4,"11A","Ray Henderson",5,5,6,4,4,4,4,4,4,11,"11B","Zachary Wallace",6,6,8,5,5,4,6,5,6,7,"13A","Kyle Currier",9,5,8,6,4,5,6,4,5,15,"13B","Walter Drake",10,8,10,5,6,6,7,3,7,"Team 11 def. Team 13, 6.5 - 2.5","FRONT",1,0.5,1,0.5,0.5,1,1,0,1,0,0.5,0,0.5,0.5,0,0,1,0,41514,"M","M","M","M"]
["415146 v 18","Week 9","5:12","Team 06","Team 18",0,"Course","Course","","","","","","","","","",0,"Course","Course","","","","","","","","","",8,"18A","Norm Gamache",6,5,7,4,4,4,7,4,4,22,"18B","Michelle Bouvier",7,8,10,8,7,6,8,5,6,"Team 18 def. Team 06, 4.5 - 0.0","FRONT","","","","","","","","","",0.5,0.5,0,1,1,0,0,0.5,1,41514,0,0,"M","F"]

{"sheet":"SUB LIST","index":32,"n_rows":39,"n_cols":8,"rows_kept":39,"cut":false,"hidden":false,"merged":[]}
[]
[]
[]
[]
[]
[]
[]
[null,null,null,null,null,{"$f":"F7","v":0}]
[null,"Player No.","RGL No.","Name","Telephone","Current Hcp.","Last Score","Last Played"]
[null,"Sub1",{"$f":"IF(ISERROR(VLOOKUP(B10,'LEAGUE MEMBERSHIP'!E:G,3,FALSE)),\"\",VLOOKUP(B10,'LEAGUE MEMBERSHIP'!E:G,3,FALSE))","v":"RGL-001"},{"$f":"IF(ISERROR(VLOOKUP(B10,'LEAGUE MEMBERSHIP'!E:F,2,FALSE)),\"\",VLOOKUP(B10,'LEAGUE MEMBERSHIP'!E:F,2,FALSE))","v":"Becky Bartkus"},{"$f":"IF(ISERROR(VLOOKUP(C10,'CONTACT INFO'!E:H,4,FALSE)),\"\",IF(VLOOKUP(C10,'CONTACT INFO'!E:H,4,FALSE)=\"\",\"\",VLOOKUP(C10,'CONTACT INFO'!E:H,4,FALSE)))","v":"(978) 874-0984"},{"$f":"IF(ISERROR(VLOOKUP(C10,'INDIVIDUAL SCORES'!$A$76:$Q$2800,16,FALSE)),\"\",VLOOKUP(C10,'INDIVIDUAL SCORES'!$A$76:$Q$2800,16,FALSE))","v":9},{"$f":"IF(ISERROR(VLOOKUP(C10,'INDIVIDUAL SCORES'!$A$76:$Q$2800,15,FALSE)),\"\",VLOOKUP(C10,'INDIVIDUAL SCORES'!$A$76:$Q$2800,15,FALSE))","v":42},{"$f":"IF(ISERROR(VLOOKUP(C10,'INDIVIDUAL SCORES'!$A$76:$Q$2800,17,FALSE)),\"\",VLOOKUP(C10,'INDIVIDUAL SCORES'!$A$76:$Q$2800,17,FALSE))","v":"2010-08-11"}]
[null,"Sub2",{"$f":"IF(ISERROR(VLOOKUP(B11,'LEAGUE MEMBERSHIP'!E:G,3,FALSE)),\"\",VLOOKUP(B11,'LEAGUE MEMBERSHIP'!E:G,3,FALSE))","v":"RGL-062"},{"$f":"IF(ISERROR(VLOOKUP(B11,'LEAGUE MEMBERSHIP'!E:F,2,FALSE)),\"\",VLOOKUP(B11,'LEAGUE MEMBERSHIP'!E:F,2,FALSE))","v":"P.J. Romano"},{"$f":"IF(ISERROR(VLOOKUP(C11,'CONTACT INFO'!E:H,4,FALSE)),\"\",IF(VLOOKUP(C11,'CONTACT INFO'!E:H,4,FALSE)=\"\",\"\",VLOOKUP(C11,'CONTACT INFO'!E:H,4,FALSE)))","v":"(978) 827-1453"},{"$f":"IF(ISERROR(VLOOKUP(C11,'INDIVIDUAL SCORES'!$A$76:$Q$2800,16,FALSE)),\"\",VLOOKUP(C11,'INDIVIDUAL SCORES'!$A$76:$Q$2800,16,FALSE))","v":7},{"$f":"IF(ISERROR(VLOOKUP(C11,'INDIVIDUAL SCORES'!$A$76:$Q$2800,15,FALSE)),\"\",VLOOKUP(C11,'INDIVIDUAL SCORES'!$A$76:$Q$2800,15,FALSE))","v":40},{"$f":"IF(ISERROR(VLOOKUP(C11,'INDIVIDUAL SCORES'!$A$76:$Q$2800,17,FALSE)),\"\",VLOOKUP(C11,'INDIVIDUAL SCORES'!$A$76:$Q$2800,17,FALSE))","v":"2013-07-24"}]
[null,"Sub3",{"$f":"IF(ISERROR(VLOOKUP(B12,'LEAGUE MEMBERSHIP'!E:G,3,FALSE)),\"\",VLOOKUP(B12,'LEAGUE MEMBERSHIP'!E:G,3,FALSE))","v":"RGL-057"},{"$f":"IF(ISERROR(VLOOKUP(B12,'LEAGUE MEMBERSHIP'!E:F,2,FALSE)),\"\",VLOOKUP(B12,'LEAGUE MEMBERSHIP'!E:F,2,FALSE))","v":"Mike Forbes"},{"$f":"IF(ISERROR(VLOOKUP(C12,'CONTACT INFO'!E:H,4,FALSE)),\"\",IF(VLOOKUP(C12,'CONTACT INFO'!E:H,4,FALSE)=\"\",\"\",VLOOKUP(C12,'CONTACT INFO'!E:H,4,FALSE)))","v":"(978) 386-7964"},{"$f":"IF(ISERROR(VLOOKUP(C12,'INDIVIDUAL SCORES'!$A$76:$Q$2800,16,FALSE)),\"\",VLOOKUP(C12,'INDIVIDUAL SCORES'!$A$76:$Q$2800,16,FALSE))","v":12},{"$f":"IF(ISERROR(VLOOKUP(C12,'INDIVIDUAL SCORES'!$A$76:$Q$2800,15,FALSE)),\"\",VLOOKUP(C12,'INDIVIDUAL SCORES'!$A$76:$Q$2800,15,FALSE))","v":61},{"$f":"IF(ISERROR(VLOOKUP(C12,'INDIVIDUAL SCORES'!$A$76:$Q$2800,17,FALSE)),\"\",VLOOKUP(C12,'INDIVIDUAL SCORES'!$A$76:$Q$2800,17,FALSE))","v":"2009-04-29"}]
[null,"Sub4",{"$f":"IF(ISERROR(VLOOKUP(B13,'LEAGUE MEMBERSHIP'!E:G,3,FALSE)),\"\",VLOOKUP(B13,'LEAGUE MEMBERSHIP'!E:G,3,FALSE))","v":"RGL-061"},{"$f":"IF(ISERROR(VLOOKUP(B13,'LEAGUE MEMBERSHIP'!E:F,2,FALSE)),\"\",VLOOKUP(B13,'LEAGUE MEMBERSHIP'!E:F,2,FALSE))","v":"Mike Romano"},{"$f":"IF(ISERROR(VLOOKUP(C13,'CONTACT INFO'!E:H,4,FALSE)),\"\",IF(VLOOKUP(C13,'CONTACT INFO'!E:H,4,FALSE)=\"\",\"\",VLOOKUP(C13,'CONTACT INFO'!E:H,4,FALSE)))","v":"(978) 343-7225"},{"$f":"IF(ISERROR(VLOOKUP(C13,'INDIVIDUAL SCORES'!$A$76:$Q$2800,16,FALSE)),\"\",VLOOKUP(C13,'INDIVIDUAL SCORES'!$A$76:$Q$2800,16,FALSE))","v":14},{"$f":"IF(ISERROR(VLOOKUP(C13,'INDIVIDUAL SCORES'!$A$76:$Q$2800,15,FALSE)),\"\",VLOOKUP(C13,'INDIVIDUAL SCORES'!$A$76:$Q$2800,15,FALSE))","v":51},{"$f":"IF(ISERROR(VLOOKUP(C13,'INDIVIDUAL SCORES'!$A$76:$Q$2800,17,FALSE)),\"\",VLOOKUP(C13,'INDIVIDUAL SCORES'!$A$76:$Q$2800,17,FALSE))","v":"2013-08-28"}]
[null,"Sub5",{"$f":"IF(ISERROR(VLOOKUP(B14,'LEAGUE MEMBERSHIP'!E:G,3,FALSE)),\"\",VLOOKUP(B14,'LEAGUE MEMBERSHIP'!E:G,3,FALSE))","v":"RGL-059"},{"$f":"IF(ISERROR(VLOOKUP(B14,'LEAGUE MEMBERSHIP'!E:F,2,FALSE)),\"\",VLOOKUP(B14,'LEAGUE MEMBERSHIP'!E:F,2,FALSE))","v":"Jono Normandin"},{"$f":"IF(ISERROR(VLOOKUP(C14,'CONTACT INFO'!E:H,4,FALSE)),\"\",IF(VLOOKUP(C14,'CONTACT INFO'!E:H,4,FALSE)=\"\",\"\",VLOOKUP(C14,'CONTACT INFO'!E:H,4,FALSE)))","v":""},{"$f":"IF(ISERROR(VLOOKUP(C14,'INDIVIDUAL SCORES'!$A$76:$Q$2800,16,FALSE)),\"\",VLOOKUP(C14,'INDIVIDUAL SCORES'!$A$76:$Q$2800,16,FALSE))","v":5},{"$f":"IF(ISERROR(VLOOKUP(C14,'INDIVIDUAL SCORES'!$A$76:$Q$2800,15,FALSE)),\"\",VLOOKUP(C14,'INDIVIDUAL SCORES'!$A$76:$Q$2800,15,FALSE))","v":41},{"$f":"IF(ISERROR(VLOOKUP(C14,'INDIVIDUAL SCORES'!$A$76:$Q$2800,17,FALSE)),\"\",VLOOKUP(C14,'INDIVIDUAL SCORES'!$A$76:$Q$2800,17,FALSE))","v":"2013-05-01"}]
[null,"Sub6",{"$f":"IF(ISERROR(VLOOKUP(B15,'LEAGUE MEMBERSHIP'!E:G,3,FALSE)),\"\",VLOOKUP(B15,'LEAGUE MEMBERSHIP'!E:G,3,FALSE))","v":"RGL-058"},{"$f":"IF(ISERROR(VLOOKUP(B15,'LEAGUE MEMBERSHIP'!E:F,2,FALSE)),\"\",VLOOKUP(B15,'LEAGUE MEMBERSHIP'!E:F,2,FALSE))","v":"Scott Leavenworth"},{"$f":"IF(ISERROR(VLOOKUP(C15,'CONTACT INFO'!E:H,4,FALSE)),\"\",IF(VLOOKUP(C15,'CONTACT INFO'!E:H,4,FALSE)=\"\",\"\",VLOOKUP(C15,'CONTACT INFO'!E:H,4,FALSE)))","v":""},{"$f":"IF(ISERROR(VLOOKUP(C15,'INDIVIDUAL SCORES'!$A$76:$Q$2800,16,FALSE)),\"\",VLOOKUP(C15,'INDIVIDUAL SCORES'!$A$76:$Q$2800,16,FALSE))","v":18},{"$f":"IF(ISERROR(VLOOKUP(C15,'INDIVIDUAL SCORES'!$A$76:$Q$2800,15,FALSE)),\"\",VLOOKUP(C15,'INDIVIDUAL SCORES'!$A$76:$Q$2800,15,FALSE))","v":53},{"$f":"IF(ISERROR(VLOOKUP(C15,'INDIVIDUAL SCORES'!$A$76:$Q$2800,17,FALSE)),\"\",VLOOKUP(C15,'INDIVIDUAL SCORES'!$A$76:$Q$2800,17,FALSE))","v":"2013-06-05"}]
[null,"Sub7",{"$f":"IF(ISERROR(VLOOKUP(B16,'LEAGUE MEMBERSHIP'!E:G,3,FALSE)),\"\",VLOOKUP(B16,'LEAGUE MEMBERSHIP'!E:G,3,FALSE))","v":"RGL-056"},{"$f":"IF(ISERROR(VLOOKUP(B16,'LEAGUE MEMBERSHIP'!E:F,2,FALSE)),\"\",VLOOKUP(B16,'LEAGUE MEMBERSHIP'!E:F,2,FALSE))","v":"PJ Fontaine"},{"$f":"IF(ISERROR(VLOOKUP(C16,'CONTACT INFO'!E:H,4,FALSE)),\"\",IF(VLOOKUP(C16,'CONTACT INFO'!E:H,4,FALSE)=\"\",\"\",VLOOKUP(C16,'CONTACT INFO'!E:H,4,FALSE)))","v":"(978) 855-3266"},{"$f":"IF(ISERROR(VLOOKUP(C16,'INDIVIDUAL SCORES'!$A$76:$Q$2800,16,FALSE)),\"\",VLOOKUP(C16,'INDIVIDUAL SCORES'!$A$76:$Q$2800,16,FALSE))","v":3},{"$f":"IF(ISERROR(VLOOKUP(C16,'INDIVIDUAL SCORES'!$A$76:$Q$2800,15,FALSE)),\"\",VLOOKUP(C16,'INDIVIDUAL SCORES'!$A$76:$Q$2800,15,FALSE))","v":38},{"$f":"IF(ISERROR(VLOOKUP(C16,'INDIVIDUAL SCORES'!$A$76:$Q$2800,17,FALSE)),\"\",VLOOKUP(C16,'INDIVIDUAL SCORES'!$A$76:$Q$2800,17,FALSE))","v":"2013-08-28"}]
[null,"Sub8",{"$f":"IF(ISERROR(VLOOKUP(B17,'LEAGUE MEMBERSHIP'!E:G,3,FALSE)),\"\",VLOOKUP(B17,'LEAGUE MEMBERSHIP'!E:G,3,FALSE))","v":"RGL-051"},{"$f":"IF(ISERROR(VLOOKUP(B17,'LEAGUE MEMBERSHIP'!E:F,2,FALSE)),\"\",VLOOKUP(B17,'LEAGUE MEMBERSHIP'!E:F,2,FALSE))","v":"Yogi DiPasquale"},{"$f":"IF(ISERROR(VLOOKUP(C17,'CONTACT INFO'!E:H,4,FALSE)),\"\",IF(VLOOKUP(C17,'CONTACT INFO'!E:H,4,FALSE)=\"\",\"\",VLOOKUP(C17,'CONTACT INFO'!E:H,4,FALSE)))","v":"(978) 343-4384"},{"$f":"IF(ISERROR(VLOOKUP(C17,'INDIVIDUAL SCORES'!$A$76:$Q$2800,16,FALSE)),\"\",VLOOKUP(C17,'INDIVIDUAL SCORES'!$A$76:$Q$2800,16,FALSE))","v":7},{"$f":"IF(ISERROR(VLOOKUP(C17,'INDIVIDUAL SCORES'!$A$76:$Q$2800,15,FALSE)),\"\",VLOOKUP(C17,'INDIVIDUAL SCORES'!$A$76:$Q$2800,15,FALSE))","v":46},{"$f":"IF(ISERROR(VLOOKUP(C17,'INDIVIDUAL SCORES'!$A$76:$Q$2800,17,FALSE)),\"\",VLOOKUP(C17,'INDIVIDUAL SCORES'!$A$76:$Q$2800,17,FALSE))","v":"2009-07-22"}]
[null,"Sub9",{"$f":"IF(ISERROR(VLOOKUP(B18,'LEAGUE MEMBERSHIP'!E:G,3,FALSE)),\"\",VLOOKUP(B18,'LEAGUE MEMBERSHIP'!E:G,3,FALSE))","v":"RGL-013"},{"$f":"IF(ISERROR(VLOOKUP(B18,'LEAGUE MEMBERSHIP'!E:F,2,FALSE)),\"\",VLOOKUP(B18,'LEAGUE MEMBERSHIP'!E:F,2,FALSE))","v":"Jon Friberg"},{"$f":"IF(ISERROR(VLOOKUP(C18,'CONTACT INFO'!E:H,4,FALSE)),\"\",IF(VLOOKUP(C18,'CONTACT INFO'!E:H,4,FALSE)=\"\",\"\",VLOOKUP(C18,'CONTACT INFO'!E:H,4,FALSE)))","v":"(978) 386-7964"},{"$f":"IF(ISERROR(VLOOKUP(C18,'INDIVIDUAL SCORES'!$A$76:$Q$2800,16,FALSE)),\"\",VLOOKUP(C18,'INDIVIDUAL SCORES'!$A$76:$Q$2800,16,FALSE))","v":7},{"$f":"IF(ISERROR(VLOOKUP(C18,'INDIVIDUAL SCORES'!$A$76:$Q$2800,15,FALSE)),\"\",VLOOKUP(C18,'INDIVIDUAL SCORES'!$A$76:$Q$2800,15,FALSE))","v":44},{"$f":"IF(ISERROR(VLOOKUP(C18,'INDIVIDUAL SCORES'!$A$76:$Q$2800,17,FALSE)),\"\",VLOOKUP(C18,'INDIVIDUAL SCORES'!$A$76:$Q$2800,17,FALSE))","v":"2012-07-25"}]
[null,"Sub10",{"$f":"IF(ISERROR(VLOOKUP(B19,'LEAGUE MEMBERSHIP'!E:G,3,FALSE)),\"\",VLOOKUP(B19,'LEAGUE MEMBERSHIP'!E:G,3,FALSE))","v":"RGL-065"},{"$f":"IF(ISERROR(VLOOKUP(B19,'LEAGUE MEMBERSHIP'!E:F,2,FALSE)),\"\",VLOOKUP(B19,'LEAGUE MEMBERSHIP'!E:F,2,FALSE))","v":"Jim Hedlund"},{"$f":"IF(ISERROR(VLOOKUP(C19,'CONTACT INFO'!E:H,4,FALSE)),\"\",IF(VLOOKUP(C19,'CONTACT INFO'!E:H,4,FALSE)=\"\",\"\",VLOOKUP(C19,'CONTACT INFO'!E:H,4,FALSE)))","v":"(978) 668-5183"},{"$f":"IF(ISERROR(VLOOKUP(C19,'INDIVIDUAL SCORES'!$A$76:$Q$2800,16,FALSE)),\"\",VLOOKUP(C19,'INDIVIDUAL SCORES'!$A$76:$Q$2800,16,FALSE))","v":17},{"$f":"IF(ISERROR(VLOOKUP(C19,'INDIVIDUAL SCORES'!$A$76:$Q$2800,15,FALSE)),\"\",VLOOKUP(C19,'INDIVIDUAL SCORES'!$A$76:$Q$2800,15,FALSE))","v":55},{"$f":"IF(ISERROR(VLOOKUP(C19,'INDIVIDUAL SCORES'!$A$76:$Q$2800,17,FALSE)),\"\",VLOOKUP(C19,'INDIVIDUAL SCORES'!$A$76:$Q$2800,17,FALSE))","v":"2013-06-19"}]
[null,"Sub11",{"$f":"IF(ISERROR(VLOOKUP(B20,'LEAGUE MEMBERSHIP'!E:G,3,FALSE)),\"\",VLOOKUP(B20,'LEAGUE MEMBERSHIP'!E:G,3,FALSE))","v":"RGL-041"},{"$f":"IF(ISERROR(VLOOKUP(B20,'LEAGUE MEMBERSHIP'!E:F,2,FALSE)),\"\",VLOOKUP(B20,'LEAGUE MEMBERSHIP'!E:F,2,FALSE))","v":"Don Shank"},{"$f":"IF(ISERROR(VLOOKUP(C20,'CONTACT INFO'!E:H,4,FALSE)),\"\",IF(VLOOKUP(C20,'CONTACT INFO'!E:H,4,FALSE)=\"\",\"\",VLOOKUP(C20,'CONTACT INFO'!E:H,4,FALSE)))","v":""},{"$f":"IF(ISERROR(VLOOKUP(C20,'INDIVIDUAL SCORES'!$A$76:$Q$2800,16,FALSE)),\"\",VLOOKUP(C20,'INDIVIDUAL SCORES'!$A$76:$Q$2800,16,FALSE))","v":4},{"$f":"IF(ISERROR(VLOOKUP(C20,'INDIVIDUAL SCORES'!$A$76:$Q$2800,15,FALSE)),\"\",VLOOKUP(C20,'INDIVIDUAL SCORES'!$A$76:$Q$2800,15,FALSE))","v":42},{"$f":"IF(ISERROR(VLOOKUP(C20,'INDIVIDUAL SCORES'!$A$76:$Q$2800,17,FALSE)),\"\",VLOOKUP(C20,'INDIVIDUAL SCORES'!$A$76:$Q$2800,17,FALSE))","v":"2013-08-21"}]
[null,"Sub12",{"$f":"IF(ISERROR(VLOOKUP(B21,'LEAGUE MEMBERSHIP'!E:G,3,FALSE)),\"\",VLOOKUP(B21,'LEAGUE MEMBERSHIP'!E:G,3,FALSE))","v":"RGL-002"},{"$f":"IF(ISERROR(VLOOKUP(B21,'LEAGUE MEMBERSHIP'!E:F,2,FALSE)),\"\",VLOOKUP(B21,'LEAGUE MEMBERSHIP'!E:F,2,FALSE))","v":"Chris Barry"},{"$f":"IF(ISERROR(VLOOKUP(C21,'CONTACT INFO'!E:H,4,FALSE)),\"\",IF(VLOOKUP(C21,'CONTACT INFO'!E:H,4,FALSE)=\"\",\"\",VLOOKUP(C21,'CONTACT INFO'!E:H,4,FALSE)))","v":"(978) 855-2617"},{"$f":"IF(ISERROR(VLOOKUP(C21,'INDIVIDUAL SCORES'!$A$76:$Q$2800,16,FALSE)),\"\",VLOOKUP(C21,'INDIVIDUAL SCORES'!$A$76:$Q$2800,16,FALSE))","v":11},{"$f":"IF(ISERROR(VLOOKUP(C21,'INDIVIDUAL SCORES'!$A$76:$Q$2800,15,FALSE)),\"\",VLOOKUP(C21,'INDIVIDUAL SCORES'!$A$76:$Q$2800,15,FALSE))","v":60},{"$f":"IF(ISERROR(VLOOKUP(C21,'INDIVIDUAL SCORES'!$A$76:$Q$2800,17,FALSE)),\"\",VLOOKUP(C21,'INDIVIDUAL SCORES'!$A$76:$Q$2800,17,FALSE))","v":"2011-08-03"}]
[null,"Sub13",{"$f":"IF(ISERROR(VLOOKUP(B22,'LEAGUE MEMBERSHIP'!E:G,3,FALSE)),\"\",VLOOKUP(B22,'LEAGUE MEMBERSHIP'!E:G,3,FALSE))","v":"RGL-011"},{"$f":"IF(ISERROR(VLOOKUP(B22,'LEAGUE MEMBERSHIP'!E:F,2,FALSE)),\"\",VLOOKUP(B22,'LEAGUE MEMBERSHIP'!E:F,2,FALSE))","v":"Tom Farias"},{"$f":"IF(ISERROR(VLOOKUP(C22,'CONTACT INFO'!E:H,4,FALSE)),\"\",IF(VLOOKUP(C22,'CONTACT INFO'!E:H,4,FALSE)=\"\",\"\",VLOOKUP(C22,'CONTACT INFO'!E:H,4,FALSE)))","v":""},{"$f":"IF(ISERROR(VLOOKUP(C22,'INDIVIDUAL SCORES'!$A$76:$Q$2800,16,FALSE)),\"\",VLOOKUP(C22,'INDIVIDUAL SCORES'!$A$76:$Q$2800,16,FALSE))","v":2},{"$f":"IF(ISERROR(VLOOKUP(C22,'INDIVIDUAL SCORES'!$A$76:$Q$2800,15,FALSE)),\"\",VLOOKUP(C22,'INDIVIDUAL SCORES'!$A$76:$Q$2800,15,FALSE))","v":43},{"$f":"IF(ISERROR(VLOOKUP(C22,'INDIVIDUAL SCORES'!$A$76:$Q$2800,17,FALSE)),\"\",VLOOKUP(C22,'INDIVIDUAL SCORES'!$A$76:$Q$2800,17,FALSE))","v":"2013-07-24"}]
[null,"Sub14",{"$f":"IF(ISERROR(VLOOKUP(B23,'LEAGUE MEMBERSHIP'!E:G,3,FALSE)),\"\",VLOOKUP(B23,'LEAGUE MEMBERSHIP'!E:G,3,FALSE))","v":"RGL-025"},{"$f":"IF(ISERROR(VLOOKUP(B23,'LEAGUE MEMBERSHIP'!E:F,2,FALSE)),\"\",VLOOKUP(B23,'LEAGUE MEMBERSHIP'!E:F,2,FALSE))","v":"Jeff Erskine"},{"$f":"IF(ISERROR(VLOOKUP(C23,'CONTACT INFO'!E:H,4,FALSE)),\"\",IF(VLOOKUP(C23,'CONTACT INFO'!E:H,4,FALSE)=\"\",\"\",VLOOKUP(C23,'CONTACT INFO'!E:H,4,FALSE)))","v":"(978) 855-0227"},{"$f":"IF(ISERROR(VLOOKUP(C23,'INDIVIDUAL SCORES'!$A$76:$Q$2800,16,FALSE)),\"\",VLOOKUP(C23,'INDIVIDUAL SCORES'!$A$76:$Q$2800,16,FALSE))","v":8},{"$f":"IF(ISERROR(VLOOKUP(C23,'INDIVIDUAL SCORES'!$A$76:$Q$2800,15,FALSE)),\"\",VLOOKUP(C23,'INDIVIDUAL SCORES'!$A$76:$Q$2800,15,FALSE))","v":48},{"$f":"IF(ISERROR(VLOOKUP(C23,'INDIVIDUAL SCORES'!$A$76:$Q$2800,17,FALSE)),\"\",VLOOKUP(C23,'INDIVIDUAL SCORES'!$A$76:$Q$2800,17,FALSE))","v":"2013-08-14"}]
[null,"Sub15",{"$f":"IF(ISERROR(VLOOKUP(B24,'LEAGUE MEMBERSHIP'!E:G,3,FALSE)),\"\",VLOOKUP(B24,'LEAGUE MEMBERSHIP'!E:G,3,FALSE))","v":"RGL-042"},{"$f":"IF(ISERROR(VLOOKUP(B24,'LEAGUE MEMBERSHIP'!E:F,2,FALSE)),\"\",VLOOKUP(B24,'LEAGUE MEMBERSHIP'!E:F,2,FALSE))","v":"Jeff Richard"},{"$f":"IF(ISERROR(VLOOKUP(C24,'CONTACT INFO'!E:H,4,FALSE)),\"\",IF(VLOOKUP(C24,'CONTACT INFO'!E:H,4,FALSE)=\"\",\"\",VLOOKUP(C24,'CONTACT INFO'!E:H,4,FALSE)))","v":""},{"$f":"IF(ISERROR(VLOOKUP(C24,'INDIVIDUAL SCORES'!$A$76:$Q$2800,16,FALSE)),\"\",VLOOKUP(C24,'INDIVIDUAL SCORES'!$A$76:$Q$2800,16,FALSE))","v":14},{"$f":"IF(ISERROR(VLOOKUP(C24,'INDIVIDUAL SCORES'!$A$76:$Q$2800,15,FALSE)),\"\",VLOOKUP(C24,'INDIVIDUAL SCORES'!$A$76:$Q$2800,15,FALSE))","v":54},{"$f":"IF(ISERROR(VLOOKUP(C24,'INDIVIDUAL SCORES'!$A$76:$Q$2800,17,FALSE)),\"\",VLOOKUP(C24,'INDIVIDUAL SCORES'!$A$76:$Q$2800,17,FALSE))","v":"2013-08-21"}]
[null,"Sub16",{"$f":"IF(ISERROR(VLOOKUP(B25,'LEAGUE MEMBERSHIP'!E:G,3,FALSE)),\"\",VLOOKUP(B25,'LEAGUE MEMBERSHIP'!E:G,3,FALSE))","v":"RGL-029"},{"$f":"IF(ISERROR(VLOOKUP(B25,'LEAGUE MEMBERSHIP'!E:F,2,FALSE)),\"\",VLOOKUP(B25,'LEAGUE MEMBERSHIP'!E:F,2,FALSE))","v":"Paul Stedman"},{"$f":"IF(ISERROR(VLOOKUP(C25,'CONTACT INFO'!E:H,4,FALSE)),\"\",IF(VLOOKUP(C25,'CONTACT INFO'!E:H,4,FALSE)=\"\",\"\",VLOOKUP(C25,'CONTACT INFO'!E:H,4,FALSE)))","v":""},{"$f":"IF(ISERROR(VLOOKUP(C25,'INDIVIDUAL SCORES'!$A$76:$Q$2800,16,FALSE)),\"\",VLOOKUP(C25,'INDIVIDUAL SCORES'!$A$76:$Q$2800,16,FALSE))","v":4},{"$f":"IF(ISERROR(VLOOKUP(C25,'INDIVIDUAL SCORES'!$A$76:$Q$2800,15,FALSE)),\"\",VLOOKUP(C25,'INDIVIDUAL SCORES'!$A$76:$Q$2800,15,FALSE))","v":41},{"$f":"IF(ISERROR(VLOOKUP(C25,'INDIVIDUAL SCORES'!$A$76:$Q$2800,17,FALSE)),\"\",VLOOKUP(C25,'INDIVIDUAL SCORES'!$A$76:$Q$2800,17,FALSE))","v":"2012-08-22"}]
[null,"Sub17",{"$f":"IF(ISERROR(VLOOKUP(B26,'LEAGUE MEMBERSHIP'!E:G,3,FALSE)),\"\",VLOOKUP(B26,'LEAGUE MEMBERSHIP'!E:G,3,FALSE))","v":"RGL-064"},{"$f":"IF(ISERROR(VLOOKUP(B26,'LEAGUE MEMBERSHIP'!E:F,2,FALSE)),\"\",VLOOKUP(B26,'LEAGUE MEMBERSHIP'!E:F,2,FALSE))","v":"Deb Passios"},{"$f":"IF(ISERROR(VLOOKUP(C26,'CONTACT INFO'!E:H,4,FALSE)),\"\",IF(VLOOKUP(C26,'CONTACT INFO'!E:H,4,FALSE)=\"\",\"\",VLOOKUP(C26,'CONTACT INFO'!E:H,4,FALSE)))","v":"(978) 582-9930"},{"$f":"IF(ISERROR(VLOOKUP(C26,'INDIVIDUAL SCORES'!$A$76:$Q$2800,16,FALSE)),\"\",VLOOKUP(C26,'INDIVIDUAL SCORES'!$A$76:$Q$2800,16,FALSE))","v":15},{"$f":"IF(ISERROR(VLOOKUP(C26,'INDIVIDUAL SCORES'!$A$76:$Q$2800,15,FALSE)),\"\",VLOOKUP(C26,'INDIVIDUAL SCORES'!$A$76:$Q$2800,15,FALSE))","v":56},{"$f":"IF(ISERROR(VLOOKUP(C26,'INDIVIDUAL SCORES'!$A$76:$Q$2800,17,FALSE)),\"\",VLOOKUP(C26,'INDIVIDUAL SCORES'!$A$76:$Q$2800,17,FALSE))","v":"2012-08-29"}]
[null,"Sub18",{"$f":"IF(ISERROR(VLOOKUP(B27,'LEAGUE MEMBERSHIP'!E:G,3,FALSE)),\"\",VLOOKUP(B27,'LEAGUE MEMBERSHIP'!E:G,3,FALSE))","v":"RGL-030"},{"$f":"IF(ISERROR(VLOOKUP(B27,'LEAGUE MEMBERSHIP'!E:F,2,FALSE)),\"\",VLOOKUP(B27,'LEAGUE MEMBERSHIP'!E:F,2,FALSE))","v":"Joe Pearson"},{"$f":"IF(ISERROR(VLOOKUP(C27,'CONTACT INFO'!E:H,4,FALSE)),\"\",IF(VLOOKUP(C27,'CONTACT INFO'!E:H,4,FALSE)=\"\",\"\",VLOOKUP(C27,'CONTACT INFO'!E:H,4,FALSE)))","v":"(978) 340-6277"},{"$f":"IF(ISERROR(VLOOKUP(C27,'INDIVIDUAL SCORES'!$A$76:$Q$2800,16,FALSE)),\"\",VLOOKUP(C27,'INDIVIDUAL SCORES'!$A$76:$Q$2800,16,FALSE))","v":11},{"$f":"IF(ISERROR(VLOOKUP(C27,'INDIVIDUAL SCORES'!$A$76:$Q$2800,15,FALSE)),\"\",VLOOKUP(C27,'INDIVIDUAL SCORES'!$A$76:$Q$2800,15,FALSE))","v":49},{"$f":"IF(ISERROR(VLOOKUP(C27,'INDIVIDUAL SCORES'!$A$76:$Q$2800,17,FALSE)),\"\",VLOOKUP(C27,'INDIVIDUAL SCORES'!$A$76:$Q$2800,17,FALSE))","v":"2013-05-15"}]
[null,"Sub19",{"$f":"IF(ISERROR(VLOOKUP(B28,'LEAGUE MEMBERSHIP'!E:G,3,FALSE)),\"\",VLOOKUP(B28,'LEAGUE MEMBERSHIP'!E:G,3,FALSE))","v":"RGL-017"},{"$f":"IF(ISERROR(VLOOKUP(B28,'LEAGUE MEMBERSHIP'!E:F,2,FALSE)),\"\",VLOOKUP(B28,'LEAGUE MEMBERSHIP'!E:F,2,FALSE))","v":"Audrey Henderson"},{"$f":"IF(ISERROR(VLOOKUP(C28,'CONTACT INFO'!E:H,4,FALSE)),\"\",IF(VLOOKUP(C28,'CONTACT INFO'!E:H,4,FALSE)=\"\",\"\",VLOOKUP(C28,'CONTACT INFO'!E:H,4,FALSE)))","v":"(978) 632-5543"},{"$f":"IF(ISERROR(VLOOKUP(C28,'INDIVIDUAL SCORES'!$A$76:$Q$2800,16,FALSE)),\"\",VLOOKUP(C28,'INDIVIDUAL SCORES'!$A$76:$Q$2800,16,FALSE))","v":15},{"$f":"IF(ISERROR(VLOOKUP(C28,'INDIVIDUAL SCORES'!$A$76:$Q$2800,15,FALSE)),\"\",VLOOKUP(C28,'INDIVIDUAL SCORES'!$A$76:$Q$2800,15,FALSE))","v":58},{"$f":"IF(ISERROR(VLOOKUP(C28,'INDIVIDUAL SCORES'!$A$76:$Q$2800,17,FALSE)),\"\",VLOOKUP(C28,'INDIVIDUAL SCORES'!$A$76:$Q$2800,17,FALSE))","v":"2013-06-19"}]
[null,"Sub20",{"$f":"IF(ISERROR(VLOOKUP(B29,'LEAGUE MEMBERSHIP'!E:G,3,FALSE)),\"\",VLOOKUP(B29,'LEAGUE MEMBERSHIP'!E:G,3,FALSE))","v":"RGL-038"},{"$f":"IF(ISERROR(VLOOKUP(B29,'LEAGUE MEMBERSHIP'!E:F,2,FALSE)),\"\",VLOOKUP(B29,'LEAGUE MEMBERSHIP'!E:F,2,FALSE))","v":"David St. Jean"},{"$f":"IF(ISERROR(VLOOKUP(C29,'CONTACT INFO'!E:H,4,FALSE)),\"\",IF(VLOOKUP(C29,'CONTACT INFO'!E:H,4,FALSE)=\"\",\"\",VLOOKUP(C29,'CONTACT INFO'!E:H,4,FALSE)))","v":"(978) 249-7869"},{"$f":"IF(ISERROR(VLOOKUP(C29,'INDIVIDUAL SCORES'!$A$76:$Q$2800,16,FALSE)),\"\",VLOOKUP(C29,'INDIVIDUAL SCORES'!$A$76:$Q$2800,16,FALSE))","v":10},{"$f":"IF(ISERROR(VLOOKUP(C29,'INDIVIDUAL SCORES'!$A$76:$Q$2800,15,FALSE)),\"\",VLOOKUP(C29,'INDIVIDUAL SCORES'!$A$76:$Q$2800,15,FALSE))","v":46},{"$f":"IF(ISERROR(VLOOKUP(C29,'INDIVIDUAL SCORES'!$A$76:$Q$2800,17,FALSE)),\"\",VLOOKUP(C29,'INDIVIDUAL SCORES'!$A$76:$Q$2800,17,FALSE))","v":"2012-09-05"}]
[null,"Sub21",{"$f":"IF(ISERROR(VLOOKUP(B30,'LEAGUE MEMBERSHIP'!E:G,3,FALSE)),\"\",VLOOKUP(B30,'LEAGUE MEMBERSHIP'!E:G,3,FALSE))","v":"RGL-039"},{"$f":"IF(ISERROR(VLOOKUP(B30,'LEAGUE MEMBERSHIP'!E:F,2,FALSE)),\"\",VLOOKUP(B30,'LEAGUE MEMBERSHIP'!E:F,2,FALSE))","v":"Dennis St. Jean"},{"$f":"IF(ISERROR(VLOOKUP(C30,'CONTACT INFO'!E:H,4,FALSE)),\"\",IF(VLOOKUP(C30,'CONTACT INFO'!E:H,4,FALSE)=\"\",\"\",VLOOKUP(C30,'CONTACT INFO'!E:H,4,FALSE)))","v":"(978) 874-2835"},{"$f":"IF(ISERROR(VLOOKUP(C30,'INDIVIDUAL SCORES'!$A$76:$Q$2800,16,FALSE)),\"\",VLOOKUP(C30,'INDIVIDUAL SCORES'!$A$76:$Q$2800,16,FALSE))","v":7},{"$f":"IF(ISERROR(VLOOKUP(C30,'INDIVIDUAL SCORES'!$A$76:$Q$2800,15,FALSE)),\"\",VLOOKUP(C30,'INDIVIDUAL SCORES'!$A$76:$Q$2800,15,FALSE))","v":46},{"$f":"IF(ISERROR(VLOOKUP(C30,'INDIVIDUAL SCORES'!$A$76:$Q$2800,17,FALSE)),\"\",VLOOKUP(C30,'INDIVIDUAL SCORES'!$A$76:$Q$2800,17,FALSE))","v":"2012-09-05"}]
[null,"Sub22",{"$f":"IF(ISERROR(VLOOKUP(B31,'LEAGUE MEMBERSHIP'!E:G,3,FALSE)),\"\",VLOOKUP(B31,'LEAGUE MEMBERSHIP'!E:G,3,FALSE))","v":"RGL-049"},{"$f":"IF(ISERROR(VLOOKUP(B31,'LEAGUE MEMBERSHIP'!E:F,2,FALSE)),\"\",VLOOKUP(B31,'LEAGUE MEMBERSHIP'!E:F,2,FALSE))","v":"Joe Fratticelli"},{"$f":"IF(ISERROR(VLOOKUP(C31,'CONTACT INFO'!E:H,4,FALSE)),\"\",IF(VLOOKUP(C31,'CONTACT INFO'!E:H,4,FALSE)=\"\",\"\",VLOOKUP(C31,'CONTACT INFO'!E:H,4,FALSE)))","v":""},{"$f":"IF(ISERROR(VLOOKUP(C31,'INDIVIDUAL SCORES'!$A$76:$Q$2800,16,FALSE)),\"\",VLOOKUP(C31,'INDIVIDUAL SCORES'!$A$76:$Q$2800,16,FALSE))","v":15},{"$f":"IF(ISERROR(VLOOKUP(C31,'INDIVIDUAL SCORES'!$A$76:$Q$2800,15,FALSE)),\"\",VLOOKUP(C31,'INDIVIDUAL SCORES'!$A$76:$Q$2800,15,FALSE))","v":46},{"$f":"IF(ISERROR(VLOOKUP(C31,'INDIVIDUAL SCORES'!$A$76:$Q$2800,17,FALSE)),\"\",VLOOKUP(C31,'INDIVIDUAL SCORES'!$A$76:$Q$2800,17,FALSE))","v":"2013-05-01"}]
[null,"Sub23",{"$f":"IF(ISERROR(VLOOKUP(B32,'LEAGUE MEMBERSHIP'!E:G,3,FALSE)),\"\",VLOOKUP(B32,'LEAGUE MEMBERSHIP'!E:G,3,FALSE))","v":"RGL-052"},{"$f":"IF(ISERROR(VLOOKUP(B32,'LEAGUE MEMBERSHIP'!E:F,2,FALSE)),\"\",VLOOKUP(B32,'LEAGUE MEMBERSHIP'!E:F,2,FALSE))","v":"Pete Collette"},{"$f":"IF(ISERROR(VLOOKUP(C32,'CONTACT INFO'!E:H,4,FALSE)),\"\",IF(VLOOKUP(C32,'CONTACT INFO'!E:H,4,FALSE)=\"\",\"\",VLOOKUP(C32,'CONTACT INFO'!E:H,4,FALSE)))","v":""},{"$f":"IF(ISERROR(VLOOKUP(C32,'INDIVIDUAL SCORES'!$A$76:$Q$2800,16,FALSE)),\"\",VLOOKUP(C32,'INDIVIDUAL SCORES'!$A$76:$Q$2800,16,FALSE))","v":6},{"$f":"IF(ISERROR(VLOOKUP(C32,'INDIVIDUAL SCORES'!$A$76:$Q$2800,15,FALSE)),\"\",VLOOKUP(C32,'INDIVIDUAL SCORES'!$A$76:$Q$2800,15,FALSE))","v":51},{"$f":"IF(ISERROR(VLOOKUP(C32,'INDIVIDUAL SCORES'!$A$76:$Q$2800,17,FALSE)),\"\",VLOOKUP(C32,'INDIVIDUAL SCORES'!$A$76:$Q$2800,17,FALSE))","v":"2013-06-12"}]
[null,"Sub24",{"$f":"IF(ISERROR(VLOOKUP(B33,'LEAGUE MEMBERSHIP'!E:G,3,FALSE)),\"\",VLOOKUP(B33,'LEAGUE MEMBERSHIP'!E:G,3,FALSE))","v":"RGL-054"},{"$f":"IF(ISERROR(VLOOKUP(B33,'LEAGUE MEMBERSHIP'!E:F,2,FALSE)),\"\",VLOOKUP(B33,'LEAGUE MEMBERSHIP'!E:F,2,FALSE))","v":"Shane McCarthy"},{"$f":"IF(ISERROR(VLOOKUP(C33,'CONTACT INFO'!E:H,4,FALSE)),\"\",IF(VLOOKUP(C33,'CONTACT INFO'!E:H,4,FALSE)=\"\",\"\",VLOOKUP(C33,'CONTACT INFO'!E:H,4,FALSE)))","v":""},{"$f":"IF(ISERROR(VLOOKUP(C33,'INDIVIDUAL SCORES'!$A$76:$Q$2800,16,FALSE)),\"\",VLOOKUP(C33,'INDIVIDUAL SCORES'!$A$76:$Q$2800,16,FALSE))","v":4},{"$f":"IF(ISERROR(VLOOKUP(C33,'INDIVIDUAL SCORES'!$A$76:$Q$2800,15,FALSE)),\"\",VLOOKUP(C33,'INDIVIDUAL SCORES'!$A$76:$Q$2800,15,FALSE))","v":51},{"$f":"IF(ISERROR(VLOOKUP(C33,'INDIVIDUAL SCORES'!$A$76:$Q$2800,17,FALSE)),\"\",VLOOKUP(C33,'INDIVIDUAL SCORES'!$A$76:$Q$2800,17,FALSE))","v":"2013-07-03"}]
[null,"Sub25",{"$f":"IF(ISERROR(VLOOKUP(B34,'LEAGUE MEMBERSHIP'!E:G,3,FALSE)),\"\",VLOOKUP(B34,'LEAGUE MEMBERSHIP'!E:G,3,FALSE))","v":"RGL-067"},{"$f":"IF(ISERROR(VLOOKUP(B34,'LEAGUE MEMBERSHIP'!E:F,2,FALSE)),\"\",VLOOKUP(B34,'LEAGUE MEMBERSHIP'!E:F,2,FALSE))","v":"Brenda Louney"},"(978) 423-6772",{"$f":"IF(ISERROR(VLOOKUP(C34,'INDIVIDUAL SCORES'!$A$76:$Q$2800,16,FALSE)),\"\",VLOOKUP(C34,'INDIVIDUAL SCORES'!$A$76:$Q$2800,16,FALSE))","v":10},{"$f":"IF(ISERROR(VLOOKUP(C34,'INDIVIDUAL SCORES'!$A$76:$Q$2800,15,FALSE)),\"\",VLOOKUP(C34,'INDIVIDUAL SCORES'!$A$76:$Q$2800,15,FALSE))","v":49},{"$f":"IF(ISERROR(VLOOKUP(C34,'INDIVIDUAL SCORES'!$A$76:$Q$2800,17,FALSE)),\"\",VLOOKUP(C34,'INDIVIDUAL SCORES'!$A$76:$Q$2800,17,FALSE))","v":"Calc."}]
[null,"Sub26",{"$f":"IF(ISERROR(VLOOKUP(B35,'LEAGUE MEMBERSHIP'!E:G,3,FALSE)),\"\",VLOOKUP(B35,'LEAGUE MEMBERSHIP'!E:G,3,FALSE))","v":"RGL-068"},{"$f":"IF(ISERROR(VLOOKUP(B35,'LEAGUE MEMBERSHIP'!E:F,2,FALSE)),\"\",VLOOKUP(B35,'LEAGUE MEMBERSHIP'!E:F,2,FALSE))","v":"Mark Louney"},{"$f":"IF(ISERROR(VLOOKUP(C35,'CONTACT INFO'!E:H,4,FALSE)),\"\",IF(VLOOKUP(C35,'CONTACT INFO'!E:H,4,FALSE)=\"\",\"\",VLOOKUP(C35,'CONTACT INFO'!E:H,4,FALSE)))","v":"(978) 342-3503"},{"$f":"IF(ISERROR(VLOOKUP(C35,'INDIVIDUAL SCORES'!$A$76:$Q$2800,16,FALSE)),\"\",VLOOKUP(C35,'INDIVIDUAL SCORES'!$A$76:$Q$2800,16,FALSE))","v":2},{"$f":"IF(ISERROR(VLOOKUP(C35,'INDIVIDUAL SCORES'!$A$76:$Q$2800,15,FALSE)),\"\",VLOOKUP(C35,'INDIVIDUAL SCORES'!$A$76:$Q$2800,15,FALSE))","v":49},{"$f":"IF(ISERROR(VLOOKUP(C35,'INDIVIDUAL SCORES'!$A$76:$Q$2800,17,FALSE)),\"\",VLOOKUP(C35,'INDIVIDUAL SCORES'!$A$76:$Q$2800,17,FALSE))","v":"2013-07-17"}]
[null,"Sub27",{"$f":"IF(ISERROR(VLOOKUP(B36,'LEAGUE MEMBERSHIP'!E:G,3,FALSE)),\"\",VLOOKUP(B36,'LEAGUE MEMBERSHIP'!E:G,3,FALSE))","v":"RGL-069"},{"$f":"IF(ISERROR(VLOOKUP(B36,'LEAGUE MEMBERSHIP'!E:F,2,FALSE)),\"\",VLOOKUP(B36,'LEAGUE MEMBERSHIP'!E:F,2,FALSE))","v":"Victor Szewczyk"},{"$f":"IF(ISERROR(VLOOKUP(C36,'CONTACT INFO'!E:H,4,FALSE)),\"\",IF(VLOOKUP(C36,'CONTACT INFO'!E:H,4,FALSE)=\"\",\"\",VLOOKUP(C36,'CONTACT INFO'!E:H,4,FALSE)))","v":"(978) 549-7060"},{"$f":"IF(ISERROR(VLOOKUP(C36,'INDIVIDUAL SCORES'!$A$76:$Q$2800,16,FALSE)),\"\",VLOOKUP(C36,'INDIVIDUAL SCORES'!$A$76:$Q$2800,16,FALSE))","v":8},{"$f":"IF(ISERROR(VLOOKUP(C36,'INDIVIDUAL SCORES'!$A$76:$Q$2800,15,FALSE)),\"\",VLOOKUP(C36,'INDIVIDUAL SCORES'!$A$76:$Q$2800,15,FALSE))","v":46},{"$f":"IF(ISERROR(VLOOKUP(C36,'INDIVIDUAL SCORES'!$A$76:$Q$2800,17,FALSE)),\"\",VLOOKUP(C36,'INDIVIDUAL SCORES'!$A$76:$Q$2800,17,FALSE))","v":"2011-07-20"}]
[null,"Sub28",{"$f":"IF(ISERROR(VLOOKUP(B37,'LEAGUE MEMBERSHIP'!E:G,3,FALSE)),\"\",VLOOKUP(B37,'LEAGUE MEMBERSHIP'!E:G,3,FALSE))","v":"RGL-004"},{"$f":"IF(ISERROR(VLOOKUP(B37,'LEAGUE MEMBERSHIP'!E:F,2,FALSE)),\"\",VLOOKUP(B37,'LEAGUE MEMBERSHIP'!E:F,2,FALSE))","v":"Matt Lee"},{"$f":"IF(ISERROR(VLOOKUP(C37,'CONTACT INFO'!E:H,4,FALSE)),\"\",IF(VLOOKUP(C37,'CONTACT INFO'!E:H,4,FALSE)=\"\",\"\",VLOOKUP(C37,'CONTACT INFO'!E:H,4,FALSE)))","v":""},{"$f":"IF(ISERROR(VLOOKUP(C37,'INDIVIDUAL SCORES'!$A$76:$Q$2800,16,FALSE)),\"\",VLOOKUP(C37,'INDIVIDUAL SCORES'!$A$76:$Q$2800,16,FALSE))","v":1},{"$f":"IF(ISERROR(VLOOKUP(C37,'INDIVIDUAL SCORES'!$A$76:$Q$2800,15,FALSE)),\"\",VLOOKUP(C37,'INDIVIDUAL SCORES'!$A$76:$Q$2800,15,FALSE))","v":43},{"$f":"IF(ISERROR(VLOOKUP(C37,'INDIVIDUAL SCORES'!$A$76:$Q$2800,17,FALSE)),\"\",VLOOKUP(C37,'INDIVIDUAL SCORES'!$A$76:$Q$2800,17,FALSE))","v":"2013-08-07"}]
[null,"Sub29",{"$f":"IF(ISERROR(VLOOKUP(B38,'LEAGUE MEMBERSHIP'!E:G,3,FALSE)),\"\",VLOOKUP(B38,'LEAGUE MEMBERSHIP'!E:G,3,FALSE))","v":"RGL-053"},{"$f":"IF(ISERROR(VLOOKUP(B38,'LEAGUE MEMBERSHIP'!E:F,2,FALSE)),\"\",VLOOKUP(B38,'LEAGUE MEMBERSHIP'!E:F,2,FALSE))","v":"Jay Melansom"},{"$f":"IF(ISERROR(VLOOKUP(C38,'CONTACT INFO'!E:H,4,FALSE)),\"\",IF(VLOOKUP(C38,'CONTACT INFO'!E:H,4,FALSE)=\"\",\"\",VLOOKUP(C38,'CONTACT INFO'!E:H,4,FALSE)))","v":""},{"$f":"IF(ISERROR(VLOOKUP(C38,'INDIVIDUAL SCORES'!$A$76:$Q$2800,16,FALSE)),\"\",VLOOKUP(C38,'INDIVIDUAL SCORES'!$A$76:$Q$2800,16,FALSE))","v":1},{"$f":"IF(ISERROR(VLOOKUP(C38,'INDIVIDUAL SCORES'!$A$76:$Q$2800,15,FALSE)),\"\",VLOOKUP(C38,'INDIVIDUAL SCORES'!$A$76:$Q$2800,15,FALSE))","v":40},{"$f":"IF(ISERROR(VLOOKUP(C38,'INDIVIDUAL SCORES'!$A$76:$Q$2800,17,FALSE)),\"\",VLOOKUP(C38,'INDIVIDUAL SCORES'!$A$76:$Q$2800,17,FALSE))","v":"2013-08-21"}]
[null,"Sub30",{"$f":"IF(ISERROR(VLOOKUP(B39,'LEAGUE MEMBERSHIP'!E:G,3,FALSE)),\"\",VLOOKUP(B39,'LEAGUE MEMBERSHIP'!E:G,3,FALSE))","v":""},{"$f":"IF(ISERROR(VLOOKUP(B39,'LEAGUE MEMBERSHIP'!E:F,2,FALSE)),\"\",VLOOKUP(B39,'LEAGUE MEMBERSHIP'!E:F,2,FALSE))","v":""},{"$f":"IF(ISERROR(VLOOKUP(C39,'CONTACT INFO'!E:H,4,FALSE)),\"\",IF(VLOOKUP(C39,'CONTACT INFO'!E:H,4,FALSE)=\"\",\"\",VLOOKUP(C39,'CONTACT INFO'!E:H,4,FALSE)))","v":""},{"$f":"IF(ISERROR(VLOOKUP(C39,'INDIVIDUAL SCORES'!$A$76:$Q$2800,16,FALSE)),\"\",VLOOKUP(C39,'INDIVIDUAL SCORES'!$A$76:$Q$2800,16,FALSE))","v":""},{"$f":"IF(ISERROR(VLOOKUP(C39,'INDIVIDUAL SCORES'!$A$76:$Q$2800,15,FALSE)),\"\",VLOOKUP(C39,'INDIVIDUAL SCORES'!$A$76:$Q$2800,15,FALSE))","v":""},{"$f":"IF(ISERROR(VLOOKUP(C39,'INDIVIDUAL SCORES'!$A$76:$Q$2800,17,FALSE)),\"\",VLOOKUP(C39,'INDIVIDUAL SCORES'!$A$76:$Q$2800,17,FALSE))","v":""}]

{"sheet":"CONTACT INFO","index":33,"n_rows":108,"n_cols":30,"rows_kept":108,"cut":false,"hidden":false,"merged":[]}
[null,null,null,null,null,null,null,null,null,null,null,null,{"$f":"\"(\"&LEFT(H1, 3)&\") \"&RIGHT(LEFT(H1,6),3)&\"-\"&RIGHT(H1,4)","v":"() -"},null,9999999999,null,null,null,null,null,null,null,null,null,null,null,9789780213,978,978,213]
[null,null,null,null,null,null,null,null,null,null,null,null,{"$f":"'COURSE & LEAGUE DETAILS'!B2&\" - \"&'COURSE & LEAGUE DETAILS'!F2","v":"Romano Golf League - 2013"}]
[null,null,null,null,null,null,null,null,null,null,null,null,"Contact Information"]
[]
[]
[]
[]
[]
[null,null,null,null,"Player ID","Team No.","Name","Telephone","E-Mail","ID + Name",null,null,null,{"$f":"LEFT(M9,3)","v":""},{"$f":"LEFT(RIGHT(M9,7),3)","v":""}]
[null,null,null,null,{"$f":"'LEAGUE MEMBERSHIP'!A8","v":"RGL-002"},{"$f":"IF('LEAGUE MEMBERSHIP'!E8=\"\",\"\",'LEAGUE MEMBERSHIP'!E8)","v":"Sub12"},{"$f":"'LEAGUE MEMBERSHIP'!F8","v":"Chris Barry"},{"$f":"IF(VLOOKUP(E10,N:P,2,FALSE)=\"\",\"\",VLOOKUP(E10,N:P,2,FALSE))","v":"(978) 855-2617"},"",{"$f":"E10&\" - \"&G10","v":"RGL-002 - Chris Barry"},null,null,null,"RGL-001","(978) 874-0984"]
[null,null,null,null,{"$f":"'LEAGUE MEMBERSHIP'!A9","v":"RGL-001"},{"$f":"IF('LEAGUE MEMBERSHIP'!E9=\"\",\"\",'LEAGUE MEMBERSHIP'!E9)","v":"Sub1"},{"$f":"'LEAGUE MEMBERSHIP'!F9","v":"Becky Bartkus"},{"$f":"IF(VLOOKUP(E11,N:P,2,FALSE)=\"\",\"\",VLOOKUP(E11,N:P,2,FALSE))","v":"(978) 874-0984"},"",{"$f":"E11&\" - \"&G11","v":"RGL-001 - Becky Bartkus"},null,null,null,"RGL-002","(978) 855-2617"]
[null,null,null,null,{"$f":"'LEAGUE MEMBERSHIP'!A10","v":"RGL-003"},{"$f":"IF('LEAGUE MEMBERSHIP'!E10=\"\",\"\",'LEAGUE MEMBERSHIP'!E10)","v":"17A"},{"$f":"'LEAGUE MEMBERSHIP'!F10","v":"Gary Bittner"},"(978) 874-2642","gary.bittner2@comcast.net","RGL-003 - Gary Bittner",null,null,null,"RGL-003","(978) 874-2642","gary.bittner2@comcast.net"]
[null,null,null,null,{"$f":"'LEAGUE MEMBERSHIP'!A11","v":"RGL-045"},{"$f":"IF('LEAGUE MEMBERSHIP'!E11=\"\",\"\",'LEAGUE MEMBERSHIP'!E11)","v":"18B"},{"$f":"'LEAGUE MEMBERSHIP'!F11","v":"Michelle Bouvier"},"(978) 660-0581","bmochachip5@comcast.net","RGL-045 - Michelle Bouvier",null,null,null,"RGL-004"]
[null,null,null,null,{"$f":"'LEAGUE MEMBERSHIP'!A12","v":"RGL-006"},{"$f":"IF('LEAGUE MEMBERSHIP'!E12=\"\",\"\",'LEAGUE MEMBERSHIP'!E12)","v":"6A"},{"$f":"'LEAGUE MEMBERSHIP'!F12","v":"Vance Butterfield"},"(978) 874-0213","vbutterfield@comcast.net","RGL-006 - Vance Butterfield",null,null,null,"RGL-005","(617) 224-2313 "]
[null,null,null,null,{"$f":"'LEAGUE MEMBERSHIP'!A13","v":"RGL-005"},{"$f":"IF('LEAGUE MEMBERSHIP'!E13=\"\",\"\",'LEAGUE MEMBERSHIP'!E13)","v":"9B"},{"$f":"'LEAGUE MEMBERSHIP'!F13","v":"John Cassin"},"(617) 224-2313 ","","RGL-005 - John Cassin",null,null,null,"RGL-006","(978) 874-0213","vbutterfield@comcast.net"]
[null,null,null,null,{"$f":"'LEAGUE MEMBERSHIP'!A14","v":"RGL-052"},{"$f":"IF('LEAGUE MEMBERSHIP'!E14=\"\",\"\",'LEAGUE MEMBERSHIP'!E14)","v":"Sub23"},{"$f":"'LEAGUE MEMBERSHIP'!F14","v":"Pete Collette"},"","","RGL-052 - Pete Collette",null,null,null,"RGL-007","(978) 537-6562"]
[null,null,null,null,{"$f":"'LEAGUE MEMBERSHIP'!A15","v":"RGL-007"},{"$f":"IF('LEAGUE MEMBERSHIP'!E15=\"\",\"\",'LEAGUE MEMBERSHIP'!E15)","v":"2A"},{"$f":"'LEAGUE MEMBERSHIP'!F15","v":"Dave Cormier"},"(978) 537-6562","","RGL-007 - Dave Cormier",null,null,null,"RGL-008","(978) 537-8647"]
[null,null,null,null,{"$f":"'LEAGUE MEMBERSHIP'!A16","v":"RGL-008"},{"$f":"IF('LEAGUE MEMBERSHIP'!E16=\"\",\"\",'LEAGUE MEMBERSHIP'!E16)","v":"14A"},{"$f":"'LEAGUE MEMBERSHIP'!F16","v":"Doug Cormier"},"(978) 537-8647","","RGL-008 - Doug Cormier",null,null,null,"RGL-009","(978) 874-0487","MikeDauphinais@aol.com"]
[null,null,null,null,{"$f":"'LEAGUE MEMBERSHIP'!A17","v":"RGL-050"},{"$f":"IF('LEAGUE MEMBERSHIP'!E17=\"\",\"\",'LEAGUE MEMBERSHIP'!E17)","v":"12A"},{"$f":"'LEAGUE MEMBERSHIP'!F17","v":"Sal Cuifetti"},"(978) 660-3004","","RGL-050 - Sal Cuifetti",null,null,null,"RGL-010","(978) 928-4028"]
[null,null,null,null,{"$f":"'LEAGUE MEMBERSHIP'!A18","v":"RGL-047"},{"$f":"IF('LEAGUE MEMBERSHIP'!E18=\"\",\"\",'LEAGUE MEMBERSHIP'!E18)","v":"13A"},{"$f":"'LEAGUE MEMBERSHIP'!F18","v":"Kyle Currier"},"","","RGL-047 - Kyle Currier",null,null,null,"RGL-011"]
[null,null,null,null,{"$f":"'LEAGUE MEMBERSHIP'!A19","v":"RGL-009"},{"$f":"IF('LEAGUE MEMBERSHIP'!E19=\"\",\"\",'LEAGUE MEMBERSHIP'!E19)","v":"17B"},{"$f":"'LEAGUE MEMBERSHIP'!F19","v":"Mike Dauphinais"},"(978) 874-0487","MikeDauphinais@aol.com","RGL-009 - Mike Dauphinais",null,null,null,"RGL-012","(978) 632-6500"]
[null,null,null,null,{"$f":"'LEAGUE MEMBERSHIP'!A20","v":"RGL-066"},{"$f":"IF('LEAGUE MEMBERSHIP'!E20=\"\",\"\",'LEAGUE MEMBERSHIP'!E20)","v":"16A"},{"$f":"'LEAGUE MEMBERSHIP'!F20","v":"Deb DeCarolis"},"(508) 517-4414","","RGL-066 - Deb DeCarolis",null,null,null,"RGL-013","(978) 386-7964",""]
[null,null,null,null,{"$f":"'LEAGUE MEMBERSHIP'!A21","v":"RGL-043"},{"$f":"IF('LEAGUE MEMBERSHIP'!E21=\"\",\"\",'LEAGUE MEMBERSHIP'!E21)","v":"16B"},{"$f":"'LEAGUE MEMBERSHIP'!F21","v":"Joey DeCarolis"},"","","RGL-043 - Joey DeCarolis",null,null,null,"RGL-014","(978) 537-3772"]
[null,null,null,null,{"$f":"'LEAGUE MEMBERSHIP'!A22","v":"RGL-051"},{"$f":"IF('LEAGUE MEMBERSHIP'!E22=\"\",\"\",'LEAGUE MEMBERSHIP'!E22)","v":"Sub8"},{"$f":"'LEAGUE MEMBERSHIP'!F22","v":"Yogi DiPasquale"},"(978) 343-4384","","RGL-051 - Yogi DiPasquale",null,null,null,"RGL-015"]
[null,null,null,null,{"$f":"'LEAGUE MEMBERSHIP'!A23","v":"RGL-015"},{"$f":"IF('LEAGUE MEMBERSHIP'!E23=\"\",\"\",'LEAGUE MEMBERSHIP'!E23)","v":"9A"},{"$f":"'LEAGUE MEMBERSHIP'!F23","v":"Mike Doane"},"","","RGL-015 - Mike Doane",null,null,null,"RGL-016","(978) 815-7886","normgamach33@live.com"]
[null,null,null,null,{"$f":"'LEAGUE MEMBERSHIP'!A24","v":"RGL-010"},{"$f":"IF('LEAGUE MEMBERSHIP'!E24=\"\",\"\",'LEAGUE MEMBERSHIP'!E24)","v":"13B"},{"$f":"'LEAGUE MEMBERSHIP'!F24","v":"Walter Drake"},"(978) 928-4028","","RGL-010 - Walter Drake",null,null,null,"RGL-017","(978) 632-5543",""]
[null,null,null,null,{"$f":"'LEAGUE MEMBERSHIP'!A25","v":"RGL-046"},{"$f":"IF('LEAGUE MEMBERSHIP'!E25=\"\",\"\",'LEAGUE MEMBERSHIP'!E25)","v":"10A"},{"$f":"'LEAGUE MEMBERSHIP'!F25","v":"Ron Eckstrom"},"(978) 343-9814","rekstrom@sunbeltnemergers.com","RGL-046 - Ron Eckstrom",null,null,null,"RGL-018","(978) 632-5543"]
[null,null,null,null,{"$f":"'LEAGUE MEMBERSHIP'!A26","v":"RGL-012"},{"$f":"IF('LEAGUE MEMBERSHIP'!E26=\"\",\"\",'LEAGUE MEMBERSHIP'!E26)","v":"15B"},{"$f":"'LEAGUE MEMBERSHIP'!F26","v":"John Elie"},"(978) 632-6500","","RGL-012 - John Elie",null,null,null,"RGL-019","(978) 500-5882",""]
[null,null,null,null,{"$f":"'LEAGUE MEMBERSHIP'!A27","v":"RGL-025"},{"$f":"IF('LEAGUE MEMBERSHIP'!E27=\"\",\"\",'LEAGUE MEMBERSHIP'!E27)","v":"Sub14"},{"$f":"'LEAGUE MEMBERSHIP'!F27","v":"Jeff Erskine"},"(978) 855-0227","jeffreyerskine@comcast.net","RGL-025 - Jeff Erskine",null,null,null,"RGL-020","(978) 874-6125"]
[null,null,null,null,{"$f":"'LEAGUE MEMBERSHIP'!A28","v":"RGL-011"},{"$f":"IF('LEAGUE MEMBERSHIP'!E28=\"\",\"\",'LEAGUE MEMBERSHIP'!E28)","v":"Sub13"},{"$f":"'LEAGUE MEMBERSHIP'!F28","v":"Tom Farias"},"","","RGL-011 - Tom Farias",null,null,null,"RGL-021","(978) 874-1239",""]
[null,null,null,null,{"$f":"'LEAGUE MEMBERSHIP'!A29","v":"RGL-055"},{"$f":"IF('LEAGUE MEMBERSHIP'!E29=\"\",\"\",'LEAGUE MEMBERSHIP'!E29)","v":"20A"},{"$f":"'LEAGUE MEMBERSHIP'!F29","v":"Paul Fontaine"},"(978) 343-4384","","RGL-055 - Paul Fontaine",null,null,null,"RGL-022","(978) 874-0322",""]
[null,null,null,null,{"$f":"'LEAGUE MEMBERSHIP'!A30","v":"RGL-056"},{"$f":"IF('LEAGUE MEMBERSHIP'!E30=\"\",\"\",'LEAGUE MEMBERSHIP'!E30)","v":"Sub7"},{"$f":"'LEAGUE MEMBERSHIP'!F30","v":"PJ Fontaine"},"(978) 855-3266","","RGL-056 - PJ Fontaine",null,null,null,"RGL-023","(978) 874-0322",""]
[null,null,null,null,{"$f":"'LEAGUE MEMBERSHIP'!A31","v":"RGL-057"},{"$f":"IF('LEAGUE MEMBERSHIP'!E31=\"\",\"\",'LEAGUE MEMBERSHIP'!E31)","v":"Sub3"},{"$f":"'LEAGUE MEMBERSHIP'!F31","v":"Mike Forbes"},"(978) 386-7964","","RGL-057 - Mike Forbes",null,null,null,"RGL-024","(978) 874-2604",""]
[null,null,null,null,{"$f":"'LEAGUE MEMBERSHIP'!A32","v":"RGL-049"},{"$f":"IF('LEAGUE MEMBERSHIP'!E32=\"\",\"\",'LEAGUE MEMBERSHIP'!E32)","v":"Sub22"},{"$f":"'LEAGUE MEMBERSHIP'!F32","v":"Joe Fratticelli"},"","","RGL-049 - Joe Fratticelli",null,null,null,"RGL-025","(978) 855-0227","jeffreyerskine@comcast.net"]
[null,null,null,null,{"$f":"'LEAGUE MEMBERSHIP'!A33","v":"RGL-013"},{"$f":"IF('LEAGUE MEMBERSHIP'!E33=\"\",\"\",'LEAGUE MEMBERSHIP'!E33)","v":"Sub9"},{"$f":"'LEAGUE MEMBERSHIP'!F33","v":"Jon Friberg"},"(978) 386-7964","","RGL-013 - Jon Friberg",null,null,null,"RGL-026","(978) 874-2854","DennisPN@aol.com"]
[null,null,null,null,{"$f":"'LEAGUE MEMBERSHIP'!A34","v":"RGL-014"},{"$f":"IF('LEAGUE MEMBERSHIP'!E34=\"\",\"\",'LEAGUE MEMBERSHIP'!E34)","v":"3B"},{"$f":"'LEAGUE MEMBERSHIP'!F34","v":"Don Frigoletto"},"(978) 537-3772","","RGL-014 - Don Frigoletto",null,null,null,"RGL-027","(978) 582-6259","mjkn88@comcast.net"]
[null,null,null,null,{"$f":"'LEAGUE MEMBERSHIP'!A35","v":"RGL-016"},{"$f":"IF('LEAGUE MEMBERSHIP'!E35=\"\",\"\",'LEAGUE MEMBERSHIP'!E35)","v":"18A"},{"$f":"'LEAGUE MEMBERSHIP'!F35","v":"Norm Gamache"},"(978) 815-7886","normgamach33@live.com","RGL-016 - Norm Gamache",null,null,null,"RGL-028","(978) 874-0664",""]
[null,null,null,null,{"$f":"'LEAGUE MEMBERSHIP'!A36","v":"RGL-065"},{"$f":"IF('LEAGUE MEMBERSHIP'!E36=\"\",\"\",'LEAGUE MEMBERSHIP'!E36)","v":"Sub10"},{"$f":"'LEAGUE MEMBERSHIP'!F36","v":"Jim Hedlund"},"(978) 668-5183","","RGL-065 - Jim Hedlund",null,null,null,"RGL-029"]
[null,null,null,null,{"$f":"'LEAGUE MEMBERSHIP'!A37","v":"RGL-017"},{"$f":"IF('LEAGUE MEMBERSHIP'!E37=\"\",\"\",'LEAGUE MEMBERSHIP'!E37)","v":"Sub19"},{"$f":"'LEAGUE MEMBERSHIP'!F37","v":"Audrey Henderson"},"(978) 632-5543","","RGL-017 - Audrey Henderson",null,null,null,"RGL-030","(978) 340-6277"]
[null,null,null,null,{"$f":"'LEAGUE MEMBERSHIP'!A38","v":"RGL-018"},{"$f":"IF('LEAGUE MEMBERSHIP'!E38=\"\",\"\",'LEAGUE MEMBERSHIP'!E38)","v":"11A"},{"$f":"'LEAGUE MEMBERSHIP'!F38","v":"Ray Henderson"},"(978) 632-5543","","RGL-018 - Ray Henderson",null,null,null,"RGL-031"]
[null,null,null,null,{"$f":"'LEAGUE MEMBERSHIP'!A39","v":"RGL-019"},{"$f":"IF('LEAGUE MEMBERSHIP'!E39=\"\",\"\",'LEAGUE MEMBERSHIP'!E39)","v":"15A"},{"$f":"'LEAGUE MEMBERSHIP'!F39","v":"Tim Hurley"},"(978) 500-5882","","RGL-019 - Tim Hurley",null,null,null,"RGL-032","(978) 874-0478",""]
[null,null,null,null,{"$f":"'LEAGUE MEMBERSHIP'!A40","v":"RGL-020"},{"$f":"IF('LEAGUE MEMBERSHIP'!E40=\"\",\"\",'LEAGUE MEMBERSHIP'!E40)","v":"7B"},{"$f":"'LEAGUE MEMBERSHIP'!F40","v":"Dave Hyre"},"(978) 874-6125","","RGL-020 - Dave Hyre",null,null,null,"RGL-033","(978) 874-0478","prsquare@verizon.net"]
[null,null,null,null,{"$f":"'LEAGUE MEMBERSHIP'!A41","v":"RGL-021"},{"$f":"IF('LEAGUE MEMBERSHIP'!E41=\"\",\"\",'LEAGUE MEMBERSHIP'!E41)","v":"4B"},{"$f":"'LEAGUE MEMBERSHIP'!F41","v":"Lynn Laroche"},"(978) 874-1239","","RGL-021 - Lynn Laroche",null,null,null,"RGL-034","(978) 345-2614","ralph@rromano.com"]
[null,null,null,null,{"$f":"'LEAGUE MEMBERSHIP'!A42","v":"RGL-022"},{"$f":"IF('LEAGUE MEMBERSHIP'!E42=\"\",\"\",'LEAGUE MEMBERSHIP'!E42)","v":"19A"},{"$f":"'LEAGUE MEMBERSHIP'!F42","v":"Gary Leavenworth"},"(978) 874-0322","","RGL-022 - Gary Leavenworth",null,null,null,"RGL-035","(978) 348-2611"]
[null,null,null,null,{"$f":"'LEAGUE MEMBERSHIP'!A43","v":"RGL-023"},{"$f":"IF('LEAGUE MEMBERSHIP'!E43=\"\",\"\",'LEAGUE MEMBERSHIP'!E43)","v":"19B"},{"$f":"'LEAGUE MEMBERSHIP'!F43","v":"Patty Leavenworth"},"(978) 874-0322","","RGL-023 - Patty Leavenworth",null,null,null,"RGL-036","(978) 874-1291"]
[null,null,null,null,{"$f":"'LEAGUE MEMBERSHIP'!A44","v":"RGL-058"},{"$f":"IF('LEAGUE MEMBERSHIP'!E44=\"\",\"\",'LEAGUE MEMBERSHIP'!E44)","v":"Sub6"},{"$f":"'LEAGUE MEMBERSHIP'!F44","v":"Scott Leavenworth"},"","","RGL-058 - Scott Leavenworth",null,null,null,"RGL-037","(978) 874-1224",""]
[null,null,null,null,{"$f":"'LEAGUE MEMBERSHIP'!A45","v":"RGL-031"},{"$f":"IF('LEAGUE MEMBERSHIP'!E45=\"\",\"\",'LEAGUE MEMBERSHIP'!E45)","v":"12B"},{"$f":"'LEAGUE MEMBERSHIP'!F45","v":"Paul LeBlanc"},"","","RGL-031 - Paul LeBlanc",null,null,null,"RGL-038","(978) 249-7869"]
[null,null,null,null,{"$f":"'LEAGUE MEMBERSHIP'!A46","v":"RGL-004"},{"$f":"IF('LEAGUE MEMBERSHIP'!E46=\"\",\"\",'LEAGUE MEMBERSHIP'!E46)","v":"Sub28"},{"$f":"'LEAGUE MEMBERSHIP'!F46","v":"Matt Lee"},"","","RGL-004 - Matt Lee",null,null,null,"RGL-039","(978) 874-2835","dennis.stjean@verizon.net"]
[null,null,null,null,{"$f":"'LEAGUE MEMBERSHIP'!A47","v":"RGL-024"},{"$f":"IF('LEAGUE MEMBERSHIP'!E47=\"\",\"\",'LEAGUE MEMBERSHIP'!E47)","v":"1A"},{"$f":"'LEAGUE MEMBERSHIP'!F47","v":"Lester Lockhart"},"(978) 874-2604","","RGL-024 - Lester Lockhart",null,null,null,"RGL-040","(978) 874-0825",""]
[null,null,null,null,{"$f":"'LEAGUE MEMBERSHIP'!A48","v":"RGL-067"},{"$f":"IF('LEAGUE MEMBERSHIP'!E48=\"\",\"\",'LEAGUE MEMBERSHIP'!E48)","v":"Sub25"},{"$f":"'LEAGUE MEMBERSHIP'!F48","v":"Brenda Louney"},"(978) 342-3503","","RGL-067 - Brenda Louney",null,null,null,"RGL-041"]
[null,null,null,null,{"$f":"'LEAGUE MEMBERSHIP'!A49","v":"RGL-068"},{"$f":"IF('LEAGUE MEMBERSHIP'!E49=\"\",\"\",'LEAGUE MEMBERSHIP'!E49)","v":"Sub26"},{"$f":"'LEAGUE MEMBERSHIP'!F49","v":"Mark Louney"},"(978) 342-3503","","RGL-068 - Mark Louney",null,null,null,"RGL-042"]
[null,null,null,null,{"$f":"'LEAGUE MEMBERSHIP'!A50","v":"RGL-054"},{"$f":"IF('LEAGUE MEMBERSHIP'!E50=\"\",\"\",'LEAGUE MEMBERSHIP'!E50)","v":"Sub24"},{"$f":"'LEAGUE MEMBERSHIP'!F50","v":"Shane McCarthy"},"","","RGL-054 - Shane McCarthy",null,null,null,"RGL-043"]
[null,null,null,null,{"$f":"'LEAGUE MEMBERSHIP'!A51","v":"RGL-053"},{"$f":"IF('LEAGUE MEMBERSHIP'!E51=\"\",\"\",'LEAGUE MEMBERSHIP'!E51)","v":"Sub29"},{"$f":"'LEAGUE MEMBERSHIP'!F51","v":"Jay Melansom"},"","","RGL-053 - Jay Melansom",null,null,null,"RGL-044","(978) 790-6648","zachary.wallace1@facebook.com"]
[null,null,null,null,{"$f":"'LEAGUE MEMBERSHIP'!A52","v":"RGL-026"},{"$f":"IF('LEAGUE MEMBERSHIP'!E52=\"\",\"\",'LEAGUE MEMBERSHIP'!E52)","v":"5A"},{"$f":"'LEAGUE MEMBERSHIP'!F52","v":"Dennis Normandin"},"(978) 874-2854","DennisPN@aol.com","RGL-026 - Dennis Normandin",null,null,null,"RGL-045","(978) 660-0581","bmochachip5@comcast.net"]
[null,null,null,null,{"$f":"'LEAGUE MEMBERSHIP'!A53","v":"RGL-059"},{"$f":"IF('LEAGUE MEMBERSHIP'!E53=\"\",\"\",'LEAGUE MEMBERSHIP'!E53)","v":"Sub5"},{"$f":"'LEAGUE MEMBERSHIP'!F53","v":"Jono Normandin"},"","","RGL-059 - Jono Normandin",null,null,null,"RGL-046","(978) 343-9814","rekstrom@sunbeltnemergers.com"]
[null,null,null,null,{"$f":"'LEAGUE MEMBERSHIP'!A54","v":"RGL-027"},{"$f":"IF('LEAGUE MEMBERSHIP'!E54=\"\",\"\",'LEAGUE MEMBERSHIP'!E54)","v":"5B"},{"$f":"'LEAGUE MEMBERSHIP'!F54","v":"Mark Normandin"},"(978) 582-6259","mjkn88@comcast.net","RGL-027 - Mark Normandin",null,null,null,"RGL-047"]
[null,null,null,null,{"$f":"'LEAGUE MEMBERSHIP'!A55","v":"RGL-028"},{"$f":"IF('LEAGUE MEMBERSHIP'!E55=\"\",\"\",'LEAGUE MEMBERSHIP'!E55)","v":"1B"},{"$f":"'LEAGUE MEMBERSHIP'!F55","v":"Pete Normandin"},"(978) 874-0664","","RGL-028 - Pete Normandin",null,null,null,"RGL-048"]
[null,null,null,null,{"$f":"'LEAGUE MEMBERSHIP'!A56","v":"RGL-064"},{"$f":"IF('LEAGUE MEMBERSHIP'!E56=\"\",\"\",'LEAGUE MEMBERSHIP'!E56)","v":"Sub17"},{"$f":"'LEAGUE MEMBERSHIP'!F56","v":"Deb Passios"},"(978) 582-9930","","RGL-064 - Deb Passios",null,null,null,"RGL-049"]
[null,null,null,null,{"$f":"'LEAGUE MEMBERSHIP'!A57","v":"RGL-030"},{"$f":"IF('LEAGUE MEMBERSHIP'!E57=\"\",\"\",'LEAGUE MEMBERSHIP'!E57)","v":"Sub18"},{"$f":"'LEAGUE MEMBERSHIP'!F57","v":"Joe Pearson"},"(978) 340-6277","","RGL-030 - Joe Pearson",null,null,null,"RGL-050","(978) 660-3004",""]
[null,null,null,null,{"$f":"'LEAGUE MEMBERSHIP'!A58","v":"RGL-042"},{"$f":"IF('LEAGUE MEMBERSHIP'!E58=\"\",\"\",'LEAGUE MEMBERSHIP'!E58)","v":"Sub15"},{"$f":"'LEAGUE MEMBERSHIP'!F58","v":"Jeff Richard"},"","","RGL-042 - Jeff Richard",null,null,null,"RGL-051","(978) 343-4384",""]
[null,null,null,null,{"$f":"'LEAGUE MEMBERSHIP'!A59","v":"RGL-060"},{"$f":"IF('LEAGUE MEMBERSHIP'!E59=\"\",\"\",'LEAGUE MEMBERSHIP'!E59)","v":"10B"},{"$f":"'LEAGUE MEMBERSHIP'!F59","v":"Beth Romano"},"(978) 343-3681","","RGL-060 - Beth Romano",null,null,null,"RGL-052"]
[null,null,null,null,{"$f":"'LEAGUE MEMBERSHIP'!A60","v":"RGL-061"},{"$f":"IF('LEAGUE MEMBERSHIP'!E60=\"\",\"\",'LEAGUE MEMBERSHIP'!E60)","v":"Sub4"},{"$f":"'LEAGUE MEMBERSHIP'!F60","v":"Mike Romano"},"(978) 343-7225","","RGL-061 - Mike Romano",null,null,null,"RGL-053"]
[null,null,null,null,{"$f":"'LEAGUE MEMBERSHIP'!A61","v":"RGL-062"},{"$f":"IF('LEAGUE MEMBERSHIP'!E61=\"\",\"\",'LEAGUE MEMBERSHIP'!E61)","v":"Sub2"},{"$f":"'LEAGUE MEMBERSHIP'!F61","v":"P.J. Romano"},"(978) 827-1453","pjromano@comcast.net","RGL-062 - P.J. Romano",null,null,null,"RGL-054"]
[null,null,null,null,{"$f":"'LEAGUE MEMBERSHIP'!A62","v":"RGL-032"},{"$f":"IF('LEAGUE MEMBERSHIP'!E62=\"\",\"\",'LEAGUE MEMBERSHIP'!E62)","v":"4A"},{"$f":"'LEAGUE MEMBERSHIP'!F62","v":"Peg Romano"},"(978) 874-0478","","RGL-032 - Peg Romano",null,null,null,"RGL-055","(978) 343-4384"]
[null,null,null,null,{"$f":"'LEAGUE MEMBERSHIP'!A63","v":"RGL-033"},{"$f":"IF('LEAGUE MEMBERSHIP'!E63=\"\",\"\",'LEAGUE MEMBERSHIP'!E63)","v":"3A"},{"$f":"'LEAGUE MEMBERSHIP'!F63","v":"Pete Romano"},"(978) 874-0478","prsquare@verizon.net","RGL-033 - Pete Romano",null,null,null,"RGL-056","(978) 855-3266",""]
[null,null,null,null,{"$f":"'LEAGUE MEMBERSHIP'!A64","v":"RGL-034"},{"$f":"IF('LEAGUE MEMBERSHIP'!E64=\"\",\"\",'LEAGUE MEMBERSHIP'!E64)","v":"20B"},{"$f":"'LEAGUE MEMBERSHIP'!F64","v":"Ralph Romano III"},"(978) 345-2614","ralph@rromano.com","RGL-034 - Ralph Romano III",null,null,null,"RGL-057","(978) 386-7964",""]
[null,null,null,null,{"$f":"'LEAGUE MEMBERSHIP'!A65","v":"RGL-035"},{"$f":"IF('LEAGUE MEMBERSHIP'!E65=\"\",\"\",'LEAGUE MEMBERSHIP'!E65)","v":"14B"},{"$f":"'LEAGUE MEMBERSHIP'!F65","v":"Ralph Romano, Jr."},"(978) 348-2611","","RGL-035 - Ralph Romano, Jr.",null,null,null,"RGL-058"]
[null,null,null,null,{"$f":"'LEAGUE MEMBERSHIP'!A66","v":"RGL-036"},{"$f":"IF('LEAGUE MEMBERSHIP'!E66=\"\",\"\",'LEAGUE MEMBERSHIP'!E66)","v":"7A"},{"$f":"'LEAGUE MEMBERSHIP'!F66","v":"Steve Scapparone"},"(978) 874-1291","","RGL-036 - Steve Scapparone",null,null,null,"RGL-059"]
[null,null,null,null,{"$f":"'LEAGUE MEMBERSHIP'!A67","v":"RGL-037"},{"$f":"IF('LEAGUE MEMBERSHIP'!E67=\"\",\"\",'LEAGUE MEMBERSHIP'!E67)","v":"6B"},{"$f":"'LEAGUE MEMBERSHIP'!F67","v":"Bob Schleyer"},"(978) 874-1224","","RGL-037 - Bob Schleyer",null,null,null,"RGL-060","(978) 343-3681"]
[null,null,null,null,{"$f":"'LEAGUE MEMBERSHIP'!A68","v":"RGL-041"},{"$f":"IF('LEAGUE MEMBERSHIP'!E68=\"\",\"\",'LEAGUE MEMBERSHIP'!E68)","v":"Sub11"},{"$f":"'LEAGUE MEMBERSHIP'!F68","v":"Don Shank"},"","","RGL-041 - Don Shank",null,null,null,"RGL-061","(978) 343-7225"]
[null,null,null,null,{"$f":"'LEAGUE MEMBERSHIP'!A69","v":"RGL-038"},{"$f":"IF('LEAGUE MEMBERSHIP'!E69=\"\",\"\",'LEAGUE MEMBERSHIP'!E69)","v":"Sub20"},{"$f":"'LEAGUE MEMBERSHIP'!F69","v":"David St. Jean"},"(978) 249-7869","","RGL-038 - David St. Jean",null,null,null,"RGL-062","(978) 827-1453","pjromano@comcast.net"]
[null,null,null,null,{"$f":"'LEAGUE MEMBERSHIP'!A70","v":"RGL-039"},{"$f":"IF('LEAGUE MEMBERSHIP'!E70=\"\",\"\",'LEAGUE MEMBERSHIP'!E70)","v":"Sub21"},{"$f":"'LEAGUE MEMBERSHIP'!F70","v":"Dennis St. Jean"},"(978) 874-2835","dennis.stjean@verizon.net","RGL-039 - Dennis St. Jean",null,null,null,"RGL-063","(978) 874-0825","msunderland812@msn.com"]
[null,null,null,null,{"$f":"'LEAGUE MEMBERSHIP'!A71","v":"RGL-029"},{"$f":"IF('LEAGUE MEMBERSHIP'!E71=\"\",\"\",'LEAGUE MEMBERSHIP'!E71)","v":"Sub16"},{"$f":"'LEAGUE MEMBERSHIP'!F71","v":"Paul Stedman"},"","","RGL-029 - Paul Stedman",null,null,null,"RGL-064","(978) 582-9930"]
[null,null,null,null,{"$f":"'LEAGUE MEMBERSHIP'!A72","v":"RGL-040"},{"$f":"IF('LEAGUE MEMBERSHIP'!E72=\"\",\"\",'LEAGUE MEMBERSHIP'!E72)","v":"8B"},{"$f":"'LEAGUE MEMBERSHIP'!F72","v":"Debbie Sunderland"},"(978) 874-0825","","RGL-040 - Debbie Sunderland",null,null,null,"RGL-065","(978) 668-5183"]
[null,null,null,null,{"$f":"'LEAGUE MEMBERSHIP'!A73","v":"RGL-063"},{"$f":"IF('LEAGUE MEMBERSHIP'!E73=\"\",\"\",'LEAGUE MEMBERSHIP'!E73)","v":"8A"},{"$f":"'LEAGUE MEMBERSHIP'!F73","v":"Mike Sunderland"},{"$f":"IF(VLOOKUP(E75,N:P,2,FALSE)=\"\",\"\",VLOOKUP(E75,N:P,2,FALSE))","v":"(978) 874-0825"},"msunderland812@msn.com",{"$f":"E75&\" - \"&G75","v":"RGL-063 - Mike Sunderland"},null,null,null,"RGL-066","(508) 517-4414",""]
[null,null,null,null,{"$f":"'LEAGUE MEMBERSHIP'!A74","v":"RGL-069"},{"$f":"IF('LEAGUE MEMBERSHIP'!E74=\"\",\"\",'LEAGUE MEMBERSHIP'!E74)","v":"Sub27"},{"$f":"'LEAGUE MEMBERSHIP'!F74","v":"Victor Szewczyk"},"(978) 549-7060","","RGL-069 - Victor Szewczyk",null,null,null,"RGL-067","(978) 342-3503"]
[null,null,null,null,{"$f":"'LEAGUE MEMBERSHIP'!A75","v":"RGL-044"},{"$f":"IF('LEAGUE MEMBERSHIP'!E75=\"\",\"\",'LEAGUE MEMBERSHIP'!E75)","v":"11B"},{"$f":"'LEAGUE MEMBERSHIP'!F75","v":"Zachary Wallace"},"(978) 790-6648","zachary.wallace1@facebook.com","RGL-044 - Zachary Wallace",null,null,null,"RGL-068","(978) 342-3503"]
[null,null,null,null,{"$f":"'LEAGUE MEMBERSHIP'!A76","v":"RGL-048"},{"$f":"IF('LEAGUE MEMBERSHIP'!E76=\"\",\"\",'LEAGUE MEMBERSHIP'!E76)","v":"2B"},{"$f":"'LEAGUE MEMBERSHIP'!F76","v":"Adam Williamson"},"","","RGL-048 - Adam Williamson",null,null,null,"RGL-069","(978) 549-7060"]
[null,null,null,null,{"$f":"'LEAGUE MEMBERSHIP'!A77","v":"RGL-070"},{"$f":"IF('LEAGUE MEMBERSHIP'!E77=\"\",\"\",'LEAGUE MEMBERSHIP'!E77)","v":""},{"$f":"'LEAGUE MEMBERSHIP'!F77","v":" "},"","","RGL-070 -  ",null,null,null,"RGL-070"]
[null,null,null,null,{"$f":"'LEAGUE MEMBERSHIP'!A78","v":"RGL-071"},{"$f":"IF('LEAGUE MEMBERSHIP'!E78=\"\",\"\",'LEAGUE MEMBERSHIP'!E78)","v":""},{"$f":"'LEAGUE MEMBERSHIP'!F78","v":" "},"","","RGL-071 -  ",null,null,null,"RGL-071"]
[null,null,null,null,{"$f":"'LEAGUE MEMBERSHIP'!A79","v":"RGL-072"},{"$f":"IF('LEAGUE MEMBERSHIP'!E79=\"\",\"\",'LEAGUE MEMBERSHIP'!E79)","v":""},{"$f":"'LEAGUE MEMBERSHIP'!F79","v":" "},"","","RGL-072 -  ",null,null,null,"RGL-072"]
[null,null,null,null,{"$f":"'LEAGUE MEMBERSHIP'!A80","v":"RGL-073"},{"$f":"IF('LEAGUE MEMBERSHIP'!E80=\"\",\"\",'LEAGUE MEMBERSHIP'!E80)","v":""},{"$f":"'LEAGUE MEMBERSHIP'!F80","v":" "},"","","RGL-073 -  ",null,null,null,"RGL-073"]
[null,null,null,null,{"$f":"'LEAGUE MEMBERSHIP'!A81","v":"RGL-074"},{"$f":"IF('LEAGUE MEMBERSHIP'!E81=\"\",\"\",'LEAGUE MEMBERSHIP'!E81)","v":""},{"$f":"'LEAGUE MEMBERSHIP'!F81","v":" "},"","","RGL-074 -  ",null,null,null,"RGL-074"]
[null,null,null,null,{"$f":"'LEAGUE MEMBERSHIP'!A82","v":"RGL-075"},{"$f":"IF('LEAGUE MEMBERSHIP'!E82=\"\",\"\",'LEAGUE MEMBERSHIP'!E82)","v":""},{"$f":"'LEAGUE MEMBERSHIP'!F82","v":" "},"","","RGL-075 -  ",null,null,null,"RGL-075"]
[null,null,null,null,{"$f":"'LEAGUE MEMBERSHIP'!A83","v":"RGL-076"},{"$f":"IF('LEAGUE MEMBERSHIP'!E83=\"\",\"\",'LEAGUE MEMBERSHIP'!E83)","v":""},{"$f":"'LEAGUE MEMBERSHIP'!F83","v":" "},"","","RGL-076 -  ",null,null,null,"RGL-076"]
[null,null,null,null,{"$f":"'LEAGUE MEMBERSHIP'!A84","v":"RGL-077"},{"$f":"IF('LEAGUE MEMBERSHIP'!E84=\"\",\"\",'LEAGUE MEMBERSHIP'!E84)","v":""},{"$f":"'LEAGUE MEMBERSHIP'!F84","v":" "},"","","RGL-077 -  ",null,null,null,"RGL-077"]
[null,null,null,null,{"$f":"'LEAGUE MEMBERSHIP'!A85","v":"RGL-078"},{"$f":"IF('LEAGUE MEMBERSHIP'!E85=\"\",\"\",'LEAGUE MEMBERSHIP'!E85)","v":""},{"$f":"'LEAGUE MEMBERSHIP'!F85","v":" "},"","","RGL-078 -  ",null,null,null,"RGL-078"]
[null,null,null,null,{"$f":"'LEAGUE MEMBERSHIP'!A86","v":"RGL-079"},{"$f":"IF('LEAGUE MEMBERSHIP'!E86=\"\",\"\",'LEAGUE MEMBERSHIP'!E86)","v":""},{"$f":"'LEAGUE MEMBERSHIP'!F86","v":" "},"","","RGL-079 -  ",null,null,null,"RGL-079"]
[null,null,null,null,{"$f":"'LEAGUE MEMBERSHIP'!A87","v":"RGL-080"},{"$f":"IF('LEAGUE MEMBERSHIP'!E87=\"\",\"\",'LEAGUE MEMBERSHIP'!E87)","v":""},{"$f":"'LEAGUE MEMBERSHIP'!F87","v":" "},"","","RGL-080 -  ",null,null,null,"RGL-080"]
[null,null,null,null,{"$f":"'LEAGUE MEMBERSHIP'!A88","v":"RGL-081"},{"$f":"IF('LEAGUE MEMBERSHIP'!E88=\"\",\"\",'LEAGUE MEMBERSHIP'!E88)","v":""},{"$f":"'LEAGUE MEMBERSHIP'!F88","v":" "},"","","RGL-081 -  ",null,null,null,"RGL-081"]
[null,null,null,null,{"$f":"'LEAGUE MEMBERSHIP'!A89","v":"RGL-082"},{"$f":"IF('LEAGUE MEMBERSHIP'!E89=\"\",\"\",'LEAGUE MEMBERSHIP'!E89)","v":""},{"$f":"'LEAGUE MEMBERSHIP'!F89","v":" "},"","","RGL-082 -  ",null,null,null,"RGL-082"]
[null,null,null,null,{"$f":"'LEAGUE MEMBERSHIP'!A90","v":"RGL-083"},{"$f":"IF('LEAGUE MEMBERSHIP'!E90=\"\",\"\",'LEAGUE MEMBERSHIP'!E90)","v":""},{"$f":"'LEAGUE MEMBERSHIP'!F90","v":" "},"","","RGL-083 -  ",null,null,null,"RGL-083"]
[null,null,null,null,{"$f":"'LEAGUE MEMBERSHIP'!A91","v":"RGL-084"},{"$f":"IF('LEAGUE MEMBERSHIP'!E91=\"\",\"\",'LEAGUE MEMBERSHIP'!E91)","v":""},{"$f":"'LEAGUE MEMBERSHIP'!F91","v":" "},"","","RGL-084 -  ",null,null,null,"RGL-084"]
[null,null,null,null,{"$f":"'LEAGUE MEMBERSHIP'!A92","v":"RGL-085"},{"$f":"IF('LEAGUE MEMBERSHIP'!E92=\"\",\"\",'LEAGUE MEMBERSHIP'!E92)","v":""},{"$f":"'LEAGUE MEMBERSHIP'!F92","v":" "},"","","RGL-085 -  ",null,null,null,"RGL-085"]
[null,null,null,null,{"$f":"'LEAGUE MEMBERSHIP'!A93","v":"RGL-086"},{"$f":"IF('LEAGUE MEMBERSHIP'!E93=\"\",\"\",'LEAGUE MEMBERSHIP'!E93)","v":""},{"$f":"'LEAGUE MEMBERSHIP'!F93","v":" "},"","","RGL-086 -  ",null,null,null,"RGL-086"]
[null,null,null,null,{"$f":"'LEAGUE MEMBERSHIP'!A94","v":"RGL-087"},{"$f":"IF('LEAGUE MEMBERSHIP'!E94=\"\",\"\",'LEAGUE MEMBERSHIP'!E94)","v":""},{"$f":"'LEAGUE MEMBERSHIP'!F94","v":" "},"","","RGL-087 -  ",null,null,null,"RGL-087"]
[null,null,null,null,{"$f":"'LEAGUE MEMBERSHIP'!A95","v":"RGL-088"},{"$f":"IF('LEAGUE MEMBERSHIP'!E95=\"\",\"\",'LEAGUE MEMBERSHIP'!E95)","v":""},{"$f":"'LEAGUE MEMBERSHIP'!F95","v":" "},"","","RGL-088 -  ",null,null,null,"RGL-088"]
[null,null,null,null,{"$f":"'LEAGUE MEMBERSHIP'!A96","v":"RGL-089"},{"$f":"IF('LEAGUE MEMBERSHIP'!E96=\"\",\"\",'LEAGUE MEMBERSHIP'!E96)","v":""},{"$f":"'LEAGUE MEMBERSHIP'!F96","v":" "},"","","RGL-089 -  ",null,null,null,"RGL-089"]
[null,null,null,null,{"$f":"'LEAGUE MEMBERSHIP'!A97","v":"RGL-090"},{"$f":"IF('LEAGUE MEMBERSHIP'!E97=\"\",\"\",'LEAGUE MEMBERSHIP'!E97)","v":""},{"$f":"'LEAGUE MEMBERSHIP'!F97","v":" "},"","","RGL-090 -  ",null,null,null,"RGL-090"]
[null,null,null,null,{"$f":"'LEAGUE MEMBERSHIP'!A98","v":"RGL-091"},{"$f":"IF('LEAGUE MEMBERSHIP'!E98=\"\",\"\",'LEAGUE MEMBERSHIP'!E98)","v":""},{"$f":"'LEAGUE MEMBERSHIP'!F98","v":" "},"","","RGL-091 -  ",null,null,null,"RGL-091"]
[null,null,null,null,{"$f":"'LEAGUE MEMBERSHIP'!A99","v":"RGL-092"},{"$f":"IF('LEAGUE MEMBERSHIP'!E99=\"\",\"\",'LEAGUE MEMBERSHIP'!E99)","v":""},{"$f":"'LEAGUE MEMBERSHIP'!F99","v":" "},"","","RGL-092 -  ",null,null,null,"RGL-092"]
[null,null,null,null,{"$f":"'LEAGUE MEMBERSHIP'!A100","v":"RGL-093"},{"$f":"IF('LEAGUE MEMBERSHIP'!E100=\"\",\"\",'LEAGUE MEMBERSHIP'!E100)","v":""},{"$f":"'LEAGUE MEMBERSHIP'!F100","v":" "},"","","RGL-093 -  ",null,null,null,"RGL-093"]
[null,null,null,null,{"$f":"'LEAGUE MEMBERSHIP'!A101","v":"RGL-094"},{"$f":"IF('LEAGUE MEMBERSHIP'!E101=\"\",\"\",'LEAGUE MEMBERSHIP'!E101)","v":""},{"$f":"'LEAGUE MEMBERSHIP'!F101","v":" "},"","","RGL-094 -  ",null,null,null,"RGL-094"]
[null,null,null,null,{"$f":"'LEAGUE MEMBERSHIP'!A102","v":"RGL-095"},{"$f":"IF('LEAGUE MEMBERSHIP'!E102=\"\",\"\",'LEAGUE MEMBERSHIP'!E102)","v":""},{"$f":"'LEAGUE MEMBERSHIP'!F102","v":" "},"","","RGL-095 -  ",null,null,null,"RGL-095"]
[null,null,null,null,{"$f":"'LEAGUE MEMBERSHIP'!A103","v":"RGL-096"},{"$f":"IF('LEAGUE MEMBERSHIP'!E103=\"\",\"\",'LEAGUE MEMBERSHIP'!E103)","v":""},{"$f":"'LEAGUE MEMBERSHIP'!F103","v":" "},"","","RGL-096 -  ",null,null,null,"RGL-096"]
[null,null,null,null,{"$f":"'LEAGUE MEMBERSHIP'!A104","v":"RGL-097"},{"$f":"IF('LEAGUE MEMBERSHIP'!E104=\"\",\"\",'LEAGUE MEMBERSHIP'!E104)","v":""},{"$f":"'LEAGUE MEMBERSHIP'!F104","v":" "},"","","RGL-097 -  ",null,null,null,"RGL-097"]
[null,null,null,null,{"$f":"'LEAGUE MEMBERSHIP'!A105","v":"RGL-098"},{"$f":"IF('LEAGUE MEMBERSHIP'!E105=\"\",\"\",'LEAGUE MEMBERSHIP'!E105)","v":""},{"$f":"'LEAGUE MEMBERSHIP'!F105","v":" "},"","","RGL-098 -  ",null,null,null,"RGL-098"]
[null,null,null,null,null,null,null,""]

{"sheet":"LOW SCORES TABLE","index":34,"n_rows":90,"n_cols":11,"rows_kept":90,"cut":false,"hidden":false,"merged":[]}
["No. Count"]
[1,1,null,null,1,1,null,null,null,1,1]
["Men","Score","Rank",null,"Women","Score","Rank",null,null,"Men","Score"]
[null,null,{"$f":"IFERROR(RANK(B4,B$4:B$90,1),\"\")","v":""},null,null,null,{"$f":"IFERROR(RANK(F4,F$4:F$90,1),\"\")","v":""}]
[null,null,{"$f":"IFERROR(RANK(B5,B$4:B$90,1),\"\")","v":""},null,null,null,{"$f":"IFERROR(RANK(F5,F$4:F$90,1),\"\")","v":""}]
[null,null,{"$f":"IFERROR(RANK(B6,B$4:B$90,1),\"\")","v":""},null,null,null,{"$f":"IFERROR(RANK(F6,F$4:F$90,1),\"\")","v":""}]
[null,null,{"$f":"IFERROR(RANK(B7,B$4:B$90,1),\"\")","v":""},null,null,null,{"$f":"IFERROR(RANK(F7,F$4:F$90,1),\"\")","v":""}]
[null,null,{"$f":"IFERROR(RANK(B8,B$4:B$90,1),\"\")","v":""},null,null,null,{"$f":"IFERROR(RANK(F8,F$4:F$90,1),\"\")","v":""}]
[null,null,{"$f":"IFERROR(RANK(B9,B$4:B$90,1),\"\")","v":""},null,null,null,{"$f":"IFERROR(RANK(F9,F$4:F$90,1),\"\")","v":""}]
[null,null,{"$f":"IFERROR(RANK(B10,B$4:B$90,1),\"\")","v":""},null,null,null,{"$f":"IFERROR(RANK(F10,F$4:F$90,1),\"\")","v":""}]
[null,null,{"$f":"IFERROR(RANK(B11,B$4:B$90,1),\"\")","v":""},null,null,null,{"$f":"IFERROR(RANK(F11,F$4:F$90,1),\"\")","v":""}]
[null,null,{"$f":"IFERROR(RANK(B12,B$4:B$90,1),\"\")","v":""},null,null,null,{"$f":"IFERROR(RANK(F12,F$4:F$90,1),\"\")","v":""}]
[null,null,{"$f":"IFERROR(RANK(B13,B$4:B$90,1),\"\")","v":""},null,null,null,{"$f":"IFERROR(RANK(F13,F$4:F$90,1),\"\")","v":""}]
[null,null,{"$f":"IFERROR(RANK(B14,B$4:B$90,1),\"\")","v":""},null,null,null,{"$f":"IFERROR(RANK(F14,F$4:F$90,1),\"\")","v":""}]
[null,null,{"$f":"IFERROR(RANK(B15,B$4:B$90,1),\"\")","v":""},null,null,null,{"$f":"IFERROR(RANK(F15,F$4:F$90,1),\"\")","v":""}]
[null,null,{"$f":"IFERROR(RANK(B16,B$4:B$90,1),\"\")","v":""},null,null,null,{"$f":"IFERROR(RANK(F16,F$4:F$90,1),\"\")","v":""}]
[null,null,{"$f":"IFERROR(RANK(B17,B$4:B$90,1),\"\")","v":""},null,null,null,{"$f":"IFERROR(RANK(F17,F$4:F$90,1),\"\")","v":""}]
[null,null,{"$f":"IFERROR(RANK(B18,B$4:B$90,1),\"\")","v":""},null,null,null,{"$f":"IFERROR(RANK(F18,F$4:F$90,1),\"\")","v":""}]
[null,null,{"$f":"IFERROR(RANK(B19,B$4:B$90,1),\"\")","v":""},null,null,null,{"$f":"IFERROR(RANK(F19,F$4:F$90,1),\"\")","v":""}]
[null,null,{"$f":"IFERROR(RANK(B20,B$4:B$90,1),\"\")","v":""},null,null,null,{"$f":"IFERROR(RANK(F20,F$4:F$90,1),\"\")","v":""}]
[null,null,{"$f":"IFERROR(RANK(B21,B$4:B$90,1),\"\")","v":""},null,null,null,{"$f":"IFERROR(RANK(F21,F$4:F$90,1),\"\")","v":""}]
[null,null,{"$f":"IFERROR(RANK(B22,B$4:B$90,1),\"\")","v":""},null,null,null,{"$f":"IFERROR(RANK(F22,F$4:F$90,1),\"\")","v":""}]
[null,null,{"$f":"IFERROR(RANK(B23,B$4:B$90,1),\"\")","v":""},null,null,null,{"$f":"IFERROR(RANK(F23,F$4:F$90,1),\"\")","v":""}]
[null,null,{"$f":"IFERROR(RANK(B24,B$4:B$90,1),\"\")","v":""},null,null,null,{"$f":"IFERROR(RANK(F24,F$4:F$90,1),\"\")","v":""}]
[null,null,{"$f":"IFERROR(RANK(B25,B$4:B$90,1),\"\")","v":""},null,null,null,{"$f":"IFERROR(RANK(F25,F$4:F$90,1),\"\")","v":""}]
[null,null,{"$f":"IFERROR(RANK(B26,B$4:B$90,1),\"\")","v":""},null,null,null,{"$f":"IFERROR(RANK(F26,F$4:F$90,1),\"\")","v":""}]
[null,null,{"$f":"IFERROR(RANK(B27,B$4:B$90,1),\"\")","v":""},null,null,null,{"$f":"IFERROR(RANK(F27,F$4:F$90,1),\"\")","v":""}]
[null,null,{"$f":"IFERROR(RANK(B28,B$4:B$90,1),\"\")","v":""},null,null,null,{"$f":"IFERROR(RANK(F28,F$4:F$90,1),\"\")","v":""}]
[null,null,{"$f":"IFERROR(RANK(B29,B$4:B$90,1),\"\")","v":""},null,null,null,{"$f":"IFERROR(RANK(F29,F$4:F$90,1),\"\")","v":""}]
[null,null,{"$f":"IFERROR(RANK(B30,B$4:B$90,1),\"\")","v":""},null,null,null,{"$f":"IFERROR(RANK(F30,F$4:F$90,1),\"\")","v":""}]
[null,null,{"$f":"IFERROR(RANK(B31,B$4:B$90,1),\"\")","v":""},null,null,null,{"$f":"IFERROR(RANK(F31,F$4:F$90,1),\"\")","v":""}]
[null,null,{"$f":"IFERROR(RANK(B32,B$4:B$90,1),\"\")","v":""},null,null,null,{"$f":"IFERROR(RANK(F32,F$4:F$90,1),\"\")","v":""}]
[null,null,{"$f":"IFERROR(RANK(B33,B$4:B$90,1),\"\")","v":""},null,null,null,{"$f":"IFERROR(RANK(F33,F$4:F$90,1),\"\")","v":""}]
[null,null,{"$f":"IFERROR(RANK(B34,B$4:B$90,1),\"\")","v":""},null,null,null,{"$f":"IFERROR(RANK(F34,F$4:F$90,1),\"\")","v":""}]
[null,null,{"$f":"IFERROR(RANK(B35,B$4:B$90,1),\"\")","v":""},null,null,null,{"$f":"IFERROR(RANK(F35,F$4:F$90,1),\"\")","v":""}]
[null,null,{"$f":"IFERROR(RANK(B36,B$4:B$90,1),\"\")","v":""},null,null,null,{"$f":"IFERROR(RANK(F36,F$4:F$90,1),\"\")","v":""}]
[null,null,{"$f":"IFERROR(RANK(B37,B$4:B$90,1),\"\")","v":""},null,null,null,{"$f":"IFERROR(RANK(F37,F$4:F$90,1),\"\")","v":""}]
[null,null,{"$f":"IFERROR(RANK(B38,B$4:B$90,1),\"\")","v":""},null,null,null,{"$f":"IFERROR(RANK(F38,F$4:F$90,1),\"\")","v":""}]
[null,null,{"$f":"IFERROR(RANK(B39,B$4:B$90,1),\"\")","v":""},null,null,null,{"$f":"IFERROR(RANK(F39,F$4:F$90,1),\"\")","v":""}]
[null,null,{"$f":"IFERROR(RANK(B40,B$4:B$90,1),\"\")","v":""},null,null,null,{"$f":"IFERROR(RANK(F40,F$4:F$90,1),\"\")","v":""}]
[null,null,{"$f":"IFERROR(RANK(B41,B$4:B$90,1),\"\")","v":""},null,null,null,{"$f":"IFERROR(RANK(F41,F$4:F$90,1),\"\")","v":""}]
[null,null,{"$f":"IFERROR(RANK(B42,B$4:B$90,1),\"\")","v":""},null,null,null,{"$f":"IFERROR(RANK(F42,F$4:F$90,1),\"\")","v":""}]
[null,null,{"$f":"IFERROR(RANK(B43,B$4:B$90,1),\"\")","v":""},null,null,null,{"$f":"IFERROR(RANK(F43,F$4:F$90,1),\"\")","v":""}]
[null,null,{"$f":"IFERROR(RANK(B44,B$4:B$90,1),\"\")","v":""},null,null,null,{"$f":"IFERROR(RANK(F44,F$4:F$90,1),\"\")","v":""}]
[null,null,{"$f":"IFERROR(RANK(B45,B$4:B$90,1),\"\")","v":""},null,null,null,{"$f":"IFERROR(RANK(F45,F$4:F$90,1),\"\")","v":""}]
[null,null,{"$f":"IFERROR(RANK(B46,B$4:B$90,1),\"\")","v":""},null,null,null,{"$f":"IFERROR(RANK(F46,F$4:F$90,1),\"\")","v":""}]
[null,null,{"$f":"IFERROR(RANK(B47,B$4:B$90,1),\"\")","v":""},null,null,null,{"$f":"IFERROR(RANK(F47,F$4:F$90,1),\"\")","v":""}]
[null,null,{"$f":"IFERROR(RANK(B48,B$4:B$90,1),\"\")","v":""},null,null,null,{"$f":"IFERROR(RANK(F48,F$4:F$90,1),\"\")","v":""}]
[null,null,{"$f":"IFERROR(RANK(B49,B$4:B$90,1),\"\")","v":""},null,null,null,{"$f":"IFERROR(RANK(F49,F$4:F$90,1),\"\")","v":""}]
[null,null,{"$f":"IFERROR(RANK(B50,B$4:B$90,1),\"\")","v":""},null,null,null,{"$f":"IFERROR(RANK(F50,F$4:F$90,1),\"\")","v":""}]
[null,null,{"$f":"IFERROR(RANK(B51,B$4:B$90,1),\"\")","v":""},null,null,null,{"$f":"IFERROR(RANK(F51,F$4:F$90,1),\"\")","v":""}]
[null,null,{"$f":"IFERROR(RANK(B52,B$4:B$90,1),\"\")","v":""},null,null,null,{"$f":"IFERROR(RANK(F52,F$4:F$90,1),\"\")","v":""}]
[null,null,{"$f":"IFERROR(RANK(B53,B$4:B$90,1),\"\")","v":""},null,null,null,{"$f":"IFERROR(RANK(F53,F$4:F$90,1),\"\")","v":""}]
[null,null,{"$f":"IFERROR(RANK(B54,B$4:B$90,1),\"\")","v":""},null,null,null,{"$f":"IFERROR(RANK(F54,F$4:F$90,1),\"\")","v":""}]
[null,null,{"$f":"IFERROR(RANK(B55,B$4:B$90,1),\"\")","v":""},null,null,null,{"$f":"IFERROR(RANK(F55,F$4:F$90,1),\"\")","v":""}]
[null,null,{"$f":"IFERROR(RANK(B56,B$4:B$90,1),\"\")","v":""},null,null,null,{"$f":"IFERROR(RANK(F56,F$4:F$90,1),\"\")","v":""}]
[null,null,{"$f":"IFERROR(RANK(B57,B$4:B$90,1),\"\")","v":""},null,null,null,{"$f":"IFERROR(RANK(F57,F$4:F$90,1),\"\")","v":""}]
[null,null,{"$f":"IFERROR(RANK(B58,B$4:B$90,1),\"\")","v":""},null,null,null,{"$f":"IFERROR(RANK(F58,F$4:F$90,1),\"\")","v":""}]
[null,null,{"$f":"IFERROR(RANK(B59,B$4:B$90,1),\"\")","v":""},null,null,null,{"$f":"IFERROR(RANK(F59,F$4:F$90,1),\"\")","v":""}]
[null,null,{"$f":"IFERROR(RANK(B60,B$4:B$90,1),\"\")","v":""},null,null,null,{"$f":"IFERROR(RANK(F60,F$4:F$90,1),\"\")","v":""}]
[null,null,{"$f":"IFERROR(RANK(B61,B$4:B$90,1),\"\")","v":""},null,null,null,{"$f":"IFERROR(RANK(F61,F$4:F$90,1),\"\")","v":""}]
[null,null,{"$f":"IFERROR(RANK(B62,B$4:B$90,1),\"\")","v":""},null,null,null,{"$f":"IFERROR(RANK(F62,F$4:F$90,1),\"\")","v":""}]
[null,null,{"$f":"IFERROR(RANK(B63,B$4:B$90,1),\"\")","v":""},null,null,null,{"$f":"IFERROR(RANK(F63,F$4:F$90,1),\"\")","v":""}]
[null,null,{"$f":"IFERROR(RANK(B64,B$4:B$90,1),\"\")","v":""},null,null,null,{"$f":"IFERROR(RANK(F64,F$4:F$90,1),\"\")","v":""}]
[null,null,{"$f":"IFERROR(RANK(B65,B$4:B$90,1),\"\")","v":""},null,null,null,{"$f":"IFERROR(RANK(F65,F$4:F$90,1),\"\")","v":""}]
[null,null,{"$f":"IFERROR(RANK(B66,B$4:B$90,1),\"\")","v":""},null,null,null,{"$f":"IFERROR(RANK(F66,F$4:F$90,1),\"\")","v":""}]
[null,null,{"$f":"IFERROR(RANK(B67,B$4:B$90,1),\"\")","v":""},null,null,null,{"$f":"IFERROR(RANK(F67,F$4:F$90,1),\"\")","v":""}]
[null,null,{"$f":"IFERROR(RANK(B68,B$4:B$90,1),\"\")","v":""},null,null,null,{"$f":"IFERROR(RANK(F68,F$4:F$90,1),\"\")","v":""}]
[null,null,{"$f":"IFERROR(RANK(B69,B$4:B$90,1),\"\")","v":""},null,null,null,{"$f":"IFERROR(RANK(F69,F$4:F$90,1),\"\")","v":""}]
[null,null,{"$f":"IFERROR(RANK(B70,B$4:B$90,1),\"\")","v":""},null,null,null,{"$f":"IFERROR(RANK(F70,F$4:F$90,1),\"\")","v":""}]
[null,null,{"$f":"IFERROR(RANK(B71,B$4:B$90,1),\"\")","v":""},null,null,null,{"$f":"IFERROR(RANK(F71,F$4:F$90,1),\"\")","v":""}]
[null,null,{"$f":"IFERROR(RANK(B72,B$4:B$90,1),\"\")","v":""},null,null,null,{"$f":"IFERROR(RANK(F72,F$4:F$90,1),\"\")","v":""}]
[null,null,{"$f":"IFERROR(RANK(B73,B$4:B$90,1),\"\")","v":""},null,null,null,{"$f":"IFERROR(RANK(F73,F$4:F$90,1),\"\")","v":""}]
[null,null,{"$f":"IFERROR(RANK(B74,B$4:B$90,1),\"\")","v":""},null,null,null,{"$f":"IFERROR(RANK(F74,F$4:F$90,1),\"\")","v":""}]
[null,null,{"$f":"IFERROR(RANK(B75,B$4:B$90,1),\"\")","v":""},null,null,null,{"$f":"IFERROR(RANK(F75,F$4:F$90,1),\"\")","v":""}]
[null,null,{"$f":"IFERROR(RANK(B76,B$4:B$90,1),\"\")","v":""},null,null,null,{"$f":"IFERROR(RANK(F76,F$4:F$90,1),\"\")","v":""}]
[null,null,{"$f":"IFERROR(RANK(B77,B$4:B$90,1),\"\")","v":""},null,null,null,{"$f":"IFERROR(RANK(F77,F$4:F$90,1),\"\")","v":""}]
[null,null,{"$f":"IFERROR(RANK(B78,B$4:B$90,1),\"\")","v":""},null,null,null,{"$f":"IFERROR(RANK(F78,F$4:F$90,1),\"\")","v":""}]
[null,null,{"$f":"IFERROR(RANK(B79,B$4:B$90,1),\"\")","v":""},null,null,null,{"$f":"IFERROR(RANK(F79,F$4:F$90,1),\"\")","v":""}]
[null,null,{"$f":"IFERROR(RANK(B80,B$4:B$90,1),\"\")","v":""},null,null,null,{"$f":"IFERROR(RANK(F80,F$4:F$90,1),\"\")","v":""}]
[null,null,{"$f":"IFERROR(RANK(B81,B$4:B$90,1),\"\")","v":""},null,null,null,{"$f":"IFERROR(RANK(F81,F$4:F$90,1),\"\")","v":""}]
[null,null,{"$f":"IFERROR(RANK(B82,B$4:B$90,1),\"\")","v":""},null,null,null,{"$f":"IFERROR(RANK(F82,F$4:F$90,1),\"\")","v":""}]
[null,null,{"$f":"IFERROR(RANK(B83,B$4:B$90,1),\"\")","v":""},null,null,null,{"$f":"IFERROR(RANK(F83,F$4:F$90,1),\"\")","v":""}]
[null,null,{"$f":"IFERROR(RANK(B84,B$4:B$90,1),\"\")","v":""},null,null,null,{"$f":"IFERROR(RANK(F84,F$4:F$90,1),\"\")","v":""}]
[null,null,{"$f":"IFERROR(RANK(B85,B$4:B$90,1),\"\")","v":""},null,null,null,{"$f":"IFERROR(RANK(F85,F$4:F$90,1),\"\")","v":""}]
[null,null,{"$f":"IFERROR(RANK(B86,B$4:B$90,1),\"\")","v":""},null,null,null,{"$f":"IFERROR(RANK(F86,F$4:F$90,1),\"\")","v":""}]
[null,null,{"$f":"IFERROR(RANK(B87,B$4:B$90,1),\"\")","v":""},null,null,null,{"$f":"IFERROR(RANK(F87,F$4:F$90,1),\"\")","v":""}]
[null,null,{"$f":"IFERROR(RANK(B88,B$4:B$90,1),\"\")","v":""},null,null,null,{"$f":"IFERROR(RANK(F88,F$4:F$90,1),\"\")","v":""}]
[null,null,{"$f":"IFERROR(RANK(B89,B$4:B$90,1),\"\")","v":""},null,null,null,{"$f":"IFERROR(RANK(F89,F$4:F$90,1),\"\")","v":""}]
[null,null,{"$f":"IFERROR(RANK(B90,B$4:B$90,1),\"\")","v":""},null,null,null,{"$f":"IFERROR(RANK(F90,F$4:F$90,1),\"\")","v":""}]

{"sheet":"SCHED FOR PRNTG","index":35,"n_rows":82,"n_cols":12,"rows_kept":82,"cut":false,"hidden":false,"merged":[[28,3,28,9],[29,5,29,6],[29,8,29,9],[7,1,7,11]]}
[]
[]
[]
[]
[]
[]
[]
[null,{"$f":"SCHEDULE!C10","v":"Schedule - Second Half 2013"}]
[null,{"$f":"SCHEDULE!C11","v":"Week"},{"$f":"SCHEDULE!D11","v":"Week 1"},{"$f":"SCHEDULE!E11","v":"Week 2"},{"$f":"SCHEDULE!F11","v":"Week 3"},{"$f":"SCHEDULE!G11","v":"Week 4"},{"$f":"SCHEDULE!H11","v":"Week 5"},{"$f":"SCHEDULE!I11","v":"Week 6"},{"$f":"SCHEDULE!J11","v":"Week 7"},{"$f":"SCHEDULE!K11","v":"Week 8"},{"$f":"SCHEDULE!L11","v":"Week 9"},{"$f":"SCHEDULE!M11","v":""}]
[null,{"$f":"SCHEDULE!C12","v":"Date"},{"$f":"SCHEDULE!D12","v":"2013-07-03"},{"$f":"SCHEDULE!E12","v":"2013-07-10"},{"$f":"SCHEDULE!F12","v":"2013-07-17"},{"$f":"SCHEDULE!G12","v":"2013-07-24"},{"$f":"SCHEDULE!H12","v":"2013-07-31"},{"$f":"SCHEDULE!I12","v":"2013-08-07"},{"$f":"SCHEDULE!J12","v":"2013-08-14"},{"$f":"SCHEDULE!K12","v":"2013-08-21"},{"$f":"SCHEDULE!L12","v":"2013-08-28"},{"$f":"SCHEDULE!M12","v":""}]
[null,{"$f":"SCHEDULE!C13","v":"Side"},{"$f":"SCHEDULE!D13","v":"FRONT"},{"$f":"SCHEDULE!E13","v":"BACK"},{"$f":"SCHEDULE!F13","v":"FRONT"},{"$f":"SCHEDULE!G13","v":"BACK"},{"$f":"SCHEDULE!H13","v":"FRONT"},{"$f":"SCHEDULE!I13","v":"BACK"},{"$f":"SCHEDULE!J13","v":"FRONT"},{"$f":"SCHEDULE!K13","v":"BACK"},{"$f":"SCHEDULE!L13","v":"FRONT"},{"$f":"SCHEDULE!M13","v":""}]
[null,{"$f":"SCHEDULE!C14","v":"Tee Time"}]
[null,{"$f":"SCHEDULE!C15","v":"All"}]
[null,{"$f":"SCHEDULE!C16","v":"4:00"},{"$f":"SCHEDULE!D16","v":"11 v 2"},{"$f":"SCHEDULE!E16","v":"12 v 5"},{"$f":"SCHEDULE!F16","v":"1 v 18"},{"$f":"SCHEDULE!G16","v":"14 v 20"},{"$f":"SCHEDULE!H16","v":"15 v 17"},{"$f":"SCHEDULE!I16","v":"14 v 16"},{"$f":"SCHEDULE!J16","v":"5 v 10"},{"$f":"SCHEDULE!K16","v":"7 v 10"},{"$f":"SCHEDULE!L16","v":"4 v 16"},{"$f":"SCHEDULE!M16","v":""}]
[null,{"$f":"SCHEDULE!C17","v":"4:08"},{"$f":"SCHEDULE!D17","v":"16 v 7"},{"$f":"SCHEDULE!E17","v":"18 v 20"},{"$f":"SCHEDULE!F17","v":"14 v 9"},{"$f":"SCHEDULE!G17","v":"3 v 6"},{"$f":"SCHEDULE!H17","v":"5 v 6"},{"$f":"SCHEDULE!I17","v":"13 v 17"},{"$f":"SCHEDULE!J17","v":"11 v 17"},{"$f":"SCHEDULE!K17","v":"8 v 9"},{"$f":"SCHEDULE!L17","v":"8 v 20"},{"$f":"SCHEDULE!M17","v":""}]
[null,{"$f":"SCHEDULE!C18","v":"4:16"},{"$f":"SCHEDULE!D18","v":"17 v 8"},{"$f":"SCHEDULE!E18","v":"16 v 9"},{"$f":"SCHEDULE!F18","v":"16 v 20"},{"$f":"SCHEDULE!G18","v":"2 v 7"},{"$f":"SCHEDULE!H18","v":"1 v 16"},{"$f":"SCHEDULE!I18","v":"4 v 9"},{"$f":"SCHEDULE!J18","v":"1 v 14"},{"$f":"SCHEDULE!K18","v":"6 v 20"},{"$f":"SCHEDULE!L18","v":"1 v 12"},{"$f":"SCHEDULE!M18","v":""}]
[null,{"$f":"SCHEDULE!C19","v":"4:24"},{"$f":"SCHEDULE!D19","v":"12 v 3"},{"$f":"SCHEDULE!E19","v":"11 v 4"},{"$f":"SCHEDULE!F19","v":"11 v 6"},{"$f":"SCHEDULE!G19","v":"11 v 8"},{"$f":"SCHEDULE!H19","v":"11 v 10"},{"$f":"SCHEDULE!I19","v":"2 v 20"},{"$f":"SCHEDULE!J19","v":"7 v 8"},{"$f":"SCHEDULE!K19","v":"11 v 15"},{"$f":"SCHEDULE!L19","v":"2 v 14"},{"$f":"SCHEDULE!M19","v":""}]
[null,{"$f":"SCHEDULE!C20","v":"4:32"},{"$f":"SCHEDULE!D20","v":"14 v 5"},{"$f":"SCHEDULE!E20","v":"14 v 7"},{"$f":"SCHEDULE!F20","v":"3 v 4"},{"$f":"SCHEDULE!G20","v":"13 v 10"},{"$f":"SCHEDULE!H20","v":"2 v 9"},{"$f":"SCHEDULE!I20","v":"5 v 8"},{"$f":"SCHEDULE!J20","v":"13 v 15"},{"$f":"SCHEDULE!K20","v":"5 v 19"},{"$f":"SCHEDULE!L20","v":"5 v 17"},{"$f":"SCHEDULE!M20","v":""}]
[null,{"$f":"SCHEDULE!C21","v":"4:40"},{"$f":"SCHEDULE!D21","v":"13 v 4"},{"$f":"SCHEDULE!E21","v":"13 v 6"},{"$f":"SCHEDULE!F21","v":"17 v 19"},{"$f":"SCHEDULE!G21","v":"16 v 18"},{"$f":"SCHEDULE!H21","v":"12 v 20"},{"$f":"SCHEDULE!I21","v":"3 v 10"},{"$f":"SCHEDULE!J21","v":"3 v 19"},{"$f":"SCHEDULE!K21","v":"3 v 17"},{"$f":"SCHEDULE!L21","v":"3 v 15"},{"$f":"SCHEDULE!M21","v":""}]
[null,{"$f":"SCHEDULE!C22","v":"4:48"},{"$f":"SCHEDULE!D22","v":"1 v 20"},{"$f":"SCHEDULE!E22","v":"2 v 3"},{"$f":"SCHEDULE!F22","v":"15 v 10"},{"$f":"SCHEDULE!G22","v":"1 v 17"},{"$f":"SCHEDULE!H22","v":"3 v 8"},{"$f":"SCHEDULE!I22","v":"11 v 19"},{"$f":"SCHEDULE!J22","v":"6 v 9"},{"$f":"SCHEDULE!K22","v":"4 v 18"},{"$f":"SCHEDULE!L22","v":"9 v 10"},{"$f":"SCHEDULE!M22","v":""}]
[null,{"$f":"SCHEDULE!C23","v":"4:56"},{"$f":"SCHEDULE!D23","v":"18 v 9"},{"$f":"SCHEDULE!E23","v":"15 v 8"},{"$f":"SCHEDULE!F23","v":"2 v 5"},{"$f":"SCHEDULE!G23","v":"4 v 5"},{"$f":"SCHEDULE!H23","v":"14 v 18"},{"$f":"SCHEDULE!I23","v":"6 v 7"},{"$f":"SCHEDULE!J23","v":"4 v 20"},{"$f":"SCHEDULE!K23","v":"2 v 16"},{"$f":"SCHEDULE!L23","v":"7 v 19"},{"$f":"SCHEDULE!M23","v":""}]
[null,{"$f":"SCHEDULE!C24","v":"5:04"},{"$f":"SCHEDULE!D24","v":"19 v 10"},{"$f":"SCHEDULE!E24","v":"1 v 19"},{"$f":"SCHEDULE!F24","v":"13 v 8"},{"$f":"SCHEDULE!G24","v":"15 v 19"},{"$f":"SCHEDULE!H24","v":"4 v 7"},{"$f":"SCHEDULE!I24","v":"12 v 18"},{"$f":"SCHEDULE!J24","v":"2 v 18"},{"$f":"SCHEDULE!K24","v":"1 v 13"},{"$f":"SCHEDULE!L24","v":"11 v 13"},{"$f":"SCHEDULE!M24","v":""}]
[null,{"$f":"SCHEDULE!C25","v":"5:12"},{"$f":"SCHEDULE!D25","v":"15 v 6"},{"$f":"SCHEDULE!E25","v":"17 v 10"},{"$f":"SCHEDULE!F25","v":"12 v 7"},{"$f":"SCHEDULE!G25","v":"12 v 9"},{"$f":"SCHEDULE!H25","v":"13 v 19"},{"$f":"SCHEDULE!I25","v":"1 v 15"},{"$f":"SCHEDULE!J25","v":"12 v 16"},{"$f":"SCHEDULE!K25","v":"12 v 14"},{"$f":"SCHEDULE!L25","v":"6 v 18"},{"$f":"SCHEDULE!M25","v":""}]
[null,{"$f":"SCHEDULE!C26","v":""},{"$f":"SCHEDULE!D26","v":""},{"$f":"SCHEDULE!E26","v":""},{"$f":"SCHEDULE!F26","v":""},{"$f":"SCHEDULE!G26","v":""},{"$f":"SCHEDULE!H26","v":""},{"$f":"SCHEDULE!I26","v":""},{"$f":"SCHEDULE!J26","v":""},{"$f":"SCHEDULE!K26","v":""},{"$f":"SCHEDULE!L26","v":""},{"$f":"SCHEDULE!M26","v":""}]
[null,{"$f":"SCHEDULE!C27","v":"Closest to Pin"},{"$f":"SCHEDULE!D27","v":8},{"$f":"SCHEDULE!E27","v":16},{"$f":"SCHEDULE!F27","v":6},{"$f":"SCHEDULE!G27","v":14},{"$f":"SCHEDULE!H27","v":8},{"$f":"SCHEDULE!I27","v":16},{"$f":"SCHEDULE!J27","v":6},{"$f":"SCHEDULE!K27","v":14},{"$f":"SCHEDULE!L27","v":8},{"$f":"SCHEDULE!M27","v":""}]
[]
[]
[]
[null,null,null,{"$f":"'LEAGUE MEMBERSHIP'!I6","v":"Team Rosters"}]
[null,null,null,{"$f":"'LEAGUE MEMBERSHIP'!I7","v":"Team"},{"$f":"'LEAGUE MEMBERSHIP'!J7","v":"Player No."},{"$f":"'LEAGUE MEMBERSHIP'!K7","v":"Name"},null,{"$f":"'LEAGUE MEMBERSHIP'!L7","v":"Player No."},{"$f":"'LEAGUE MEMBERSHIP'!M7","v":"Name"}]
[null,null,null,{"$f":"'LEAGUE MEMBERSHIP'!I8","v":"Team 1"},{"$f":"'LEAGUE MEMBERSHIP'!J8","v":"1A"},{"$f":"'LEAGUE MEMBERSHIP'!K8","v":"Lester Lockhart"},null,{"$f":"'LEAGUE MEMBERSHIP'!L8","v":"1B"},{"$f":"'LEAGUE MEMBERSHIP'!M8","v":"Pete Normandin"}]
[null,null,null,{"$f":"'LEAGUE MEMBERSHIP'!I9","v":"Team 2"},{"$f":"'LEAGUE MEMBERSHIP'!J9","v":"2A"},{"$f":"'LEAGUE MEMBERSHIP'!K9","v":"Dave Cormier"},null,{"$f":"'LEAGUE MEMBERSHIP'!L9","v":"2B"},{"$f":"'LEAGUE MEMBERSHIP'!M9","v":"Adam Williamson"}]
[null,null,null,{"$f":"'LEAGUE MEMBERSHIP'!I10","v":"Team 3"},{"$f":"'LEAGUE MEMBERSHIP'!J10","v":"3A"},{"$f":"'LEAGUE MEMBERSHIP'!K10","v":"Pete Romano"},null,{"$f":"'LEAGUE MEMBERSHIP'!L10","v":"3B"},{"$f":"'LEAGUE MEMBERSHIP'!M10","v":"Don Frigoletto"}]
[null,null,null,{"$f":"'LEAGUE MEMBERSHIP'!I11","v":"Team 4"},{"$f":"'LEAGUE MEMBERSHIP'!J11","v":"4A"},{"$f":"'LEAGUE MEMBERSHIP'!K11","v":"Peg Romano"},null,{"$f":"'LEAGUE MEMBERSHIP'!L11","v":"4B"},{"$f":"'LEAGUE MEMBERSHIP'!M11","v":"Lynn Laroche"}]
[null,null,null,{"$f":"'LEAGUE MEMBERSHIP'!I12","v":"Team 5"},{"$f":"'LEAGUE MEMBERSHIP'!J12","v":"5A"},{"$f":"'LEAGUE MEMBERSHIP'!K12","v":"Dennis Normandin"},null,{"$f":"'LEAGUE MEMBERSHIP'!L12","v":"5B"},{"$f":"'LEAGUE MEMBERSHIP'!M12","v":"Mark Normandin"}]
[null,null,null,{"$f":"'LEAGUE MEMBERSHIP'!I13","v":"Team 6"},{"$f":"'LEAGUE MEMBERSHIP'!J13","v":"6A"},{"$f":"'LEAGUE MEMBERSHIP'!K13","v":"Vance Butterfield"},null,{"$f":"'LEAGUE MEMBERSHIP'!L13","v":"6B"},{"$f":"'LEAGUE MEMBERSHIP'!M13","v":"Bob Schleyer"}]
[null,null,null,{"$f":"'LEAGUE MEMBERSHIP'!I14","v":"Team 7"},{"$f":"'LEAGUE MEMBERSHIP'!J14","v":"7A"},{"$f":"'LEAGUE MEMBERSHIP'!K14","v":"Steve Scapparone"},null,{"$f":"'LEAGUE MEMBERSHIP'!L14","v":"7B"},{"$f":"'LEAGUE MEMBERSHIP'!M14","v":"Dave Hyre"}]
[null,null,null,{"$f":"'LEAGUE MEMBERSHIP'!I15","v":"Team 8"},{"$f":"'LEAGUE MEMBERSHIP'!J15","v":"8A"},{"$f":"'LEAGUE MEMBERSHIP'!K15","v":"Mike Sunderland"},null,{"$f":"'LEAGUE MEMBERSHIP'!L15","v":"8B"},{"$f":"'LEAGUE MEMBERSHIP'!M15","v":"Debbie Sunderland"}]
[null,null,null,{"$f":"'LEAGUE MEMBERSHIP'!I16","v":"Team 9"},{"$f":"'LEAGUE MEMBERSHIP'!J16","v":"9A"},{"$f":"'LEAGUE MEMBERSHIP'!K16","v":"Mike Doane"},null,{"$f":"'LEAGUE MEMBERSHIP'!L16","v":"9B"},{"$f":"'LEAGUE MEMBERSHIP'!M16","v":"John Cassin"}]
[null,null,null,{"$f":"'LEAGUE MEMBERSHIP'!I17","v":"Team 10"},{"$f":"'LEAGUE MEMBERSHIP'!J17","v":"10A"},{"$f":"'LEAGUE MEMBERSHIP'!K17","v":"Ron Eckstrom"},null,{"$f":"'LEAGUE MEMBERSHIP'!L17","v":"10B"},{"$f":"'LEAGUE MEMBERSHIP'!M17","v":"Beth Romano"}]
[null,null,null,{"$f":"'LEAGUE MEMBERSHIP'!I18","v":"Team 11"},{"$f":"'LEAGUE MEMBERSHIP'!J18","v":"11A"},{"$f":"'LEAGUE MEMBERSHIP'!K18","v":"Ray Henderson"},null,{"$f":"'LEAGUE MEMBERSHIP'!L18","v":"11B"},{"$f":"'LEAGUE MEMBERSHIP'!M18","v":"Zachary Wallace"}]
[null,null,null,{"$f":"'LEAGUE MEMBERSHIP'!I19","v":"Team 12"},{"$f":"'LEAGUE MEMBERSHIP'!J19","v":"12A"},{"$f":"'LEAGUE MEMBERSHIP'!K19","v":"Sal Cuifetti"},null,{"$f":"'LEAGUE MEMBERSHIP'!L19","v":"12B"},{"$f":"'LEAGUE MEMBERSHIP'!M19","v":"Paul LeBlanc"}]
[null,null,null,{"$f":"'LEAGUE MEMBERSHIP'!I20","v":"Team 13"},{"$f":"'LEAGUE MEMBERSHIP'!J20","v":"13A"},{"$f":"'LEAGUE MEMBERSHIP'!K20","v":"Kyle Currier"},null,{"$f":"'LEAGUE MEMBERSHIP'!L20","v":"13B"},{"$f":"'LEAGUE MEMBERSHIP'!M20","v":"Walter Drake"}]
[null,null,null,{"$f":"'LEAGUE MEMBERSHIP'!I21","v":"Team 14"},{"$f":"'LEAGUE MEMBERSHIP'!J21","v":"14A"},{"$f":"'LEAGUE MEMBERSHIP'!K21","v":"Doug Cormier"},null,{"$f":"'LEAGUE MEMBERSHIP'!L21","v":"14B"},{"$f":"'LEAGUE MEMBERSHIP'!M21","v":"Ralph Romano, Jr."}]
[null,null,null,{"$f":"'LEAGUE MEMBERSHIP'!I22","v":"Team 15"},{"$f":"'LEAGUE MEMBERSHIP'!J22","v":"15A"},{"$f":"'LEAGUE MEMBERSHIP'!K22","v":"Tim Hurley"},null,{"$f":"'LEAGUE MEMBERSHIP'!L22","v":"15B"},{"$f":"'LEAGUE MEMBERSHIP'!M22","v":"John Elie"}]
[null,null,null,{"$f":"'LEAGUE MEMBERSHIP'!I23","v":"Team 16"},{"$f":"'LEAGUE MEMBERSHIP'!J23","v":"16A"},{"$f":"'LEAGUE MEMBERSHIP'!K23","v":"Deb DeCarolis"},null,{"$f":"'LEAGUE MEMBERSHIP'!L23","v":"16B"},{"$f":"'LEAGUE MEMBERSHIP'!M23","v":"Joey DeCarolis"}]
[null,null,null,{"$f":"'LEAGUE MEMBERSHIP'!I24","v":"Team 17"},{"$f":"'LEAGUE MEMBERSHIP'!J24","v":"17A"},{"$f":"'LEAGUE MEMBERSHIP'!K24","v":"Gary Bittner"},null,{"$f":"'LEAGUE MEMBERSHIP'!L24","v":"17B"},{"$f":"'LEAGUE MEMBERSHIP'!M24","v":"Mike Dauphinais"}]
[null,null,null,{"$f":"'LEAGUE MEMBERSHIP'!I25","v":"Team 18"},{"$f":"'LEAGUE MEMBERSHIP'!J25","v":"18A"},{"$f":"'LEAGUE MEMBERSHIP'!K25","v":"Norm Gamache"},null,{"$f":"'LEAGUE MEMBERSHIP'!L25","v":"18B"},{"$f":"'LEAGUE MEMBERSHIP'!M25","v":"Michelle Bouvier"}]
[null,null,null,{"$f":"'LEAGUE MEMBERSHIP'!I26","v":"Team 19"},{"$f":"'LEAGUE MEMBERSHIP'!J26","v":"19A"},{"$f":"'LEAGUE MEMBERSHIP'!K26","v":"Gary Leavenworth"},null,{"$f":"'LEAGUE MEMBERSHIP'!L26","v":"19B"},{"$f":"'LEAGUE MEMBERSHIP'!M26","v":"Patty Leavenworth"}]
[null,null,null,{"$f":"'LEAGUE MEMBERSHIP'!I27","v":"Team 20"},{"$f":"'LEAGUE MEMBERSHIP'!J27","v":"20A"},{"$f":"'LEAGUE MEMBERSHIP'!K27","v":"Paul Fontaine"},null,{"$f":"'LEAGUE MEMBERSHIP'!L27","v":"20B"},{"$f":"'LEAGUE MEMBERSHIP'!M27","v":"Ralph Romano III"}]
[null,null,null,{"$f":"'LEAGUE MEMBERSHIP'!I28","v":"Team 21"},{"$f":"'LEAGUE MEMBERSHIP'!J28","v":"21A"},{"$f":"'LEAGUE MEMBERSHIP'!K28","v":""},null,{"$f":"'LEAGUE MEMBERSHIP'!L28","v":"21B"},{"$f":"'LEAGUE MEMBERSHIP'!M28","v":""}]
[null,null,null,{"$f":"'LEAGUE MEMBERSHIP'!I29","v":"Team 22"},{"$f":"'LEAGUE MEMBERSHIP'!J29","v":"22A"},{"$f":"'LEAGUE MEMBERSHIP'!K29","v":""},null,{"$f":"'LEAGUE MEMBERSHIP'!L29","v":"22B"},{"$f":"'LEAGUE MEMBERSHIP'!M29","v":""}]
[]
[]
[]
[]
[]
[]
[]
[]
[]
[]
[]
[]
[]
[]
[]
[null,null,null,{"$f":"IF('LEAGUE MEMBERSHIP'!I45<>\"\",'LEAGUE MEMBERSHIP'!I45,\"\")","v":""},null,null,null,{"$f":"IF('LEAGUE MEMBERSHIP'!L45<>\"\",'LEAGUE MEMBERSHIP'!L45,\"\")","v":""},{"$f":"IF('LEAGUE MEMBERSHIP'!M45<>\"\",'LEAGUE MEMBERSHIP'!M45,\"\")","v":""}]
[null,null,null,{"$f":"IF('LEAGUE MEMBERSHIP'!I46<>\"\",'LEAGUE MEMBERSHIP'!I46,\"\")","v":""},null,null,null,{"$f":"IF('LEAGUE MEMBERSHIP'!L46<>\"\",'LEAGUE MEMBERSHIP'!L46,\"\")","v":""},{"$f":"IF('LEAGUE MEMBERSHIP'!M46<>\"\",'LEAGUE MEMBERSHIP'!M46,\"\")","v":""}]
[null,null,null,{"$f":"IF('LEAGUE MEMBERSHIP'!I47<>\"\",'LEAGUE MEMBERSHIP'!I47,\"\")","v":""},null,null,null,{"$f":"IF('LEAGUE MEMBERSHIP'!L47<>\"\",'LEAGUE MEMBERSHIP'!L47,\"\")","v":""},{"$f":"IF('LEAGUE MEMBERSHIP'!M47<>\"\",'LEAGUE MEMBERSHIP'!M47,\"\")","v":""}]
[null,null,null,{"$f":"IF('LEAGUE MEMBERSHIP'!I48<>\"\",'LEAGUE MEMBERSHIP'!I48,\"\")","v":""},null,null,null,{"$f":"IF('LEAGUE MEMBERSHIP'!L48<>\"\",'LEAGUE MEMBERSHIP'!L48,\"\")","v":""},{"$f":"IF('LEAGUE MEMBERSHIP'!M48<>\"\",'LEAGUE MEMBERSHIP'!M48,\"\")","v":""}]
[null,null,null,{"$f":"IF('LEAGUE MEMBERSHIP'!I49<>\"\",'LEAGUE MEMBERSHIP'!I49,\"\")","v":""},null,null,null,{"$f":"IF('LEAGUE MEMBERSHIP'!L49<>\"\",'LEAGUE MEMBERSHIP'!L49,\"\")","v":""},{"$f":"IF('LEAGUE MEMBERSHIP'!M49<>\"\",'LEAGUE MEMBERSHIP'!M49,\"\")","v":""}]
[null,null,null,{"$f":"IF('LEAGUE MEMBERSHIP'!I50<>\"\",'LEAGUE MEMBERSHIP'!I50,\"\")","v":""},null,null,null,{"$f":"IF('LEAGUE MEMBERSHIP'!L50<>\"\",'LEAGUE MEMBERSHIP'!L50,\"\")","v":""},{"$f":"IF('LEAGUE MEMBERSHIP'!M50<>\"\",'LEAGUE MEMBERSHIP'!M50,\"\")","v":""}]
[null,null,null,{"$f":"IF('LEAGUE MEMBERSHIP'!I51<>\"\",'LEAGUE MEMBERSHIP'!I51,\"\")","v":""},null,null,null,{"$f":"IF('LEAGUE MEMBERSHIP'!L51<>\"\",'LEAGUE MEMBERSHIP'!L51,\"\")","v":""},{"$f":"IF('LEAGUE MEMBERSHIP'!M51<>\"\",'LEAGUE MEMBERSHIP'!M51,\"\")","v":""}]
[null,null,null,{"$f":"IF('LEAGUE MEMBERSHIP'!I52<>\"\",'LEAGUE MEMBERSHIP'!I52,\"\")","v":""},null,null,null,{"$f":"IF('LEAGUE MEMBERSHIP'!L52<>\"\",'LEAGUE MEMBERSHIP'!L52,\"\")","v":""},{"$f":"IF('LEAGUE MEMBERSHIP'!M52<>\"\",'LEAGUE MEMBERSHIP'!M52,\"\")","v":""}]
[null,null,null,{"$f":"IF('LEAGUE MEMBERSHIP'!I53<>\"\",'LEAGUE MEMBERSHIP'!I53,\"\")","v":""},null,null,null,{"$f":"IF('LEAGUE MEMBERSHIP'!L53<>\"\",'LEAGUE MEMBERSHIP'!L53,\"\")","v":""},{"$f":"IF('LEAGUE MEMBERSHIP'!M53<>\"\",'LEAGUE MEMBERSHIP'!M53,\"\")","v":""}]
[null,null,null,{"$f":"IF('LEAGUE MEMBERSHIP'!I54<>\"\",'LEAGUE MEMBERSHIP'!I54,\"\")","v":""},null,null,null,{"$f":"IF('LEAGUE MEMBERSHIP'!L54<>\"\",'LEAGUE MEMBERSHIP'!L54,\"\")","v":""},{"$f":"IF('LEAGUE MEMBERSHIP'!M54<>\"\",'LEAGUE MEMBERSHIP'!M54,\"\")","v":""}]
[null,null,null,{"$f":"IF('LEAGUE MEMBERSHIP'!I55<>\"\",'LEAGUE MEMBERSHIP'!I55,\"\")","v":""},null,{"$f":"'LEAGUE MEMBERSHIP'!K55","v":"Mark Louney"},null,{"$f":"IF('LEAGUE MEMBERSHIP'!L55<>\"\",'LEAGUE MEMBERSHIP'!L55,\"\")","v":""},{"$f":"IF('LEAGUE MEMBERSHIP'!M55<>\"\",'LEAGUE MEMBERSHIP'!M55,\"\")","v":""}]
[null,null,null,{"$f":"IF('LEAGUE MEMBERSHIP'!I56<>\"\",'LEAGUE MEMBERSHIP'!I56,\"\")","v":""},null,{"$f":"'LEAGUE MEMBERSHIP'!K56","v":"Victor Szewczyk"},null,{"$f":"IF('LEAGUE MEMBERSHIP'!L56<>\"\",'LEAGUE MEMBERSHIP'!L56,\"\")","v":""},{"$f":"IF('LEAGUE MEMBERSHIP'!M56<>\"\",'LEAGUE MEMBERSHIP'!M56,\"\")","v":""}]
[null,null,null,{"$f":"IF('LEAGUE MEMBERSHIP'!I57<>\"\",'LEAGUE MEMBERSHIP'!I57,\"\")","v":""},null,{"$f":"'LEAGUE MEMBERSHIP'!K57","v":"Matt Lee"},null,{"$f":"IF('LEAGUE MEMBERSHIP'!L57<>\"\",'LEAGUE MEMBERSHIP'!L57,\"\")","v":""},{"$f":"IF('LEAGUE MEMBERSHIP'!M57<>\"\",'LEAGUE MEMBERSHIP'!M57,\"\")","v":""}]
[null,null,null,{"$f":"IF('LEAGUE MEMBERSHIP'!I58<>\"\",'LEAGUE MEMBERSHIP'!I58,\"\")","v":""},null,{"$f":"'LEAGUE MEMBERSHIP'!K58","v":"Jay Melansom"},null,{"$f":"IF('LEAGUE MEMBERSHIP'!L58<>\"\",'LEAGUE MEMBERSHIP'!L58,\"\")","v":""},{"$f":"IF('LEAGUE MEMBERSHIP'!M58<>\"\",'LEAGUE MEMBERSHIP'!M58,\"\")","v":""}]
[null,null,null,{"$f":"IF('LEAGUE MEMBERSHIP'!I59<>\"\",'LEAGUE MEMBERSHIP'!I59,\"\")","v":""},null,{"$f":"'LEAGUE MEMBERSHIP'!K59","v":""},null,{"$f":"IF('LEAGUE MEMBERSHIP'!L59<>\"\",'LEAGUE MEMBERSHIP'!L59,\"\")","v":""},{"$f":"IF('LEAGUE MEMBERSHIP'!M59<>\"\",'LEAGUE MEMBERSHIP'!M59,\"\")","v":""}]